Workbook
Name \A: #REF!
Name \A: #REF!
Name \A: #REF!
Name \A: #REF!
Name _1__հայտարարվել_է_նախ_մրցույթ: #REF!
Name _1__հայտարարվել_է_նախ_մրցույթ: #REF!
Name _1__հայտարարվել_է_նախ_մրցույթ: #REF!
Name _1__հայտարարվել_է_նախ_մրցույթ: #REF!
Name _tab10: #REF!
Name _tab10: #REF!
Name _tab10: #REF!
Name _tab10: #REF!
Name _tab11: #REF!
Name _tab12: #REF!
Name _tab13: #REF!
Name _tab14: #REF!
Name _tab15: #REF!
Name _tab16: #REF!
Name _tab17: #REF!
Name _tab18: #REF!
Name _tab19: #REF!
Name _tab20: #REF!
Name _tab21: #REF!
Name _tab22: #REF!
Name _tab23: #REF!
Name _tab24: #REF!
Name _tab5: #REF!
Name _tab6: #REF!
Name _tab7: #REF!
Name _tab8: #REF!
Name _tab9: #REF!
Name AgencyCode: #REF!
Name AgencyCode: #REF!
Name AgencyCode: #REF!
Name AgencyCode: #REF!
Name AgencyCode: #REF!
Name AgencyName: #REF!
Name AgencyName: #REF!
Name ampop_krchat: #REF!
Name Armata: #REF!
Name asd: #REF!
Name åû: #REF!
Name åû: #REF!
Name BOP: #REF!
Name BOPfoot: #REF!
Name davit: #REF!
Name DebtCG: '[1]Fis-Debt'!#REF!
Name DebtGG: #REF!
Name DebtGG: #REF!
Name DebtGG: #REF!
Name DebtGG: #REF!
Name fff: #REF!
Name fff: #REF!
Name fff: #REF!
Name fff: #REF!
Name Functional1: #REF!
Name Functional1: #REF!
Name ggg: #REF!
Name h: #REF!
Name Hav: #REF!,#REF!

Sheet havelvac 1
A1: Հավելված 1 ՀՀ կառավարության 2025 թվականի____________ի N _____-Ն որոշման
A3: «ՀԱՅԱՍՏԱՆԻ ՀԱՆՐԱՊԵՏՈՒԹՅԱՆ 2025 ԹՎԱԿԱՆԻ ՊԵՏԱԿԱՆ ԲՅՈՒՋԵԻ ՄԱՍԻՆ» ՕՐԵՆՔԻ N 1 ՀԱՎԵԼՎԱԾԻ N 2 ԱՂՅՈՒՍԱԿՈՒՄ ԿԱՏԱՐՎՈՂ ՎԵՐԱԲԱՇԽՈՒՄԸ, ՓՈՓՈԽՈՒԹՅՈՒՆՆԵՐԸ ԵՎ ԼՐԱՑՈՒՄՆԵՐԸ ԵՎ ՀԱՅԱՍՏԱՆԻ ՀԱՆՐԱՊԵՏՈՒԹՅԱՆ ԿԱՌԱՎԱՐՈՒԹՅԱՆ 2024 ԹՎԱԿԱՆԻ ԴԵԿՏԵՄԲԵՐԻ 27-Ի N 2060-Ն ՈՐՈՇՄԱՆ N 5 ՀԱՎԵԼՎԱԾԻ N 1 ԱՂՅՈՒՍԱԿՈՒՄ ԿԱՏԱՐՎՈՂ ՓՈՓՈԽՈՒԹՅՈՒՆՆԵՐԸ ԵՎ ԼՐԱՑՈՒՄՆԵՐԸ
G4: հազար դրամներով
A5: ԲԳԿ | B5: Ծրագրային դասիչը | D5: ԲԳԿ/Ծրագրի /միջոցառման անվանումը | E5: Ծրագրի նպատակը/Միջոցառման նկարագրույունը | F5: Վերջնական արդյունքի նկարագրությունը/Միջոցառման տեսակը | G5: Ցուցանիշների փոփոխությունը (ավելացումները նշված են դրական նշանով, իսկ նվազեցումները՝ փակագծերում)
B6: Ծրագիր | C6: Միջոցառում | G6: Տարի
A7: ԸՆԴԱՄԵՆԸ | G7: =SUM(G14) -> 0
A8: ՀՀ բարձր տեխնոլոգիական արդյունաբերության նախարարություն | G8: =SUM(G10+G11) -> 0
B9: 1235 | D9: Թվային փոխակերպման գործընթացի իրականացում | E9: Պետական մարմինների կողմից իրականացվող թվային փոխակերպման միջոցառումների ֆինանսավորում | F9: Թվային ծառայությունների և համակարգերի ներդրում | G9: =G10 -> -74005.2
C10: 1235 - 31001 | D10: Միասնական թվային միջավայրի ձևավորում | E10: Թվային փոխակերպման գործընթացի շրջանակներում թվայնացման համակարգերի ներդրում և կայքերի արդիականացում | F10: Պետական մարմինների կողմից օգտագործվող ոչ ֆինանսական ակտիվների հետ գործառնություններ | G10: =-'Հավելված 2'!G16 -> -74005.2
B11: 1100 | D11: Բարձր տեխնոլոգիական արդյունաբերության բնագավառում պետական քաղաքականության մշակում, ծրագրերի համակարգում և մոնիտորինգ | E11: Բարձր տեխնոլոգիական ոլորտում պետական քաղաքականության մշակում, ծրագրերի համակարգում | F11: Բարձր տեխնոլոգիական արդյունաբերության բնագավառում իրականացվող ծրագրերի ազդեցության և արդյունավետության բարելավում | G11: =SUM(G12:G13) -> 74005.2
C12: 1100-31001 | D12: Բարձր տեխնոլոգիական արդյունաբերության նախարարության կարողությունների զարգացում և տեխնիկական հագեցվածության ապահովում | E12: Բարձր տեխնոլոգիական արդյունաբերության նախարարության աշխատանքային պայմանների բարելավման համար վարչական սարքավորումների ձեռքբերում | F12: Պետական մարմինների կողմից օգտագործվող ոչ ֆինանսական ակտիվների հետ գործառնություններ | G12: ='Հավելված 2'!G28 -> 63186.2
C13: 1100 - 32001 | D13: Այլ պետական մարմնի կարողությունների զարգացում, տեխնիկական հագեցվածության ապահովում | E13: Վարչական սարքավորումների ձեռքբերում | F13: Այլ պետական կազմակերպությունների կողմից օգտագործվող ոչ ֆինանսական ակտիվների հետ գործառնություններ | G13: ='Հավելված 2'!G37 -> 10819
A14: ՀՀ կառավարություն | G14: =+G15 -> 0
B15: 1139 | D15: ՀՀ կառավարության պահուստային ֆոնդ | E15: Պետական բյուջեում չկանխատեսված, ինչպես նաեւ բյուջետային երաշխիքների ապահովման ծախսերի ֆինանսավորման ապահովում | F15: Պահուստային ֆոնդի կառավարման արդյունավետության և թափանցիկության ապահովում | G15: =+G16+G17 -> 0
C16: 1139 - 11001 | D16: ՀՀ կառավարության պահուստային ֆոնդ | E16: ՀՀ պետական բյուջեում նախատեսված ելքերի լրացուցիչ ֆինանսավորման, պետական բյուջեում չկանխատեսված ելքերի, ինչպես նաև բյուջետային երաշխիքների ապահովման ելքերի ֆինանսավորման ապահովում | F16: Ծառայությունների մատուցում | G16: ='Հավելված 2'!G73 -> 63186.2
C17: 1139 - 11001 | D17: ՀՀ կառավարության պահուստային ֆոնդ | E17: ՀՀ պետական բյուջեում նախատեսված ելքերի լրացուցիչ ֆինանսավորման, պետական բյուջեում չկանխատեսված ելքերի, ինչպես նաև բյուջետային երաշխիքների ապահովման ելքերի ֆինանսավորման ապահովում | F17: Ծառայությունների մատուցում | G17: ='Հավելված 2'!G81 -> -63186.2

Sheet Հավելված 2
A1: Հավելված N 2
A2: ՀՀ կառավարության 2025 թվականի
A3: ______________ ի ___Ն որոշման
A5: ՀԱՅԱՍՏԱՆԻ ՀԱՆՐԱՊԵՏՈՒԹՅԱՆ ԿԱՌԱՎԱՐՈՒԹՅԱՆ 2024 ԹՎԱԿԱՆԻ ԴԵԿՏԵՄԲԵՐԻ 27-Ի N 2060-Ն ՈՐՈՇՄԱՆ N 3 ԵՎ 4 ՀԱՎԵԼՎԱԾՆԵՐՈՒՄ ԿԱՏԱՐՎՈՂ ՓՈՓՈԽՈՒԹՅՈՒՆՆԵՐԸ ԵՎ ԼՐԱՑՈՒՄՆԵՐԸ
G6: հազար դրամներով
A7: Գործառական դասիչը | D7: Ծրագրային դասիչը | F7: Բյուջետային ծախսերի գործառական դասակարգման բաժինների, խմբերի և դասերի, բյուջետային ծրագրերի միջոցառումների, բյուջետային հատկացումների գլխավոր կարգադրիչների անվանումները | G7: Ցուցանիշների փոփոխությունը (ավելացումները նշված են դրական նշանով, իսկ նվազեցումները՝ փակագծերում)
A8: Բաժին | B8: Խումբ | C8: Դաս | D8: Ծրագիր | E8: Միջոցառում | G8: Տարի
F9: ԸՆԴԱՄԵՆԸ ԾԱԽՍԵՐ | G9: =G11 -> 1.4551915e-11
F10: այդ թվում`
F11: ՀՀ ԲԱՐՁՐ ՏԵԽՆՈԼՈԳԻԱԿԱՆ ԱՐԴՅՈՒՆԱԲԵՐՈՒԹՅԱՆ ՆԱԽԱՐԱՐՈՒԹՅՈՒՆ | G11: =SUM(G12+G38) -> 1.4551915e-11
A12: 04 | F12: ՏՆՏԵՍԱԿԱՆ ՀԱՐԱԲԵՐՈՒԹՅՈՒՆՆԵՐ | G12: =G14 -> 74005.2
F13: այդ թվում`
B14: 09 | F14: Տնտեսական հարաբերություններ (այլ դասերին չպատկանող) | G14: =G16 -> 74005.2
F15: այդ թվում`
C16: 01 | F16: Տնտեսական հարաբերություններ (այլ դասերին չպատկանող) | G16: =G20+G29 -> 74005.2
F17: այդ թվում`
D18: 1100 | F18: Բարձր տեխնոլոգիական արդյունաբերության բնագավառում պետական քաղաքականության մշակում, ծրագրերի համակարգում և մոնիտորինգ | G18: =SUM(G20+G29) -> 74005.2
F19: այդ թվում`
E20: 31001 | F20: Բարձր տեխնոլոգիական արդյունաբերության նախարարության կարողությունների զարգացում և տեխնիկական հագեցվածության ապահովում | G20: =G22 -> 63186.2
F21: այդ թվում` ըստ կատարողների
F22: ՀՀ բարձր տեխնոլոգիական արդյունաբերության նախարարություն | G22: =G24 -> 63186.2
F23: այդ թվում` բյուջետային ծախսերի տնտեսագիտական դասակարգման հոդվածներ
F24: ԸՆԴԱՄԵՆԸ ԾԱԽՍԵՐ | G24: =G25 -> 63186.2
F25: ՈՉ ՖԻՆԱՆՍԱԿԱՆ ԱԿՏԻՎՆԵՐԻ ԳԾՈՎ ԾԱԽՍԵՐ | G25: =G26 -> 63186.2
F26: ՀԻՄՆԱԿԱՆ ՄԻՋՈՑՆԵՐ | G26: =G27 -> 63186.2
F27: ՄԵՔԵՆԱՆԵՐ ԵՎ ՍԱՐՔԱՎՈՐՈՒՄՆԵՐ | G27: =G28 -> 63186.2
F28: - Վարչական սարքավորումներ | G28: ='Հավելված 7'!G9 -> 63186.2
E29: 32001 | F29: Այլ պետական մարմնի կարողությունների զարգացում, տեխնիկական հագեցվածության ապահովում | G29: =G31 -> 10819
F30: այդ թվում` ըստ կատարողների
F31: ՀՀ բարձր տեխնոլոգիական արդյունաբերության նախարարություն | G31: =G33 -> 10819
F32: այդ թվում` բյուջետային ծախսերի տնտեսագիտական դասակարգման հոդվածներ
F33: ԸՆԴԱՄԵՆԸ ԾԱԽՍԵՐ | G33: =G34 -> 10819
F34: ՈՉ ՖԻՆԱՆՍԱԿԱՆ ԱԿՏԻՎՆԵՐԻ ԳԾՈՎ ԾԱԽՍԵՐ | G34: =G35 -> 10819
F35: ՀԻՄՆԱԿԱՆ ՄԻՋՈՑՆԵՐ | G35: =G36 -> 10819
F36: ՄԵՔԵՆԱՆԵՐ ԵՎ ՍԱՐՔԱՎՈՐՈՒՄՆԵՐ | G36: =G37 -> 10819
F37: - Վարչական սարքավորումներ | G37: ='Հավելված 7'!G15 -> 10819
A38: 01 | F38: ԸՆԴՀԱՆՈՒՐ ԲՆՈՒՅԹԻ ՀԱՆՐԱՅԻՆ ԾԱՌԱՅՈՒԹՅՈՒՆՆԵՐ | G38: =G40 -> -74005.2
F39: այդ թվում`
B40: 03 | F40: Ընդհանուր բնույթի ծառայություններ | G40: =G42 -> -74005.2
F41: այդ թվում`
...

Sheet Հավելված 3
A1: Հավելված N 3
F2: ՀՀ կառավարության 2025 թվականի
G3: ______________ ի ___Ն որոշման
A4: «ՀԱՅԱՍՏԱՆԻ ՀԱՆՐԱՊԵՏՈՒԹՅԱՆ 2025 ԹՎԱԿԱՆԻ ՊԵՏԱԿԱՆ ԲՅՈՒՋԵԻ ՄԱՍԻՆ» ՀԱՅԱՍՏԱՆԻ ՀԱՆՐԱՊԵՏՈՒԹՅԱՆ ՕՐԵՆՔԻ N 1 ՀԱՎԵԼՎԱԾԻ N 3 ԱՂՅՈՒՍԱԿՈՒՄ ԿԱՏԱՐՎՈՂ ՓՈՓՈԽՈՒԹՅՈՒՆՆԵՐԸ ԵՎ ԼՐԱՑՈՒՄՆԵՐԸ
A5: հազար դրամներով
A6: Ծրագրային դասիչ | C6: Բյուջետային գլխավոր կարգադրիչների, ծրագրերի, միջոցառումների և ուղղությունների անվանումները | D6: Ընդամենը | E6: Ցուցանիշների փոփոխությունը (ավելացումները նշված են դրական նշանով, իսկ նվազեցումները՝ փակագծերում)
A7: Ծրագիր | B7: Միջոց առում | E7: Կառուցման աշխատանքներ | F7: Վերակառուցման, վերանորոգման և վերականգնման աշխատանքներ | G7: Նախագծահե- տազոտական, գեոդեզիա- քարտեզագրական աշխատանքներ | H7: Ոչ ֆինանսական այլ ակտիվների ձեռքբերում
C8: ԸՆԴԱՄԵՆԸ | D8: =D9 -> 0 | E8: =E9 -> 0 | F8: =F9 -> 0 | G8: =G9 -> 0 | H8: =H9 -> 0
C9: ՀՀ բարձր տեխնոլոգիական արդյունաբերության նախարարություն | D9: =D11+D12+D13 -> 0 | E9: =+E12 -> 0 | F9: =+F12 -> 0 | G9: =+G12 -> 0 | H9: =H11+H12+H13 -> 0
C10: այդ թվում՛
A11: 1235 | B11: 31001 | C11: Միասնական թվային միջավայրի ձևավորում | D11: ='Հավելված 2'!G47 -> -74005.2 | H11: =D11 -> -74005.2
A12: 1100 | B12: 31001 | C12: Բարձր տեխնոլոգիական արդյունաբերության նախարարության կարողությունների զարգացում և տեխնիկական հագեցվածության ապահովում | D12: ='Հավելված 2'!G28 -> 63186.2 | E12: 0 | F12: 0 | G12: 0 | H12: =D12 -> 63186.2
A13: 1100 | B13: 32001 | C13: Այլ պետական մարմնի կարողությունների զարգացում, տեխնիկական հագեցվածության ապահովում | D13: ='Հավելված 2'!G29 -> 10819 | E13: 0 | F13: 0 | G13: 0 | H13: =D13 -> 10819

Sheet Հավելված 4
A1: Հավելված N 4
A2: ՀՀ կառավարության 2025 թվականի
A3: ______________ ի ___Ն որոշման
A4: ՀԱՅԱՍՏԱՆԻ ՀԱՆՐԱՊԵՏՈՒԹՅԱՆ ԿԱՌԱՎԱՐՈՒԹՅԱՆ 2024 ԹՎԱԿԱՆԻ ԴԵԿՏԵՄԲԵՐԻ 27-Ի N 2060-Ն ՈՐՈՇՄԱՆ N 5 ՀԱՎԵԼՎԱԾԻ N2 ԱՂՅՈՒՍԱԿՈՒՄ ԿԱՏԱՐՎՈՂ ՓՈՓՈԽՈՒԹՅՈՒՆՆԵՐԸ ԵՎ ԼՐԱՑՈՒՄՆԵՐԸ
D5: հազար դրամներով
A6: Ծրագրային դասիչ | C6: Բյուջետային գլխավոր կարգադրիչների, ծրագրերի, միջոցառումների և ուղղությունների անվանումները | D6: Ցուցանիշների փոփոխությունը (ավելացումները նշված են դրական նշանով, իսկ նվազեցումները՝ փակագծերում)
A7: Ծրագիր | B7: Միջոց առում | D7: Տարի
C8: ԸՆԴԱՄԵՆԸ | D8: =D10 -> 0
C9: այդ թվում՛
C10: ՀՀ բարձր տեխնոլոգիական արդյունաբերության նախարարություն | D10: =D12+D15+D18 -> 0
C11: այդ թվում՛
A12: 1235 | B12: 31001 | C12: Միասնական թվային միջավայրի ձևավորում | D12: =D14 -> -74005.2
C13: այդ թվում` ըստ կատարողների
C14: ՀՀ կառավարություն | D14: ='Հավելված 2'!G47 -> -74005.2
A15: 1100 | B15: 31001 | C15: Բարձր տեխնոլոգիական արդյունաբերության նախարարության կարողությունների զարգացում և տեխնիկական հագեցվածության ապահովում | D15: =D17 -> 63186.2
C16: այդ թվում` ըստ կատարողների
C17: ՀՀ բարձր տեխնոլոգիական արդյունաբերության նախարարություն | D17: ='Հավելված 2'!G20 -> 63186.2
A18: 1100 | B18: 32001 | C18: Այլ պետական մարմնի կարողությունների զարգացում, տեխնիկական հագեցվածության ապահովում | D18: =+D20+D21 -> 10819
C19: այդ թվում` ըստ կատարողների
C20: ՀՀ բարձր տեխնոլոգիական արդյունաբերության նախարարություն | D20: ='Հավելված 2'!G29 -> 10819

Sheet havelvac 5
A1: Հավելված 5 ՀՀ կառավարության 2025 թվականի____________ի N _____-Ն որոշման
A3: ՀԱՅԱՍՏԱՆԻ ՀԱՆՐԱՊԵՏՈՒԹՅԱՆ ԿԱՌԱՎԱՐՈՒԹՅԱՆ 2024 ԹՎԱԿԱՆԻ ԴԵԿՏԵՄԲԵՐԻ 27-Ի N 2060-Ն ՈՐՈՇՄԱՆ N 9 ՀԱՎԵԼՎԱԾՈՒՄ ԿԱՏԱՐՎՈՂ ՓՈՓՈԽՈՒԹՅՈՒՆՆԵՐԸ ԵՎ ԼՐԱՑՈՒՄՆԵՐԸ
J4: հազար դրամներով
A5: ԲԳԿ | B5: Ծրագիր | D5: Միջոցառում | H5: Իրականացնողը/ ակտիվն օգտագործողը/ շահառուի ընտրության չափորոշիչը | I5: Արդյունքային չափորոշիչը | J5: Ցուցանիշների փոփոխությունը (ավելացումները նշված են դրական նշանով, իսկ նվազեցումները՝ փակագծերում)
B6: Դասիչը | C6: Անվա-նումը | D6: Դասիչը | E6: Անվա-նումը | F6: Նկարագրու-թյունը | G6: Տեսակը | J6: Տարի
A7: ԸՆԴԱՄԵՆԸ | J7: =-K10-K15 -> 0
A8: ՀՀ Բարձր տեխնոլոգիական արդյունաբերության նախարարություն | J8: =J9+J15+J22 -> 0
B9: 1235 | C9: Թվային փոխակերպման գործընթացի իրականացում | J9: =J10 -> -74005.2
D10: 1235 - 31001 | E10: Միասնական թվային միջավայրի ձևավորում | J10: ='Հավելված 2'!G47 -> -74005.2
F11: Թվային փոխակերպման գործընթացի շրջանակներում թվայնացման համակարգերի ներդրում և կայքերի արդիականացում
G12: Պետական մարմինների կողմից օգտագործվող ոչ ֆինանսական ակտիվների հետ գործառնություններ
H13: Ակտիվն օգտագործող կազմակերպության անվանումը` Հանրային իշխանության մարմիններ
B14: 1100 | C14: Բարձր տեխնոլոգիական արդյունաբերության բնագավառում պետական քաղաքականության մշակում, ծրագրերի համակարգում և մոնիտորինգ | J14: =J15+J22 -> 74005.2
D15: 1100-31001 | E15: Բարձր տեխնոլոգիական արդյունաբերության նախարարության կարողությունների զարգացում և տեխնիկական հագեցվածության ապահովում | J15: ='Հավելված 2'!G20 -> 63186.2
F16: Բարձր տեխնոլոգիական արդյունաբերության նախարարության աշխատանքային պայմանների բարելավման համար վարչական սարքավորումների ձեռքբերում
G17: Պետական մարմինների կողմից օգտագործվող ոչ ֆինանսական ակտիվների հետ գործառնություններ
H18: Ծառայությունը մատուցողի անվանումը` Մասնագիտացված կազմակերպություն
I19: Սեղանի համակարգիչներ /հատ/ | J19: 139
I20: Ցանցային բաժանարար /հատ/ | J20: 2
I21: Դյուրակիր համակարգիչներ/հատ/ | J21: 5
D22: 1100-32001 | E22: Այլ պետական մարմնի կարողությունների զարգացում, տեխնիկական հագեցվածության ապահովում | J22: ='Հավելված 2'!G29 -> 10819
F23: Վարչական սարքավորումների ձեռքբերում
G24: Այլ պետական կազմակերպությունների կողմից օգտագործվող ոչ ֆինանսական ակտիվների հետ գործառնություններ
H25: Ծառայությունը մատուցողի անվանումը` Մասնագիտացված կազմակերպություն
I26: Սեղանի համակարգիչներ /հատ/ | J26: 31
A27: ՀՀ կառավարություն | J27: =+J29+J33 -> 0 | L27: =+J27*1000*K27 -> 0
B28: 1139 | C28: ՀՀ կառավարության պահուստային ֆոնդ | J28: =J29+J33 -> 0 | L28: =+J28*1000*K28 -> 0
D29: 1139 - 11001 | E29: ՀՀ կառավարության պահուստային ֆոնդ | J29: ='Հավելված 2'!G66 -> 63186.2 | L29: =+J29*1000*K29 -> 0
F30: ՀՀ պետական բյուջեում նախատեսված ելքերի լրացուցիչ ֆինանսավորման, պետական բյուջեում չկանխատեսված ելքերի, ինչպես նաև բյուջետային երաշխիքների ապահովման ելքերի ֆինանսավորման ապահովում | L30: =+J30*1000*K30 -> 0
G31: Ծառայությունների մատուցում | L31: =+J31*1000*K31 -> 0
H32: Ծառայությունը մատուցողի անվանումը` ՀՀ կառավարություն | L32: =+J32*1000*K32 -> 0
D33: 1139 - 11001 | E33: ՀՀ կառավարության պահուստային ֆոնդ | J33: ='Հավելված 2'!G74 -> -63186.2 | L33: =+J33*1000*K33 -> 0
F34: ՀՀ պետական բյուջեում նախատեսված ելքերի լրացուցիչ ֆինանսավորման, պետական բյուջեում չկանխատեսված ելքերի, ինչպես նաև բյուջետային երաշխիքների ապահովման ելքերի ֆինանսավորման ապահովում | L34: =+J34*1000*K34 -> 0
G35: Ծառայությունների մատուցում | L35: =+J35*1000*K35 -> 0
H36: Ծառայությունը մատուցողի անվանումը` ՀՀ կառավարություն | L36: =+J36*1000*K36 -> 0

Sheet havelvac 6
A1: Հավելված 6 ՀՀ կառավարության 2025 թվականի____________ի N _____-Ն որոշման
A3: ՀԱՅԱՍՏԱՆԻ ՀԱՆՐԱՊԵՏՈՒԹՅԱՆ ԿԱՌԱՎԱՐՈՒԹՅԱՆ 2024 ԹՎԱԿԱՆԻ ԴԵԿՏԵՄԲԵՐԻ 27-Ի N 2060-Ն ՈՐՈՇՄԱՆ N 9.1 ՀԱՎԵԼՎԱԾՈՒՄ ԿԱՏԱՐՎՈՂ ՓՈՓՈԽՈՒԹՅՈՒՆՆԵՐԸ ԵՎ ԼՐԱՑՈՒՄՆԵՐԸ
J4: հազար դրամներով
A5: ԲՍԿ | B5: Ծրագիր | D5: Միջոցառում | H5: Իրականացնողը/ ակտիվն օգտագործողը/ շահառուի ընտրության չափորոշիչը | I5: Արդյունքային չափորոշիչը | J5: Ցուցանիշների փոփոխությունը (ավելացումները նշված են դրական նշանով, իսկ նվազեցումները՝ փակագծերում)
B6: Դասիչը | C6: Անվա-նումը | D6: Դասիչը | E6: Անվա-նումը | F6: Նկարագրու-թյունը | G6: Տեսակը | J6: Տարի
A7: ԸՆԴԱՄԵՆԸ | J7: =+J8+J22 -> 0
A8: ՀՀ Բարձր տեխնոլոգիական արդյունաբերության նախարարություն | J8: =J10+J17 -> 74005.2
B9: 1100 | C9: Բարձր տեխնոլոգիական արդյունաբերության բնագավառում պետական քաղաքականության մշակում, ծրագրերի համակարգում և մոնիտորինգ | J9: =+J10+J17 -> 74005.2
D10: 1100-31001 | E10: Բարձր տեխնոլոգիական արդյունաբերության նախարարության կարողությունների զարգացում և տեխնիկական հագեցվածության ապահովում | J10: ='Հավելված 2'!G20 -> 63186.2
F11: Բարձր տեխնոլոգիական արդյունաբերության նախարարության աշխատանքային պայմանների բարելավման համար վարչական սարքավորումների ձեռքբերում
G12: Պետական մարմինների կողմից օգտագործվող ոչ ֆինանսական ակտիվների հետ գործառնություններ
H13: Ծառայությունը մատուցողի անվանումը` Մասնագիտացված կազմակերպություն
I14: Սեղանի համակարգիչներ /հատ/ | J14: 139
I15: Ցանցային բաժանարար /հատ/ | J15: 2
I16: Դյուրակիր համակարգիչներ/հատ/ | J16: 5
D17: 1100-32001 | E17: Այլ պետական մարմնի կարողությունների զարգացում, տեխնիկական հագեցվածության ապահովում | J17: ='Հավելված 2'!G29 -> 10819
F18: Վարչական սարքավորումների ձեռքբերում
G19: Այլ պետական կազմակերպությունների կողմից օգտագործվող ոչ ֆինանսական ակտիվների հետ գործառնություններ
H20: Ծառայությունը մատուցողի անվանումը` Մասնագիտացված կազմակերպություն
I21: Սեղանի համակարգիչներ /հատ/ | J21: 31
A22: ՀՀ կառավարություն | J22: =+J24+J28+J32 -> -74005.2 | L22: =+J22*1000*K22 -> 0
B23: 1139 | C23: ՀՀ կառավարության պահուստային ֆոնդ | J23: =J24+J28 -> 0 | L23: =+J23*1000*K23 -> 0
D24: 1139 - 11001 | E24: ՀՀ կառավարության պահուստային ֆոնդ | J24: ='Հավելված 2'!G66 -> 63186.2 | L24: =+J24*1000*K24 -> 0
F25: ՀՀ պետական բյուջեում նախատեսված ելքերի լրացուցիչ ֆինանսավորման, պետական բյուջեում չկանխատեսված ելքերի, ինչպես նաև բյուջետային երաշխիքների ապահովման ելքերի ֆինանսավորման ապահովում | L25: =+J25*1000*K25 -> 0
G26: Ծառայությունների մատուցում | L26: =+J26*1000*K26 -> 0
H27: Ծառայությունը մատուցողի անվանումը` ՀՀ կառավարություն | L27: =+J27*1000*K27 -> 0
D28: 1139 - 11001 | E28: ՀՀ կառավարության պահուստային ֆոնդ | J28: ='Հավելված 2'!G74 -> -63186.2 | L28: =+J28*1000*K28 -> 0
F29: ՀՀ պետական բյուջեում նախատեսված ելքերի լրացուցիչ ֆինանսավորման, պետական բյուջեում չկանխատեսված ելքերի, ինչպես նաև բյուջետային երաշխիքների ապահովման ելքերի ֆինանսավորման ապահովում | L29: =+J29*1000*K29 -> 0
G30: Ծառայությունների մատուցում | L30: =+J30*1000*K30 -> 0
H31: Ծառայությունը մատուցողի անվանումը` ՀՀ կառավարություն | L31: =+J31*1000*K31 -> 0
B32: 1235 | C32: Թվային փոխակերպման գործընթացի իրականացում | J32: =J33 -> -74005.2
D33: 1235 - 31001 | E33: Միասնական թվային միջավայրի ձևավորում | J33: ='Հավելված 2'!G45 -> -74005.2
F34: Թվային փոխակերպման գործընթացի շրջանակներում թվայնացման համակարգերի ներդրում և կայքերի արդիականացում
G35: Պետական մարմինների կողմից օգտագործվող ոչ ֆինանսական ակտիվների հետ գործառնություններ
H36: Ակտիվն օգտագործող կազմակերպության անվանումը` Հանրային իշխանության մարմիններ

Sheet Հավելված 7
B1: Հավելված N 7
A2: ՀՀ կառավարության 2025 թվականի
A3: ______________ ի ___Ն որոշման
A4: ՀԱՅԱՍՏԱՆԻ ՀԱՆՐԱՊԵՏՈՒԹՅԱՆ ԿԱՌԱՎԱՐՈՒԹՅԱՆ 2024 ԹՎԱԿԱՆԻ ԴԵԿՏԵՄԲԵՐԻ 27-Ի N 2060-Ն ՈՐՈՇՄԱՆ N 10 ՀԱՎԵԼՎԱԾՈՒՄ ԿԱՏԱՐՎՈՂ ՓՈՓՈԽՈՒԹՅՈՒՆՆԵՐԸ ԵՎ ԼՐԱՑՈՒՄՆԵՐԸ
A5: Կոդը | B5: Անվանումը | C5: Գնման ձևը | D5: Չափման միավորը | E5: Միավորի գինը | F5: Ցուցանիշների փոփոխությունը (ավելացումները նշված են դրական նշանով)
F6: Քանակը | G6: Գումարը (հազար դրամով)
A7: ՀՀ բարձր տեխնոլոգիական արդյունաբերության նախարարություն | G7: =+G8 -> 74005.2
A8: Բաժին N 04 | B8: Խումբ N 09 | C8: Դաս N 01 | D8: Տնտեսական հարաբերություններ (այլ դասերին չպատկանող) | G8: =G9+G15 -> 74005.2
A9: 1100 31001 | B9: Բարձր տեխնոլոգիական արդյունաբերության նախարարության կարողությունների զարգացում և տեխնիկական հագեցվածության ապահովում | G9: =G11+G12+G13+G14 -> 63186.2
B10: ՄԱՍ I. ԱՊՐԱՆՔՆԵՐ | G10: =G11+G12+G13+G14 -> 63186.2
A11: 30211220/503 | B11: Սեղանի համակարգիչներ | C11: ՀԲՄ | D11: հատ | E11: 349000 | F11: 139 | G11: =+F11*E11/1000 -> 48511
A12: 32421300/501 | B12: Ցանցային բաժանարար | C12: ԷԱՃ | D12: հատ | E12: 5792400 | F12: 1 | G12: =+F12*E12/1000 -> 5792.4
A13: 32421300/502 | B13: Ցանցային բաժանարար | C13: ԷԱՃ | D13: հատ | E13: 7222800 | F13: 1 | G13: =+F13*E13/1000 -> 7222.8
A14: 30211200/501 | B14: Դյուրակիր համակարգիչներ | C14: ԷԱՃ | D14: հատ | E14: 332000 | F14: 5 | G14: =+F14*E14/1000 -> 1660
A15: 1100 32001 | B15: Այլ պետական մարմնի կարողությունների զարգացում, տեխնիկական հագեցվածության ապահովում | G15: =G17 -> 10819
B16: ՄԱՍ I. ԱՊՐԱՆՔՆԵՐ | G16: =G17 -> 10819
A17: 30211220 | B17: Սեղանի համակարգիչներ | C17: ՀԲՄ | D17: հատ | E17: 349000 | F17: 31 | G17: =+F17*E17/1000 -> 10819
