Workbook
Name a: #REF!
Name a: #REF!
Name a: #REF!
Name a: #REF!
Name a: #REF!
Name AgencyCode: #REF!
Name AgencyCode: #REF!
Name AgencyCode: #REF!
Name AgencyCode: #REF!
Name AgencyCode: #REF!
Name AgencyCode: #REF!
Name AgencyCode: #REF!
Name AgencyCode: #REF!
Name AgencyCode: #REF!
Name AgencyName: #REF!
Name AgencyName: #REF!
Name AgencyName: #REF!
Name AgencyName: #REF!
Name AgencyName: #REF!
Name AgencyName: #REF!
Name åû: #REF!
Name åû: #REF!
Name åû: #REF!
Name davit: #REF!
Name davit: #REF!
Name davit: #REF!
Name davit: #REF!
Name davit: #REF!
Name Functional1: #REF!
Name Functional1: #REF!
Name Functional1: #REF!
Name Functional1: #REF!
Name Functional1: #REF!
Name Functional1: #REF!
Name ggg: #REF!
Name ggg: #REF!
Name ggg: #REF!
Name ggg: #REF!
Name ggg: #REF!
Name hav: #REF!
Name hav: #REF!
Name hav: #REF!
Name mas: #REF!
Name mas: #REF!
Name mas: #REF!
Name mass: #REF!
Name mass: #REF!
Name mass: #REF!
Name PANature: #REF!
Name PANature: #REF!
Name PANature: #REF!
Name PANature: #REF!
Name PANature: #REF!
Name PANature: #REF!
Name PAType: #REF!
Name PAType: #REF!
Name PAType: #REF!
Name PAType: #REF!
Name PAType: #REF!
Name PAType: #REF!

Sheet Հավելված N 1
F1: Հավելված N 1
F2: ՀՀ կառավարության 2025 թվականի
F3: ______________ ի ___Ն որոշման
A6: «ՀԱՅԱUՏԱՆԻ ՀԱՆՐԱՊԵՏՈՒԹՅԱՆ 2025 ԹՎԱԿԱՆԻ ՊԵՏԱԿԱՆ ԲՅՈՒՋԵԻ ՄԱUԻՆ» ՀԱՅԱUՏԱՆԻ ՀԱՆՐԱՊԵՏՈՒԹՅԱՆ OՐԵՆՔԻ N 1 ՀԱՎԵԼՎԱԾԻ N 2 ԱՂՅՈՒՍԱԿՈՒՄ ԿԱՏԱՐՎՈՂ ՎԵՐԱԲԱՇԽՈՒՄԸ ԵՎ ՀԱՅԱՍՏԱՆԻ ՀԱՆՐԱՊԵՏՈՒԹՅԱՆ ԿԱՌԱՎԱՐՈՒԹՅԱՆ 2024 ԹՎԱԿԱՆԻ ԴԵԿՏԵՄԲԵՐԻ 27-Ի N 2060-Ն ՈՐՈՇՄԱՆ N 5 ՀԱՎԵԼՎԱԾԻ N 1 ԱՂՅՈՒՍԱԿՈՒՄ ԿԱՏԱՐՎՈՂ ՓՈՓՈԽՈՒԹՅՈՒՆՆԵՐԸ ԵՎ ԼՐԱՑՈՒՄՆԵՐԸ
G9: հազ. դրամներով
A10: ԲԳԿ | B10: Ծրագրային դասիչը | D10: ԲԳԿ/Ծրագրի /միջոցառման անվանումը | E10: Ծրագրի նպատակը/Միջոցառման նկարագրությունը | F10: Վերջնական արդյունքի նկարագրությունը/Միջոցառման տեսակը | G10: Ցուցանիշների փոփոխությունը (ավելացումները նշված են դրական նշանով, իսկ նվազեցումները փակագծերում)
G11: Տարի
B12: Ծրագիր | C12: Միջոցառում
A13: ԸՆԴԱՄԵՆԸ | G13: =+G15 -> 0
A14: այդ թվում՝
A15: ՀՀ ԿՐԹՈՒԹՅԱՆ, ԳԻՏՈՒԹՅԱՆ, ՄՇԱԿՈՒՅԹԻ ԵՎ ՍՊՈՐՏԻ ՆԱԽԱՐԱՐՈՒԹՅՈՒՆ | G15: =+G16+G18 -> 0
B16: 1075 | D16: Մշակութային ժառանգության ծրագիր | E16: Մշակութային ժառանգության պահպանում, օգտագործում, համալրում և հանրահռչակում | F16: Մշակութային ժառանգության շարունակական պահպանում, մշակութային զբոսաշրջության զարգացում և խթանում | G16: =SUM(G17:G17) -> 6789.5
C17: 1075 - 21001 | D17: Հուշարձանների ամրակայում, նորոգում և վերականգնում | E17: Հուշարձանների գիտանախագծային փաստաթղթերի կազմում, հրատապ ուսումնասիրում, վավերագրման և ուսումնասիրման աշխատանքներ, հետախուզում և հնագիտական պեղում, ամրակայում, նորոգում և վերականգնում | F17: Հանրության կողմից անմիջականորեն օգտագործվող ակտիվների հետ կապված միջոցառումներ | G17: =+'Հավելված N 2'!G41 -> 6789.5
B18: 1168 | D18: Արվեստների ծրագիր | E18: Նպաստել ազգային հենքի վրա ժամանակակից թատերարվեստի, երաժշտարվեստի, կերպարվեստի և պարարվեստի զարգացմանը և հանրահռչակմանը | F18: Մրցունակ արվեստային արտադրանքի ստեղծում, ստեղծագործական գործընթացների խթանում, արվեստի նոր նախագծերի ներդրում և մշակութային կյանքում հասարակության ներգրավում | G18: =SUM(G19:G19) -> -6789.5
C19: 1168 - 32001 | D19: Ներդրումներ թատրոնների և համերգային կազմակերպությունների շենքերի կապիտալ վերանորոգման համար | E19: Թատրոնների և համերգային կազմակերպությունների շենքերի մասնաշենքերի հիմնանորոգում, համաշինարարական աշխատանքներ, ջեռուցման համակարգի իրականացում, ներքին հարդարում, տարածքի բարեկարգում և նախագծում | F19: Այլ պետական կազմակերպությունների կողմից օգտագործվող ոչ ֆինանսական ակտիվների հետ գործառնություններ | G19: =+'Հավելված N 2'!G26 -> -6789.5

Sheet Հավելված N 2
F1: Հավելված N 2
F2: ՀՀ կառավարության 2025 թվականի
F3: ______________ ի ___Ն որոշման
A7: ՀԱՅԱՍՏԱՆԻ ՀԱՆՐԱՊԵՏՈՒԹՅԱՆ ԿԱՌԱՎԱՐՈՒԹՅԱՆ 2024 ԹՎԱԿԱՆԻ ԴԵԿՏԵՄԲԵՐԻ 27-Ի N 2060-Ն ՈՐՈՇՄԱՆ N 3 ԵՎ N 4 ՀԱՎԵԼՎԱԾՆԵՐՈՒՄ ԿԱՏԱՐՎՈՂ ՓՈՓՈԽՈՒԹՅՈՒՆՆԵՐԸ ԵՎ ԼՐԱՑՈՒՄՆԵՐԸ
G10: հազ. դրամներով
A11: Գործառական դասիչը | D11: Ծրագրային դասիչը | F11: Բյուջետային հատկացումների գլխավոր կարգադրիչների, ծրագրերի, միջոցառումների և միջոցառումները կատարող պետական մարմինների անվանումները | G11: Ցուցանիշների փոփոխությունը (ավելացումները նշված են դրական նշանով, իսկ նվազեցումները փակագծերում)
A12: Բաժին | B12: Խումբ | C12: Դաս | D12: Ծրագիր | E12: Միջոցառում | G12: Տարի
F13: ԸՆԴԱՄԵՆԸ | G13: =+G15 -> 0
F14: այդ թվում՝
F15: ՀՀ ԿՐԹՈՒԹՅԱՆ, ԳԻՏՈՒԹՅԱՆ, ՄՇԱԿՈՒՅԹԻ ԵՎ ՍՊՈՐՏԻ ՆԱԽԱՐԱՐՈՒԹՅՈՒՆ | G15: =+G16 -> 0
A16: 08 | F16: ՀԱՆԳԻՍՏ, ՄՇԱԿՈՒՅԹ ԵՎ ԿՐՈՆ | G16: =+G18 -> 0
F17: այդ թվում`
B18: 02 | F18: Մշակութային ծառայություններ | G18: =+G20+'Հավելված N 2'!G35 -> 0
F19: այդ թվում`
C20: 05 | F20: Արվեստ | G20: =+G22 -> -6789.5
F21: այդ թվում`
F22: ՀՀ կրթության, գիտության, մշակույթի և սպորտի նախարարություն | G22: =+G24 -> -6789.5
F23: այդ թվում`
D24: 1168 | E24: Արվեստների ծրագիր | G24: =+G26 -> -6789.5
F25: այդ թվում`
E26: 32001 | F26: Ներդրումներ թատրոնների և համերգային կազմակերպությունների շենքերի կապիտալ վերանորոգման համար | G26: =+G28 -> -6789.5
F27: այդ թվում` ըստ կատարողների
F28: ՀՀ կրթության, գիտության, մշակույթի և սպորտի նախարարություն | G28: =+G30 -> -6789.5
F29: այդ թվում՝ բյուջետային ծախսերի տնտեսագիտական դասակարգման հոդվածներ
F30: ԸՆԴԱՄԵՆԸ ԾԱԽՍԵՐ | G30: =+G31 -> -6789.5
F31: ՈՉ ՖԻՆԱՆՍԱԿԱՆ ԱԿՏԻՎՆԵՐԻ ԳԾՈՎ ԾԱԽՍԵՐ | G31: =+G32 -> -6789.5
F32: ՀԻՄՆԱԿԱՆ ՄԻՋՈՑՆԵՐ | G32: =+G33 -> -6789.5
F33: ՇԵՆՔԵՐ ԵՎ ՇԻՆՈՒԹՅՈՒՆՆԵՐ | G33: =+G34 -> -6789.5
F34: - Շենքերի և շինությունների կապիտալ վերանորոգում | G34: =+'Հավելված N 4'!E25 -> -6789.5
C35: 07 | F35: Հուշարձանների և մշակութային արժեքների վերականգնում և պահպանում | G35: =+G37 -> 6789.5
F36: այդ թվում`
F37: ՀՀ կրթության, գիտության, մշակույթի և սպորտի նախարարություն | G37: =+G39 -> 6789.5
F38: այդ թվում`
D39: 1075 | E39: Մշակութային ժառանգության ծրագիր | G39: =+G41 -> 6789.5
F40: այդ թվում`
E41: 21001 | F41: Հուշարձանների ամրակայում, նորոգում և վերականգնում | G41: =+G43 -> 6789.5
F42: այդ թվում` ըստ կատարողների
F43: ՀՀ կրթության, գիտության, մշակույթի և սպորտի նախարարություն | G43: =+G45 -> 6789.5
F44: այդ թվում՝ բյուջետային ծախսերի տնտեսագիտական դասակարգման հոդվածներ
F45: ԸՆԴԱՄԵՆԸ ԾԱԽՍԵՐ | G45: =+G46+G50 -> 6789.5
F46: ԸՆԹԱՑԻԿ ԾԱԽՍԵՐ | G46: =+G47 -> 53185.9
F47: ԴՐԱՄԱՇՆՈՐՀՆԵՐ | G47: =+G48 -> 53185.9
F48: ԿԱՊԻՏԱԼ ԴՐԱՄԱՇՆՈՐՀՆԵՐ ՊԵՏԱԿԱՆ ՀԱՏՎԱԾԻ ԱՅԼ ՄԱԿԱՐԴԱԿՆԵՐԻՆ | G48: =+G49 -> 53185.9
F49: - Կապիտալ դրամաշնորհներ պետական և համայնքային ոչ առևտրային կազմակերպություններին | G49: =+'Հավելված N 5'!G12 -> 53185.9
F50: ՈՉ ՖԻՆԱՆՍԱԿԱՆ ԱԿՏԻՎՆԵՐԻ ԳԾՈՎ ԾԱԽՍԵՐ | G50: =+G51 -> -46396.4
F51: ՀԻՄՆԱԿԱՆ ՄԻՋՈՑՆԵՐ | G51: =+G52 -> -46396.4
F52: ՇԵՆՔԵՐ ԵՎ ՇԻՆՈՒԹՅՈՒՆՆԵՐ | G52: =+G53 -> -46396.4
F53: - Շենքերի և շինությունների կապիտալ վերանորոգում | G53: =+'Հավելված N 4'!E15 -> -46396.4

Sheet Հավելված N 3
F1: Հավելված N 3
F2: ՀՀ կառավարության 2025 թվականի
F3: ______________ ի ___Ն որոշման
A5: «ՀԱՅԱUՏԱՆԻ ՀԱՆՐԱՊԵՏՈՒԹՅԱՆ 2025 ԹՎԱԿԱՆԻ ՊԵՏԱԿԱՆ ԲՅՈՒՋԵԻ ՄԱUԻՆ» ՀԱՅԱUՏԱՆԻ ՀԱՆՐԱՊԵՏՈՒԹՅԱՆ OՐԵՆՔԻ N 1 ՀԱՎԵԼՎԱԾԻ N 3 ԱՂՅՈՒՍԱԿՈՒՄ ԿԱՏԱՐՎՈՂ ՓՈՓՈԽՈՒԹՅՈՒՆՆԵՐԸ
G8: հազ. դրամներով
A9: Ծրագրային դասիչ | C9: Բյուջետային գլխավոր կարգադրիչների, ծրագրերի, միջոցառումների, միջոցառումները կատարող պետական մարմինների և ուղղությունների անվանումները | D9: Ընդամենը | E9: Ցուցանիշների փոփոխությունը (նվազեցումները նշված են փակագծերում)
A10: Ծրագիր | B10: Միջոցառում | E10: Կառուցման աշխատանքներ | F10: Վերակառուցման, վերանորոգման և վերականգնման աշխատանքներ | G10: Նախագծահե- տազոտական, գեոդեզիա- քարտեզագրա- կան աշխա- տանքներ | H10: Ոչ ֆինանսական այլ ակտիվների ձեռքբերում
C11: ԸՆԴԱՄԵՆԸ | D11: =SUM(E11:H11) -> -53185.9 | E11: =+E13 -> 0 | F11: =+F13 -> -53185.9 | G11: =+G13 -> 0 | H11: =+H13 -> 0
C12: այդ թվում՝
C13: ՀՀ ԿՐԹՈՒԹՅԱՆ, ԳԻՏՈՒԹՅԱՆ, ՄՇԱԿՈՒՅԹԻ ԵՎ ՍՊՈՐՏԻ ՆԱԽԱՐԱՐՈՒԹՅՈՒՆ | D13: =SUM(E13:H13) -> -53185.9 | E13: =+E15+E23 -> 0 | F13: =+F15+F23 -> -53185.9 | G13: =+G15+G23 -> 0 | H13: =+H15+H23 -> 0
C14: այդ թվում`
A15: 1075 | B15: 21001 | C15: Հուշարձանների ամրակայում, նորոգում և վերականգնում | D15: =SUM(E15:H15) -> -46396.4 | E15: =+E17 -> 0 | F15: =+F17 -> -46396.4 | G15: =+G17 -> 0 | H15: =+H17 -> 0
C16: այդ թվում`
C17: 1. Վերականգնողական աշխատանքներ | D17: =SUM(E17:H17) -> -46396.4 | E17: =+E19+E21 -> 0 | F17: =+F19+F21 -> -46396.4 | G17: =+G19+G21 -> 0 | H17: =+H19+H21 -> 0
C18: որից`
C19: ՀՀ Արմավիրի մարզ | D19: =SUM(E19:H19) -> -12196.1 | E19: =+E20 -> 0 | F19: =+F20 -> -12196.1 | G19: =+G20 -> 0 | H19: =+H20 -> 0
C20: Այգեշատ համայնքի Թարգմանչաց եկեղեցու վերականգնում | D20: =+E20+F20+G20+H20 -> -12196.1 | F20: =+'Հավելված N 8'!I21+'Հավելված N 8'!I24+'Հավելված N 8'!I26 -> -12196.1
C21: ՀՀ Տավուշի մարզ | D21: =SUM(E21:H21) -> -34200.3 | E21: =+E22 -> 0 | F21: =+F22 -> -34200.3 | G21: =+G22 -> 0 | H21: =+H22 -> 0
C22: Տավուշի մարզի «Սրվեղ» վանական համալիրի ամրակայում, վերականգնում և տարածքի բարեկարգում | D22: =+E22+F22+G22+H22 -> -34200.3 | F22: =+'Հավելված N 8'!I22+'Հավելված N 8'!I25+'Հավելված N 8'!I27 -> -34200.3
A23: 1168 | B23: 32001 | C23: Ներդրումներ թատրոնների և համերգային կազմակերպությունների շենքերի կապիտալ վերանորոգման համար | D23: =SUM(E23:H23) -> -6789.5 | E23: =+E25 -> 0 | F23: =+F25 -> -6789.5 | G23: =+G25 -> 0 | H23: =+H25 -> 0
C24: այդ թվում`
C25: Երևան քաղաք | D25: =SUM(E25:H25) -> -6789.5 | E25: =+E26 -> 0 | F25: =+F26 -> -6789.5 | G25: =+G26 -> 0 | H25: =+H26 -> 0
C26: «Հայաստանի պետական սիմֆոնիկ նվագախումբ» ՊՈԱԿ | D26: =+E26+F26+G26+H26 -> -6789.5 | F26: =+'Հավելված N 8'!I17 -> -6789.5

Sheet Հավելված N 4
C1: Հավելված N 4
D2: ՀՀ կառավարության 2025 թվականի
C3: ______________ ի ___Ն որոշման
B6: ՀԱՅԱՍՏԱՆԻ ՀԱՆՐԱՊԵՏՈՒԹՅԱՆ ԿԱՌԱՎԱՐՈՒԹՅԱՆ 2024 ԹՎԱԿԱՆԻ ԴԵԿՏԵՄԲԵՐԻ 27-Ի N 2060-Ն ՈՐՈՇՄԱՆ N 5 ՀԱՎԵԼՎԱԾԻ N 2 ԱՂՅՈՒՍԱԿՈՒՄ ԿԱՏԱՐՎՈՂ ՓՈՓՈԽՈՒԹՅՈՒՆՆԵՐԸ
E8: հազ. դրամներով
B9: Ծրագրային դասիչ | D9: Բյուջետային գլխավոր կարգադրիչների, ծրագրերի, միջոցառումների, միջոցառումները կատարող պետական մարմինների և ուղղությունների անվանումները | E9: Ցուցանիշների փոփոխությունը (նվազեցումները նշված են փակագծերում)
B10: Ծրագիր | C10: Միջոցառում | E10: Տարի
D11: ՀՀ ԿՐԹՈՒԹՅԱՆ, ԳԻՏՈՒԹՅԱՆ, ՄՇԱԿՈՒՅԹԻ ԵՎ ՍՊՈՐՏԻ ՆԱԽԱՐԱՐՈՒԹՅՈՒՆ | E11: =+E13+E23 -> -53185.9
D12: այդ թվում՝
B13: 1075 | C13: 21001 | D13: Հուշարձանների ամրակայում, նորոգում և վերականգնում | E13: =+E15 -> -46396.4
D14: այդ թվում` ըստ կատարողների
D15: ՀՀ կրթության, գիտության, մշակույթի և սպորտի նախարարություն | E15: =+E17 -> -46396.4
D16: այդ թվում՝ ըստ ուղղությունների
D17: 1. Վերականգնողական աշխատանքներ | E17: =+E19+E21 -> -46396.4
D18: որից`
D19: ՀՀ Արմավիրի մարզ | E19: =+E20 -> -12196.1
D20: =+'Հավելված N 3'!C20 -> Այգեշատ համայնքի Թարգմանչաց եկեղեցու վերականգնում | E20: =+'Հավելված N 3'!D20 -> -12196.1
D21: ՀՀ Տավուշի մարզ | E21: =+E22 -> -34200.3
D22: =+'Հավելված N 3'!C22 -> Տավուշի մարզի «Սրվեղ» վանական համալիրի ամրակայում, վերականգնում և տարածքի բարեկարգում | E22: =+'Հավելված N 3'!D22 -> -34200.3
B23: 1168 | C23: 32001 | D23: Ներդրումներ թատրոնների և համերգային կազմակերպությունների շենքերի կապիտալ վերանորոգման համար | E23: =+E25 -> -6789.5
D24: այդ թվում` ըստ կատարողների
D25: ՀՀ կրթության, գիտության, մշակույթի և սպորտի նախարարություն | E25: =+E27 -> -6789.5
D26: այդ թվում՝ ըստ ուղղությունների
D27: Երևան քաղաք | E27: =+E28 -> -6789.5
D28: =+'Հավելված N 3'!C26 -> «Հայաստանի պետական սիմֆոնիկ նվագախումբ» ՊՈԱԿ | E28: =+'Հավելված N 3'!D26 -> -6789.5

Sheet Հավելված N 5
F1: Հավելված 5
F2: ՀՀ կառավարության 2025 թվականի
F3: ______________ ի ___Ն որոշման
A6: ՀԱՅԱՍՏԱՆԻ ՀԱՆՐԱՊԵՏՈՒԹՅԱՆ ԿԱՌԱՎԱՐՈՒԹՅԱՆ 2024 ԹՎԱԿԱՆԻ ԴԵԿՏԵՄԲԵՐԻ 27-Ի N 2060-Ն ՈՐՈՇՄԱՆ N 5 ՀԱՎԵԼՎԱԾԻ N 7 ԱՂՅՈՒՍԱԿՈՒՄ ԿԱՏԱՐՎՈՂ ԼՐԱՑՈՒՄԸ
A7: հազար դրամ
A8: Ծրագրային դասիչը | C8: Բյուջետային հատկացումների գլխավոր կարգադրիչների, ծրագրերի, միջոցառումների, ծախսային ուղղությունների անվանումները | F8: Միջոցառումները կատարող պետական մարմինների և դրամաշնորհ ստացող տնտեսվարող սուբյեկտների անվանումները | G8: Ցուցանիշների փոփոխությունը (ավելացումները նշված են դրական նշանով)
A9: Ծրագիր | B9: Միջոցառում | G9: Տարի
A10: ՀՀ կրթության, գիտության, մշակույթի և սպորտի նախարարություն | G10: =+G11 -> 53185.9
A11: 1075 | B11: Մշակութային ժառանգության ծրագիր | G11: =+G12 -> 53185.9
B12: 21001 | C12: Հուշարձանների ամրակայում, նորոգում և վերականգնում | F12: ՀՀ կրթության, գիտության, մշակույթի և սպորտի նախարարություն | G12: =+G14 -> 53185.9
D13: այդ թվում՝ ըստ ուղղությունների և միջոցառումների անվանումների
E14: Վերականգնողական աշխատանքներ | G14: =+G15 -> 53185.9
E15: ՀՀ Արագածոտնի մարզի Արուճի Սբ. Գրիգոր եկեղեցու թմբուկի ժամանակավոր պաշտպանիչ ծածկի իրականացում | F15: «Պատմամշակութային արգելոց թանգարանների և պատմական միջավայրի պահպանության ծառայություն» ՊՈԱԿ | G15: 53185.9

Sheet Հավելված N 6
I1: Հավելված N 6
I2: ՀՀ կառավարության 2025 թվականի
I3: ______________ ի ___Ն որոշման
A6: ՀԱՅԱՍՏԱՆԻ ՀԱՆՐԱՊԵՏՈՒԹՅԱՆ ԿԱՌԱՎԱՐՈՒԹՅԱՆ 2024 ԹՎԱԿԱՆԻ ԴԵԿՏԵՄԲԵՐԻ 27-Ի N 2060-Ն ՈՐՈՇՄԱՆ N 9 ՀԱՎԵԼՎԱԾՈՒՄ ԿԱՏԱՐՎՈՂ ՓՈՓՈԽՈՒԹՅՈՒՆՆԵՐԸ ԵՎ ԼՐԱՑՈՒՄՆԵՐԸ
J8: հազար դրամներով
A9: ԲԳԿ | B9: Ծրագիր | D9: Միջոցառում | H9: Իրականացնողը/ ակտիվն օգտագործողը/ շահառուի ընտրության չափորոշիչը | I9: Արդյունքային չափորոշիչը | J9: Ցուցանիշների փոփոխությունը (ավելացումները նշված են դրական նշանով, իսկ նվազեցումները՝ փակագծերում)
B10: Դասիչը | C10: Անվանումը | D10: Դասիչը | E10: Անվանումը | F10: Նկարագրությունը | G10: Տեսակը | J10: Տարի
A11: ԸՆԴԱՄԵՆԸ | J11: =+J13 -> 0
A12: այդ թվում՝
A13: ՀՀ ԿՐԹՈՒԹՅԱՆ, ԳԻՏՈՒԹՅԱՆ, ՄՇԱԿՈԻՅԹԻ ԵՎ ՍՊՈՐՏԻ ՆԱԽԱՐԱՐՈՒԹՅՈՒՆ | J13: =+J14+J21 -> 0
B14: 1075 | C14: Մշակութային ժառանգության ծրագիր | J14: =+J15 -> 6789.5
D15: 1075 - 21001 | E15: Հուշարձանների ամրակայում, նորոգում և վերականգնում | J15: =+'Հավելված N 1'!G17 -> 6789.5
F16: Հուշարձանների գիտանախագծային փաստաթղթերի կազմում, հրատապ ուսումնասիրում, վավերագրման և ուսումնասիրման աշխատանքներ, հետախուզում և հնագիտական պեղում, ամրակայում, նորոգում և վերականգնում
G17: Հանրության կողմից անմիջականորեն օգտագործվող ակտիվների հետ կապված միջոցառումներ
H18: Ծառայությունը մատուցող կազմակերպության անվանումը` Մասնագիտացված կազմակերպություններ
I19: Հուշարձանների ամրակայման, նորոգման և վերականգնման աշխատանքներ, քանակ | J19: 1
B21: 1168 | C21: Արվեստների ծրագիր | J21: =+J22 -> -6789.5
D22: 1168 - 32001 | E22: Ներդրումներ թատրոնների և համերգային կազմակերպությունների շենքերի կապիտալ վերանորոգման համար | J22: =+'Հավելված N 1'!G19 -> -6789.5
F23: Թատրոնների և համերգային կազմակերպությունների շենքերի մասնաշենքերի հիմնանորոգում, համաշինարարական աշխատանքներ, ջեռուցման համակարգի իրականացում, ներքին հարդարում, տարածքի բարեկարգում և նախագծում
G24: Այլ պետական կազմակերպությունների կողմից օգտագործվող ոչ ֆինանսական ակտիվների հետ գործառնություններ
H25: Ակտիվն օգտագործող կազմակերպության անվանումը` Թատրոններ և համերգային կազմակերպություններ

Sheet Հավելված N 7
I1: Հավելված N 7
I2: ՀՀ կառավարության 2025 թվականի
I3: ______________ ի ___Ն որոշման
A6: ՀԱՅԱՍՏԱՆԻ ՀԱՆՐԱՊԵՏՈՒԹՅԱՆ ԿԱՌԱՎԱՐՈՒԹՅԱՆ 2024 ԹՎԱԿԱՆԻ ԴԵԿՏԵՄԲԵՐԻ 27-Ի N 2060-Ն ՈՐՈՇՄԱՆ N 9.1 ՀԱՎԵԼՎԱԾՈՒՄ ԿԱՏԱՐՎՈՂ ՓՈՓՈԽՈՒԹՅՈՒՆՆԵՐԸ ԵՎ ԼՐԱՑՈՒՄՆԵՐԸ
J8: հազար դրամներով
A9: ԲՍԿ | B9: Ծրագիր | D9: Միջոցառում | H9: Իրականացնողը/ ակտիվն օգտագործողը/ շահառուի ընտրության չափորոշիչը | I9: Արդյունքային չափորոշիչը | J9: Ցուցանիշների փոփոխությունը (ավելացումները նշված են դրական նշանով, իսկ նվազեցումները՝ փակագծերում)
B10: Դասիչը | C10: Անվանումը | D10: Դասիչը | E10: Անվանումը | F10: Նկարագրությունը | G10: Տեսակը | J10: Տարի
A11: ԸՆԴԱՄԵՆԸ | J11: =+J13 -> 0
A12: այդ թվում՝
A13: ՀՀ ԿՐԹՈՒԹՅԱՆ, ԳԻՏՈՒԹՅԱՆ, ՄՇԱԿՈԻՅԹԻ ԵՎ ՍՊՈՐՏԻ ՆԱԽԱՐԱՐՈՒԹՅՈՒՆ | J13: =+J14+J21 -> 0
B14: 1075 | C14: Մշակութային ժառանգության ծրագիր | J14: =+J15 -> 6789.5
D15: 1075 - 21001 | E15: Հուշարձանների ամրակայում, նորոգում և վերականգնում | J15: =+'Հավելված N 2'!G43 -> 6789.5
F16: Հուշարձանների գիտանախագծային փաստաթղթերի կազմում, հրատապ ուսումնասիրում, վավերագրման և ուսումնասիրման աշխատանքներ, հետախուզում և հնագիտական պեղում, ամրակայում, նորոգում և վերականգնում
G17: Հանրության կողմից անմիջականորեն օգտագործվող ակտիվների հետ կապված միջոցառումներ
H18: Ծառայությունը մատուցող կազմակերպության անվանումը` Մասնագիտացված կազմակերպություններ
I19: Հուշարձանների ամրակայման, նորոգման և վերականգնման աշխատանքներ, քանակ | J19: 1
B21: 1168 | C21: Արվեստների ծրագիր | J21: =+J22 -> -6789.5
D22: 1168 - 32001 | E22: Ներդրումներ թատրոնների և համերգային կազմակերպությունների շենքերի կապիտալ վերանորոգման համար | J22: =+'Հավելված N 2'!G28 -> -6789.5
F23: Թատրոնների և համերգային կազմակերպությունների շենքերի մասնաշենքերի հիմնանորոգում, համաշինարարական աշխատանքներ, ջեռուցման համակարգի իրականացում, ներքին հարդարում, տարածքի բարեկարգում և նախագծում
G24: Այլ պետական կազմակերպությունների կողմից օգտագործվող ոչ ֆինանսական ակտիվների հետ գործառնություններ
H25: Ակտիվն օգտագործող կազմակերպության անվանումը` Թատրոններ և համերգային կազմակերպություններ

Sheet Հավելված N 8
H1: Հավելված N 8
H2: ՀՀ կառավարության 2025 թվականի
H3: ______________ ի ___Ն որոշման
A6: ՀԱՅԱՍՏԱՆԻ ՀԱՆՐԱՊԵՏՈՒԹՅԱՆ ԿԱՌԱՎԱՐՈՒԹՅԱՆ 2024 ԹՎԱԿԱՆԻ ԴԵԿՏԵՄԲԵՐԻ 27-Ի N 2060-Ն N 10 ՀԱՎԵԼՎԱԾՈՒՄ ԿԱՏԱՐՎՈՂ ՓՈՓՈԽՈՒԹՅՈՒՆՆԵՐԸ
A10: Կոդը | B10: Անվանումը | E10: Գնման ձևը | F10: Չափման միավորը | G10: Միավորի գինը | H10: Ցուցանիշների փոփոխությունը (նվազեցումները փակագծերում)
H11: Քանակը | I11: Գումարը (հազար դրամ)
A12: 1 | B12: 2 | E12: 3 | F12: 4 | G12: 5 | H12: 6 | I12: 7
A13: ՀՀ կրթության, գիտության, մշակույթի և սպորտի նախարարություն | I13: =+I14+I18 -> -53185.9
A14: Բաժին N 08 | B14: Խումբ N 02 | C14: Դաս N 05 | D14: Արվեստ | I14: =+I15 -> -6789.5
A15: 1168-32001 | B15: Ներդրումներ թատրոնների և համերգային կազմակերպությունների շենքերի կապիտալ վերանորոգման համար | I15: =+I16 -> -6789.5
B16: ՄԱՍ II. ԱՇԽԱՏԱՆՔՆԵՐ | I16: =+I17 -> -6789.5
A17: 45611200-1 | B17: մշակութային օբյեկտների հիմնանորոգում | E17: ԲՄ | F17: դրամ | I17: =-'Հավելված N 5'!G12-'Հավելված N 8'!I19 -> -6789.5
A18: Բաժին N 08 | B18: Խումբ N 02 | C18: Դաս N 07 | D18: Հուշարձանների և մշակութային արժեքների վերականգնում և պահպանում | I18: =+I19 -> -46396.4
A19: 1075-21001 | B19: Հուշարձանների ամրակայում, նորոգում և վերականգնում | I19: =+I20+I23 -> -46396.4
B20: ՄԱՍ II. ԱՇԽԱՏԱՆՔՆԵՐ | I20: =SUM(I21:I22) -> -45842.3
A21: 45451600-5 | B21: վերականգնողական աշխատանքներ | E21: ՀԲՄ | F21: դրամ | I21: -11865.6
A22: 45451600-16 | B22: վերականգնողական աշխատանքներ | E22: ԲՄ | F22: դրամ | I22: -33976.7
B23: ՄԱՍ III. ԾԱՌԱՅՈՒԹՅՈՒՆՆԵՐ | I23: =SUM(I24:I27) -> -554.1
A24: 71351540-43 | B24: տեխնիկական հսկողության ծառայություններ | E24: ԳՀ | F24: դրամ | I24: =-54-152.9 -> -206.9
A25: 71351540-16 | B25: տեխնիկական հսկողության ծառայություններ | E25: ԳՀ | F25: դրամ | I25: -49.1
A26: 98111140-5 | B26: հեղինակային հսկողության ծառայություններ | E26: ՄԱ | F26: դրամ | I26: -123.6
A27: 98111140-16 | B27: հեղինակային հսկողության ծառայություններ | E27: ՄԱ | F27: դրամ | I27: =-171.6-2.9 -> -174.5
