Workbook
Name AgencyCode: #REF!
Name AgencyName: #REF!
Name Functional1: #REF!
Name havelvac: #REF!
Name PANature: #REF!
Name PAType: #REF!
Name Performance2: #REF!
Name PerformanceType: #REF!

Sheet Հավելված1
F1: Հավելված 1
E2: ՀՀ կառավարության 2019 թվականի
E3: ______________ ի ___Ն որոշման
A6: «ՀԱՅԱUՏԱՆԻ ՀԱՆՐԱՊԵՏՈՒԹՅԱՆ 2019 ԹՎԱԿԱՆԻ ՊԵՏԱԿԱՆ ԲՅՈՒՋԵԻ ՄԱUԻՆ» ՀԱՅԱUՏԱՆԻ ՀԱՆՐԱՊԵՏՈՒԹՅԱՆ OՐԵՆՔԻ N 1 ՀԱՎԵԼՎԱԾԻ N 2 ԱՂՅՈՒՍԱԿՈՒՄ ԿԱՏԱՐՎՈՂ ՎԵՐԱԲԱՇԽՈՒՄԸ ԵՎ ՀԱՅԱՍՏԱՆԻ ՀԱՆՐԱՊԵՏՈՒԹՅԱՆ ԿԱՌԱՎԱՐՈՒԹՅԱՆ 2018 ԹՎԱԿԱՆԻ ԴԵԿՏԵՄԲԵՐԻ 27-Ի N 1515-Ն ՈՐՈՇՄԱՆ N5 ՀԱՎԵԼՎԱԾԻ N1 ԱՂՅՈՒՍԱԿՈՒՄ ԿԱՏԱՐՎՈՂ ՓՈՓՈԽՈՒԹՅՈՒՆՆԵՐԸ
G8: (հազ. դրամ)
A9: Ծրագրային դասիչը | C9: Բյուջետային հատկացումների գլխավոր կարգադրիչների, ծրագրերի և միջոցառումների անվանումները | D9: Ցուցանիշների փոփոխությունը (ավելացումները նշված են դրական նշանով, իսկ նվազեցումները` փակագծերում)
A10: Ծրագիրը | B10: Միջոցառումը | D10: Տարի
C11: Ընդամենը
B12: ՀՀ ԱՌՈՂՋԱՊԱՀՈՒԹՅԱՆ ՆԱԽԱՐԱՐՈՒԹՅՈՒՆ | D12: =+D20+D27+D33 -> 0
A13: 1053 | C13: Ծրագրի անվանումը`
C14: Առողջապահության համակարգի արդիականացման և արդյունավետության բարձրացման ծրագիր
C15: Ծրագրի նպատակը`
C16: Առողջապահության համակարգի արդիականացում և զարգացում
C17: Վերջնական արդյունքի նկարագրությունը`
C18: Առողջապահական ենթակառուցվածքների բարելավում՝ կարողությունների զարգացում
A19: Ծրագրի միջոցառումներ
B20: 11004 | C20: Միջոցառման անվանումը` | D20: =+D22 -> -62123
C21: Գլոբալ հիմնադրամի աջակցությամբ իրականացվող Հայաստանի Հանրապետությունուն տուբերկուլյոզի դեմ պայքարի ուժեղացում դրամաշնորհային ծրագիր
C22: Միջոցառման նկարագրությունը` | D22: =+D24 -> -62123
C23: Հայաստանի Հանրապետությունուն տուբերկուլյոզի բեռի կրճատում՝ տուբերկուլյոզի բոլոր ձևերի որոկյալ ախտորոշման և բուժման մատչելիության ապահովում
C24: Միջոցառման տեսակը | D24: =+D25 -> -62123
C25: Ծառայությունների մատուցում | D25: =-D31-D37 -> -62123
B26: 11008 | C26: Միջոցառման անվանումը` | D26: =+D31 -> 59115
C27: Գլոբալ հիմնադրամի աջակցությամբ իրականացվող Հայաստանի Հանրապետությունում տուբերկուլյոզի դեմ պայքարի ուժեղացում դրամաշնորհային ծրագրի շրջանակներում աջակցություն | D27: =+D31 -> 59115
C28: Միջոցառման նկարագրությունը` | D28: =+D31 -> 59115
C29: Դեղակայուն տուբերկուլյոզով հիվանդների ամբուլատոր բուժումն իրականացնող մասնագետների վերապատրաստում՝ դեղակայուն տուբերկուլյոզի կառավարման վերաբերյալ վերապատրաստում արտասահմանում՝ ՏԲ դեղորայքի կառավարման ոլորտում տեխնիկական աջակցություն_x000D_ | D29: =+D31 -> 59115
C30: Միջոցառման տեսակը | D30: =+D31 -> 59115
C31: Ծառայությունների մատուցում | D31: 59115
B32: 11009 | C32: Միջոցառման անվանումը` | D32: =+D37 -> 3008
C33: Գլոբալ հիմնադրամի աջակցությամբ իրականացվող Հայաստանի Հանրապետությունում տուբերկուլյոզի դեմ պայքարի ուժեղացում դրամաշնորհային ծրագրի շրջանակներում աջակցություն | D33: =+D37 -> 3008
C34: Միջոցառման նկարագրությունը` | D34: =+D37 -> 3008
C35: Դեղակայուն ՏԲ հիվանդներին և նրանց ընտանիքի անդմաներին հոգեբանական աջակցության տրամադրում_x000D_ | D35: =+D37 -> 3008
C36: Միջոցառման տեսակը | D36: =+D37 -> 3008
C37: Ծառայությունների մատուցում | D37: 3008
A41: ՀԱՅԱՍՏԱՆԻ ՀԱՆՐԱՊԵՏՈՒԹՅԱՆ ՎԱՐՉԱՊԵՏ | E41: Ն. ՓԱՇԻՆՅԱՆ

Sheet հավելված2
G2: Հավելված N 2 ՀՀ կառավարության 2019 թվականի
G3: ______________ ի ___Ն որոշման
A5: ՀԱՅԱՍՏԱՆԻ ՀԱՆՐԱՊԵՏՈՒԹՅԱՆ ԿԱՌԱՎԱՐՈՒԹՅԱՆ 2018 ԹՎԱԿԱՆԻ ԴԵԿՏԵՄԲԵՐԻ 27-Ի N 1515-Ն ՈՐՈՇՄԱՆ NN3 ԵՎ 4 ՀԱՎԵԼՎԱԾՆԵՐՈՒՄ ԿԱՏԱՐՎՈՂ ՓՈՓՈԽՈՒԹՅՈՒՆՆԵՐԸ
G6: (հազ. դրամ)
A7: Գործառական դասիչը | D7: Ծրագրային դասիչը | F7: Բյուջետային հատկացումների գլխավոր կարգադրիչների, ծրագրերի, միջոցառումների և միջոցառումները կատարող պետական մարմինների անվանումները | G7: Ցուցանիշների փոփոխությունը (ավելացումները նշված են դրական նշանով, իսկ նվազեցումները` փակագծերում)
A8: Բաժին | B8: Խումբ | C8: Դաս | D8: Ծրագիր | E8: Միջոցառում | G8: Տարի
F9: ԸՆԴԱՄԵՆԸ | G9: =+G10 -> 0
A10: 07 | F10: ԱՌՈՂՋԱՊԱՀՈՒԹՅՈՒՆ | G10: =+G11 -> 0
B11: 06 | F11: Առողջապահություն (այլ դասերին չպատկանող) | G11: =+G13 -> 0
F12: այդ թվում`
C13: 01 | F13: Առողջապահական հարակից ծառայություններ և ծրագրեր | G13: =G23+G33+G22 -> 0
F14: այդ թվում` | G14: 0
D15: 1053 | E15: 11004 | F15: Գլոբալ հիմնադրամի աջակցությամբ իրականացվող Հայաստանի Հանրապետությունում տուբերկուլյոզի դեմ պայքարի ուժեղացում դրամաշնորհային ծրագիր | G15: =+G22 -> -62123
F16: ՀՀ առողջապահության նախարարություն | G16: =+G22 -> -62123
F17: այդ թվում` բյուջետային ծախսերի տնտեսագիտական դասակարգման հոդվածներ | G17: =+G22 -> -62123
F18: ԸՆԴԱՄԵՆԸ ԾԱԽՍԵՐ | G18: =+G22 -> -62123
F19: ԸՆԹԱՑԻԿ ԾԱԽՍԵՐ | G19: =+G22 -> -62123
F20: ԾԱՌԱՅՈՒԹՅՈՒՆՆԵՐԻ ԵՎ ԱՊՐԱՆՔՆԵՐԻ ՁԵՌՔԲԵՐՈՒՄ | G20: =+G22 -> -62123
F21: Նյութեր (Ապրանքներ) | G21: =+G22 -> -62123
F22: - Առողջապահական և լաբորատոր նյութեր | G22: =+հավելված3!E16 -> -62123
D23: 1053 | E23: 11008 | F23: Գլոբալ հիմնադրամի աջակցությամբ իրականացվող Հայաստանի Հանրապետությունում տուբերկուլյոզի դեմ պայքարի ուժեղացում դրամաշնորհային ծրագրի շրջանակներում աջակցություն | G23: =+G30 -> 59115
F24: ՀՀ առողջապահության նախարարություն | G24: =+G30 -> 59115
F25: այդ թվում` բյուջետային ծախսերի տնտեսագիտական դասակարգման հոդվածներ | G25: =+G30 -> 59115
F26: ԸՆԴԱՄԵՆԸ ԾԱԽՍԵՐ | G26: =+G30 -> 59115
F27: ԸՆԹԱՑԻԿ ԾԱԽՍԵՐ | G27: =+G30 -> 59115
F28: ԴՐԱՄԱՇՆՈՐՀՆԵՐ | G28: =+G30 -> 59115
F29: Ընթացիկ դրամաշնորհներ պետական հատվածի այլ մակարդակներին | G29: =+G30 -> 59115
F30: - Ընթացիկ դրամաշնորհներ պետական և համայնքային ոչ առևտրային կազմակերպություններին | G30: =+հավելված3!E22 -> 59115
D31: 1053 | E31: 11009 | F31: Գլոբալ հիմնադրամի աջակցությամբ իրականացվող Հայաստանի Հանրապետությունում տուբերկուլյոզի դեմ պայքարի ուժեղացում դրամաշնորհային ծրագրի շրջանակներում աջակցություն | G31: =+G38 -> 3008
F32: ՀՀ առողջապահության նախարարություն | G32: =+G38 -> 3008
F33: այդ թվում` բյուջետային ծախսերի տնտեսագիտական դասակարգման հոդվածներ | G33: =+G38 -> 3008
F34: ԸՆԴԱՄԵՆԸ ԾԱԽՍԵՐ | G34: =+G38 -> 3008
F35: ԸՆԹԱՑԻԿ ԾԱԽՍԵՐ | G35: =+G38 -> 3008
F36: ԴՐԱՄԱՇՆՈՐՀՆԵՐ | G36: =+G38 -> 3008
F37: Ընթացիկ դրամաշնորհներ պետական հատվածի այլ մակարդակներին | G37: =+G38 -> 3008
F38: - Այլ ընթացիկ դրամաշնորհներ | G38: =+հավելված3!E28 -> 3008
A40: ՀԱՅԱՍՏԱՆԻ ՀԱՆՐԱՊԵՏՈՒԹՅԱՆ ՎԱՐՉԱՊԵՏ | G40: Ն. ՓԱՇԻՆՅԱՆ

Sheet հավելված3
F1: Հավելված 3
F2: ՀՀ կառավարության 2019 թվականի
F3: ______________ ի ___Ն որոշման
A6: «ՀԱՅԱUՏԱՆԻ ՀԱՆՐԱՊԵՏՈՒԹՅԱՆ 2019 ԹՎԱԿԱՆԻ ՊԵՏԱԿԱՆ ԲՅՈՒՋԵԻ ՄԱUԻՆ» ՀԱՅԱUՏԱՆԻ ՀԱՆՐԱՊԵՏՈՒԹՅԱՆ OՐԵՆՔԻ N 1 ՀԱՎԵԼՎԱԾԻ N 5 ԱՂՅՈՒՍԱԿՈՒՄ ԿԱՏԱՐՎՈՂ ՎԵՐԱԲԱՇԽՈՒՄԸ ԵՎ ՀԱՅԱՍՏԱՆԻ ՀԱՆՐԱՊԵՏՈՒԹՅԱՆ ԿԱՌԱՎԱՐՈՒԹՅԱՆ 2018 ԹՎԱԿԱՆԻ ԴԵԿՏԵՄԲԵՐԻ 27-Ի N 1515-Ն ՈՐՈՇՄԱՆ N5 ՀԱՎԵԼՎԱԾԻ N4 ԱՂՅՈՒՍԱԿՈՒՄ ԿԱՏԱՐՎՈՂ ՓՈՓՈԽՈՒԹՅՈՒՆՆԵՐԸ
F8: (հազ. դրամ)
A9: Ծրագրային դասիչը | C9: Բյուջետային հատկացումների գլխավոր կարգադրիչների, ծրագրերի և միջոցառումների անվանումները | D9: Ցուցանիշների փոփոխությունը (ավելացումները նշված են դրական նշանով, իսկ նվազեցումները` փակագծերում)
A10: Ծրագիրը | B10: Միջոցառումը | D10: Տարի
D11: ԸՆԴԱՄԵՆԸ | E11: այդ թվում`
E12: Դրամաշնորհային միջոցներ | F12: Համաֆինան_x000D_սավորում
B13: ՀՀ ԱՌՈՂՋԱՊԱՀՈՒԹՅԱՆ ՆԱԽԱՐԱՐՈՒԹՅՈՒՆ | D13: =+D16+D22+D28 -> 0 | E13: =+E16+E22+E28 -> 0 | F13: =+F16+F22+F28 -> 0
A14: 1053 | C14: Առողջապահության համակարգի արդիականացման և արդյունավետության բարձրացման ծրագիր | D14: =+D16+D22+D28 -> 0 | E14: =+E16+E22+E28 -> 0 | F14: =+F16+F22+F28 -> 0
C15: այդ թվում`
B16: 11004 | C16: Գլոբալ հիմնադրամի աջակցությամբ իրականացվող Հայաստանի Հանրապետությունում տուբերկուլյոզի դեմ պայքարի ուժեղացում դրամաշնորհային ծրագիր | D16: =+E16+F16 -> -62123 | E16: =-E22-E28 -> -62123 | F16: =+F22+F28 -> 0
C17: այդ թվում` ըստ կատարողների
C18: ՀՀ առողջապահության նախարարություն | D18: =+D16 -> -62123 | E18: =+E16 -> -62123 | F18: =+F16 -> 0
C19: այդ թվում` բյուջետային ծախսերի տնտեսագիտական դասակարգման հոդվածներ
C20: ԸՆԹԱՑԻԿ ԾԱԽՍԵՐ | D20: =+D16 -> -62123 | E20: =+E16 -> -62123 | F20: =+F16 -> 0
C21: - Առողջապահական և լաբորատոր նյութեր | D21: =+D20 -> -62123 | E21: =+E20 -> -62123 | F21: =+F20 -> 0
B22: 11008 | C22: Գլոբալ հիմնադրամի աջակցությամբ իրականացվող Հայաստանի Հանրապետությունում տուբերկուլյոզի դեմ պայքարի ուժեղացում դրամաշնորհային ծրագրի շրջանակներում աջակցություն | D22: =+E22+F22 -> 59115 | E22: 59115 | F22: 0
C23: այդ թվում` ըստ կատարողների
C24: ՀՀ առողջապահության նախարարություն | D24: =+D22 -> 59115 | E24: =+E22 -> 59115 | F24: =+F22 -> 0
C25: այդ թվում` բյուջետային ծախսերի տնտեսագիտական դասակարգման հոդվածներ
C26: ԸՆԹԱՑԻԿ ԾԱԽՍԵՐ | D26: =+D24 -> 59115 | E26: =+E24 -> 59115 | F26: =+F24 -> 0
C27: - ընթացիկ դրամաշնորհներ պետական և համայնքային Ոչ առևտրային կազմակերպություններին | D27: =+D26 -> 59115 | E27: =+E26 -> 59115 | F27: =+F26 -> 0
B28: 11009 | C28: Գլոբալ հիմնադրամի աջակցությամբ իրականացվող Հայաստանի Հանրապետությունում տուբերկուլյոզի դեմ պայքարի ուժեղացում դրամաշնորհային ծրագրի շրջանակներում աջակցություն | D28: =+E28+F28 -> 3008 | E28: 3008 | F28: 0
C29: այդ թվում` ըստ կատարողների
C30: ՀՀ առողջապահության նախարարություն | D30: =+D28 -> 3008 | E30: =+E28 -> 3008 | F30: =+F28 -> 0
C31: այդ թվում` բյուջետային ծախսերի տնտեսագիտական դասակարգման հոդվածներ
C32: ԸՆԹԱՑԻԿ ԾԱԽՍԵՐ | D32: =+D28 -> 3008 | E32: =+E28 -> 3008 | F32: =+F28 -> 0
C33: - այլ ընթացիկ դրամաշնորհներ | D33: =+D28 -> 3008 | E33: =+E28 -> 3008 | F33: =+F28 -> 0
A36: ՀԱՅԱՍՏԱՆԻ ՀԱՆՐԱՊԵՏՈՒԹՅԱՆ ՎԱՐՉԱՊԵՏ | F36: Ն. ՓԱՇԻՆՅԱՆ

Sheet հավելված4.1
B1: Հավելված N4 ՀՀ կառավարության 2019 թվականի __________-ի ____-ի N _____-Ն որոշման
C2: Աղյուսակ N1
A3: ՀԱՅԱՍՏԱՆԻ ՀԱՆՐԱՊԵՏՈՒԹՅԱՆ ԿԱՌԱՎԱՐՈՒԹՅԱՆ 2018ԹՎԱԿԱՆԻ ԴԵԿՏԵՄԲԵՐԻ 27-Ի ԹԻՎ 1515-Ն ՈՐՈՇՄԱՆ N11 ՀԱՎԵԼՎԱԾԻ 11.9 ԱՂՅՈՒՍԱԿՈՒՄ ԿԱՏԱՐՎՈՂ ՓՈՓՈԽՈՒԹՅՈՒՆՆԵՐԸ
A4: ՀՀ առողջապահության նախարարություն
C5: (հազ. դրամ)
A6: ՄԱՍ 2. ՊԵՏԱԿԱՆ ՄԱՐՄՆԻ ԳԾՈՎ ԱՐԴՅՈՒՆՔԱՅԻՆ (ԿԱՏԱՐՈՂԱԿԱՆ) ՑՈՒՑԱՆԻՇՆԵՐԸ
A7: Ծրագրի դասիչը | B7: Ծրագրի անվանումը
A8: 1053 | B8: Առողջապահության համակարգի արդիականացման և արդյունավետության բարձրացման ծրագիր
A10: Ծրագրի միջոցառումները
A12: Ծրագրի դասիչը՝ | B12: 1053 | C12: Ցուցանիշների փոփոխությունը (նվազեցումները նշված են փակագծերում)
A13: Միջոցառման դասիչը՝ | B13: 11004 | C13: Տարի
A14: Միջոցառման անվանումը՝ | B14: Գլոբալ հիմնադրամի աջակցությամբ իրականացվող Հայաստանի Հանրապետությունում տուբերկուլյոզի դեմ պայքարի ուժեղացում դրամաշնորհային ծրագիր
A15: Նկարագրությունը՝ | B15: Հայաստանի Հանրապետությունում տուբերկուլյոզի բեռի կրճատում՝ տուբերկուլյոզի բոլոր ձևերի որակյալ ախտորոշման և բուժման մատչելիության ապահովում
A16: Միջոցառման տեսակը՝ | B16: Ծառայությունների մատուցում
A17: Միջոցառումն իրականացնողի անվանումը` | B17: ՀՀ առողջապահության նախարարություն
A18: Արդյունքի չափորոշիչներ
A19: Տվյալ ժամանակահատվածում հայտնաբերված բոլոր ՏԲ դեպքերի (լաբորատոր հաստատում ունեցող և կլինիկորեն ախտորոշված) թիվ, հատ
A20: Տվյալ ժամանակահատվածում հայտնաբերված ՌԿ-ՏԲ և/կամ ԲԴԿ-ՏԲ դեպքերի թիվ (հատ)
A21: Տվյալ ժամանակահատվածում երկրորդ շարքի բուժման մեջ ընդգրկված ՌԿ-ՏԲ և/կամ ԲԴԿ-ՏԲ դեպքերի թիվ, հատ
A22: Տվյալ ժամանակահատվածում բուժման մեջ ընդգրկված ԳԴԿ-ՏԲ դեպքերի թիվ, հատ
A23: Տվյալ ժամանակահատվածում բուժման մեջ գտնվող լաբորատոր և կլինիկորեն ախտորոշված բոլոր ՏԲ ձևերի մեջ բարեհաջող բուժման ելք ունեցող ՏԲ դեպքերի տոկոս (%)
A24: Տվյալ ժամանակահատվածում գրանցված ՄԻԱՎ-դրական նոր և կրկնակի ՏԲ դեպքեր, որոնք բուժմանը զուգահեռ ստանում են ՀՌՎ բուժում, տոկոս
A25: Նոր և կրկնակի ՏԲ հիվանդների տոկոսը որոնց համար ախտորոշման համար գտագործվել է ԱՀԿ-ի կողմից առաջարկվող արագ ախտորոշման հետազոտություն (%)
A26: Միջոցառման վրա կատարվող ծախսը (հազար դրամ) | C26: =-C36-C46 -> -62123
A29: Ծրագրի դասիչը՝ | B29: 1053 | C29: Ցուցանիշների փոփոխությունը (ավելացումները նշված են դրական նշանով)
A30: Միջոցառման դասիչը՝ | B30: 11008 | C30: Տարի
A31: Միջոցառման անվանումը՝ | B31: Գլոբալ հիմնադրամի աջակցությամբ իրականացվող Հայաստանի Հանրապետությունում տուբերկուլյոզի դեմ պայքարի ուժեղացում դրամաշնորհային ծրագրի շրջանակներում աջակցություն
A32: Նկարագրությունը՝ | B32: Դեղակայուն տուբերկուլյոզով հիվանդների ամբուլատոր բուժումն իրականացնող մասնագետների վերապատրաստում՝ դեղակայուն տուբերկուլյոզի կառավարման վերաբերյալ վերապատրաստում արտասահմանում՝ ՏԲ դեղորայքի կառավարման ոլորտում տեխնիկական աջակցություն_x000D_
A33: Միջոցառման տեսակը՝ | B33: Ծառայությունների մատուցում
A34: Միջոցառումն իրականացնողի անվանումը` | B34: «Տուբերկուլյոզի դեմ պայքարի ազգային կենտրոն» ՊՈԱԿ
A35: Արդյունքի չափորոշիչներ
A36: Միջոցառման վրա կատարվող ծախսը (հազար դրամ) | C36: =+հավելված3!E22 -> 59115
A38: Ծրագրի դասիչը՝ | B38: 1053 | C38: Ցուցանիշների փոփոխությունը (ավելացումները նշված են դրական նշանով)
A39: Միջոցառման դասիչը՝ | B39: 11009 | C39: Տարի
A40: Միջոցառման անվանումը՝ | B40: Գլոբալ հիմնադրամի աջակցությամբ իրականացվող Հայաստանի Հանրապետությունում տուբերկուլյոզի դեմ պայքարի ուժեղացում դրամաշնորհային ծրագրի շրջանակներում աջակցություն
A41: Նկարագրությունը՝ | B41: Դեղակայուն ՏԲ հիվանդներին և նրանց ընտանիքի անդմաներին հոգեբանական աջակցության տրամադրում_x000D_
A42: Միջոցառման տեսակը՝ | B42: Ծառայությունների մատուցում
A43: Միջոցառումն իրականացնողի անվանումը` | B43: «Հայկական կարմիր խաչի ընկերություն» ՀԿ
A44: Արդյունքի չափորոշիչներ
A45: Դեղակայուն ՏԲ հիվանդներին և նրանց ընտանիքի անդմաներին հոգեբանական աջակցության տրամադրում, ընտանիք
A46: Միջոցառման վրա կատարվող ծախսը (հազար դրամ) | C46: =+հավելված2!G38 -> 3008
A49: ՀԱՅԱՍՏԱՆԻ ՀԱՆՐԱՊԵՏՈՒԹՅԱՆ ՎԱՐՉԱՊԵՏ | C49: Ն. ՓԱՇԻՆՅԱՆ

Sheet հավելված4.2
D1: Աղյուսակ N2
A2: ՀԱՅԱՍՏԱՆԻ ՀԱՆՐԱՊԵՏՈՒԹՅԱՆ ԿԱՌԱՎԱՐՈՒԹՅԱՆ 2018ԹՎԱԿԱՆԻ ԴԵԿՏԵՄԲԵՐԻ 27-Ի ԹԻՎ 1515-Ն ՈՐՈՇՄԱՆ N11.1 ՀԱՎԵԼՎԱԾԻ 11.1.9 ԱՂՅՈՒՍԱԿՈՒՄ ԿԱՏԱՐՎՈՂ ՓՈՓՈԽՈՒԹՅՈՒՆՆԵՐԸ
A3: =+հավելված4.1!A4:C4 -> ՀՀ առողջապահության նախարարություն
A5: ՄԱՍ 1 ՊԵՏԱԿԱՆ ՄԱՐՄՆԻ ԳԾՈՎ ԱՐԴՅՈՒՆՔԱՅԻՆ (ԿԱՏԱՐՈՂԱԿԱՆ) ՑՈՒՑԱՆԻՇՆԵՐԸ
B7: Ծրագրի դասիչը | C7: Ծրագրի անվանումը
B8: 1053 | C8: Առողջապահության համակարգի արդիականացման և արդյունավետության բարձրացման ծրագիր
B9: Ծրագրի միջոցառումները
D10: (հազ. դրամ)
B11: Ծրագրի դասիչը՝ | C11: 1053 | D11: Ցուցանիշների փոփոխությունը (նվազեցումները նշված են փակագծերում)
B12: Միջոցառման դասիչը՝ | C12: 11004 | D12: Տարի
B13: Միջոցառման անվանումը՝ | C13: Գլոբալ հիմնադրամի աջակցությամբ իրականացվող Հայաստանի Հանրապետությունուն տուբերկուլյոզի դեմ պայքարի ուժեղացում դրամաշնորհային ծրագիր
B14: Նկարագրությունը՝ | C14: Հայաստանի Հանրապետությունում տուբերկուլյոզի բեռի կրճատում՝ տուբերկուլյոզի բոլոր ձևերի որակյալ ախտորոշման և բուժման մատչելիության ապահովում
B15: Միջոցառման տեսակը՝ | C15: Ծառայության մատուցում
B16: Միջոցառումն իրականացնողի անվանումը՝ | C16: ՀՀ առողջապահության նախարարություն
B17: Արդյունքի չափորոշիչներ
B18: Տվյալ ժամանակահատվածում հայտնաբերված բոլոր ՏԲ դեպքերի (լաբորատոր հաստատում ունեցող և կլինիկորեն ախտորոշված) թիվ, հատ
B19: Տվյալ ժամանակահատվածում հայտնաբերված ՌԿ-ՏԲ և/կամ ԲԴԿ-ՏԲ դեպքերի թիվ (հատ)
B20: Տվյալ ժամանակահատվածում երկրորդ շարքի բուժման մեջ ընդգրկված ՌԿ-ՏԲ և/կամ ԲԴԿ-ՏԲ դեպքերի թիվ, հատ
B21: Տվյալ ժամանակահատվածում բուժման մեջ ընդգրկված ԳԴԿ-ՏԲ դեպքերի թիվ, հատ
B22: Տվյալ ժամանակահատվածում բուժման մեջ գտնվող լաբորատոր և կլինիկորեն ախտորոշված բոլոր ՏԲ ձևերի մեջ բարեհաջող բուժման ելք ունեցող ՏԲ դեպքերի տոկոս (%)
B23: Տվյալ ժամանակահատվածում գրանցված ՄԻԱՎ-դրական նոր և կրկնակի ՏԲ դեպքեր, որոնք բուժմանը զուգահեռ ստանում են ՀՌՎ բուժում, տոկոս
B24: Նոր և կրկնակի ՏԲ հիվանդների տոկոսը որոնց համար ախտորոշման համար գտագործվել է ԱՀԿ-ի կողմից առաջարկվող արագ ախտորոշման հետազոտություն (%)
B25: Միջոցառման վրա կատարվող ծախսը (հազար դրամ) | D25: =+հավելված4.1!C26 -> -62123
B26: Ծրագրի դասիչը՝ | C26: 1053 | D26: Ցուցանիշների փոփոխությունը (ավելացումները նշված են դրական նշանով)
B27: Միջոցառման դասիչը՝ | C27: 11008 | D27: Տարի
B28: Միջոցառման անվանումը՝ | C28: Գլոբալ հիմնադրամի աջակցությամբ իրականացվող Հայաստանի Հանրապետությունում տուբերկուլյոզի դեմ պայքարի ուժեղացում դրամաշնորհային ծրագրի շրջանակներում աջակցություն
B29: Նկարագրությունը՝ | C29: Դեղակայուն տուբերկուլյոզով հիվանդների ամբուլատոր բուժումն իրականացնող մասնագետների վերապատրաստում՝ դեղակայուն տուբերկուլյոզի կառավարման վերաբերյալ վերապատրաստում արտասահմանում՝ ՏԲ դեղորայքի կառավարման ոլորտում տեխնիկական աջակցություն_x000D_
B30: Միջոցառման տեսակը՝ | C30: Ծառայության մատուցում
B31: Միջոցառումն իրականացնողի անվանումը՝ | C31: «Տուբերկուլյոզի դեմ պայքարի ազգային կենտրոն» ՊՈԱԿ
C32: Արդյունքի չափորոշիչներ
B34: Միջոցառման վրա կատարվող ծախսը (հազար դրամ) | D34: =+հավելված3!E22 -> 59115
B37: Ծրագրի դասիչը՝ | C37: 1053 | D37: Ցուցանիշների փոփոխությունը (ավելացումները նշված են դրական նշանով)
B38: Միջոցառման դասիչը՝ | C38: 11009 | D38: Տարի
B39: Միջոցառման անվանումը՝ | C39: Գլոբալ հիմնադրամի աջակցությամբ իրականացվող Հայաստանի Հանրապետությունում տուբերկուլյոզի դեմ պայքարի ուժեղացում դրամաշնորհային ծրագրի շրջանակներում աջակցություն
B40: Նկարագրությունը՝ | C40: Դեղակայուն ՏԲ հիվանդներին և նրանց ընտանիքի անդմաներին հոգեբանական աջակցության տրամադրում_x000D_
B41: Միջոցառման տեսակը՝ | C41: Ծառայության մատուցում
B42: Միջոցառումն իրականացնողի անվանումը՝ | C42: «Հայկական կարմիր խաչի ընկերություն» ՀԿ
B43: Արդյունքի չափորոշիչներ
B44: Դեղակայուն ՏԲ հիվանդներին և նրանց ընտանիքի անդմաներին հոգեբանական աջակցության տրամադրում, ընտանիք
B45: Միջոցառման վրա կատարվող ծախսը (հազար դրամ) | D45: =+հավելված3!E28 -> 3008
A49: ՀԱՅԱՍՏԱՆԻ ՀԱՆՐԱՊԵՏՈՒԹՅԱՆ ՎԱՐՉԱՊԵՏ | D49: Ն. ՓԱՇԻՆՅԱՆ
