Workbook
Name _tab10: #REF!
Name _tab11: #REF!
Name _tab12: #REF!
Name _tab13: #REF!
Name _tab14: #REF!
Name _tab15: #REF!
Name _tab16: #REF!
Name _tab17: #REF!
Name _tab18: #REF!
Name _tab19: #REF!
Name _tab20: #REF!
Name _tab21: #REF!
Name _tab22: #REF!
Name _tab23: #REF!
Name _tab24: #REF!
Name _tab5: #REF!
Name _tab6: #REF!
Name _tab7: #REF!
Name _tab8: #REF!
Name _tab9: #REF!
Name AgencyCode: #REF!
Name AgencyName: #REF!
Name åû: #REF!
Name davit: #REF!
Name Functional1: #REF!
Name ggg: #REF!
Name hav: #REF!
Name havelvac: #REF!
Name mas: #REF!
Name mass: #REF!
Name PANature: #REF!
Name par_count: #REF!,#REF!,#REF!,#REF!,#REF!,#REF!,#REF!,#REF!,#REF!,#REF!,#REF!,#REF!,#REF!,#REF!,#REF!
Name par_qual: #REF!,#REF!,#REF!,#REF!,#REF!
Name par_time: #REF!,#REF!,#REF!,#REF!
Name par2.12s: #REF!
Name par2.4s: #REF!,#REF!,#REF!,#REF!,#REF!,#REF!,#REF!,#REF!,#REF!,#REF!,#REF!,#REF!,#REF!,#REF!,#REF!,#REF!
Name par2.5s: #REF!,#REF!
Name par2.6s: #REF!,#REF!,#REF!,#REF!
Name par2.7s: #REF!,#REF!
Name par2.9s: #REF!,#REF!,#REF!,#REF!,#REF!,#REF!,#REF!,#REF!,#REF!,#REF!,#REF!,#REF!,#REF!,#REF!,#REF!,#REF!
Name par4.10s: #REF!,#REF!
Name par4.11d: #REF!,#REF!,#REF!,#REF!,#REF!
Name par4.12d: #REF!
Name par4.13s: #REF!
Name par4.14: #REF!,#REF!,#REF!,#REF!,#REF!,#REF!
Name par4.15: #REF!,#REF!,#REF!
Name par4.16: #REF!,#REF!,#REF!
Name par4.17: #REF!,#REF!,#REF!,#REF!
Name par4.18d: #REF!,#REF!
Name par4.19s: #REF!
Name par4.20f: #REF!
Name par4.21f: #REF!
Name par4.22: #REF!
Name par4.4: #REF!
Name par4.5: #REF!
Name par4.6s: #REF!
Name par4.7s: #REF!
Name par4.8: #REF!,#REF!,#REF!,#REF!,#REF!
Name par4.9: #REF!,#REF!,#REF!,#REF!,#REF!,#REF!
Name par5.1: #REF!,#REF!

Sheet 1
A1: Հավելված N 1
G2: ՀՀ կառավարության 2025 թվականի
G3: ______________ ի ___Ն որոշման
B5: «ՀԱՅԱUՏԱՆԻ ՀԱՆՐԱՊԵՏՈՒԹՅԱՆ 2025 ԹՎԱԿԱՆԻ ՊԵՏԱԿԱՆ ԲՅՈՒՋԵԻ ՄԱUԻՆ» OՐԵՆՔԻ N 1 ՀԱՎԵԼՎԱԾԻ N 2 ԱՂՅՈՒՍԱԿՈՒՄ ԿԱՏԱՐՎՈՂ ՎԵՐԱԲԱՇԽՈՒՄԸ ԵՎ ՓՈՓՈԽՈՒԹՅՈՒՆՆԵՐԸ , ՀԱՅԱՍՏԱՆԻ ՀԱՆՐԱՊԵՏՈՒԹՅԱՆ ԿԱՌԱՎԱՐՈՒԹՅԱՆ 2024 ԹՎԱԿԱՆԻ ԴԵԿՏԵՄԲԵՐԻ 27-Ի N 2060-Ն ՈՐՈՇՄԱՆ N 5 ՀԱՎԵԼՎԱԾԻ N 1 ԱՂՅՈՒՍԱԿՈՒՄ ԿԱՏԱՐՎՈՂ ՓՈՓՈԽՈՒԹՅՈՒՆՆԵՐԸ
G6: հազար դրամներով
A7: ԲԳԿ | B7: Ծրագրային դասիչը | D7: ԲԳԿ/Ծրագրի /միջոցառման անվանումը | E7: Ծրագրի նպատակը/Միջոցառման նկարագրությունը | F7: Վերջնական արդյունքի նկարագրությունը/Միջոցառման տեսակը | G7: Ցուցանիշների փոփոխությունը (ավելացումները նշված են դրական նշանով, իսկ նվազեցումները՝ փակագծերում)
G8: Տարի
B9: Ծրագիր | C9: Միջոցառում
A10: ԸՆԴԱՄԵՆԸ | G10: =G11+G14 -> 0
A11: ՀՀ տարածքային կառավարման և ենթակառուցվածքների նախարարություն | G11: =G12 -> 2420220
B12: 1004 | D12: Ոռոգման համակարգի առողջացում | E12: Ոռոգման ծառայությունների հասանելիության և մատչելիության ապահովում | F12: Ոռոգման ջրի մատակարարման արդյունավետության և հասանելիության բարելավում, կորուստների կրճատում | G12: =SUM(G13:G13) -> 2420220
C13: 1004 - 11002 | D13: Ոռոգման ծառայություններ մատուցող ընկերություններին ֆինանսական աջակցության տրամադրում | E13: Ոռոգման ոլորտի սուբսիդավորում ՋՕԸ-երի համար սահմանված ոռոգման ջրի սակագնի և նվազագույն շահավետ գնի տարբերության չափով | F13: Ծառայությունների մատուցում | G13: =-G18 -> 2420220
A14: ՀՀ կառավարություն | G14: =G15 -> -2420220
B15: 1139 | D15: ՀՀ կառավարության պահուստային ֆոնդ | E15: Պետական բյուջեում չկանխատեսված, ինչպես նաեւ բյուջետային երաշխիքների ապահովման ծախսերի ֆինանսավորման ապահովում | F15: Պահուստային ֆոնդի կառավարման արդյունավետության և թափանցիկության ապահովում | G15: =G16+G17+G18 -> -2420220
C16: 1139 - 11001 | D16: ՀՀ կառավարության պահուստային ֆոնդ | E16: ՀՀ պետական բյուջեում նախատեսված ելքերի լրացուցիչ ֆինանսավորման, պետական բյուջեում չկանխատեսված ելքերի, ինչպես նաև բյուջետային երաշխիքների ապահովման ելքերի ֆինանսավորման ապահովում | F16: Ծառայությունների մատուցում | G16: =-G18 -> 2420220
C17: 1139 - 11001 | D17: ՀՀ կառավարության պահուստային ֆոնդ | E17: ՀՀ պետական բյուջեում նախատեսված ելքերի լրացուցիչ ֆինանսավորման, պետական բյուջեում չկանխատեսված ելքերի, ինչպես նաև բյուջետային երաշխիքների ապահովման ելքերի ֆինանսավորման ապահովում | F17: Ծառայությունների մատուցում | G17: =G18 -> -2420220
C18: 1139 - 11003 | D18: Հարկաբյուջետային ռիսկերի կառավարման պահուստ | E18: Հարկաբյուջետային ռիսկերի կառավարման նպատակով նախատեսված միջոցներ | F18: Ծառայությունների մատուցում | G18: -2420220

Sheet 2
A1: Հավելված N 2
A2: ՀՀ կառավարության 2025 թվականի
A3: -ի N -Ն որոշման
A4: ՀԱՅԱՍՏԱՆԻ ՀԱՆՐԱՊԵՏՈՒԹՅԱՆ ԿԱՌԱՎԱՐՈՒԹՅԱՆ 2024 ԹՎԱԿԱՆԻ ԴԵԿՏԵՄԲԵՐԻ 27-Ի N 2060-Ն ՈՐՈՇՄԱՆ N 3 ԵՎ N 4 ՀԱՎԵԼՎԱԾՆԵՐՈՒՄ ԿԱՏԱՐՎՈՂ ՓՈՓՈԽՈՒԹՅՈՒՆՆԵՐԸ
G5: հազար դրամներով
A6: Գործառական դասիչը | D6: Ծրագրային դասիչը | F6: Բյուջետային ծախսերի գործառական դասակարգման բաժինների, խմբերի և դասերի, բյուջետային ծրագրերի միջոցառումների, բյուջետային հատկացումների գլխավոր կարգադրիչների անվանումները | G6: Ցուցանիշների փոփոխությունը (ավելացումները նշված են դրական նշանով, իսկ նվազեցումները՝ փակագծերում)
A7: Բաժին | B7: Խումբ | C7: Դաս | D7: Ծրագիր | E7: Միջոցառում | G7: Տարի
F8: ԸՆԴԱՄԵՆԸ ԾԱԽՍԵՐ | G8: =G10+G30 -> 0
F9: այդ թվում`
F10: ՀՀ տարածքային կառավարման և ենթակառուցվածքների նախարարություն | G10: =G11 -> 2420220
A11: 04 | F11: ՏՆՏԵՍԱԿԱՆ ՀԱՐԱԲԵՐՈՒԹՅՈՒՆՆԵՐ | G11: =G13 -> 2420220
F12: այդ թվում`
B13: 02 | F13: Գյուղատնտեսություն, անտառային տնտեսություն, ձկնորսություն և որսորդություն | G13: =G15 -> 2420220
F14: այդ թվում`
C15: 04 | F15: Ոռոգում | G15: =G17 -> 2420220
F16: այդ թվում`
F17: ՀՀ տարածքային կառավարման և ենթակառուցվածքների նախարարություն | G17: =G19 -> 2420220
F18: այդ թվում`
D19: 1004 | F19: Ոռոգման համակարգի առողջացում | G19: =+G21 -> 2420220
F20: այդ թվում`
E21: 11002 | F21: Ոռոգման ծառայություններ մատուցող ընկերություններին ֆինանսական աջակցության տրամադրում | G21: =G22 -> 2420220
F22: այդ թվում` ըստ կատարողների | G22: =G23 -> 2420220
F23: ՀՀ տարածքային կառավարման և ենթակառուցվածքների նախարարության ջրային կոմիտե | G23: =G25 -> 2420220
F24: այդ թվում` բյուջետային ծախսերի տնտեսագիտական դասակարգման հոդվածներ
F25: ԸՆԴԱՄԵՆԸ ԾԱԽՍԵՐ | G25: =G26 -> 2420220
F26: ԸՆԹԱՑԻԿ ԾԱԽՍԵՐ | G26: =G27 -> 2420220
F27: ՍՈՒԲՍԻԴԻԱՆԵՐ | G27: =G28 -> 2420220
F28: Սուբսիդիաներ ոչ պետական կազմակերպություններին | G28: =G29 -> 2420220
F29: - Սուբսիդիաներ ոչ պետական ոչ ֆինանսական կազմակերպություններին | G29: ='1'!G13 -> 2420220
F30: ՀՀ կառավարություն | G30: =+G32 -> -2420220
F31: այդ թվում`
A32: 11 | F32: ՀԻՄՆԱԿԱՆ ԲԱԺԻՆՆԵՐԻՆ ՉԴԱՍՎՈՂ ՊԱՀՈՒՍՏԱՅԻՆ ՖՈՆԴԵՐ | G32: =G34 -> -2420220
F33: այդ թվում`
B34: 01 | F34: ՀՀ կառավարության և համայնքների պահուստային ֆոնդ | G34: =G36 -> -2420220
F35: այդ թվում`
C36: 01 | F36: ՀՀ կառավարության պահուստային ֆոնդ | G36: =G38 -> -2420220
F37: այդ թվում`
D38: 1139 | F38: ՀՀ կառավարության պահուստային ֆոնդ | G38: =G40+G48+G58 -> -2420220
F39: այդ թվում`
E40: 11001 | F40: ՀՀ կառավարության պահուստային ֆոնդ | G40: =G42 -> 2420220
...

Sheet 3
A1: Հավելված N 3
A2: ՀՀ կառավարության 2025 թվականի
A3: -ի N -Ն որոշման
A5: ՀԱՅԱՍՏԱՆԻ ՀԱՆՐԱՊԵՏՈՒԹՅԱՆ ԿԱՌԱՎԱՐՈՒԹՅԱՆ 2024 ԹՎԱԿԱՆԻ ԴԵԿՏԵՄԲԵՐԻ 27-Ի N 2060-Ն ՈՐՈՇՄԱՆ N 9 ՀԱՎԵԼՎԱԾՈՒՄ ԿԱՏԱՐՎՈՂ ՓՈՓՈԽՈՒԹՅՈՒՆՆԵՐԸ
J6: հազար դրամներով
A7: ԲԳԿ | B7: Ծրագիր | D7: Միջոցառում | H7: Իրականացնողը/ ակտիվն օգտագործողը/ շահառուի ընտրության չափորոշիչը | I7: Արդյունքային չափորոշիչը | J7: Ցուցանիշների փոփոխությունը (ավելացումները նշված են դրական նշանով, իսկ նվազեցումները՝ փակագծերում)
B8: Դասիչը | C8: Անվա-նումը | D8: Դասիչը | E8: Անվա-նումը | F8: Նկարագրու-թյունը | G8: Տեսակը | J8: Տարի
A9: ԸՆԴԱՄԵՆԸ | J9: =J10+J54 -> 0
A10: ՀՀ տարածքային կառավարման և ենթակառուցվածքների նախարարություն | J10: =J11+J28+J39+J48 -> 2420220
B11: 1004 | C11: Ոռոգման համակարգի առողջացում | J11: =J12 -> 2420220
D12: 1004 - 11002 | E12: Ոռոգման ծառայություններ մատուցող ընկերություններին ֆինանսական աջակցության տրամադրում | J12: ='1'!G13 -> 2420220
F13: Ոռոգման ոլորտի սուբսիդավորում ՋՕԸ-երի համար սահմանված ոռոգման ջրի սակագնի և նվազագույն շահավետ գնի տարբերության չափով
G14: Ծառայությունների մատուցում
H15: Ծառայությունը մատուցողի անվանումը` Ջրօգտագործողների ընկերություններ
I16: Ջրամատակարարման ծավալ, մլն խմ | J16: -130.6
D17: 1004 - 31013 | E17: Փոքր և միջին ջրամբարների կառուցում | J17: 0
F18: Փոքր և միջին ջրամբարների կառուցման աշխատանքներ
G19: Պետական մարմինների կողմից օգտագործվող ոչ ֆինանսական ակտիվների հետ գործառնություններ
H20: Ակտիվն օգտագործող կազմակերպության(ների) անվանում(ները)՛ ՀՀ ՏԿԵՆ ջրային կոմիտե
I21: Կառուցվող ջրամբարների քանակ, հատ | J21: -5
D22: 1004 - 31014 | E22: Ջրամբարների վերականգնման և վերազինման աշխատանքներ | J22: 0
F23: Ջրամբարների վերականգնման և վերազինման համար նախագծերի և աշխատանքների ձեռքբերում
G24: Պետական մարմինների կողմից օգտագործվող ոչ ֆինանսական ակտիվների հետ գործառնություններ
H25: Ակտիվն օգտագործող կազմակերպության անվանումը` ՀՀ ՏԿԵՆ ջրային կոմիտե
I26: Նախագծանախահաշվային փաստաթղթեր, հատ | J26: -1
I27: Վերականգնվող ջրամբարներ, հատ | J27: -2
B28: 1017 | C28: Որոտան-Արփա-Սևան թունելի ջրային համակարգի կառավարում | J28: 0
D29: 1017 - 11001 | E29: Արփա-Սևան թունելի ընթացիկ շահագործում և պահպանում | J29: 0
F30: Որոտան-Արփա-Սևան թունելի շահագործման և պահպանման նպատակով ծառայությունների մատուցում
G31: Ծառայությունների մատուցում
H32: Ծառայությունը մատուցողի անվանումը` Մասնագիտացված կազմակերպություններ
I33: Տարվա ընթացքում Արփա-Սևան թունելով ջրի տեղափոխման օրերի քանակ | J33: 125
D34: 1017 - 21001 | E34: Արփա-Սևան ջրային համակարգի տեխնիկական վիճակի բարելավում | J34: 0
F35: Արփա-Սևան թունելի առանձին վթարային հատվածների վերականգնման աշխատանքներ
G36: Հանրության կողմից անմիջականորեն օգտագործվող ակտիվների հետ կապված միջոցառումներ
H37: Ակտիվն օգտագործող կազմակերպության(ների) անվանում(ները)` ՀՀ ՏԿԵՆ ջրային կոմիտե
I38: Երեսարկների վերակառուցում (մեկ համալիրի ճակատով՛ թունելի ՈՒՀ 189+90-ից մինչև ՈՒՀ 360+47), գծմ | J38: -126.3
B39: 1027 | C39: Կոլեկտորադրենաժային ծառայություններ | J39: =J40 -> 0
D40: 1027-11001 | E40: Կոլեկտորադրենաժային ցանցերի պահպանում և շահագործում | J40: ='1'!G19 -> 0
F41: Կոլեկտորադրենաժային ցանցերի պահպանում և շահագործում, գրունտային ջրերի մակարդակների և որակի որոշման աշխատանքներ
...

Sheet 4
A1: Հավելված N 4
A2: ՀՀ կառավարության 2025 թվականի
A3: -ի N -Ն որոշման
A5: ՀԱՅԱՍՏԱՆԻ ՀԱՆՐԱՊԵՏՈՒԹՅԱՆ ԿԱՌԱՎԱՐՈՒԹՅԱՆ 2024 ԹՎԱԿԱՆԻ ԴԵԿՏԵՄԲԵՐԻ 27-Ի N 2060-Ն ՈՐՈՇՄԱՆ N 9.1 ՀԱՎԵԼՎԱԾՈՒՄ ԿԱՏԱՐՎՈՂ ՓՈՓՈԽՈՒԹՅՈՒՆՆԵՐԸ
J7: հազար դրամներով
A8: ԲՍԿ | B8: Ծրագիր | D8: Միջոցառում | H8: Իրականացնողը/ ակտիվն օգտագործողը/ շահառուի ընտրության չափորոշիչը | I8: Արդյունքային չափորոշիչը | J8: Ցուցանիշների փոփոխությունը (ավելացումները նշված են դրական նշանով, իսկ նվազեցումները՝ փակագծերում)
B9: Դասիչը | C9: Անվանումը | D9: Դասիչը | E9: Անվանումը | F9: Նկարագրությունը | G9: Տեսակը | J9: Տարի
A10: ԸՆԴԱՄԵՆԸ | J10: =J11+J55 -> 0
A11: ՀՀ տարածքային կառավարման և ենթակառուցվածքների նախարարության ջրային կոմիտե | J11: =J12+J29 -> 2420220
B12: 1004 | C12: Ոռոգման համակարգի առողջացում | J12: =J13 -> 2420220
D13: 1004 - 11002 | E13: Ոռոգման ծառայություններ մատուցող ընկերություններին ֆինանսական աջակցության տրամադրում | J13: ='1'!G13 -> 2420220
F14: Ոռոգման ոլորտի սուբսիդավորում ՋՕԸ-երի համար սահմանված ոռոգման ջրի սակագնի և նվազագույն շահավետ գնի տարբերության չափով
G15: Ծառայությունների մատուցում
H16: Ծառայությունը մատուցողի անվանումը` Ջրօգտագործողների ընկերություններ
I17: Ջրամատակարարման ծավալ, մլն խմ | J17: ='3'!J16 -> -130.6
D18: 1004 - 31013 | E18: Փոքր և միջին ջրամբարների կառուցում | J18: 0
F19: Փոքր և միջին ջրամբարների կառուցման աշխատանքներ
G20: Պետական մարմինների կողմից օգտագործվող ոչ ֆինանսական ակտիվների հետ գործառնություններ
H21: Ակտիվն օգտագործող կազմակերպության(ների) անվանում(ները)՛ ՀՀ ՏԿԵՆ ջրային կոմիտե
I22: Կառուցվող ջրամբարների քանակ, հատ | J22: -5
D23: 1004 - 31014 | E23: Ջրամբարների վերականգնման և վերազինման աշխատանքներ | J23: 0
F24: Ջրամբարների վերականգնման և վերազինման համար նախագծերի և աշխատանքների ձեռքբերում
G25: Պետական մարմինների կողմից օգտագործվող ոչ ֆինանսական ակտիվների հետ գործառնություններ
H26: Ակտիվն օգտագործող կազմակերպության անվանումը` ՀՀ ՏԿԵՆ ջրային կոմիտե
I27: Նախագծանախահաշվային փաստաթղթեր, հատ | J27: -1
I28: Վերականգնվող ջրամբարներ, հատ | J28: -2
B29: 1017 | C29: Որոտան-Արփա-Սևան թունելի ջրային համակարգի կառավարում | J29: 0
D30: 1017 - 11001 | E30: Արփա-Սևան թունելի ընթացիկ շահագործում և պահպանում | J30: ='3'!J29 -> 0
F31: Որոտան-Արփա-Սևան թունելի շահագործման և պահպանման նպատակով ծառայությունների մատուցում
G32: Ծառայությունների մատուցում
H33: Ծառայությունը մատուցողի անվանումը` Մասնագիտացված կազմակերպություններ
I34: Տարվա ընթացքում Արփա-Սևան թունելով ջրի տեղափոխման օրերի քանակ | J34: 125
D35: 1017 - 21001 | E35: Արփա-Սևան ջրային համակարգի տեխնիկական վիճակի բարելավում | J35: 0
F36: Արփա-Սևան թունելի առանձին վթարային հատվածների վերականգնման աշխատանքներ
G37: Հանրության կողմից անմիջականորեն օգտագործվող ակտիվների հետ կապված միջոցառումներ
H38: Ակտիվն օգտագործող կազմակերպության(ների) անվանում(ները)` ՀՀ ՏԿԵՆ ջրային կոմիտե
I39: Երեսարկների վերակառուցում (մեկ համալիրի ճակատով՛ թունելի ՈՒՀ 189+90-ից մինչև ՈՒՀ 360+47), գծմ | J39: -126.3
B40: 1027 | C40: Կոլեկտորադրենաժային ծառայություններ | J40: =J41 -> 0
D41: 1027-11001 | E41: Կոլեկտորադրենաժային ցանցերի պահպանում և շահագործում | J41: ='1'!G20 -> 0
F42: Կոլեկտորադրենաժային ցանցերի պահպանում և շահագործում, գրունտային ջրերի մակարդակների և որակի որոշման աշխատանքներ
...
