Workbook
Name _tab10: #REF!
Name _tab11: #REF!
Name _tab12: #REF!
Name _tab13: #REF!
Name _tab14: #REF!
Name _tab15: #REF!
Name _tab16: #REF!
Name _tab17: #REF!
Name _tab18: #REF!
Name _tab19: #REF!
Name _tab20: #REF!
Name _tab21: #REF!
Name _tab22: #REF!
Name _tab23: #REF!
Name _tab24: #REF!
Name _tab5: #REF!
Name _tab6: #REF!
Name _tab7: #REF!
Name _tab8: #REF!
Name _tab9: #REF!
Name a: #REF!
Name a: #REF!
Name AgencyCode: #REF!
Name AgencyCode: #REF!
Name AgencyCode: #REF!
Name AgencyCode: #REF!
Name AgencyCode: #REF!
Name AgencyName: #REF!
Name AgencyName: #REF!
Name åû: #REF!
Name davit: #REF!
Name Functional1: #REF!
Name Functional1: #REF!
Name ggg: #REF!
Name hav: #REF!
Name havelvac: #REF!
Name HAVELVAC10: #REF!
Name mas: #REF!
Name mass: #REF!
Name PANature: #REF!
Name PANature: #REF!
Name par_count: #REF!,#REF!,#REF!,#REF!,#REF!,#REF!,#REF!,#REF!,#REF!,#REF!,#REF!,#REF!,#REF!,#REF!,#REF!
Name par_qual: #REF!,#REF!,#REF!,#REF!,#REF!
Name par_time: #REF!,#REF!,#REF!,#REF!
Name par2.12s: #REF!
Name par2.4s: #REF!,#REF!,#REF!,#REF!,#REF!,#REF!,#REF!,#REF!,#REF!,#REF!,#REF!,#REF!,#REF!,#REF!,#REF!,#REF!
Name par2.5s: #REF!,#REF!
Name par2.6s: #REF!,#REF!,#REF!,#REF!
Name par2.7s: #REF!,#REF!
Name par2.9s: #REF!,#REF!,#REF!,#REF!,#REF!,#REF!,#REF!,#REF!,#REF!,#REF!,#REF!,#REF!,#REF!,#REF!,#REF!,#REF!
Name par4.10s: #REF!,#REF!
Name par4.11d: #REF!,#REF!,#REF!,#REF!,#REF!
Name par4.12d: #REF!
Name par4.13s: #REF!
Name par4.14: #REF!,#REF!,#REF!,#REF!,#REF!,#REF!
Name par4.15: #REF!,#REF!,#REF!
Name par4.16: #REF!,#REF!,#REF!
Name par4.17: #REF!,#REF!,#REF!,#REF!
Name par4.18d: #REF!,#REF!
Name par4.19s: #REF!

Sheet Հավելված N 1
F1: Հավելված N 1
F2: ՀՀ կառավարության 2025 թվականի
F3: ______________ ի ___Ն որոշման
A6: «ՀԱՅԱUՏԱՆԻ ՀԱՆՐԱՊԵՏՈՒԹՅԱՆ 2025 ԹՎԱԿԱՆԻ ՊԵՏԱԿԱՆ ԲՅՈՒՋԵԻ ՄԱUԻՆ» ՀԱՅԱUՏԱՆԻ ՀԱՆՐԱՊԵՏՈՒԹՅԱՆ OՐԵՆՔԻ N 1 ՀԱՎԵԼՎԱԾԻ N 2 ԱՂՅՈՒՍԱԿՈՒՄ ԿԱՏԱՐՎՈՂ ՎԵՐԱԲԱՇԽՈՒՄԸ ԵՎ ՀԱՅԱՍՏԱՆԻ ՀԱՆՐԱՊԵՏՈՒԹՅԱՆ ԿԱՌԱՎԱՐՈՒԹՅԱՆ 2024 ԹՎԱԿԱՆԻ ԴԵԿՏԵՄԲԵՐԻ 27-Ի N 2060-Ն ՈՐՈՇՄԱՆ N 5 ՀԱՎԵԼՎԱԾԻ N 1 ԱՂՅՈՒՍԱԿՈՒՄ ԿԱՏԱՐՎՈՂ ՓՈՓՈԽՈՒԹՅՈՒՆՆԵՐԸ
G9: հազար դրամներով
A10: ԲԳԿ | B10: Ծրագրային դասիչը | D10: ԲԳԿ/Ծրագրի /միջոցառման անվանումը | E10: Ծրագրի նպատակը/Միջոցառման նկարագրությունը | F10: Վերջնական արդյունքի նկարագրությունը/Միջոցառման տեսակը | G10: Ցուցանիշների փոփոխությունը (ավելացումները նշված են դրական նշանով, իսկ նվազեցումները փակագծերում)
G11: Տարի
B12: Ծրագիր | C12: Միջոցառում
A13: ԸՆԴԱՄԵՆԸ | G13: =+G15 -> 0
A14: այդ թվում՝
A15: ՀՀ ԿՐԹՈՒԹՅԱՆ, ԳԻՏՈՒԹՅԱՆ, ՄՇԱԿՈՒՅԹԻ ԵՎ ՍՊՈՐՏԻ ՆԱԽԱՐԱՐՈՒԹՅՈՒՆ | G15: =SUM(G16) -> 0
B16: 1240 | D16: Ակադեմիական քաղաքի ստեղծում | E16: Որակյալ բարձրագույն կրթության և հետազոտության համար արդիական կրթական միջավայրի ապահովման կամպուսային կլաստերների համախումբ | F16: «ՀՀ կրթության մինչև 2030 թվականի զարգացման պետական ծրագիրը հաստատելու մասին» ՀՀ օրենքի համաձայն նախատեսված է ակադեմիական քաղաքի ստեղծում | G16: =SUM(G17:G18) -> 0
C17: 1240 - 11002 | D17: Ակադեմիական քաղաք ծրագրի իրականացման համար միջազգային խորհրդատվական ծառայությունների ձեռքբերում և պայմանագրերի սպասարկում | E17: Ակադեմիական քաղաք ծրագրի իրականացման համար միջազգային խորհրդատվական ծառայությունների ձեռքբերում և պայմանագրերի սպասարկում | F17: Ծառայությունների մատուցում | G17: 271000
C18: 1240 - 32001 | D18: Ակադեմիական քաղաքի նախագծման, կառուցման և բովանդակային գործընթացների ապահովում | E18: Չորս ակադեմիական կլաստերներից բաղկացած քաղաքի համապատասխան ենթակառուցվածքների ապահովման նպատակով նախագծանախահաշվային փաստաթղթերի կազմում և շինարարական աշխատանքների իրականացում | F18: Այլ պետական կազմակերպությունների կողմից օգտագործվող ոչ ֆինանսական ակտիվների հետ գործառնություններ | G18: -271000

Sheet Հավելված N 2
G1: Հավելված N 2
G2: ՀՀ կառավարության 2025 թվականի
G3: ______________ ի N ___Ն որոշման
A7: ՀԱՅԱՍՏԱՆԻ ՀԱՆՐԱՊԵՏՈՒԹՅԱՆ ԿԱՌԱՎԱՐՈՒԹՅԱՆ 2024 ԹՎԱԿԱՆԻ ԴԵԿՏԵՄԲԵՐԻ 27-Ի N 2060-Ն ՈՐՈՇՄԱՆ N 3 ԵՎ N 4 ՀԱՎԵԼՎԱԾՆԵՐՈՒՄ ԿԱՏԱՐՎՈՂ ՓՈՓՈԽՈՒԹՅՈՒՆՆԵՐԸ
G8: հազար դրամներով
A9: Գործառական դասիչը | D9: Ծրագրային դասիչը | F9: Բյուջետային հատկացումների գլխավոր կարգադրիչների, ծրագրերի, միջոցառումների և միջոցառումները կատարող պետական մարմինների անվանումները | G9: Ցուցանիշների փոփոխությունը (ավելացումները նշված են դրական նշանով, իսկ նվազեցումները փակագծերում)
A10: Բաժին | B10: Խումբ | C10: Դաս | D10: Ծրագիր | E10: Միջոցառում | G10: Տարի
F11: ԸՆԴԱՄԵՆԸ | G11: =+G13 -> 0
F12: այդ թվում՝
F13: ՀՀ ԿՐԹՈՒԹՅԱՆ, ԳԻՏՈՒԹՅԱՆ, ՄՇԱԿՈՒՅԹԻ ԵՎ ՍՊՈՐՏԻ ՆԱԽԱՐԱՐՈՒԹՅՈՒՆ | G13: =G14 -> 0
A14: 01 | F14: ԸՆԴՀԱՆՈՒՐ ԲՆՈՒՅԹԻ ՀԱՆՐԱՅԻՆ ԾԱՌԱՅՈՒԹՅՈՒՆՆԵՐ | G14: =+G16 -> 0
F15: այդ թվում`
B16: 04 | F16: Ընդհանուր բնույթի հետազոտական աշխատանք | G16: =+G18 -> 0
F17: այդ թվում`
C18: 01 | F18: Ընդհանուր բնույթի հետազոտական աշխատանք | G18: =+G20 -> 0
F19: այդ թվում`
F20: ՀՀ կրթության, գիտության, մշակույթի և սպորտի նախարարություն | G20: =+G22 -> 0
F21: այդ թվում`
D22: 1240 | E22: Ակադեմիական քաղաքի ստեղծում | G22: =G24+G33 -> 0
F23: այդ թվում`
E24: 11002 | F24: Ակադեմիական քաղաք ծրագրի իրականացման համար միջազգային խորհրդատվական ծառայությունների ձեռքբերում և պայմանագրերի սպասարկում | G24: =G26 -> 271000
F25: այդ թվում` ըստ կատարողների
F26: ՀՀ կրթության, գիտության, մշակույթի և սպորտի նախարարության բարձրագույն կրթության և գիտության կոմիտե | G26: =G28 -> 271000
F27: այդ թվում` բյուջետային ծախսերի տնտեսագիտական դասակարգման հոդվածներ
F28: ԸՆԴԱՄԵՆԸ ԾԱԽՍԵՐ | G28: =G29 -> 271000
F29: ԸՆԹԱՑԻԿ ԾԱԽՍԵՐ | G29: =G30 -> 271000
F30: ԾԱՌԱՅՈՒԹՅՈՒՆՆԵՐԻ ԵՎ ԱՊՐԱՆՔՆԵՐԻ ՁԵՌՔԲԵՐՈՒՄ | G30: =G31 -> 271000
F31: Պայմանագրային այլ ծառայությունների ձեռքբերում | G31: =G32 -> 271000
F32: - Ընդհանուր բնույթի այլ ծառայություններ | G32: ='Հավելված N 1'!G17 -> 271000
E33: 32001 | F33: Ակադեմիական քաղաքի նախագծման, կառուցման և բովանդակային գործընթացների ապահովում | G33: =G35 -> -271000
F34: այդ թվում` ըստ կատարողների
F35: ՀՀ կրթության, գիտության, մշակույթի և սպորտի նախարարության բարձրագույն կրթության և գիտության կոմիտե | G35: =G37 -> -271000
F36: այդ թվում` բյուջետային ծախսերի տնտեսագիտական դասակարգման հոդվածներ
F37: ԸՆԴԱՄԵՆԸ ԾԱԽՍԵՐ | G37: =G38 -> -271000
F38: ՈՉ ՖԻՆԱՆՍԱԿԱՆ ԱԿՏԻՎՆԵՐԻ ԳԾՈՎ ԾԱԽՍԵՐ | G38: =G39 -> -271000
F39: ՀԻՄՆԱԿԱՆ ՄԻՋՈՑՆԵՐ | G39: =G40 -> -271000
F40: ԱՅԼ ՀԻՄՆԱԿԱՆ ՄԻՋՈՑՆԵՐ | G40: =G41 -> -271000
F41: - Նախագծահետազոտական ծախսեր | G41: ='Հավելված N 1'!G18 -> -271000

Sheet Հավելված N 3
G1: Հավելված N 3
G2: ՀՀ կառավարության 2025 թվականի
G3: ______________ ի N ___Ն որոշման
A5: «ՀԱՅԱUՏԱՆԻ ՀԱՆՐԱՊԵՏՈՒԹՅԱՆ 2025 ԹՎԱԿԱՆԻ ՊԵՏԱԿԱՆ ԲՅՈՒՋԵԻ ՄԱUԻՆ» ՀԱՅԱUՏԱՆԻ ՀԱՆՐԱՊԵՏՈՒԹՅԱՆ OՐԵՆՔԻ N 1 ՀԱՎԵԼՎԱԾԻ N 3 ԱՂՅՈՒՍԱԿՈՒՄ ԿԱՏԱՐՎՈՂ ՓՈՓՈԽՈՒԹՅՈՒՆԸ
G8: հազար դրամներով
A9: Ծրագրային դասիչ | C9: Բյուջետային գլխավոր կարգադրիչների, ծրագրերի, միջոցառումների և ուղղությունների անվանումները | D9: Ընդամենը | E9: Ցուցանիշների փոփոխությունը (նվազեցումները նշված են փակագծերում)
A10: Ծրագիր | B10: Միջոցառում | E10: Կառուցման աշխատանքներ | F10: Վերակառուցման, վերանորոգման և վերականգնման աշխատանքներ | G10: Նախագծահե- տազոտական, գեոդեզիա- քարտեզագրական աշխատանքներ | H10: Ոչ ֆինանսական այլ ակտիվների ձեռքբերում
C11: ԸՆԴԱՄԵՆԸ | D11: =SUM(E11:H11) -> -271000 | E11: =+E13 -> 0 | F11: =+F13 -> 0 | G11: =+G13 -> -271000 | H11: =+H13 -> 0
C12: այդ թվում՝
C13: ՀՀ ԿՐԹՈՒԹՅԱՆ, ԳԻՏՈՒԹՅԱՆ, ՄՇԱԿՈՒՅԹԻ ԵՎ ՍՊՈՐՏԻ ՆԱԽԱՐԱՐՈՒԹՅՈՒՆ | D13: =SUM(D15) -> -271000 | E13: =SUM(E15) -> 0 | F13: =SUM(F15) -> 0 | G13: =SUM(G15) -> -271000 | H13: =SUM(H15) -> 0
C14: այդ թվում`
A15: 1240 | B15: 32001 | C15: Ակադեմիական քաղաքի նախագծման, կառուցման և բովանդակային գործընթացների ապահովում | D15: =SUM(E15:H15) -> -271000 | E15: 0 | F15: 0 | G15: ='Հավելված N 1'!G18 -> -271000 | H15: 0

Sheet Հավելված N 4
E1: Հավելված N 4
E2: ՀՀ կառավարության 2025 թվականի
E3: ______________ ի ___Ն որոշման
B6: ՀԱՅԱՍՏԱՆԻ ՀԱՆՐԱՊԵՏՈՒԹՅԱՆ ԿԱՌԱՎԱՐՈՒԹՅԱՆ 2024 ԹՎԱԿԱՆԻ ԴԵԿՏԵՄԲԵՐԻ 27-Ի N 2060-Ն ՈՐՈՇՄԱՆ N 5 ՀԱՎԵԼՎԱԾԻ N 2 ԱՂՅՈՒՍԱԿՈՒՄ ԿԱՏԱՐՎՈՂ ՓՈՓՈԽՈՒԹՅՈՒՆԸ
E7: հազար դրամներով
B8: Ծրագրային դասիչ | D8: Բյուջետային գլխավոր կարգադրիչների, ծրագրերի, միջոցառումների, միջոցառումները կատարող պետական մարմինների և ուղղությունների անվանումները | E8: Ցուցանիշների փոփոխությունը (նվազեցումները նշված են փակագծերում)
B9: Ծրագիր | C9: Միջոցառում | E9: Տարի
D10: ԸՆԴԱՄԵՆԸ | E10: =E12 -> -271000
D11: այդ թվում`
D12: ՀՀ ԿՐԹՈՒԹՅԱՆ, ԳԻՏՈՒԹՅԱՆ, ՄՇԱԿՈՒՅԹԻ ԵՎ ՍՊՈՐՏԻ ՆԱԽԱՐԱՐՈՒԹՅՈՒՆ | E12: =E14 -> -271000
D13: այդ թվում՝
B14: 1240 | C14: 32001 | D14: Ակադեմիական քաղաքի նախագծման, կառուցման և բովանդակային գործընթացների ապահովում | E14: =+E16 -> -271000
D15: այդ թվում` ըստ կատարողների
D16: ՀՀ կրթության, գիտության, մշակույթի և սպորտի նախարարության բարձրագույն կրթության և գիտության կոմիտե | E16: ='Հավելված N 1'!G18 -> -271000

Sheet Հավելված N 5
K1: Հավելված N 5
K2: ՀՀ կառավարության 2025 թվականի
K3: ______________ ի ___Ն որոշման
B6: ՀԱՅԱՍՏԱՆԻ ՀԱՆՐԱՊԵՏՈՒԹՅԱՆ ԿԱՌԱՎԱՐՈՒԹՅԱՆ 2024 ԹՎԱԿԱՆԻ ԴԵԿՏԵՄԲԵՐԻ 27-Ի N 2060-Ն ՈՐՈՇՄԱՆ N 9 ՀԱՎԵԼՎԱԾՈՒՄ ԿԱՏԱՐՎՈՂ ՓՈՓՈԽՈՒԹՅՈՒՆՆԵՐԸ
K8: հազար դրամներով
B9: ԲԳԿ | C9: Ծրագիր | E9: Միջոցառում | I9: Իրականացնողը/ ակտիվն օգտագործողը/ շահառուի ընտրության չափորոշիչը | J9: Արդյունքային չափորոշիչը | K9: Ցուցանիշների փոփոխությունը (ավելացումները նշված են դրական նշանով, իսկ նվազեցումները՝ փակագծերում)
C10: Դասիչը | D10: Անվանումը | E10: Դասիչը | F10: Անվանումը | G10: Նկարագրությունը | H10: Տեսակը | K10: Տարի
B11: ԸՆԴԱՄԵՆԸ | K11: =K13 -> 0
B12: այդ թվում՝
B13: ՀՀ կրթության, գիտության, մշակույթի և սպորտի նախարարություն | K13: =K14 -> 0
C14: 1240 | D14: Ակադեմիական քաղաքի ստեղծում | K14: =K15+K19 -> 0
E15: 1240 - 11002 | F15: Ակադեմիական քաղաք ծրագրի իրականացման համար միջազգային խորհրդատվական ծառայությունների ձեռքբերում և պայմանագրերի սպասարկում | K15: ='Հավելված N 1'!G17 -> 271000
G16: Ակադեմիական քաղաք ծրագրի իրականացման համար միջազգային խորհրդատվական ծառայությունների ձեռքբերում և պայմանագրերի սպասարկում
H17: Ծառայությունների մատուցում
I18: Ծառայությունը մատուցողի անվանումը` «Գնումների մասին» ՀՀ օրենքի համաձայն ընտրված կազմակերպություններ, մրցույթով ընտրված կազմակերպություններ, մասնագիտացված կազմակերպություններ
E19: 1240 - 32001 | F19: Ակադեմիական քաղաքի նախագծման, կառուցման և բովանդակային գործընթացների ապահովում | K19: ='Հավելված N 1'!G18 -> -271000
G20: Չորս ակադեմիական կլաստերներից բաղկացած քաղաքի համապատասխան ենթակառուցվածքների ապահովման նպատակով նախագծանախահաշվային փաստաթղթերի կազմում և շինարարական աշխատանքների իրականացում
H21: Այլ պետական կազմակերպությունների կողմից օգտագործվող ոչ ֆինանսական ակտիվների հետ գործառնություններ
I22: Ակտիվն օգտագործող կազմակերպության անվանումը` «Գնումների մասին» ՀՀ օրենքի համաձայն ընտրված կազմակերպություններ, մրցույթով ընտրված կազմակերպություններ, մասնագիտացված կազմակերպություններ

Sheet Հավելված N 6
K1: Հավելված N 6
K2: ՀՀ կառավարության 2025 թվականի
K3: ______________ ի ___Ն որոշման
B6: ՀԱՅԱՍՏԱՆԻ ՀԱՆՐԱՊԵՏՈՒԹՅԱՆ ԿԱՌԱՎԱՐՈՒԹՅԱՆ 2024 ԹՎԱԿԱՆԻ ԴԵԿՏԵՄԲԵՐԻ 27-Ի N 2060-Ն ՈՐՈՇՄԱՆ N 9.1 ՀԱՎԵԼՎԱԾՈՒՄ ԿԱՏԱՐՎՈՂ ՓՈՓՈԽՈՒԹՅՈՒՆՆԵՐԸ
K8: հազար դրամներով
B9: ԲՍԿ | C9: Ծրագիր | E9: Միջոցառում | I9: Իրականացնողը/ ակտիվն օգտագործողը/ շահառուի ընտրության չափորոշիչը | J9: Արդյունքային չափորոշիչը | K9: Ցուցանիշների փոփոխությունը (ավելացումները նշված են դրական նշանով, իսկ նվազեցումները՝ փակագծերում)
C10: Դասիչը | D10: Անվանումը | E10: Դասիչը | F10: Անվանումը | G10: Նկարագրությունը | H10: Տեսակը | K10: Տարի
B11: ԸՆԴԱՄԵՆԸ | K11: =K13 -> 0
B12: այդ թվում՝
B13: ՀՀ կրթության, գիտության, մշակույթի և սպորտի նախարարության բարձրագույն կրթության և գիտության կոմիտե | K13: =K14 -> 0
C14: 1240 | D14: Ակադեմիական քաղաքի ստեղծում | K14: =K15+K19 -> 0
E15: 1240 - 11002 | F15: Ակադեմիական քաղաք ծրագրի իրականացման համար միջազգային խորհրդատվական ծառայությունների ձեռքբերում և պայմանագրերի սպասարկում | K15: ='Հավելված N 1'!G17 -> 271000
G16: Ակադեմիական քաղաք ծրագրի իրականացման համար միջազգային խորհրդատվական ծառայությունների ձեռքբերում և պայմանագրերի սպասարկում
H17: Ծառայությունների մատուցում
I18: Ծառայությունը մատուցողի անվանումը` «Գնումների մասին» ՀՀ օրենքի համաձայն ընտրված կազմակերպություններ, մրցույթով ընտրված կազմակերպություններ, մասնագիտացված կազմակերպություններ
E19: 1240 - 32001 | F19: Ակադեմիական քաղաքի նախագծման, կառուցման և բովանդակային գործընթացների ապահովում | K19: ='Հավելված N 1'!G18 -> -271000
G20: Չորս ակադեմիական կլաստերներից բաղկացած քաղաքի համապատասխան ենթակառուցվածքների ապահովման նպատակով նախագծանախահաշվային փաստաթղթերի կազմում և շինարարական աշխատանքների իրականացում
H21: Այլ պետական կազմակերպությունների կողմից օգտագործվող ոչ ֆինանսական ակտիվների հետ գործառնություններ
I22: Ակտիվն օգտագործող կազմակերպության անվանումը` «Գնումների մասին» ՀՀ օրենքի համաձայն ընտրված կազմակերպություններ, մրցույթով ընտրված կազմակերպություններ, մասնագիտացված կազմակերպություններ

Sheet Հավելված N 7
G2: Հավելված N 7
G3: ՀՀ կառավարության 2025 թվականի
G4: ______________ ի ___Ն որոշման
A7: ՀԱՅԱՍՏԱՆԻ ՀԱՆՐԱՊԵՏՈՒԹՅԱՆ ԿԱՌԱՎԱՐՈՒԹՅԱՆ 2024 ԹՎԱԿԱՆԻ ԴԵԿՏԵՄԲԵՐԻ 27-Ի N 2060-Ն N 10 ՀԱՎԵԼՎԱԾՈՒՄ ԿԱՏԱՐՎՈՂ ՓՈՓՈԽՈՒԹՅՈՒՆՆԵՐԸ
A11: Կոդը | B11: Անվանումը | E11: Գնման ձևը | F11: Չափման միավորը | G11: Ցուցանիշների փոփոխությունը (նվազեցումները նշված են փակագծերում)
G12: Միավորի գինը | H12: Քանակը | I12: Գումարը (հազար դրամ)
A13: ՀՀ կրթության, գիտության, մշակույթի և սպորտի նախարարության բարձրագույն կրթության և գիտության կոմիտե | I13: =+I14 -> 0
A14: Բաժին N 01 | B14: Խումբ N 04 | C14: Դաս N 01 | D14: Ընդհանուր բնույթի հետազոտական աշխատանք | I14: =I15+I18 -> 0
A15: 1240 32001 | B15: Ակադեմիական քաղաքի նախագծման, կառուցման և բովանդակային գործընթացների ապահովում | I15: =I16 -> -271000
B16: ՄԱՍ III. ԾԱՌԱՅՈՒԹՅՈՒՆՆԵՐ | I16: =I17 -> -271000
A17: 71241200-2 | B17: նախագծերի պատրաստում, ծախսերի գնահատում | E17: ՄԱ | F17: դրամ | I17: ='Հավելված N 1'!G18 -> -271000
A18: 1240 11002 | B18: Ակադեմիական քաղաք ծրագրի իրականացման համար միջազգային խորհրդատվական ծառայությունների ձեռքբերում և պայմանագրերի սպասարկում | I18: =SUM(I19) -> 271000
B19: ՄԱՍ III. ԾԱՌԱՅՈՒԹՅՈՒՆՆԵՐ | I19: =SUM(I20) -> 271000
A20: 80211110 | B20: կրթության ոլորտին վերաբերող խորհրդատվական ծառայություններ | E20: ՄԱ | F20: դրամ | G20: 271000000 | H20: 1 | I20: =G20*H20/1000 -> 271000
