Workbook

Sheet 1
A1: Հավելված N 1
G2: ՀՀ կառավարության 2025 թվականի
G3: ______________ ի ___Ն որոշման
A5: «ՀԱՅԱUՏԱՆԻ ՀԱՆՐԱՊԵՏՈՒԹՅԱՆ 2025 ԹՎԱԿԱՆԻ ՊԵՏԱԿԱՆ ԲՅՈՒՋԵԻ ՄԱUԻՆ» OՐԵՆՔԻ N 1 ՀԱՎԵԼՎԱԾԻ N 2 ԱՂՅՈՒՍԱԿՈՒՄ ԿԱՏԱՐՎՈՂ ՎԵՐԱԲԱՇԽՈՒՄԸ, ՓՈՓՈԽՈՒԹՅՈՒՆՆԵՐԸ ԵՎ ԼՐԱՑՈՒՄՆԵՐԸ, ՀԱՅԱՍՏԱՆԻ ՀԱՆՐԱՊԵՏՈՒԹՅԱՆ ԿԱՌԱՎԱՐՈՒԹՅԱՆ 2024 ԹՎԱԿԱՆԻ ԴԵԿՏԵՄԲԵՐԻ 27-Ի N 2060-Ն ՈՐՈՇՄԱՆ N 5 ՀԱՎԵԼՎԱԾԻ N 1 ԱՂՅՈՒՍԱԿՈՒՄ ԿԱՏԱՐՎՈՂ ՓՈՓՈԽՈՒԹՅՈՒՆՆԵՐԸ ԵՎ ԼՐԱՑՈՒՄՆԵՐԸ
A7: ԲԳԿ | B7: Ծրագրային դասիչը | D7: ԲԳԿ/Ծրագրի /միջոցառման անվանումը | E7: Ծրագրի նպատակը/Միջոցառման նկարագրությունը | F7: Վերջնական արդյունքի նկարագրությունը/Միջոցառման տեսակը | G7: Ցուցանիշների փոփոխությունը (ավելացումները նշված են դրական նշանով, իսկ նվազեցումները՝ փակագծերում)
G8: Տարի
B9: Ծրագիր | C9: Միջոցառում
A10: ԸՆԴԱՄԵՆԸ | G10: =G11+G17+G21 -> 0
A11: ՀՀ տարածքային կառավարման և ենթակառուցվածքների նախարարություն | G11: =G12+G15 -> 0
B12: 1072 | D12: Ջրամատակարարաման և ջրահեռացման բարելավում | E12: Ջրամատակարարման ծառայությունների հասանելիության և մատչելիության ապահովում | F12: Խմելու ջրի մատակարարման և ջրահեռացման համակարգի բարելավում, կորուստների կրճատում | G12: =G13+G14 -> -1185750
C13: 1072 - 31008 | D13: Պարտադիր կապիտալ աշխատանքների ծրագրի շրջանակներում ջրամատակարարման և ջրահեռացման ենթակառուցվածքների հիմնանորոգում | E13: Մի շարք համայնքներում ջրամատակարարման և ջրահեռացման համակարգերի կառուցման և վերականգնման աշխատանքներ | F13: Պետական մարմինների կողմից օգտագործվող ոչ ֆինանսական ակտիվների հետ գործառնություններ | G13: ='3'!G20 -> 964552
C14: 1072 - 31010 | D14: Ջրամատակարարման և ջրահեռացման համակարգի հիմնանորոգում | E14: Ջրամատակարարման և ջրահեռացման համակարգի հիմնանորոգման նախագծերի և աշխատանքների ձեռքբերում | F14: Պետական մարմինների կողմից օգտագործվող ոչ ֆինանսական ակտիվների հետ գործառնություններ | G14: ='3'!G29 -> -2150302
B15: 1109 | D15: Ջրային տնտեսության ոլորտում ծրագրերի համակարգում և մոնիտորինգ | E15: Ջրային տնտեսության ոլորտում պետական արդյունավետ ծրագրերի մշակման և իրականացման ապահովում | F15: Ջրային տնտեսության ոլորտում իրականացվող ծրագրերի ազդեցության և արդյունավետության բարելավում | G15: =G16 -> 1185750
C16: 1109-11005 | D16: Ավարտվող շինարարական օբյեկտների ավարտական ակտերի և շահագործման թույլտվություններ ստանալու համար տեղական տուրքի վճարների ապահովում | E16: Ջրային կոմիտեի կողմից իրականացվող ավարտվող շինարարական օբյեկտների օբյեկտների շահագործման թույլտվությունը և ավարտական ակտը ստանալու համար տեղական տուրքի վճարների ապահովում | F16: Ծառայությունների մատուցում | G16: ='3'!G48 -> 1185750
A17: ՀՀ կրթության, գիտության, մշակույթի և սպորտի նախարարություն | G17: =+G18 -> 0
B18: 1236 | D18: Հանրակրթական և նախադպրոցական հաստատությունների հիմնում, կառուցում, բարելավում | E18: Առնվազն 300 դպրոցի և 500 մանկապարտեզի կառուցման, վերակառուցման, հիմնանորոգման ծրագրերի իրականացում ՀՀ պետական բյուջեի միջոցների շրջանակներում | F18: Կրթական միջավայրի բարելավում | G18: =+G19+G20 -> 0
C19: 1236 - 32001 | D19: Մանկապարտեզների նոր շենքերի կառուցում | E19: Նախադպրոցական կրթության հասանելիության ապահովման նպատակով՛ մանկապարտեզների հիմնում, նոր շենքերի (մասնաշենքերի), ներառյալ՛ ,Մոդուլայինե տիպի շենքերի կառուցում և նախագծում | F19: Այլ պետական կազմակերպությունների կողմից օգտագործվող ոչ ֆինանսական ակտիվների հետ գործառնություններ | G19: =+'3'!G95 -> -79764.8
C20: 1236 - 32002 | D20: Մանկապարտեզների շենքերի վերակառուցում, հիմնանորոգում | E20: Նախադպրոցական կրթության հասանելիության ապահովման նպատակով՛ մանկապարտեզների շենքերի (մասնաշենքերի), վերակառուցում, հիմնանորոգում և նախագծում | F20: Այլ պետական կազմակերպությունների կողմից օգտագործվող ոչ ֆինանսական ակտիվների հետ գործառնություններ | G20: =+'3'!G104 -> 79764.8
A21: ՀՀ կառավարություն | G21: =G22 -> 0
B22: 1139 | D22: ՀՀ կառավարության պահուստային ֆոնդ | E22: Պետական բյուջեում չկանխատեսված, ինչպես նաեւ բյուջետային երաշխիքների ապահովման ծախսերի ֆինանսավորման ապահովում | F22: Պահուստային ֆոնդի կառավարման արդյունավետության և թափանցիկության ապահովում | G22: =G23+G24 -> 0
C23: 1139 - 11001 | D23: ՀՀ կառավարության պահուստային ֆոնդ | E23: ՀՀ պետական բյուջեում նախատեսված ելքերի լրացուցիչ ֆինանսավորման, պետական բյուջեում չկանխատեսված ելքերի, ինչպես նաև բյուջետային երաշխիքների ապահովման ելքերի ֆինանսավորման ապահովում | F23: Ծառայությունների մատուցում | G23: ='3'!G68 -> 2150302
C24: 1139 - 11001 | D24: ՀՀ կառավարության պահուստային ֆոնդ | E24: ՀՀ պետական բյուջեում նախատեսված ելքերի լրացուցիչ ֆինանսավորման, պետական բյուջեում չկանխատեսված ելքերի, ինչպես նաև բյուջետային երաշխիքների ապահովման ելքերի ֆինանսավորման ապահովում | F24: Ծառայությունների մատուցում | G24: ='3'!G76 -> -2150302

Sheet 2
A1: Հավելված N 2
A2: ՀՀ կառավարության 2025 թվականի
A3: -ի N -Ն որոշման
A4: «ՀԱՅԱՍՏԱՆԻ ՀԱՆՐԱՊԵՏՈՒԹՅԱՆ 2025 ԹՎԱԿԱՆԻ ՊԵՏԱԿԱՆ ԲՅՈՒՋԵԻ ՄԱՍԻՆ» ՀԱՅԱՍՏԱՆԻ ՀԱՆՐԱՊԵՏՈՒԹՅԱՆ ՕՐԵՆՔԻ N 1 ՀԱՎԵԼՎԱԾԻ N 3 ԱՂՅՈՒՍԱԿՈՒՄ ԿԱՏԱՐՎՈՂ ՓՈՓՈԽՈՒԹՅՈՒՆՆԵՐԸ ԵՎ ԼՐԱՑՈՒՄՆԵՐԸ
G5: հազար դրամներով
A6: Ծրագրային դասիչ | C6: Բյուջետային գլխավոր կարգադրիչների, ծրագրերի, միջոցառումների և ուղղությունների անվանումները | D6: Ցուցանիշների փոփոխությունը (ավելացումները նշված են դրական նշանով, իսկ նվազեցումները՝ փակագծերում)
D7: Ընդամենը, | E7: այդ թվում՝
A8: Ծրագիր | B8: Միջոցառում | E8: Կառուցման աշխատանքներ | F8: Վերակառուցման, վերանորոգման և վերականգնման աշխատանքներ | G8: Նախագծահե- տազոտական, գեոդեզիա- քարտեզագրա- կան աշխա- տանքներ | H8: Ոչ ֆինանսական այլ ակտիվների ձեռքբերում
C9: ԸՆԴԱՄԵՆԸ | D9: =SUM(E9:H9) -> -1265514.8 | E9: =E11+E38 -> 219499.6 | F9: =F11+F38 -> -1485014.4 | G9: =G11+G38 -> 0 | H9: =H11+H38 -> 0
C10: այդ թվում՝
C11: ՀՀ ՏԱՐԱԾՔԱՅԻՆ ԿԱՌԱՎԱՐՄԱՆ ԵՎ ԵՆԹԱԿԱՌՈՒՑՎԱԾՔՆԵՐԻ ՆԱԽԱՐԱՐՈՒԹՅՈՒՆ | D11: =SUM(E11:H11) -> -1185750 | E11: =E13+E28 -> 299264.4 | F11: =F13+F28 -> -1485014.4 | G11: =G13+G28 -> 0 | H11: =H13+H28 -> 0
C12: այդ թվում`
A13: 1072 | B13: 31008 | C13: Պարտադիր կապիտալ աշխատանքների ծրագրի շրջանակներում ջրամատակարարման և ջրահեռացման ենթակառուցվածքների հիմնանորոգում | D13: =SUM(E13:H13) -> 964552 | E13: =SUM(E15:E27) -> 0 | F13: =SUM(F15:F27) -> 964552 | G13: =SUM(G15:G27) -> 0 | H13: =SUM(H15:H27) -> 0
C14: այդ թվում՝
C15: Նուբարաշեն թաղամասի ջրամատակարարման 1-ին գոտու բաշխիչ ցանցի վերակառուցում, գոտիավորում | D15: =SUM(E15:H15) -> 66775 | F15: ='8 '!G13+'8 '!G27 -> 66775
C16: Նուբարաշեն թաղամասի ջրամատակարարման 2-րդ գոտու բաշխիչ ցանցի վերակառուցում, գոտիավորում | D16: =SUM(E16:H16) -> 87569 | F16: ='8 '!G14+'8 '!G28 -> 87569
C17: Նուբարաշեն թաղամասի ջրամատակարարման 3-րդ գոտու բաշխիչ ցանցի վերակառուցում, գոտիավորում | D17: =SUM(E17:H17) -> 102227 | F17: ='8 '!G15+'8 '!G29 -> 102227
C18: Նուբարաշեն թաղամասի ջրամատակարարման 4-րդ գոտու բաշխիչ ցանցի վերակառուցում, գոտիավորում | D18: =SUM(E18:H18) -> 58263 | F18: ='8 '!G16+'8 '!G30 -> 58263
C19: Աջափնյակ վարչական շրջան, Շինարարների, Պարսեղով, Եղիազարյան և հարակից փողոցների ջրամատակարարման բաշխիչ ցանցի բարելավում, փաթեթ-1 | D19: =SUM(E19:H19) -> 86478 | F19: ='8 '!G17+'8 '!G31 -> 86478
C20: ք․ Երևան, Աջափնյակ վարչական շրջանի Ջանիբեկյան, Բաշինջաղյան, Սիսակյան, Վշտունի և հարակից փողոցների ջրամատակարարման բաշխիչ ցանցի բարելավում, փաթեթ-2 | D20: =SUM(E20:H20) -> 118477 | F20: ='8 '!G18+'8 '!G32 -> 118477
C21: Աջափնյակ վարչական շրջանի ջրամատակարարման ցանցի վերակառուցում (գոտի - 3) | D21: =SUM(E21:H21) -> 90817 | F21: ='8 '!G19+'8 '!G33 -> 90817
C22: Պռոշյան-Դեմիրճյան-Բաղրամյան փողոցներով պարփակված հատվածի բաշխիչ ցանցի վերակառուցում | D22: =SUM(E22:H22) -> 43378 | F22: ='8 '!G20+'8 '!G34 -> 43378
C23: Կոնդ թաղամասի և Պարոնյան, Ձորափի փողոցների բաշխիչ ցանցի վերակառուցում | D23: =SUM(E23:H23) -> 106873 | F23: ='8 '!G21+'8 '!G35 -> 106873
C24: Մալաթիա-Սեբաստիա վարչական շրջանի ջրամատակարարման ցանցի բարելավում | D24: =SUM(E24:H24) -> 101058 | F24: ='8 '!G22+'8 '!G36 -> 101058
C25: ՀՀ Լոռու մարզի ք․ Ալավերդի Սարահարթ թաղամասի բաշխիչ ցանցի վերակառուցում | D25: =SUM(E25:H25) -> 25810 | F25: ='8 '!G23+'8 '!G37 -> 25810
C26: Արմավիրի մարզի Ակնալիճ գյուղի բաշխիչ ցանցի վերակառուցում | D26: =SUM(E26:H26) -> 26040 | F26: ='8 '!G24+'8 '!G38 -> 26040
C27: Աշտարակ քաղքի Մ․ Մաշտոցի, Լինչի, Հ․ Թումանյան, Թամազյան, Գրիբոյեդովի փողոցների և հարակից նրբանցքների ջրամատակարարման բաշխիչ ցանցի վերակառուցում | D27: =SUM(E27:H27) -> 50787 | F27: ='8 '!G25+'8 '!G39 -> 50787
A28: 1072 | B28: 31010 | C28: Ջրամատակարարման և ջրահեռացման համակարգի հիմնանորոգում | D28: =SUM(E28:H28) -> -2150302 | E28: =SUM(E30:E37) -> 299264.4 | F28: =SUM(F30:F37) -> -2449566.4 | G28: =SUM(G30:G37) -> 0 | H28: =SUM(H30:H37) -> 0
C29: այդ թվում՝
C30: Մալաթիա-Սեբաստիա վարչական շրջանում / Միքայելյան փողոց հ.2-ից հ.28 հասցե / կոյուղագծի կառուցման աշխատանքներ | D30: =SUM(E30:H30) -> 23063 | E30: 23063
C31: Մալաթիա-Սեբաստիա վարչական շրջանում / Մալաթիա փողոց հ.68 տնից մինչև Սվաճյան փողոց Ա-3 թաղամասի հ.27 շենք / կոյուղագծի կառուցման աշխատանքներ | D31: =SUM(E31:H31) -> 27040.8 | E31: 27040.8
C32: Մալաթիա-Սեբաստիա վարչական շրջանում / Վեգների փողոց (Շահումյան 13-րդ)՝ Մելիքյան փողոցից Օհանովի փողոցով մինչև Անդրանիկ-Օհանով փողոցների խաչմերուկ / կոյուղագծի կառուցման աշխատանքներ | D32: =SUM(E32:H32) -> 54478.1 | E32: 54478.1
C33: Մալաթիա-Սեբաստիա վարչական շրջանում / Շահումյան 14-րդ փողոց / կոյուղագծի կառուցման աշխատանքներ | D33: =SUM(E33:H33) -> 12171.3 | E33: 12171.3
C34: Մալաթիա-Սեբաստիա վարչական շրջանում / Հաղթանակ թաղամասի 2-րդ փողոց / կոյուղագծի կառուցման աշխատանքներ | D34: =SUM(E34:H34) -> 26401.8 | E34: 26401.8
C35: Էրեբունի վարչական շրջանում / Մուշական թաղամաս / կոյուղագծի կառուցման աշխատանքներ | D35: =SUM(E35:H35) -> 156109.4 | E35: 156109.4
C36: Ավան վարչական շրջանում / Դուրյան թաղամաս հ.31 շենքից հ.33 շենք / կոյուղագծի վերակառուցման աշխատանքներ | D36: =SUM(E36:H36) -> 7968.2 | F36: 7968.2
C37: Չբաշխված | D37: =SUM(E37:H37) -> -2457534.6 | E37: 0 | F37: =-F13-'3'!G55-E28-F36 -> -2457534.6
C38: ՀՀ ԿՐԹՈՒԹՅԱՆ, ԳԻՏՈՒԹՅԱՆ, ՄՇԱԿՈՒՅԹԻ ԵՎ ՍՊՈՐՏԻ ՆԱԽԱՐԱՐՈՒԹՅՈՒՆ | D38: =SUM(E38:H38) -> -79764.8 | E38: =+E40 -> -79764.8 | F38: =+F40 -> 0 | G38: =+G40 -> 0 | H38: =+H40 -> 0
C39: այդ թվում`
A40: 1236 | B40: 32001 | C40: Մանկապարտեզների նոր շենքերի կառուցում | D40: =SUM(E40:H40) -> -79764.8 | E40: =+E42 -> -79764.8 | F40: =+F42 -> 0 | G40: =+G42 -> 0 | H40: =+H42 -> 0
...

Sheet 3
A1: Հավելված N 3
A2: ՀՀ կառավարության 2025 թվականի
A3: -ի N -Ն որոշման
A4: ՀԱՅԱՍՏԱՆԻ ՀԱՆՐԱՊԵՏՈՒԹՅԱՆ ԿԱՌԱՎԱՐՈՒԹՅԱՆ 2024 ԹՎԱԿԱՆԻ ԴԵԿՏԵՄԲԵՐԻ 27-Ի N 2060-Ն ՈՐՈՇՄԱՆ N 3 ԵՎ N 4 ՀԱՎԵԼՎԱԾՆԵՐՈՒՄ ԿԱՏԱՐՎՈՂ ՓՈՓՈԽՈՒԹՅՈՒՆՆԵՐԸ ԵՎ ԼՐԱՑՈՒՄՆԵՐԸ
A6: Գործառական դասիչը | D6: Ծրագրային դասիչը | F6: Բյուջետային ծախսերի գործառական դասակարգման բաժինների, խմբերի և դասերի, բյուջետային ծրագրերի միջոցառումների, բյուջետային հատկացումների գլխավոր կարգադրիչների անվանումները | G6: Ցուցանիշների փոփոխությունը (ավելացումները նշված են դրական նշանով, իսկ նվազեցումները՝ փակագծերում)
A7: Բաժին | B7: Խումբ | C7: Դաս | D7: Ծրագիր | E7: Միջոցառում | G7: Տարի
F8: ԸՆԴԱՄԵՆԸ ԾԱԽՍԵՐ | G8: =G10+G56+G84 -> 0
F9: այդ թվում`
F10: ՀՀ տարածքային կառավարման և ենթակառուցվածքների նախարարություն | G10: =G12 -> 0
F11: այդ թվում`
A12: 06 | F12: ԲՆԱԿԱՐԱՆԱՅԻՆ ՇԻՆԱՐԱՐՈՒԹՅՈՒՆ ԵՎ ԿՈՄՈՒՆԱԼ ԾԱՌԱՅՈՒԹՅՈՒՆՆԵՐ | G12: =G14 -> 0
F13: այդ թվում`
B14: 03 | F14: Ջրամատակարարում | G14: =G16 -> 0
F15: այդ թվում`
C16: 01 | F16: Ջրամատակարարում | G16: =G18+G46 -> 0
F17: այդ թվում`
D18: 1072 | F18: Ջրամատակարարաման և ջրահեռացման բարելավում | G18: =G20+G29 -> -1185750
F19: այդ թվում`
E20: 31008 | F20: Պարտադիր կապիտալ աշխատանքների ծրագրի շրջանակներում ջրամատակարարման և ջրահեռացման ենթակառուցվածքների հիմնանորոգում | G20: =G22 -> 964552
F21: այդ թվում` ըստ կատարողների
F22: ՀՀ տարածքային կառավարման և ենթակառուցվածքների նախարարության ջրային կոմիտե | G22: =G24 -> 964552
F23: այդ թվում` բյուջետային ծախսերի տնտեսագիտական դասակարգման հոդվածներ
F24: ԸՆԴԱՄԵՆԸ ԾԱԽՍԵՐ | G24: =G25 -> 964552
F25: ՈՉ ՖԻՆԱՆՍԱԿԱՆ ԱԿՏԻՎՆԵՐԻ ԳԾՈՎ ԾԱԽՍԵՐ | G25: =G26 -> 964552
F26: ՀԻՄՆԱԿԱՆ ՄԻՋՈՑՆԵՐ | G26: =G27 -> 964552
F27: ՇԵՆՔԵՐ ԵՎ ՇԻՆՈՒԹՅՈՒՆՆԵՐ | G27: =G28 -> 964552
F28: - Շենքերի և շինությունների կապիտալ վերանորոգում | G28: ='2'!D13 -> 964552
E29: 31010 | F29: Ջրամատակարարման և ջրահեռացման համակարգի հիմնանորոգում | G29: =G31+G39 -> -2150302
F30: այդ թվում` ըստ կատարողների
F31: ՀՀ տարածքային կառավարման և ենթակառուցվածքների նախարարության | G31: =G33 -> 307232.6
F32: այդ թվում` բյուջետային ծախսերի տնտեսագիտական դասակարգման հոդվածներ
F33: ԸՆԴԱՄԵՆԸ ԾԱԽՍԵՐ | G33: =G34 -> 307232.6
F34: ՈՉ ՖԻՆԱՆՍԱԿԱՆ ԱԿՏԻՎՆԵՐԻ ԳԾՈՎ ԾԱԽՍԵՐ | G34: =G35 -> 307232.6
F35: ՀԻՄՆԱԿԱՆ ՄԻՋՈՑՆԵՐ | G35: =G36 -> 307232.6
F36: ՇԵՆՔԵՐ ԵՎ ՇԻՆՈՒԹՅՈՒՆՆԵՐ | G36: =G37+G38 -> 307232.6
F37: - Շենքերի և շինությունների շինարարություն | G37: ='2'!E28 -> 299264.4
F38: - Շենքերի և շինությունների կապիտալ վերանորոգում | G38: ='2'!F36 -> 7968.2
F39: ՀՀ կառավարություն | G39: =G41 -> -2457534.6
F40: այդ թվում` բյուջետային ծախսերի տնտեսագիտական դասակարգման հոդվածներ
F41: ԸՆԴԱՄԵՆԸ ԾԱԽՍԵՐ | G41: =G42 -> -2457534.6
...

Sheet 4
A1: Հավելված N 4
A2: ՀՀ կառավարության 2025 թվականի
A3: -ի N -Ն որոշման
A4: ՀԱՅԱՍՏԱՆԻ ՀԱՆՐԱՊԵՏՈՒԹՅԱՆ ԿԱՌԱՎԱՐՈՒԹՅԱՆ 2024 ԹՎԱԿԱՆԻ ԴԵԿՏԵՄԲԵՐԻ 27-Ի N 2060-Ն ՈՐՈՇՄԱՆ N 5 ՀԱՎԵԼՎԱԾԻ N 2 ԱՂՅՈՒՍԱԿՈՒՄ ԿԱՏԱՐՎՈՂ ՓՈՓՈԽՈՒԹՅՈՒՆՆԵՐԸ ԵՎ ԼՐԱՑՈՒՄՆԵՐԸ
A6: հազար դրամներով
A7: Ծրագրային դասիչ | C7: Բյուջետային գլխավոր կարգադրիչների, ծրագրերի, միջոցառումների և ուղղությունների անվանումները | D7: Ցուցանիշների փոփոխությունը (ավելացումները նշված են դրական նշանով, իսկ նվազեցումները` փակագծերում)
D8: Տարի
A9: Ծրագիր | B9: Միջոց առում
C10: ԸՆԴԱՄԵՆԸ | D10: =D12+D46 -> -1265514.8
C11: այդ թվում`
C12: ՀՀ տարածքային կառավարման և ենթակառուցվածքների նախարարություն | D12: =D14+D31 -> -1185750
C13: այդ թվում՛
A14: 1072 | B14: 31008 | C14: Պարտադիր կապիտալ աշխատանքների ծրագրի շրջանակներում ջրամատակարարման և ջրահեռացման ենթակառուցվածքների հիմնանորոգում | D14: =D16 -> 964552
C15: այդ թվում` ըստ կատարողների
C16: ՀՀ տարածքային կառավարման և ենթակառուցվածքների նախարարության ջրային կոմիտե | D16: =SUM(D18:D30) -> 964552
C17: այդ թվում՝ ըստ ուղղությունների
C18: ='2'!C15 -> Նուբարաշեն թաղամասի ջրամատակարարման 1-ին գոտու բաշխիչ ցանցի վերակառուցում, գոտիավորում | D18: ='2'!F15 -> 66775
C19: ='2'!C16 -> Նուբարաշեն թաղամասի ջրամատակարարման 2-րդ գոտու բաշխիչ ցանցի վերակառուցում, գոտիավորում | D19: ='2'!F16 -> 87569
C20: ='2'!C17 -> Նուբարաշեն թաղամասի ջրամատակարարման 3-րդ գոտու բաշխիչ ցանցի վերակառուցում, գոտիավորում | D20: ='2'!F17 -> 102227
C21: ='2'!C18 -> Նուբարաշեն թաղամասի ջրամատակարարման 4-րդ գոտու բաշխիչ ցանցի վերակառուցում, գոտիավորում | D21: ='2'!F18 -> 58263
C22: ='2'!C19 -> Աջափնյակ վարչական շրջան, Շինարարների, Պարսեղով, Եղիազարյան և հարակից փողոցների ջրամատակարարման բաշխիչ ցանցի բարելավում, փաթեթ-1 | D22: ='2'!F19 -> 86478
C23: ='2'!C20 -> ք․ Երևան, Աջափնյակ վարչական շրջանի Ջանիբեկյան, Բաշինջաղյան, Սիսակյան, Վշտունի և հարակից փողոցների ջրամատակարարման բաշխիչ ցանցի բարելավում, փաթեթ-2 | D23: ='2'!F20 -> 118477
C24: ='2'!C21 -> Աջափնյակ վարչական շրջանի ջրամատակարարման ցանցի վերակառուցում (գոտի - 3) | D24: ='2'!F21 -> 90817
C25: ='2'!C22 -> Պռոշյան-Դեմիրճյան-Բաղրամյան փողոցներով պարփակված հատվածի բաշխիչ ցանցի վերակառուցում | D25: ='2'!F22 -> 43378
C26: ='2'!C23 -> Կոնդ թաղամասի և Պարոնյան, Ձորափի փողոցների բաշխիչ ցանցի վերակառուցում | D26: ='2'!F23 -> 106873
C27: ='2'!C24 -> Մալաթիա-Սեբաստիա վարչական շրջանի ջրամատակարարման ցանցի բարելավում | D27: ='2'!F24 -> 101058
C28: ='2'!C25 -> ՀՀ Լոռու մարզի ք․ Ալավերդի Սարահարթ թաղամասի բաշխիչ ցանցի վերակառուցում | D28: ='2'!F25 -> 25810
C29: ='2'!C26 -> Արմավիրի մարզի Ակնալիճ գյուղի բաշխիչ ցանցի վերակառուցում | D29: ='2'!F26 -> 26040
C30: ='2'!C27 -> Աշտարակ քաղքի Մ․ Մաշտոցի, Լինչի, Հ․ Թումանյան, Թամազյան, Գրիբոյեդովի փողոցների և հարակից նրբանցքների ջրամատակարարման բաշխիչ ցանցի վերակառուցում | D30: ='2'!F27 -> 50787
A31: 1072 | B31: 31010 | C31: Ջրամատակարարման և ջրահեռացման համակարգի հիմնանորոգում | D31: =D33+D43 -> -2150302
C32: այդ թվում` ըստ կատարողների
C33: ՀՀ տարածքային կառավարման և ենթակառուցվածքների նախարարություն | D33: =SUM(D35:D41) -> 307232.6
C34: այդ թվում՝ ըստ ուղղությունների
C35: Մալաթիա-Սեբաստիա վարչական շրջանում / Միքայելյան փողոց հ.2-ից հ.28 հասցե / կոյուղագծի կառուցման աշխատանքներ | D35: ='2'!D30 -> 23063
C36: Մալաթիա-Սեբաստիա վարչական շրջանում / Մալաթիա փողոց հ.68 տնից մինչև Սվաճյան փողոց Ա-3 թաղամասի հ.27 շենք / կոյուղագծի կառուցման աշխատանքներ | D36: ='2'!D31 -> 27040.8
C37: Մալաթիա-Սեբաստիա վարչական շրջանում / Վեգների փողոց (Շահումյան 13-րդ)՝ Մելիքյան փողոցից Օհանովի փողոցով մինչև Անդրանիկ-Օհանով փողոցների խաչմերուկ / կոյուղագծի կառուցման աշխատանքներ | D37: ='2'!D32 -> 54478.1
C38: Մալաթիա-Սեբաստիա վարչական շրջանում / Շահումյան 14-րդ փողոց / կոյուղագծի կառուցման աշխատանքներ | D38: ='2'!D33 -> 12171.3
C39: Մալաթիա-Սեբաստիա վարչական շրջանում / Հաղթանակ թաղամասի 2-րդ փողոց / կոյուղագծի կառուցման աշխատանքներ | D39: ='2'!D34 -> 26401.8
C40: Էրեբունի վարչական շրջանում / Մուշական թաղամաս / կոյուղագծի կառուցման աշխատանքներ | D40: ='2'!D35 -> 156109.4
C41: Ավան վարչական շրջանում / Դուրյան թաղամաս հ.31 շենքից հ.33 շենք / կոյուղագծի վերակառուցման աշխատանքներ | D41: ='2'!D36 -> 7968.2
...

Sheet 5
A1: Հավելված N 5
A2: ՀՀ կառավարության 2025 թվականի
A3: -ի N -Ն որոշման
A4: ՀԱՅԱՍՏԱՆԻ ՀԱՆՐԱՊԵՏՈՒԹՅԱՆ ԿԱՌԱՎԱՐՈՒԹՅԱՆ 2024 ԹՎԱԿԱՆԻ ԴԵԿՏԵՄԲԵՐԻ 27-Ի N 2060-Ն ՈՐՈՇՄԱՆ N 8 ՀԱՎԵԼՎԱԾՈՒՄ ԿԱՏԱՐՎՈՂ ՓՈՓՈԽՈՒԹՅՈՒՆԸ
D5: հազար դրամներով
A6: Ծրագրային դասիչը | C6: Ծրագրերի, միջոցառումների անվանումները | D6: Ցուցանիշների փոփոխությունը (ավելացումները նշված են դրական նշանով)
A7: Ծրագիր | B7: Միջոցառում
C8: ԸՆԴԱՄԵՆԸ ԾԱԽՍԵՐ | D8: =+D10 -> 307232.6
C9: այդ թվում՝
A10: 1072 | C10: Ջրամատակարարաման և ջրահեռացման բարելավում | D10: =+D11 -> 307232.6
B11: 31010 | C11: Ջրամատակարարման և ջրահեռացման համակարգի հիմնանորոգում | D11: ='2'!E28+'2'!F36 -> 307232.6

Sheet 6
A1: Հավելված N 6
A2: ՀՀ կառավարության 2025 թվականի
A3: -ի N -Ն որոշման
A5: ՀԱՅԱՍՏԱՆԻ ՀԱՆՐԱՊԵՏՈՒԹՅԱՆ ԿԱՌԱՎԱՐՈՒԹՅԱՆ 2024 ԹՎԱԿԱՆԻ ԴԵԿՏԵՄԲԵՐԻ 27-Ի N 2060-Ն ՈՐՈՇՄԱՆ N 9 ՀԱՎԵԼՎԱԾՈՒՄ ԿԱՏԱՐՎՈՂ ՓՈՓՈԽՈՒԹՅՈՒՆՆԵՐԸ ԵՎ ԼՐԱՑՈՒՄՆԵՐԸ
A7: ԲԳԿ | B7: Ծրագիր | D7: Միջոցառում | H7: Իրականացնողը/ ակտիվն օգտագործողը/ շահառուի ընտրության չափորոշիչը | I7: Արդյունքային չափորոշիչը | J7: Ցուցանիշների փոփոխությունը (ավելացումները նշված են դրական նշանով, իսկ նվազեցումները՝ փակագծերում)
B8: Դասիչը | C8: Անվա-նումը | D8: Դասիչը | E8: Անվա-նումը | F8: Նկարագրու-թյունը | G8: Տեսակը | J8: Տարի
A9: ԸՆԴԱՄԵՆԸ | J9: =J10+J27+J38 -> 0
A10: ՀՀ տարածքային կառավարման և ենթակառուցվածքների նախարարություն | J10: =J11+J21 -> 0
B11: 1072 | C11: Ջրամատակարարաման և ջրահեռացման բարելավում | J11: =J12+J17 -> -1185750
D12: 1072 - 31008 | E12: Պարտադիր կապիտալ աշխատանքների ծրագրի շրջանակներում ջրամատակարարման և ջրահեռացման ենթակառուցվածքների հիմնանորոգում | J12: ='1'!G13 -> 964552
F13: Մի շարք համայնքներում ջրամատակարարման և ջրահեռացման համակարգերի կառուցման և վերականգնման աշխատանքներ
G14: Պետական մարմինների կողմից օգտագործվող ոչ ֆինանսական ակտիվների հետ գործառնություններ
H15: Ակտիվն օգտագործող կազմակերպության(ների) անվանում(ները)՛ ՀՀ ՏԿԵՆ ջրային կոմիտե
I16: Վերակառուցվող օբյեկտներ, հատ | J16: 13
D17: 1072 - 31010 | E17: Ջրամատակարարման և ջրահեռացման համակարգի հիմնանորոգում | J17: ='1'!G14 -> -2150302
F18: Ջրամատակարարման և ջրահեռացման համակարգի հիմնանորոգման նախագծերի և աշխատանքների ձեռքբերում
G19: Պետական մարմինների կողմից օգտագործվող ոչ ֆինանսական ակտիվների հետ գործառնություններ
H20: Ակտիվն օգտագործող կազմակերպության(ների) անվանում(ները)՛ ՀՀ ՏԿԵՆ ջրային կոմիտե
B21: 1109 | C21: Ջրային տնտեսության ոլորտում ծրագրերի համակարգում և մոնիտորինգ | J21: =J22 -> 1185750
D22: 1109-11005 | E22: Ավարտվող շինարարական օբյեկտների ավարտական ակտերի և շահագործման թույլտվություններ ստանալու համար տեղական տուրքի վճարների ապահովում | J22: ='1'!G16 -> 1185750
F23: Ջրային կոմիտեի կողմից իրականացվող ավարտվող շինարարական օբյեկտների օբյեկտների շահագործման թույլտվությունը և ավարտական ակտը ստանալու համար տեղական տուրքի վճարների ապահովում
G24: Ծառայությունների մատուցում
H25: Ծառայությունը մատուցողի անվանումը` Մասնագիտացված կազմակերպություններ
I26: Ավարտվող շինարարական օբյեկտների ավարտական ակտերի և շահագործման թույլտվություններ, հատ | J26: 13
A27: ՀՀ կրթության, գիտության, մշակույթի և սպորտի նախարարություն | J27: =+J28 -> 0
B28: 1236 | C28: Հանրակրթական և նախադպրոցական հաստատությունների հիմնում, կառուցում, բարելավում | J28: =+J29+J33 -> 0
D29: 1236 - 32001 | E29: Մանկապարտեզների նոր շենքերի կառուցում | J29: =+'1'!G19 -> -79764.8
F30: Նախադպրոցական կրթության հասանելիության ապահովման նպատակով՛ մանկապարտեզների հիմնում, նոր շենքերի (մասնաշենքերի), ներառյալ՛ ,Մոդուլայինե տիպի շենքերի կառուցում և նախագծում
G31: Այլ պետական կազմակերպությունների կողմից օգտագործվող ոչ ֆինանսական ակտիվների հետ գործառնություններ
H32: Շահառուների ընտրության չափորոշիչները` Նախադպրոցական կրթություն իրականացնող ուսումնական հաստատություններ
D33: 1236 - 32002 | E33: Մանկապարտեզների շենքերի վերակառուցում, հիմնանորոգում | J33: =+'1'!G20 -> 79764.8
F34: Նախադպրոցական կրթության հասանելիության ապահովման նպատակով՛ մանկապարտեզների շենքերի (մասնաշենքերի), վերակառուցում, հիմնանորոգում և նախագծում
G35: Այլ պետական կազմակերպությունների կողմից օգտագործվող ոչ ֆինանսական ակտիվների հետ գործառնություններ
H36: Ակտիվն օգտագործող կազմակերպության անվանումը` Նախադպրոցական կրթություն իրականացնող ուսումնական հաստատություններ
I37: Մանկապարտեզների վերանորոգման/հիմնանորոգման համար անհրաժեշտ տեխնիկական վիճակի զննության, չափագրության և նախահաշվային փաստաթղթերի քանակ, հատ | J37: =+'7'!J41+'7'!J47+'7'!J53+'7'!J59+'7'!J65+'7'!J71+'7'!J77+'7'!J83+'7'!J89+'7'!J95 -> 37
A38: ՀՀ կառավարություն | J38: =J39 -> 0
B39: 1139 | C39: ՀՀ կառավարության պահուստային ֆոնդ | J39: =J40+J44 -> 0
D40: 1139 - 11001 | E40: ՀՀ կառավարության պահուստային ֆոնդ | J40: ='1'!G23 -> 2150302
F41: ՀՀ պետական բյուջեում նախատեսված ելքերի լրացուցիչ ֆինանսավորման, պետական բյուջեում չկանխատեսված ելքերի, ինչպես նաև բյուջետային երաշխիքների ապահովման ելքերի ֆինանսավորման ապահովում
G42: Ծառայությունների մատուցում
...

Sheet 7
A1: Հավելված N 7
A2: ՀՀ կառավարության 2025 թվականի
A3: -ի N -Ն որոշման
A5: ՀԱՅԱՍՏԱՆԻ ՀԱՆՐԱՊԵՏՈՒԹՅԱՆ ԿԱՌԱՎԱՐՈՒԹՅԱՆ 2024 ԹՎԱԿԱՆԻ ԴԵԿՏԵՄԲԵՐԻ 27-Ի N 2060-Ն ՈՐՈՇՄԱՆ N 9.1 ՀԱՎԵԼՎԱԾՈՒՄ ԿԱՏԱՐՎՈՂ ՓՈՓՈԽՈՒԹՅՈՒՆՆԵՐԸ ԵՎ ԼՐԱՑՈՒՄՆԵՐԸ
J7: հազար դրամներով
A8: ԲՍԿ | B8: Ծրագիր | D8: Միջոցառում | H8: Իրականացնողը/ ակտիվն օգտագործողը/ շահառուի ընտրության չափորոշիչը | I8: Արդյունքային չափորոշիչը | J8: Ցուցանիշների փոփոխությունը (ավելացումները նշված են դրական նշանով, իսկ նվազեցումները՝ փակագծերում)
B9: Դասիչը | C9: Անվանումը | D9: Դասիչը | E9: Անվանումը | F9: Նկարագրությունը | G9: Տեսակը | J9: Տարի
A10: ԸՆԴԱՄԵՆԸ | J10: =J11+J17+J30+J36+J42+J48+J54+J60+J66+J72+J78+J84+J90+J96 -> 0
A11: ՀՀ տարածքային կառավարման և ենթակառուցվածքների նախարարություն | J11: =J12 -> 307232.6
B12: 1072 | C12: Ջրամատակարարաման և ջրահեռացման բարելավում | J12: =J13 -> 307232.6
D13: 1072 - 31010 | E13: Ջրամատակարարման և ջրահեռացման համակարգի հիմնանորոգում | J13: ='2'!D30+'2'!D31+'2'!D32+'2'!D33+'2'!D34+'2'!D35+'2'!D36 -> 307232.6
F14: Ջրամատակարարման և ջրահեռացման համակարգի հիմնանորոգման նախագծերի և աշխատանքների ձեռքբերում
G15: Պետական մարմինների կողմից օգտագործվող ոչ ֆինանսական ակտիվների հետ գործառնություններ
H16: Ակտիվն օգտագործող կազմակերպության(ների) անվանում(ները)՛ ՀՀ ՏԿԵՆ ջրային կոմիտե
A17: ՀՀ տարածքային կառավարման և ենթակառուցվածքների նախարարության ջրային կոմիտե | J17: =J18+J24 -> 2150302
B18: 1072 | C18: Ջրամատակարարաման և ջրահեռացման բարելավում | J18: =J19 -> 964552
D19: 1072 - 31008 | E19: Պարտադիր կապիտալ աշխատանքների ծրագրի շրջանակներում ջրամատակարարման և ջրահեռացման ենթակառուցվածքների հիմնանորոգում | J19: ='1'!G13 -> 964552
F20: Մի շարք համայնքներում ջրամատակարարման և ջրահեռացման համակարգերի կառուցման և վերականգնման աշխատանքներ
G21: Պետական մարմինների կողմից օգտագործվող ոչ ֆինանսական ակտիվների հետ գործառնություններ
H22: Ակտիվն օգտագործող կազմակերպության(ների) անվանում(ները)՛ ՀՀ ՏԿԵՆ ջրային կոմիտե
I23: ='6'!I16 -> Վերակառուցվող օբյեկտներ, հատ | J23: ='6'!J16 -> 13
B24: 1109 | C24: Ջրային տնտեսության ոլորտում ծրագրերի համակարգում և մոնիտորինգ | J24: =J25 -> 1185750
D25: 1109-11005 | E25: Ավարտվող շինարարական օբյեկտների ավարտական ակտերի և շահագործման թույլտվություններ ստանալու համար տեղական տուրքի վճարների ապահովում | J25: ='6'!J22 -> 1185750
F26: Ջրային կոմիտեի կողմից իրականացվող ավարտվող շինարարական օբյեկտների օբյեկտների շահագործման թույլտվությունը և ավարտական ակտը ստանալու համար տեղական տուրքի վճարների ապահովում
G27: Ծառայությունների մատուցում
H28: Ծառայությունը մատուցողի անվանումը` Մասնագիտացված կազմակերպություններ
I29: Ավարտվող շինարարական օբյեկտների ավարտական ակտերի և շահագործման թույլտվություններ, հատ | J29: 13
A30: ՀՀ կրթության, գիտության, մշակույթի և սպորտի նախարարություն | J30: =+J31 -> -79764.8
B31: 1236 | C31: Հանրակրթական և նախադպրոցական հաստատությունների հիմնում, կառուցում, բարելավում | J31: =+J32 -> -79764.8
D32: 1236 - 32001 | E32: Մանկապարտեզների նոր շենքերի կառուցում | J32: =+'3'!G97 -> -79764.8
F33: Նախադպրոցական կրթության հասանելիության ապահովման նպատակով՛ մանկապարտեզների հիմնում, նոր շենքերի (մասնաշենքերի), ներառյալ՛ ,Մոդուլայինե տիպի շենքերի կառուցում և նախագծում
G34: Այլ պետական կազմակերպությունների կողմից օգտագործվող ոչ ֆինանսական ակտիվների հետ գործառնություններ
H35: Շահառուների ընտրության չափորոշիչները` Նախադպրոցական կրթություն իրականացնող ուսումնական հաստատություններ
A36: ՀՀ Արագածոտնի մարզպետի աշխատակազմ | J36: =+J37 -> 9185
D37: 1236 - 32002 | E37: Մանկապարտեզների շենքերի վերակառուցում, հիմնանորոգում | J37: =+'3'!G106 -> 9185
F38: Նախադպրոցական կրթության հասանելիության ապահովման նպատակով՛ մանկապարտեզների շենքերի (մասնաշենքերի), վերակառուցում, հիմնանորոգում և նախագծում
G39: Այլ պետական կազմակերպությունների կողմից օգտագործվող ոչ ֆինանսական ակտիվների հետ գործառնություններ
H40: Ակտիվն օգտագործող կազմակերպության անվանումը` Նախադպրոցական կրթություն իրականացնող ուսումնական հաստատություններ
I41: Մանկապարտեզների վերանորոգման/հիմնանորոգման համար անհրաժեշտ տեխնիկական վիճակի զննության, չափագրության և նախահաշվային փաստաթղթերի քանակ, հատ | J41: 5
A42: ՀՀ Արարատի մարզպետի աշխատակազմ | J42: =+J43 -> 18276.9
...

Sheet 8 
A1: Հավելված N 8
A2: ՀՀ կառավարության 2025 թվականի
A3: -ի N -Ն որոշման
A5: ՀՀ ԿԱՌԱՎԱՐՈՒԹՅԱՆ 2024 ԹՎԱԿԱՆԻ ԴԵԿՏԵՄԲԵՐԻ 27-Ի N 2060-Ն ՈՐՈՇՄԱՆ N 10 ՀԱՎԵԼՎԱԾՈՒՄ ԿԱՏԱՐՎՈՂ ՓՈՓՈԽՈՒԹՅՈՒՆՆԵՐԸ ԵՎ ԼՐԱՑՈՒՄՆԵՐԸ
A7: Կոդը | B7: Անվանումը | C7: Գնման ձևը | D7: Չափի միավորը | E7: Ցուցանիշների փոփոխությունը (ավելացումները նշված են դրական նշանով, իսկ նվազեցումները՝ փակագծերում)
E8: Միավորի գինը | F8: քանակը | G8: գումարը (հազ. դրամ)
A9: ՀՀ տարածքային կառավարման և ենթակառուցվածքների նախարարության ջրային կոմիտե | G9: =G10 -> 964552
A10: Բաժին N 06 | B10: Խումբ N 03 | C10: Դաս N 01 | D10: Ջրամատակարարում | G10: =G11 -> 964552
A11: 1072 31008 | B11: Պարտադիր կապիտալ աշխատանքների ծրագրի շրջանակներում ջրամատակարարման և ջրահեռացման ենթակառուցվածքների հիմնանորոգում | G11: =G12+G26 -> 964552
B12: ՄԱՍ II ԱՇԽԱՏԱՆՔՆԵՐ | G12: =SUM(G13:G25) -> 951970
A13: 45231131/501 | B13: ջրամատակարարման խողովակաշարերի հետկապված աշխատանքներ | C13: ՀԲՄ | D13: դրամ | E13: 65840000 | F13: 1 | G13: =E13/1000 -> 65840
A14: 45231131/502 | B14: ջրամատակարարման խողովակաշարերի հետկապված աշխատանքներ | C14: ՀԲՄ | D14: դրամ | E14: 86470000 | F14: 1 | G14: =E14/1000 -> 86470
A15: 45231131/503 | B15: ջրամատակարարման խողովակաշարերի հետկապված աշխատանքներ | C15: ՀԲՄ | D15: դրամ | E15: 100950000 | F15: 1 | G15: =E15/1000 -> 100950
A16: 45231131/504 | B16: ջրամատակարարման խողովակաշարերի հետկապված աշխատանքներ | C16: ՀԲՄ | D16: դրամ | E16: 57430000 | F16: 1 | G16: =E16/1000 -> 57430
A17: 45231131/505 | B17: ջրամատակարարման խողովակաշարերի հետկապված աշխատանքներ | C17: ՀԲՄ | D17: դրամ | E17: 85390000 | F17: 1 | G17: =E17/1000 -> 85390
A18: 45231131/506 | B18: ջրամատակարարման խողովակաշարերի հետկապված աշխատանքներ | C18: ՀԲՄ | D18: դրամ | E18: 117000000 | F18: 1 | G18: =E18/1000 -> 117000
A19: 45231131/507 | B19: ջրամատակարարման խողովակաշարերի հետկապված աշխատանքներ | C19: ՀԲՄ | D19: դրամ | E19: 89680000 | F19: 1 | G19: =E19/1000 -> 89680
A20: 45231131/508 | B20: ջրամատակարարման խողովակաշարերի հետկապված աշխատանքներ | C20: ՀԲՄ | D20: դրամ | E20: 42750000 | F20: 1 | G20: =E20/1000 -> 42750
A21: 45231131/509 | B21: ջրամատակարարման խողովակաշարերի հետկապված աշխատանքներ | C21: ՀԲՄ | D21: դրամ | E21: 105530000 | F21: 1 | G21: =E21/1000 -> 105530
A22: 45231131/510 | B22: ջրամատակարարման խողովակաշարերի հետկապված աշխատանքներ | C22: ՀԲՄ | D22: դրամ | E22: 99790000 | F22: 1 | G22: =E22/1000 -> 99790
A23: 45231131/511 | B23: ջրամատակարարման խողովակաշարերի հետկապված աշխատանքներ | C23: ՀԲՄ | D23: դրամ | E23: 25430000 | F23: 1 | G23: =E23/1000 -> 25430
A24: 45231131/512 | B24: ջրամատակարարման խողովակաշարերի հետկապված աշխատանքներ | C24: ՀԲՄ | D24: դրամ | E24: 25660000 | F24: 1 | G24: =E24/1000 -> 25660
A25: 45231131/513 | B25: ջրամատակարարման խողովակաշարերի հետկապված աշխատանքներ | C25: ՀԲՄ | D25: դրամ | E25: 50050000 | F25: 1 | G25: =E25/1000 -> 50050
B26: ՄԱՍ III ԾԱՌԱՅՈՒԹՅՈՒՆՆԵՐ | G26: =SUM(G27:G39) -> 12582
A27: 71351540/529 | B27: տեխնիկական հսկողության ծառայություններ | C27: ԳՀ | D27: դրամ | E27: 935000 | F27: 1 | G27: =E27/1000 -> 935
A28: 71351540/530 | B28: տեխնիկական հսկողության ծառայություններ | C28: ԳՀ | D28: դրամ | E28: 1099000 | F28: 1 | G28: =E28/1000 -> 1099
A29: 71351540/531 | B29: տեխնիկական հսկողության ծառայություններ | C29: ԳՀ | D29: դրամ | E29: 1277000 | F29: 1 | G29: =E29/1000 -> 1277
A30: 71351540/532 | B30: տեխնիկական հսկողության ծառայություններ | C30: ԳՀ | D30: դրամ | E30: 833000 | F30: 1 | G30: =E30/1000 -> 833
A31: 71351540/533 | B31: տեխնիկական հսկողության ծառայություններ | C31: ԳՀ | D31: դրամ | E31: 1088000 | F31: 1 | G31: =E31/1000 -> 1088
A32: 71351540/534 | B32: տեխնիկական հսկողության ծառայություններ | C32: ԳՀ | D32: դրամ | E32: 1477000 | F32: 1 | G32: =E32/1000 -> 1477
A33: 71351540/535 | B33: տեխնիկական հսկողության ծառայություններ | C33: ԳՀ | D33: դրամ | E33: 1137000 | F33: 1 | G33: =E33/1000 -> 1137
A34: 71351540/536 | B34: տեխնիկական հսկողության ծառայություններ | C34: ԳՀ | D34: դրամ | E34: 628000 | F34: 1 | G34: =E34/1000 -> 628
A35: 71351540/537 | B35: տեխնիկական հսկողության ծառայություններ | C35: ԳՀ | D35: դրամ | E35: 1343000 | F35: 1 | G35: =E35/1000 -> 1343
A36: 71351540/538 | B36: տեխնիկական հսկողության ծառայություններ | C36: ԳՀ | D36: դրամ | E36: 1268000 | F36: 1 | G36: =E36/1000 -> 1268
A37: 71351540/539 | B37: տեխնիկական հսկողության ծառայություններ | C37: ԳՀ | D37: դրամ | E37: 380000 | F37: 1 | G37: =E37/1000 -> 380
A38: 71351540/540 | B38: տեխնիկական հսկողության ծառայություններ | C38: ԳՀ | D38: դրամ | E38: 380000 | F38: 1 | G38: =E38/1000 -> 380
A39: 71351540/541 | B39: տեխնիկական հսկողության ծառայություններ | C39: ԳՀ | D39: դրամ | E39: 737000 | F39: 1 | G39: =E39/1000 -> 737
A41: ՀՀ կրթության, գիտության, մշակույթի և սպորտի նախարարություն | G41: =+G42 -> -79764.8
A42: Բաժին N 09 | B42: Խումբ N 01 | C42: Դաս N 01 | D42: Նախադպրոցական կրթություն | G42: =+G43 -> -79764.8
A43: 1236-32001 | B43: Մանկապարտեզների նոր շենքերի կառուցում | G43: =+G44 -> -79764.8
...
