Workbook
Name _tab10: #REF!
Name _tab10: #REF!
Name _tab11: #REF!
Name _tab11: #REF!
Name _tab12: #REF!
Name _tab12: #REF!
Name _tab13: #REF!
Name _tab13: #REF!
Name _tab14: #REF!
Name _tab14: #REF!
Name _tab15: #REF!
Name _tab15: #REF!
Name _tab16: #REF!
Name _tab16: #REF!
Name _tab17: #REF!
Name _tab17: #REF!
Name _tab18: #REF!
Name _tab18: #REF!
Name _tab19: #REF!
Name _tab19: #REF!
Name _tab20: #REF!
Name _tab20: #REF!
Name _tab21: #REF!
Name _tab21: #REF!
Name _tab22: #REF!
Name _tab22: #REF!
Name _tab23: #REF!
Name _tab23: #REF!
Name _tab24: #REF!
Name _tab24: #REF!
Name _tab5: #REF!
Name _tab5: #REF!
Name _tab6: #REF!
Name _tab6: #REF!
Name _tab7: #REF!
Name _tab7: #REF!
Name _tab8: #REF!
Name _tab8: #REF!
Name _tab9: #REF!
Name _tab9: #REF!
Name par_count: #REF!,#REF!,#REF!,#REF!,#REF!,#REF!,#REF!,#REF!,#REF!,#REF!,#REF!,#REF!,#REF!,#REF!,#REF!
Name par_count: #REF!,#REF!,#REF!,#REF!,#REF!,#REF!,#REF!,#REF!,#REF!,#REF!,#REF!,#REF!,#REF!,#REF!,#REF!
Name par_qual: #REF!,#REF!,#REF!,#REF!,#REF!
Name par_qual: #REF!,#REF!,#REF!,#REF!,#REF!
Name par_time: #REF!,#REF!,#REF!,#REF!
Name par_time: #REF!,#REF!,#REF!,#REF!
Name par2.12s: #REF!
Name par2.12s: #REF!
Name par2.4s: #REF!,#REF!,#REF!,#REF!,#REF!,#REF!,#REF!,#REF!,#REF!,#REF!,#REF!,#REF!,#REF!,#REF!,#REF!,#REF!
Name par2.4s: #REF!,#REF!,#REF!,#REF!,#REF!,#REF!,#REF!,#REF!,#REF!,#REF!,#REF!,#REF!,#REF!,#REF!,#REF!,#REF!
Name par2.5s: #REF!,#REF!
Name par2.5s: #REF!,#REF!
Name par2.6s: #REF!,#REF!,#REF!,#REF!
Name par2.6s: #REF!,#REF!,#REF!,#REF!
Name par2.7s: #REF!,#REF!
Name par2.7s: #REF!,#REF!
Name par2.9s: #REF!,#REF!,#REF!,#REF!,#REF!,#REF!,#REF!,#REF!,#REF!,#REF!,#REF!,#REF!,#REF!,#REF!,#REF!,#REF!
Name par2.9s: #REF!,#REF!,#REF!,#REF!,#REF!,#REF!,#REF!,#REF!,#REF!,#REF!,#REF!,#REF!,#REF!,#REF!,#REF!,#REF!
Name par4.10s: #REF!,#REF!
Name par4.10s: #REF!,#REF!

Sheet 1
A1: Հավելված 1 ՀՀ կառավարության 2025 թվականի____________ի N _____-Ն որոշման
A2: «ՀԱՅԱՍՏԱՆԻ ՀԱՆՐԱՊԵՏՈՒԹՅԱՆ 2025 ԹՎԱԿԱՆԻ ՊԵՏԱԿԱՆ ԲՅՈՒՋԵԻ ՄԱՍԻՆ» ՀԱՅԱՍՏԱՆԻ ՀԱՆՐԱՊԵՏՈՒԹՅԱՆ ՕՐԵՆՔԻ N 1 ՀԱՎԵԼՎԱԾԻ N 2 ԱՂՅՈՒՍԱԿՈՒՄ ԿԱՏԱՐՎՈՂ ՎԵՐԱԲԱՇԽՈՒՄԸ ԵՎ ՀԱՅԱՍՏԱՆԻ ՀԱՆՐԱՊԵՏՈՒԹՅԱՆ ԿԱՌԱՎԱՐՈՒԹՅԱՆ 2024 ԹՎԱԿԱՆԻ ԴԵԿՏԵՄԲԵՐԻ 27-Ի N 2060-Ն ՈՐՈՇՄԱՆ N 5 ՀԱՎԵԼՎԱԾԻ N 1 ԱՂՅՈՒՍԱԿՈՒՄ ԿԱՏԱՐՎՈՂ ՓՈՓՈԽՈՒԹՅՈՒՆՆԵՐԸ
G3: հազար դրամներով
A4: ԲԳԿ | B4: Ծրագրային դասիչը | D4: ԲԳԿ/Ծրագրի /միջոցառման անվանումը | E4: Ծրագրի նպատակը/Միջոցառման նկարագրությունը | F4: Վերջնական արդյունքի նկարագրությունը/Միջոցառման տեսակը | G4: Ցուցանիշների փոփոխությունը (ավելացումները նշված են դրական նշանով, իսկ նվազեցումները՝ փակագծերում)
B5: Ծրագիր | C5: Միջոցառում | G5: Տարի
A6: ԸՆԴԱՄԵՆԸ | G6: =+G7+G10 -> 0
A7: ՀՀ վարչապետի աշխատակազմ | G7: =G8 -> 30700
B8: 1213 | D8: Տեսչական վերահսկողության ծրագիր | E8: Տեսչական վերահսկողության ապահովում | F8: Տեխնիկական կանոնակարգերին համապատասխանության գնահատում և պահանջների պահպանում | G8: =+G9 -> 30700
C9: 1213 - 11010 | D9: Տեսչական վերահսկողության շրջանակում սննդամթերքի լաբորատոր հետազոտություն | E9: Վաճառքում գտնվող սննդամթերքի անվտանգության և որակի բարելավման ապահովում (նմուշների լաբորատոր փորձաքննություն` հավատարմագրված լաբորատորիաների կողմից) | F9: Ծառայությունների մատուցում | G9: =+'2'!G17 -> 30700
A10: ՀՀ էկոնոմիկայի նախարարություն | G10: =+G11 -> -30700
B11: 1187 | D11: Գյուղատնտեսության արդիականացման ծրագիր | E11: Գյուղատնտեսական տեխնիկական համակարգերի արդիականացում, ինտենսիվ այգիների ներդրման և տոհմաբուծության մեջ նոր ցեղատեսակների բուծման աջակցություն | F11: Ոռոգման արդիական համակարգեր ներդրված հողատարածքների և տոհմային կենդանիների տեսակարար կշռի ավելացում | G11: =+G12 -> -30700
C12: 1187 - 12004 | D12: Հայաստանի Հանրապետության ագրոպարենային ոլորտի սարքավորումների լիզինգի աջակցության ծրագիր | E12: Ագրոպարենային ոլորտի սարքավորումների տրամադրման լիզինգի տոկոսադրույքների սուբսիդավորում | F12: Տրանսֆերտների տրամադրում | G12: =+'2'!G34 -> -30700

Sheet 2
A1: Հավելված 2 ՀՀ կառավարության 2025 թվականի____________ի N _____-Ն որոշման
A3: ՀԱՅԱՍՏԱՆԻ ՀԱՆՐԱՊԵՏՈՒԹՅԱՆ ԿԱՌԱՎԱՐՈՒԹՅԱՆ 2024 ԹՎԱԿԱՆԻ ԴԵԿՏԵՄԲԵՐԻ 27-Ի N 2060-Ն ՈՐՈՇՄԱՆ NN 3 և 4 ՀԱՎԵԼՎԱԾՆԵՐՈՒՄ ԿԱՏԱՐՎՈՂ ՓՈՓՈԽՈՒԹՅՈՒՆՆԵՐԸ
G5: հազար դրամներով
A6: Գործառական դասիչը | D6: Ծրագրային դասիչը | F6: Բյուջետային հատկացումների գլխավոր կարգադրիչների, ծրագրերի, միջոցառումների և միջոցառումները կատարող պետական մարմինների անվանումները | G6: Ցուցանիշների փոփոխությունը (ավելացումները նշված են դրական նշանով, իսկ նվազեցումները՝ փակագծերում)
A7: բաժին | B7: խումբ | C7: դաս | D7: Ծրագիր | E7: Միջոցառում | G7: Տարի
A8: ԸՆԴԱՄԵՆԸ | G8: =+G9 -> 0
A9: 04 | F9: ՏՆՏԵՍԱԿԱՆ ՀԱՐԱԲԵՐՈՒԹՅՈՒՆՆԵՐ | G9: =+G11+G28 -> 0
F10: այդ թվում`
B11: 01 | F11: Ընդհանուր բնույթի տնտեսական, առևտրային և աշխատանքի գծով հարաբերություններ | G11: =+G13 -> 30700
F12: այդ թվում`
C13: 01 | F13: Ընդհանուր բնույթի տնտեսական և առևտրային հարաբերություններ | G13: =+G17 -> 30700
F14: այդ թվում`
F15: ՀՀ վարչապետի աշխատակազմ | G15: =+G17 -> 30700
F16: այդ թվում՝
D17: 1213 | F17: Տեսչական վերահսկողության ծրագիր | G17: =+G19 -> 30700
F18: այդ թվում`
E19: 11010 | F19: Տեսչական վերահսկողության շրջանակում սննդամթերքի լաբորատոր հետազոտություն | G19: =+G21 -> 30700
F20: այդ թվում` ըստ կատարողների
F21: ՀՀ վարչապետի աշխատակազմ | G21: =+G23 -> 30700
F22: այդ թվում` բյուջետային ծախսերի տնտեսագիտական դասակարգման հոդվածների
F23: ԸՆԴԱՄԵՆԸ ԾԱԽՍԵՐ | G23: =+G24 -> 30700
F24: ԸՆԹԱՑԻԿ ԾԱԽՍԵՐ | G24: =G25 -> 30700
F25: ԴՐԱՄԱՇՆՈՐՀՆԵՐ | G25: =+G26 -> 30700
F26: Ընթացիկ դրամաշնորհներ պետական հատվածի այլ մակարդակներին | G26: =SUM(G27:G27) -> 30700
F27: - Ընթացիկ դրամաշնորհներ պետական և համայնքների ոչ առևտրային կազմակերպություններին | G27: 30700
B28: 02 | F28: Գյուղատնտեսություն, անտառային տնտեսություն, ձկնորսություն և որսորդություն | G28: =+G30 -> -30700
F29: այդ թվում`
C30: 01 | F30: Գյուղատնտեսություն | G30: =+G32 -> -30700
F31: այդ թվում`
F32: ՀՀ էկոնոմիկայի նախարարություն | G32: =+G34 -> -30700
F33: այդ թվում՝
D34: 1187 | F34: =+'1'!D11 -> Գյուղատնտեսության արդիականացման ծրագիր | G34: =G36 -> -30700
F35: այդ թվում`
E36: 12004 | F36: =+'1'!D12 -> Հայաստանի Հանրապետության ագրոպարենային ոլորտի սարքավորումների լիզինգի աջակցության ծրագիր | G36: =+G38 -> -30700
F37: այդ թվում` ըստ կատարողների
F38: ՀՀ էկոնոմիկայի նախարարություն | G38: =+G40 -> -30700
F39: այդ թվում` բյուջետային ծախսերի տնտեսագիտական դասակարգման հոդվածներ
F40: ԸՆԴԱՄԵՆԸ ԾԱԽՍԵՐ | G40: =+G41 -> -30700
F41: ԸՆԹԱՑԻԿ ԾԱԽՍԵՐ | G41: =G42 -> -30700
F42: ՍՈՒԲՍԻԴԻԱՆԵՐ | G42: =+G43 -> -30700
...

Sheet 3
A1: Հավելված 3 ՀՀ կառավարության 2025 թվականի____________ի N _____-Ն որոշման
A3: ՀԱՅԱՍՏԱՆԻ ՀԱՆՐԱՊԵՏՈՒԹՅԱՆ ԿԱՌԱՎԱՐՈՒԹՅԱՆ 2024 ԹՎԱԿԱՆԻ ԴԵԿՏԵՄԲԵՐԻ 27-Ի N 2060-Ն ՈՐՈՇՄԱՆ N 5 ՀԱՎԵԼՎԱԾԻ 7 ԱՂՅՈՒՍԱԿՈՒՄ ԿԱՏԱՐՎՈՂ ՓՈՓՈԽՈՒԹՅՈՒՆԸ
G5: հազար դրամներով
A6: Ծրագրային դասիչ | C6: Բյուջետային հատկացումների գլխավոր կարգադրիչների, ծրագրերի, միջոցառումների, ծախսային ուղղությունների անվանումները | F6: Միջոցառումները կատարող պետական մարմինների և դրամաշնորհ ստացող տնտեսվարող սուբյեկտների անվանումները | G6: Ցուցանիշների փոփոխությունները (ավելացումներ նշված են դրական նշանով)
A7: Ծրագիր | B7: Միջոցառում | G7: Տարի
A8: 1 | B8: 2 | C8: 3 | F8: 4 | G8: 5
A9: Ընդամենը | G9: =G10 -> 30700
A10: ՀՀ վարչապետի աշխատակազմ | G10: =+G11 -> 30700
A11: 1213 | C11: Տեսչական վերահսկողության ծրագիր | G11: =+G12 -> 30700
B12: 11010 | C12: Տեսչական վերահսկողության շրջանակում սննդամթերքի լաբորատոր հետազոտություն | F12: ՀՀ վարչապետի աշխատակազմ | G12: =+G13 -> 30700
F13: «Հանրապետական անասնաբուժասանիտարական և բուսասանիտարական լաբորատոր ծառայությունների կենտրոն» ՊՈԱԿ | G13: =+'2'!G19 -> 30700

Sheet 4
A1: Հավելված 4 ՀՀ կառավարության 2025 թվականի____________ի N _____-Ն որոշման
A3: ՀԱՅԱՍՏԱՆԻ ՀԱՆՐԱՊԵՏՈՒԹՅԱՆ ԿԱՌԱՎԱՐՈՒԹՅԱՆ 2024 ԹՎԱԿԱՆԻ ԴԵԿՏԵՄԲԵՐԻ 27-Ի N 2060-Ն ՈՐՈՇՄԱՆ NN 9 ԵՎ 9.1 ՀԱՎԵԼՎԱԾՆԵՐՈՒՄ ԿԱՏԱՐՎՈՂ ՓՈՓՈԽՈՒԹՅՈՒՆՆԵՐԸ ԵՎ ԼՐԱՑՈՒՄԸ
J5: հազար դրամներով
A6: ԲԳԿ/ԲՍԿ | B6: Ծրագիր | D6: Միջոցառում | H6: Իրականացնողը/ ակտիվն օգտագործողը/ շահառուի ընտրության չափորոշիչը | I6: Արդյունքային չափորոշիչը | J6: Ցուցանիշների փոփոխությունը (ավելացումները նշված են դրական նշանով, իսկ նվազեցումները՝ փակագծերում)
B7: Դասիչը | C7: Անվա-նումը | D7: Դասիչը | E7: Անվա-նումը | F7: Նկարագրու-թյունը | G7: Տեսակը | J7: Տարի
A8: ԸՆԴԱՄԵՆԸ | J8: =+J9+J16 -> 0
A9: ՀՀ վարչապետի աշխատակազմ | J9: =+J10 -> 30700
B10: 1213 | C10: =+'[1]Havelvats 1'!D11 -> Տեսչական վերահսկողության ծրագիր | J10: =+J11 -> 30700
D11: 1213-11010 | E11: Տեսչական վերահսկողության շրջանակում սննդամթերքի լաբորատոր հետազոտություն | J11: =+'2'!G17 -> 30700
F12: Վաճառքում գտնվող սննդամթերքի անվտանգության և որակի բարելավման ապահովում (նմուշների լաբորատոր փորձաքննություն` հավատարմագրված լաբորատորիաների կողմից)
G13: Ծառայությունների մատուցում
H14: Ծառայությունը մատուցողի անվանումը` Մասնագիտացված կազմակերպություններ
I15: ՀՀ-ում ԳՕՍՏ Ռ 59570-2023 ստանդարտով նախատեսված ցուցանիշների փորձարկման մեթոդների ներդրում | J15: 1
A16: ՀՀ էկոնոմիկայի նախարարություն | J16: =+J17 -> -30700
B17: 1187 | C17: =+'1'!D11 -> Գյուղատնտեսության արդիականացման ծրագիր | J17: =+J18 -> -30700
D18: 1187-12004 | E18: =+'1'!D12 -> Հայաստանի Հանրապետության ագրոպարենային ոլորտի սարքավորումների լիզինգի աջակցության ծրագիր | J18: =+'2'!G36 -> -30700
F19: =+'1'!E12 -> Ագրոպարենային ոլորտի սարքավորումների տրամադրման լիզինգի տոկոսադրույքների սուբսիդավորում
G20: =+'1'!F12 -> Տրանսֆերտների տրամադրում
H21: Շահառուների ընտրության չափորոշիչները` ՀՀ գյուղատնտեսական տնտեսավարողներ՛ ընտրված համաձայն՛ ՀՀ կառավարության 19.07.2018թ. թիվ 893-Լ որոշմամբ հաստատված ծրագրի և ֆինանսական կառույցների կողմից հաստատված համապատասխան չափանիշների
