Workbook
Name _tab10: #REF!
Name _tab10: #REF!
Name _tab11: #REF!
Name _tab11: #REF!
Name _tab12: #REF!
Name _tab12: #REF!
Name _tab13: #REF!
Name _tab13: #REF!
Name _tab14: #REF!
Name _tab14: #REF!
Name _tab15: #REF!
Name _tab15: #REF!
Name _tab16: #REF!
Name _tab16: #REF!
Name _tab17: #REF!
Name _tab17: #REF!
Name _tab18: #REF!
Name _tab18: #REF!
Name _tab19: #REF!
Name _tab19: #REF!
Name _tab20: #REF!
Name _tab20: #REF!
Name _tab21: #REF!
Name _tab21: #REF!
Name _tab22: #REF!
Name _tab22: #REF!
Name _tab23: #REF!
Name _tab23: #REF!
Name _tab24: #REF!
Name _tab24: #REF!
Name _tab5: #REF!
Name _tab5: #REF!
Name _tab6: #REF!
Name _tab6: #REF!
Name _tab7: #REF!
Name _tab7: #REF!
Name _tab8: #REF!
Name _tab8: #REF!
Name _tab9: #REF!
Name _tab9: #REF!
Name AgencyCode: #REF!
Name AgencyCode: #REF!
Name AgencyName: #REF!
Name AgencyName: #REF!
Name åû: #REF!
Name åû: #REF!
Name davit: #REF!
Name davit: #REF!
Name EUR: '[1]1. 2060-Ն 28.12.2024 արտ'!$W$2
Name fff: #REF!
Name fff: #REF!
Name Functional1: #REF!
Name Functional1: #REF!
Name ggg: #REF!
Name ggg: #REF!
Name h: #REF!
Name h: #REF!
Name mas: #REF!
Name mas: #REF!
Name mass: #REF!

Sheet 1
C1: Հավելված N 1
C2: ՀՀ կառավարության 2025 թվականի
C3: ______________ ի ___Ն որոշման
B5: «ՀԱՅԱՍՏԱՆԻ ՀԱՆՐԱՊԵՏՈՒԹՅԱՆ 2025 ԹՎԱԿԱՆԻ ՊԵՏԱԿԱՆ ԲՅՈՒՋԵԻ ՄԱՍԻՆ» ՕՐԵՆՔԻ N 2 ՀՈԴՎԱԾԻ ԱՂՅՈՒՍԱԿՈՒՄ ԿԱՏԱՐՎՈՂ ՓՈՓՈԽՈՒԹՅՈՒՆՆԵՐԸ
C8: Ցուցանիշների փոփոխությունը (նվազեցումները նշված են փակագծերում)
C9: Տարի
B10: 1. Եկամուտների գծով | C10: =+'2'!D10 -> -399520.8
B11: 2. Ծախսերի գծով | C11: =+'4'!I8 -> -399520.8
B12: 3. Դեֆիցիտը (պակասուրդը) | C12: =-C10+C11 -> 0

Sheet 2
D1: Հավելված N 2
D2: ՀՀ կառավարության 2025 թվականի
D3: ______________ ի ___Ն որոշման
B5: «ՀԱՅԱՍՏԱՆԻ ՀԱՆՐԱՊԵՏՈՒԹՅԱՆ 2025 ԹՎԱԿԱՆԻ ՊԵՏԱԿԱՆ ԲՅՈՒՋԵԻ ՄԱՍԻՆ» ՕՐԵՆՔԻ N 6 ՀՈԴՎԱԾԻ ԱՂՅՈՒՍԱԿՈՒՄ ԵՎ ՀԱՅԱՍՏԱՆԻ ՀԱՆՐԱՊԵՏՈՒԹՅԱՆ ԿԱՌԱՎԱՐՈՒԹՅԱՆ 2024 ԹՎԱԿԱՆԻ ԴԵԿՏԵՄԲԵՐԻ 27-Ի N 2060-Ն ՈՐՈՇՄԱՆ N 2 ՀԱՎԵԼՎԱԾՈՒՄ ԿԱՏԱՐՎՈՂ ՓՈՓՈԽՈՒԹՅՈՒՆՆԵՐԸ
D7: հազար դրամներով
B8: Եկամտատեսակ | C8: Ցուցանիշների փոփոխությունը (նվազեցումները նշված են փակագծերում)
C9: Ինն ամիս | D9: Տարի
B10: ՊԵՏԱԿԱՆ ԲՅՈՒՋԵԻ ԵԿԱՄՈՒՏՆԵՐ | C10: =+C12 -> -303440.2 | D10: =+D12 -> -399520.8
B11: այդ թվում`
B12: Պաշտոնական դրամաշնորհներ | C12: =+'7'!F11 -> -303440.2 | D12: =+'7'!I11 -> -399520.8

Sheet 3
G1: Հավելված N 3
H2: ՀՀ կառավարության 2025 թվականի
H3: ______________ ի ___Ն որոշման
A5: «ՀԱՅԱUՏԱՆԻ ՀԱՆՐԱՊԵՏՈՒԹՅԱՆ 2025 ԹՎԱԿԱՆԻ ՊԵՏԱԿԱՆ ԲՅՈՒՋԵԻ ՄԱUԻՆ» OՐԵՆՔԻ N 1 ՀԱՎԵԼՎԱԾԻ N 2 ԱՂՅՈՒՍԱԿՈՒՄ ԿԱՏԱՐՎՈՂ ՎԵՐԱԲԱՇԽՈՒՄԸ, ՀԱՅԱՍՏԱՆԻ ՀԱՆՐԱՊԵՏՈՒԹՅԱՆ ԿԱՌԱՎԱՐՈՒԹՅԱՆ 2024 ԹՎԱԿԱՆԻ ԴԵԿՏԵՄԲԵՐԻ 27-Ի N 2060-Ն ՈՐՈՇՄԱՆ N 5 ՀԱՎԵԼՎԱԾԻ N 1 ԱՂՅՈՒՍԱԿՈՒՄ ԿԱՏԱՐՎՈՂ ՓՈՓՈԽՈՒԹՅՈՒՆՆԵՐԸ ԵՎ ԼՐԱՑՈՒՄՆԵՐԸ
G6: հազար դրամներով
A7: ԲԳԿ | B7: Ծրագրային դասիչը | D7: ԲԳԿ/Ծրագրի /միջոցառման անվանումը | E7: Ծրագրի նպատակը/Միջոցառման նկարագրությունը | F7: Վերջնական արդյունքի նկարագրությունը/Միջոցառման տեսակը | G7: Ցուցանիշների փոփոխությունը (ավելացումները նշված են դրական նշանով, իսկ նվազեցումները՝ փակագծերում)
G8: Ինն ամիս | H8: Տարի
B9: Ծրագիր | C9: Միջոցառում
A10: ԸՆԴԱՄԵՆԸ | G10: =+G11+G27+G31 -> -303440.2 | H10: =+H11+H27+H31 -> -399520.8 | J10: =+G10-'8'!J9 -> 0 | K10: =+H10-'8'!K9 -> 0
A11: ՀՀ տարածքային կառավարման և ենթակառուցվածքների նախարարություն | G11: =+G12+G17+G21 -> -810640.2 | H11: =+H12+H17+H21 -> -3073477.7
B12: 1004 | D12: Ոռոգման համակարգի առողջացում | E12: Ոռոգման ծառայությունների հասանելիության և մատչելիության ապահովում | F12: Ոռոգման ջրի մատակարարման արդյունավետության և հասանելիության բարելավում, կորուստների կրճատում | G12: =SUM(G13:G16) -> -450752 | H12: =SUM(H13:H16) -> -1679034.2 | J12: =+G12-'8'!J11 -> 0 | K12: =+H12-'8'!K11 -> 0
C13: 1004 - 11005 | D13: Եվրասիական զարգացման բանկի աջակցությամբ իրականացվող ոռոգման համակարգերի զարգացման ծրագրի խորհրդատվություն և կառավարում | E13: Եվրասիական զարգացման բանկի աջակցությամբ իրականացվող ոռոգման համակարգերի զարգացման ծրագրի համակարգում և ղեկավարում | F13: Ծառայությունների մատուցում | G13: =+'8'!J12 -> -219833.2 | H13: =+'8'!K12 -> -219833.2
C14: 1004 - 31004 | D14: =+'6'!D29 -> Գերմանիայի զարգացման վարկերի բանկի աջակցությամբ իրականացվող Ախուրյան գետի ջրային ռեսուրսների ինտեգրված կառավարման ծրագրի շրջանակներում ջրային տնտեսության ենթակառուցվածքների հիմնանորոգում | E14: =+'8'!F18 -> Գերմանիայի զարգացման վարկերի բանկի աջակցությամբ իրականացվող Ախուրյան գետի ջրային ռեսուրսների ինտեգրված կառավարման ծրագիր | F14: Պետական մարմինների կողմից օգտագործվող ոչ ֆինանսական ակտիվների հետ գործառնություններ | G14: =+'8'!J17 -> -172518.8 | H14: =+'8'!K17 -> -116385.4
C15: 1004 - 31005 | D15: =+'8'!E21 -> Եվրասիական զարգացման բանկի աջակցությամբ իրականացվող ոռոգման համակարգերի զարգացման ծրագրի շրջանակներում ջրային տնտեսության ենթակառուցվածքների հիմնանորոգում | E15: =+'8'!F22 -> Եվրասիական զարգացման բանկի աջակցությամբ իրականացվող ոռոգման համակարգերի զարգացման ծրագիր | F15: Պետական մարմինների կողմից օգտագործվող ոչ ֆինանսական ակտիվների հետ գործառնություններ | G15: =+'8'!J21 -> -58400 | H15: =+'8'!K21 -> -58400
C16: 1004 - 31006 | D16: =+'8'!E26 -> Գերմանիայի զարգացման վարկերի բանկի աջակցությամբ իրականացվող Ախուրյան գետի ջրային ռեսուրսների ինտեգրացված կառավարման ծրագրի երկրորդ փուլի շրջանակներում ջրային տնտեսության ենթակառուցվածքների հիմնանորոգում | E16: =+'8'!F27 -> Գերմանիայի զարգացման վարկերի բանկի աջակցությամբ իրականացվող Ախուրյան գետի ջրային ռեսուրսների ինտեգրացված կառավարման ծրագրի երկրորդ փուլ | F16: Պետական մարմինների կողմից օգտագործվող ոչ ֆինանսական ակտիվների հետ գործառնություններ | G16: =+'8'!J26 -> 0 | H16: =+'8'!K26 -> -1284415.6
B17: 1019 | D17: Սոցիալական ներդրումների և տեղական զարգացման ծրագիր | E17: Նպաստել տարածքներում բնակչության նյութական և ոչ նյութական բարեկեցության աճին | F17: Համայնքային և միջհամայնքային ենթակառուցվածքների և որակի հասանելիության բարելավում, ինստիտուցիոնալ և ֆինանասական կարողությունների հզորացում | G17: =+G18+G19+G20 -> -450038.2 | H17: =+H18+H19+H20 -> -546118.8 | J17: =+G17-'8'!J32 -> 0 | K17: =+H17-'8'!K32 -> 0
C18: 1019 - 11004 | D18: =+'8'!E33 -> ԱՄՆ ՄԶԳ աջակցությամբ իրականացվող Տեղականինքնակառավարման և ապակենտրոնացման բարեփոխումների դրամաշնորհային ծրագրի կառավարում | E18: =+'8'!F34 -> ԱՄՆ ՄԶԳ աջակցությամբ իրականացվող Տեղական ինքնակառավարման և ապակենտրոնացման բարեփոխումների դրամաշնորհային ծրագրի իրականացման նպատակով ծրագերի կառավարման ծախսեր և Տեղական կառավարման համակարգերի հզորացման,ապակենտրոնացման գործընթացներին աջակցության նպատակով խորհրդատվություն և ուսուցում | F18: Ծառայությունների մատուցում | G18: =+'8'!J33 -> -76102.5 | H18: =+'8'!K33 -> -172183.1
C19: 1019 - 12004 | D19: =+'8'!E40 -> Համաշխարհային բանկի աջակցությամբ իրականացվող Սոցիալական ներդրումների և տեղական զարգացման ծրագրի լրացուցիչ ֆինանսավորման վարկի շրջանակներում ՀՀ համայնքային և միջհամայնքային ենթակառուցվածքների որակի, օգտագործման և հասանելիության բարելավում | E19: =+'8'!F41 -> Ջրագծերի, առողջապահության, կրթության օբյեկտների, մշակույթային տների, ծերանոցների, մանկատների, հատուկ դպրոցների, մանկապարտզների և կոյուղու օբյեկտնրի հիմն. և շինարարություն., գույքի և սարքավորումների տրամադրում շահառու ենթածրագրերի համար | F19: =+'8'!G42 -> Տրանսֆերտների տրամադրում | G19: =+'8'!J40 -> -146448 | H19: =+'8'!K40 -> -146448
C20: 1019 - 12005 | D20: =+'8'!E44 -> ԱՄՆ ՄԶԳ աջակցությամբ իրականացվող Տեղականինքնակառավարման և ապակենտրոնացման բարեփոխումների դրամաշնորհային ծրագրի շրջանակներում Տեղական կառավարման համակարգերի հզորացում,ապակենտրոնացման գործընթացներին աջակցություն, պիլոտային ծրագրերի իրականացում | E20: =+'8'!F45 -> ԱՄՆ ՄԶԳ աջակցությամբ իրականացվող Տեղականինքնակառավարման և ապակենտրոնացմանբարեփոխումների դրամաշնորհային ծրագրիշրջանակներում մեքենասարքավորումներիտրամադրում և համայնքային մակարդակիենթակառուցվածքների կառուցում և վերականգնում | F20: =+'8'!G46 -> Տրանսֆերտների տրամադրում | G20: =+'8'!J44 -> -227487.7 | H20: =+'8'!K44 -> -227487.7
B21: 1072 | D21: Ջրամատակարարաման և ջրահեռացման բարելավում | E21: Ջրամատակարարման ծառայությունների հասանելիության և մատչելիության ապահովում | F21: Խմելու ջրի մատակարարման և ջրահեռացման համակարգի բարելավում, կորուստների կրճատում | G21: =SUM(G22:G26) -> 90150 | H21: =SUM(H22:H26) -> -848324.7 | J21: =+G21-'8'!J49 -> 0 | K21: =+H21-'8'!K49 -> 0
C22: 1072 - 12001 | D22: =+'7'!D55 -> Գերմանիայի զարգացման և Եվրոպական միության հարևանության ներդրումային բանկի աջակցությամբ իրականացվող ջրամատակարարման և ջրահեռացման ենթակառուցվածքների դրամաշնորհային ծրագիր` երրորդ փուլ | E22: 579 գյուղական բնակավայրերից ընտրված որոշ համայնքների ջրամատակարարման և ջրահեռացման համակարգերի հատվածների հրատապ վերականգնման աշխատանքների իրականացում ինչպես նաև՛ Արմավիրի կեղտաջրերի մաքրման կայանի կառուցում | F22: Տրանսֆերտների տրամադրում | G22: =+'7'!E55 -> 90150 | H22: =+'7'!H53 -> 150
C23: 1072 - 12004 | D23: =+'8'!E54 -> Մաքրման կայանների պահպանություն | E23: =+'8'!F55 -> Մաքրման կայանների պահպանության նպատակով համապատասխան ծառայությունների ձեռքբերում | F23: Ծառայությունների մատուցում | G23: =+'8'!J54 -> 0 | H23: =+'8'!K54 -> 7200
C24: 1072 - 31001 | D24: =+'8'!E59 -> Գերմանիայի զարգացման վարկերի բանկի աջակցությամբ իրականացվող ջրամատակարարման և ջրահեռացման ենթակառուցվածքների վերականգնման ծրագրի երրորդ փուլի շրջանակներում ջրամատակարարման և ջրահեռացման ենթակառուցվածքների հիմնանորոգում | E24: =+'8'!F60 -> 6 քաղաքների և 37 գյուղական բնակավայրերի ջրամատակարարման և ջրահեռացման համակարգերի հատվածների հրատապ (մասնակի) վերականգնման աշխատանքներ | F24: =+'8'!G61 -> Պետական մարմինների կողմից օգտագործվող ոչ ֆինանսական ակտիվների հետ գործառնություններ | G24: =+'8'!J59 -> 0 | H24: =+'8'!K59 -> 80100
C25: 1072 - 31002 | D25: =+'8'!E66 -> Եվրոպական ներդրումային բանկի աջակցությամբ իրականացվող ջրամատակարարման և ջրահեռացման ենթակառուցվածքների վերականգնման ծրագրի երրորդ փուլի շրջանակներում ջրամատակարարման և ջրահեռացման ենթակառուցվածքների հիմնանորոգում | E25: =+'8'!F67 -> 6 քաղաքների և 37 գյուղական բնակավայրերի ջրամատակարարման և ջրահեռացման համակարգերի հատվածների հրատապ (մասնակի) վերականգնման աշխատանքներ | F25: Պետական մարմինների կողմից օգտագործվող ոչ ֆինանսական ակտիվների հետ գործառնություններ | G25: =+'8'!J66 -> 0 | H25: =+'8'!K66 -> -1035774.7
C26: 1072 - 31003 | D26: =+'8'!E71 -> Եվրոպակական ներդրումային բանկի աջակցությամբ իրականացվող Երևանի ջրամատակարարման բարելավման ծրագրի շրջանակներում ջրամատակարարման և ջրահեռացման ենթակառուցվածքների հիմնանորոգում | E26: =+'8'!F72 -> Երևանի ջրամատակարարման ցանցի բարելավման աշխատանքներ | F26: Պետական մարմինների կողմից օգտագործվող ոչ ֆինանսական ակտիվների հետ գործառնություններ | G26: =+'8'!J71 -> 0 | H26: =+'8'!K71 -> 100000
A27: ՀՀ կրթության, գիտության, մշակույթի և սպորտի նախարարություն | G27: =+G28 -> 1507200 | H27: =+H28 -> 3206252.6
B28: 1189 | D28: Դպրոցների սեյսմիկ անվտանգության մակարդակի բարձրացման ծրագիր | E28: Նպաստել երկրի սեյսմակայունության ապահովմանը, անհատական և հասարակական անվտանգության մակարդակի բարձրացմանը | F28: Դպրոցական շենքերի սեյսմակայունության մակարդակի բարձրացում | G28: =SUM(G29:G30) -> 1507200 | H28: =SUM(H29:H30) -> 3206252.6 | J28: =+G28-'8'!J77 -> 0 | K28: =+H28-'8'!K77 -> 0
C29: 1189 - 12001 | D29: Ասիական զարգացման բանկի աջակցությամբ իրականացվող դպրոցների սեյսմիկ պաշտպանության ծրագրի շրջանակներում ՀՀ դպրոցների սեյսմիկ անվտանգության բարելավմանն ուղղված միջոցառումներ | E29: Դպրոցների շենքերի ամրացման շինարարական աշխատանքներ, շինարարական ստանդարտների արդիականացում, արտակարգ իրավիճակներին արձագանքման ծրագրի մշակում, սեյսմիկ մոնիտորինգի դիտակետերի սարքավորումների արդիականացում: | F29: Տրանսֆերտների տրամադրում | G29: =+'8'!J78 -> 507200 | H29: =+'8'!K78 -> 500000
C30: 1189 - 12003 | D30: Ասիական զարգացման բանկի աջակցությամբ իրականացվող դպրոցների սեյսմիկ պաշտպանության ծրագրի լրացուցիչ ֆինանսավորման շրջանակներում ՀՀ դպրոցների սեյսմիկ անվտանգության բարելավմանն ուղղված միջոցառումներ | E30: Դպրոցների սեյսմիկ պաշտպանության լրացուցիչ ֆինանսավորման ծրագիր, դպրոցների շենքերի կառուցման, ամրացման շինարարական աշխատանքներ, շինարարական ստանդարտների արդիականացում, արտակարգ իրավիճակներին արձագանքման ծրագրի մշակում | F30: Տրանսֆերտների տրամադրում | G30: =+'8'!J82 -> 1000000 | H30: =+'8'!K82 -> 2706252.6
A31: ՀՀ ՖԻՆԱՆՍՆԵՐԻ ՆԱԽԱՐԱՐՈՒԹՅՈՒՆ | G31: =+G32 -> -1000000 | H31: =+H32 -> -532295.7
B32: 1006 | D32: Պետական պարտքի կառավարում | E32: Կառավարության ֆինանսական կարիքների բավարարման մշտական հնարավորության ապահովումը` երկարաժամկետ հատվածում նվազեցնելով պարտքի սպասարկման մեծությունը | F32: Կառավարության պարտքի օպտիմալ կառուցվածքի ձևավորում՛ հաշվի առնելով պոտենցիալ ռիսկերը | G32: =+G33 -> -1000000 | H32: =+H33 -> -532295.7
C33: 1006 - 13001 | D33: Կառավարության պարտքի սպասարկում | E33: Կառավարության պարտքի սպասարկում (տոկոսավճարներ) | F33: Ֆինանսավորման ծախսերի իրականացում | G33: =+'4'!H218 -> -1000000 | H33: =+'4'!I218 -> -532295.7
A34: ՀՀ կառավարություն | G34: =G35 -> 0 | H34: =H35 -> 0
B35: 1139 | D35: ՀՀ կառավարության պահուստային ֆոնդ | E35: Պետական բյուջեում չկանխատեսված, ինչպես նաեւ բյուջետային երաշխիքների ապահովման ծախսերի ֆինանսավորման ապահովում | F35: Պահուստային ֆոնդի կառավարման արդյունավետության և թափանցիկության ապահովում | G35: =G36+G37 -> 0 | H35: =H36+H37 -> 0
C36: 1139 - 11001 | D36: ՀՀ կառավարության պահուստային ֆոնդ | E36: ՀՀ պետական բյուջեում նախատեսված ելքերի լրացուցիչ ֆինանսավորման, պետական բյուջեում չկանխատեսված ելքերի, ինչպես նաև բյուջետային երաշխիքների ապահովման ելքերի ֆինանսավորման ապահովում | F36: Ծառայությունների մատուցում | G36: =+'9'!J96 -> 0 | H36: =+'9'!K96 -> -7200
C37: 1139 - 11001 | D37: ՀՀ կառավարության պահուստային ֆոնդ | E37: ՀՀ պետական բյուջեում նախատեսված ելքերի լրացուցիչ ֆինանսավորման, պետական բյուջեում չկանխատեսված ելքերի, ինչպես նաև բյուջետային երաշխիքների ապահովման ելքերի ֆինանսավորման ապահովում | F37: Ծառայությունների մատուցում | G37: =+'9'!J100 -> 0 | H37: =+'9'!K100 -> 7200

Sheet 4
B1: Հավելված N4
B2: ՀՀ կառավարության 2025 թվականի
B3: -ի N -Ն որոշման
B4: ՀԱՅԱՍՏԱՆԻ ՀԱՆՐԱՊԵՏՈՒԹՅԱՆ ԿԱՌԱՎԱՐՈՒԹՅԱՆ 2024 ԹՎԱԿԱՆԻ ԴԵԿՏԵՄԲԵՐԻ 27-Ի N 2060-Ն ՈՐՈՇՄԱՆ N 3 ԵՎ N 4 ՀԱՎԵԼՎԱԾՆԵՐՈՒՄ ԿԱՏԱՐՎՈՂ ՓՈՓՈԽՈՒԹՅՈՒՆՆԵՐԸ ԵՎ ԼՐԱՑՈՒՄՆԵՐԸ
B6: Գործառական դասիչը | E6: Ծրագրային դասիչը | G6: Բյուջետային ծախսերի գործառական դասակարգման բաժինների, խմբերի և դասերի, բյուջետային ծրագրերի միջոցառումների, բյուջետային հատկացումների գլխավոր կարգադրիչների անվանումները | H6: Ցուցանիշների փոփոխությունը (ավելացումները նշված են դրական նշանով, իսկ նվազեցումները՝ փակագծերում)
B7: Բաժին | C7: Խումբ | D7: Դաս | E7: Ծրագիր | F7: Միջոցառում | H7: Ինն ամիս | I7: Տարի
G8: ԸՆԴԱՄԵՆԸ ԾԱԽՍԵՐ | H8: =+H10+H178+H207 -> -303440.2 | I8: =+I10+I178+I207 -> -399520.8 | K8: =+H8-'5'!#REF!-'6'!E11-'7'!E11 -> #REF! | L8: =+I8-'5'!H12-'6'!H11-'7'!H11 -> -532295.7
G9: այդ թվում`
G10: ՀՀ տարածքային կառավարման և ենթակառուցվածքների նախարարություն | H10: =+H11+H115 -> -810640.2 | I10: =+I11+I115 -> -3073477.7 | L10: =+I8-'[1]10. ՀՀ կառ. որոշ. նախագ'!$Y$8 -> 7200
B11: 04 | G11: ՏՆՏԵՍԱԿԱՆ ՀԱՐԱԲԵՐՈՒԹՅՈՒՆՆԵՐ | H11: =+H13+H61 -> -900790.2 | I11: =+I13+I61 -> -2225153 | L11: =+I8-'[1]10. ՀՀ կառ. որոշ. նախագ'!$Z$8 -> 6.9849193e-10
G12: այդ թվում`
C13: 02 | G13: Գյուղատնտեսություն, անտառային տնտեսություն, ձկնորսություն և որսորդություն | H13: =H15 -> -450752 | I13: =I15 -> -1679034.2
G14: այդ թվում`
D15: 04 | G15: Ոռոգում | H15: =+H17 -> -450752 | I15: =+I17 -> -1679034.2
G16: այդ թվում`
G17: ՀՀ տարածքային կառավարման և ենթակառուցվածքների նախարարություն | H17: =+H19 -> -450752 | I17: =+I19 -> -1679034.2
G18: այդ թվում`
E19: 1004 | G19: Ոռոգման համակարգի առողջացում | H19: =+H21+H32+H41+H52 -> -450752 | I19: =+I21+I32+I41+I52 -> -1679034.2 | K19: =+H19-'6'!E16 -> 0 | L19: =+I19-'6'!H16 -> 0
G20: այդ թվում`
F21: =+'6'!C18 -> 11005 | G21: =+'6'!D18 -> Եվրասիական զարգացման բանկի աջակցությամբ իրականացվող ոռոգման համակարգերի զարգացման ծրագրի խորհրդատվություն և կառավարում | H21: =H23 -> -219833.2 | I21: =I23 -> -219833.2
G22: այդ թվում` ըստ կատարողների
G23: ՀՀ տարածքային կառավարման և ենթակառուցվածքների նախարարության ջրային կոմիտե | H23: =H25 -> -219833.2 | I23: =I25 -> -219833.2
G24: այդ թվում` բյուջետային ծախսերի տնտեսագիտական դասակարգման հոդվածներ
G25: ԸՆԴԱՄԵՆԸ ԾԱԽՍԵՐ | H25: =H26 -> -219833.2 | I25: =I26 -> -219833.2
G26: ԸՆԹԱՑԻԿ ԾԱԽՍԵՐ | H26: =H30+H27 -> -219833.2 | I26: =I30+I27 -> -219833.2
G27: ԱՇԽԱՏԱՆՔԻ ՎԱՐՁԱՏՐՈՒԹՅՈՒՆ | H27: =+H28 -> -24881 | I27: =+I28 -> -24881
G28: Դրամով վճարվող աշխատավարձեր և հավելավճարներ | H28: =H29 -> -24881 | I28: =I29 -> -24881
G29: - Աշխատողների աշխատավարձեր և հավելավճարներ | H29: =+'6'!E26 -> -24881 | I29: =+'6'!H26 -> -24881
G30: =+'6'!D27 -> ԱՅԼ ԾԱԽՍԵՐ | H30: =+H31 -> -194952.2 | I30: =+I31 -> -194952.2
G31: =+'6'!D28 -> Այլ ծախսեր | H31: =+'6'!E28 -> -194952.2 | I31: =+'6'!H28 -> -194952.2
F32: 31004 | G32: Գերմանիայի զարգացման վարկերի բանկի աջակցությամբ իրականացվող Ախուրյան գետի ջրային ռեսուրսների ինտեգրված կառավարման ծրագրի շրջանակներում ջրային տնտեսության ենթակառուցվածքների հիմնանորոգում | H32: =H34 -> -172518.8 | I32: =I34 -> -116385.4
G33: այդ թվում` ըստ կատարողների
G34: ՀՀ տարածքային կառավարման և ենթակառուցվածքների նախարարության ջրային կոմիտե | H34: =H36 -> -172518.8 | I34: =I36 -> -116385.4
G35: այդ թվում` բյուջետային ծախսերի տնտեսագիտական դասակարգման հոդվածներ
G36: ԸՆԴԱՄԵՆԸ ԾԱԽՍԵՐ | H36: =H37 -> -172518.8 | I36: =I37 -> -116385.4
G37: ՈՉ ՖԻՆԱՆՍԱԿԱՆ ԱԿՏԻՎՆԵՐԻ ԳԾՈՎ ԾԱԽՍԵՐ | H37: =H38 -> -172518.8 | I37: =I38 -> -116385.4
G38: ՀԻՄՆԱԿԱՆ ՄԻՋՈՑՆԵՐ | H38: =H39 -> -172518.8 | I38: =I39 -> -116385.4
G39: ՇԵՆՔԵՐ ԵՎ ՇԻՆՈՒԹՅՈՒՆՆԵՐ | H39: =H40 -> -172518.8 | I39: =I40 -> -116385.4
G40: - Շենքերի և շինությունների շինարարություն | H40: =+'6'!E37 -> -172518.8 | I40: =+'6'!H37 -> -116385.4
F41: =+'6'!C38 -> 31005 | G41: =+'6'!D38 -> Եվրասիական զարգացման բանկի աջակցությամբ իրականացվող ոռոգման համակարգերի զարգացման ծրագրի շրջանակներում ջրային տնտեսության ենթակառուցվածքների հիմնանորոգում | H41: =H43 -> -58400 | I41: =I43 -> -58400
G42: այդ թվում` ըստ կատարողների
G43: ՀՀ տարածքային կառավարման և ենթակառուցվածքների նախարարության ջրային կոմիտե | H43: =H45 -> -58400 | I43: =I45 -> -58400
G44: այդ թվում` բյուջետային ծախսերի տնտեսագիտական դասակարգման հոդվածներ
G45: ԸՆԴԱՄԵՆԸ ԾԱԽՍԵՐ | H45: =H46 -> -58400 | I45: =I46 -> -58400
G46: ՈՉ ՖԻՆԱՆՍԱԿԱՆ ԱԿՏԻՎՆԵՐԻ ԳԾՈՎ ԾԱԽՍԵՐ | H46: =H47 -> -58400 | I46: =I47 -> -58400
G47: ՀԻՄՆԱԿԱՆ ՄԻՋՈՑՆԵՐ | H47: =+H50+H48 -> -58400 | I47: =+I50+I48 -> -58400
G48: ՇԵՆՔԵՐ ԵՎ ՇԻՆՈՒԹՅՈՒՆՆԵՐ | H48: =H49 -> -18400 | I48: =I49 -> -18400
G49: - Շենքերի և շինությունների շինարարություն | H49: =+'6'!E46 -> -18400 | I49: =+'6'!H46 -> -18400
G50: ՄԵՔԵՆԱՆԵՐ ԵՎ ՍԱՐՔԱՎՈՐՈՒՄՆԵՐ | H50: =H51 -> -40000 | I50: =I51 -> -40000
G51: - Այլ մեքենաներ և սարքավորումներ | H51: =+'6'!E48 -> -40000 | I51: =+'6'!H48 -> -40000
F52: =+'6'!C49 -> 31006 | G52: =+'6'!D49 -> Գերմանիայի զարգացման վարկերի բանկի աջակցությամբ իրականացվող Ախուրյան գետի ջրային ռեսուրսների ինտեգրացված կառավարման ծրագրի երկրորդ փուլի շրջանակներում ջրային տնտեսության ենթակառուցվածքների հիմնանորոգում | H52: =H54 -> 0 | I52: =I54 -> -1284415.6
G53: այդ թվում` ըստ կատարողների
G54: ՀՀ տարածքային կառավարման և ենթակառուցվածքների նախարարության ջրային կոմիտե | H54: =H56 -> 0 | I54: =I56 -> -1284415.6
G55: այդ թվում` բյուջետային ծախսերի տնտեսագիտական դասակարգման հոդվածներ
G56: ԸՆԴԱՄԵՆԸ ԾԱԽՍԵՐ | H56: =H57 -> 0 | I56: =I57 -> -1284415.6
G57: ՈՉ ՖԻՆԱՆՍԱԿԱՆ ԱԿՏԻՎՆԵՐԻ ԳԾՈՎ ԾԱԽՍԵՐ | H57: =H58 -> 0 | I57: =I58 -> -1284415.6
G58: ՀԻՄՆԱԿԱՆ ՄԻՋՈՑՆԵՐ | H58: =H59 -> 0 | I58: =I59 -> -1284415.6
G59: ՇԵՆՔԵՐ ԵՎ ՇԻՆՈՒԹՅՈՒՆՆԵՐ | H59: =H60 -> 0 | I59: =I60 -> -1284415.6
G60: - Շենքերի և շինությունների շինարարություն | H60: =+'6'!E57 -> 0 | I60: =+'6'!H57 -> -1284415.6
C61: 09 | G61: Տնտեսական հարաբերություններ (այլ դասերին չպատկանող) | H61: =H63 -> -450038.2 | I61: =I63 -> -546118.8
G62: այդ թվում`
D63: 01 | G63: Տնտեսական հարաբերություններ (այլ դասերին չպատկանող) | H63: =H65 -> -450038.2 | I63: =I65 -> -546118.8
G64: այդ թվում`
G65: ՀՀ տարածքային կառավարման և ենթակառուցվածքների նախարարություն | H65: =H67 -> -450038.2 | I65: =I67 -> -546118.8
G66: այդ թվում`
E67: 1019 | G67: Սոցիալական ներդրումների և տեղական զարգացման ծրագիր | H67: =+H69+H93+H104 -> -450038.2 | I67: =+I69+I93+I104 -> -546118.8 | K67: =+H67-'6'!E58-'7'!E16 -> 0 | L67: =+I67-'6'!H58-'7'!H16 -> 0
G68: այդ թվում`
F69: =+'7'!C18 -> 11004 | G69: =+'7'!D18 -> ԱՄՆ ՄԶԳ աջակցությամբ իրականացվող Տեղականինքնակառավարման և ապակենտրոնացման բարեփոխումների դրամաշնորհային ծրագրի կառավարում | H69: =H71 -> -76102.5 | I69: =I71 -> -172183.1
G70: այդ թվում` ըստ կատարողների
G71: ՀՀ տարածքային կառավարման և ենթակառուցվածքների նախարարություն | H71: =H73 -> -76102.5 | I71: =I73 -> -172183.1
G72: այդ թվում` բյուջետային ծախսերի տնտեսագիտական դասակարգման հոդվածներ
G73: ԸՆԴԱՄԵՆԸ ԾԱԽՍԵՐ | H73: =H74 -> -76102.5 | I73: =I74 -> -172183.1
G74: ԸՆԹԱՑԻԿ ԾԱԽՍԵՐ | H74: =+H91+H75 -> -76102.5 | I74: =+I91+I75 -> -172183.1
G75: =+'7'!D24 -> ԾԱՌԱՅՈՒԹՅՈՒՆՆԵՐԻ ԵՎ ԱՊՐԱՆՔՆԵՐԻ ՁԵՌՔԲԵՐՈՒՄ | H75: =+H76+H78+H84+H87 -> -56627.5 | I75: =+I76+I78+I84+I87 -> -76114.1
G76: =+'7'!D25 -> Շարունակական ծախսեր | H76: =H77 -> -383.9 | I76: =I77 -> -383.9
G77: =+'7'!D26 -> - Ապահովագրական ծախսեր | H77: =+'7'!E26 -> -383.9 | I77: =+'7'!H26 -> -383.9
G78: =+'7'!D27 -> Պայմանագրային այլ ծառայությունների ձեռքբերում | H78: =+SUM(H79:H83) -> -49519.7 | I78: =+SUM(I79:I83) -> -67575.4
G79: =+'7'!D28 -> - Վարչական ծառայություններ | H79: =+'7'!E28 -> -153.1 | I79: =+'7'!H28 -> -153.1
G80: =+'7'!D29 -> - Աշխատակազմի մասնագիտական զարգացման ծառայություններ | H80: =+'7'!E29 -> -306.2 | I80: =+'7'!H29 -> -306.2
G81: =+'7'!D30 -> - Տեղեկատվական ծառայություններ | H81: =+'7'!E30 -> -204.1 | I81: =+'7'!H30 -> -204.1
G82: =+'7'!D31 -> - Կառավարչական ծառայություններ | H82: =+'7'!E31 -> -48611.4 | I82: =+'7'!H31 -> -66667.1
G83: =+'7'!D32 -> - Ներկայացուցչական ծախսեր | H83: =+'7'!E32 -> -244.9 | I83: =+'7'!H32 -> -244.9
G84: =+'7'!D33 -> Ընթացիկ նորոգում և պահպանում (ծառայություններ և նյութեր) | H84: =+H85+H86 -> -1408.2 | I84: =+I85+I86 -> -1939.1
G85: =+'7'!D34 -> - Շենքերի և կառույցների ընթացիկ նորոգում և պահպանում | H85: =+'7'!E34 -> -1000 | I85: =+'7'!H34 -> -1530.9
G86: =+'7'!D35 -> - Մեքենաների և սարքավորումների ընթացիկ նորոգում և պահպանում | H86: =+'7'!E35 -> -408.2 | I86: =+'7'!H35 -> -408.2
G87: =+'7'!D36 -> Նյութեր (Ապրանքներ) | H87: =SUM(H88:H90) -> -5315.7 | I87: =SUM(I88:I90) -> -6215.7
G88: =+'7'!D37 -> - Գրասենյակային նյութեր և հագուստ | H88: =+'7'!E37 -> -1600 | I88: =+'7'!H37 -> -2500
G89: =+'7'!D38 -> - Տրանսպորտային նյութեր | H89: =+'7'!E38 -> -3231 | I89: =+'7'!H38 -> -3231
G90: =+'7'!D39 -> - Կենցաղային և հանրային սննդի նյութեր | H90: =+'7'!E39 -> -484.7 | I90: =+'7'!H39 -> -484.7
G91: =+'7'!D40 -> ԱՅԼ ԾԱԽՍԵՐ | H91: =H92 -> -19475 | I91: =I92 -> -96069
G92: =+'7'!D41 -> Այլ ծախսեր | H92: =+'7'!E41 -> -19475 | I92: =+'7'!H41 -> -96069
F93: =+'6'!C60 -> 12004 | G93: =+'6'!D60 -> Համաշխարհային բանկի աջակցությամբ իրականացվող Սոցիալական ներդրումների և տեղական զարգացման ծրագրի լրացուցիչ ֆինանսավորման վարկի շրջանակներում ՀՀ համայնքային և միջհամայնքային ենթակառուցվածքների որակի, օգտագործման և հասանելիության բարելավում | H93: =H95 -> -146448 | I93: =I95 -> -146448
G94: այդ թվում` ըստ կատարողների
G95: ՀՀ տարածքային կառավարման և ենթակառուցվածքների նախարարություն | H95: =H97 -> -146448 | I95: =I97 -> -146448
G96: այդ թվում` բյուջետային ծախսերի տնտեսագիտական դասակարգման հոդվածներ
G97: ԸՆԴԱՄԵՆԸ ԾԱԽՍԵՐ | H97: =H98 -> -146448 | I97: =I98 -> -146448
G98: ՈՉ ՖԻՆԱՆՍԱԿԱՆ ԱԿՏԻՎՆԵՐԻ ԳԾՈՎ ԾԱԽՍԵՐ | H98: =H99 -> -146448 | I98: =I99 -> -146448
G99: ՀԻՄՆԱԿԱՆ ՄԻՋՈՑՆԵՐ | H99: =+H102+H100 -> -146448 | I99: =+I102+I100 -> -146448
G100: ՇԵՆՔԵՐ ԵՎ ՇԻՆՈՒԹՅՈՒՆՆԵՐ | H100: =H101 -> -21248 | I100: =I101 -> -21248
G101: - Շենքերի և շինությունների շինարարություն | H101: =+'6'!E68 -> -21248 | I101: =+'6'!H68 -> -21248
...

Sheet 5
H1: Հավելված N 5
H2: ՀՀ կառավարության 2025 թվականի
B3: -ի N -Ն որոշման
B6: ՀԱՅԱՍՏԱՆԻ ՀԱՆՐԱՊԵՏՈՒԹՅԱՆ ԿԱՌԱՎԱՐՈՒԹՅԱՆ 2023 ԹՎԱԿԱՆԻ ԴԵԿՏԵՄԲԵՐԻ 27-Ի N 2060-Ն ՈՐՈՇՄԱՆ N 5 ՀԱՎԵԼՎԱԾԻ N 7 ԱՂՅՈՒՍԱԿՈՒՄ ԿԱՏԱՐՎՈՂ ԼՐԱՑՈՒՄԸ
H8: հազար դրամներով
B9: Ծրագրային դասիչ | D9: Բյուջետային հատկացումների գլխավոր կարգադրիչների, ծրագրերի, միջոցառումների, ծախսային ուղղությունների անվանումները | G9: Միջոցառումները կատարող պետական մարմինների և դրամաշնորհ ստացող տնտեսվարող սուբյեկտների անվանումները | H9: Ցուցանիշների փոփոխությունը (ավելացումները նշված են դրական նշանով)
B10: Ծրագիր | C10: Միջոցառում | H10: Տարի
B11: 1 | C11: 2 | D11: 3 | G11: 4 | H11: 5
B12: ՀՀ տարածքային կառավարման և ենթակառուցվածքների նախարարություն | H12: =+H13 -> 7200
B13: 1072 | C13: Ջրամատակարարաման և ջրահեռացման բարելավում | H13: =+H14 -> 7200
C14: 12004 | D14: Մաքրման կայանների պահպանություն | G14: ՀՀ տարածքային կառավարման և ենթակառուցվածքների նախարարություն | H14: =+H15 -> 7200
G15: Հայաստանի տարածքային զարգացման հիմնադրամ | H15: 7200

Sheet 6
J1: Հավելված N 6
H2: ՀՀ կառավարության 2025 թվականի
H3: ______________ ի ___Ն որոշման
B5: «ՀԱՅԱUՏԱՆԻ ՀԱՆՐԱՊԵՏՈՒԹՅԱՆ 2025 ԹՎԱԿԱՆԻ ՊԵՏԱԿԱՆ ԲՅՈՒՋԵԻ ՄԱUԻՆ» OՐԵՆՔԻ N 1 ՀԱՎԵԼՎԱԾԻ N 4 ԱՂՅՈՒՍԱԿՈՒՄ ԵՎ ՀԱՅԱՍՏԱՆԻ ՀԱՆՐԱՊԵՏՈՒԹՅԱՆ ԿԱՌԱՎԱՐՈՒԹՅԱՆ 2024 ԹՎԱԿԱՆԻ ԴԵԿՏԵՄԲԵՐԻ 27-Ի N 2060-Ն ՈՐՈՇՄԱՆ N 5 ՀԱՎԵԼՎԱԾԻ N 3 ԱՂՅՈՒՍԱԿՈՒՄ ԿԱՏԱՐՎՈՂ ՓՈՓՈԽՈՒԹՅՈՒՆՆԵՐԸ ԵՎ ԼՐԱՑՈՒՄՆԵՐԸ
I6: հազար դրամներով
B7: Ծրագրային դասիչը | D7: Բյուջետային գլխավոր կարգադրիչների, ծրագրերի և միջոցառումների անվանումները | E7: Ցուցանիշների փոփոխությունը (ավելացումները նշված են դրական նշանով, իսկ նվազեցումները` փակագծերում)
E8: Ինն ամիս | H8: Տարի
E9: Ընդամենը | F9: այդ թվում` | H9: Ընդամենը | I9: այդ թվում`
B10: Ծրագիր | C10: Միջոցառում | F10: Վարկային միջոցներ | G10: Համաֆինան սավորում | I10: Վարկային միջոցներ | J10: Համաֆինան սավորում
D11: ԸՆԴԱՄԵՆԸ | E11: =+F11+G11 -> 910000 | F11: =+F15+F104 -> 0 | G11: =+G15+G104 -> 910000 | H11: =+I11+J11 -> 525095.7 | I11: =+I15+I104 -> 0 | J11: =+J15+J104 -> 525095.7
D12: այդ թվում`
D13: ԸՆԹԱՑԻԿ ԾԱԽՍԵՐ | E13: =+F13+G13 -> -219833.2 | F13: =+F23+F78 -> -175000 | G13: =+G23+G78 -> -44833.2 | H13: =+H23+H78 -> -219733.2 | I13: =+I23+I78 -> -174900 | J13: =+J23+J78 -> -44833.2
D14: ՈՉ ՖԻՆԱՆՍԱԿԱՆ ԱԿՏԻՎՆԵՐԻ ԳԾՈՎ ԾԱԽՍԵՐ | E14: =+F14+G14 -> 1129833.2 | F14: =+F34+F43+F54+F65+F82+F91+F100+F112+F121 -> 175000 | G14: =+G34+G43+G54+G65+G82+G91+G100+G112+G121 -> 954833.2 | H14: =+H34+H43+H54+H65+H82+H91+H100+H112+H121 -> 744828.9 | I14: =+I34+I43+I54+I65+I82+I91+I100+I112+I121 -> 174900 | J14: =+J34+J43+J54+J65+J82+J91+J100+J112+J121 -> 569928.9
D15: ՀՀ ՏԱՐԱԾՔԱՅԻՆ ԿԱՌԱՎԱՐՄԱՆ ԵՎ ԵՆԹԱԿԱՌՈՒՑՎԱԾՔՆԵՐԻ ՆԱԽԱՐԱՐՈՒԹՅՈՒՆ | E15: =+F15+G15 -> -597200 | F15: =+F16+F58+F71 -> -416666.7 | G15: =+G16+G58+G71 -> -180533.3 | H15: =+I15+J15 -> -2681156.9 | I15: =+I16+I58+I71 -> -2228297 | J15: =+J16+J58+J71 -> -452859.9
B16: 1004 | D16: Ոռոգման համակարգի առողջացում | E16: =+F16+G16 -> -450752 | F16: =+F18+F29+F38+F49 -> -279466.7 | G16: =+G18+G29+G38+G49 -> -171285.3 | H16: =+I16+J16 -> -1679034.2 | I16: =+I18+I29+I38+I49 -> -1317748.9 | J16: =+J18+J29+J38+J49 -> -361285.3
D17: այդ թվում`
C18: 11005 | D18: Եվրասիական զարգացման բանկի աջակցությամբ իրականացվող ոռոգման համակարգերի զարգացման ծրագրի խորհրդատվություն և կառավարում | E18: =+E20 -> -219833.2 | F18: =+F20 -> -175000 | G18: =+G20 -> -44833.2 | H18: =+H20 -> -219833.2 | I18: =+I20 -> -175000 | J18: =+J20 -> -44833.2
D19: այդ թվում` ըստ կատարողների
D20: ՀՀ տարածքային կառավարման և ենթակառուցվածքների նախարարության ջրային կոմիտե | E20: =+E22 -> -219833.2 | F20: =+F22 -> -175000 | G20: =+G22 -> -44833.2 | H20: =+H22 -> -219833.2 | I20: =+I22 -> -175000 | J20: =+J22 -> -44833.2
D21: այդ թվում` բյուջետային ծախսերի տնտեսագիտական դասակարգման հոդվածներ
D22: ԸՆԴԱՄԵՆԸ ԾԱԽՍԵՐ | E22: =+F22+G22 -> -219833.2 | F22: =+F23 -> -175000 | G22: =+G23 -> -44833.2 | H22: =+I22+J22 -> -219833.2 | I22: =+I23 -> -175000 | J22: =+J23 -> -44833.2
D23: ԸՆԹԱՑԻԿ ԾԱԽՍԵՐ | E23: =+F23+G23 -> -219833.2 | F23: =+F27+F24 -> -175000 | G23: =+G27+G24 -> -44833.2 | H23: =+I23+J23 -> -219833.2 | I23: =+I27+I24 -> -175000 | J23: =+J27+J24 -> -44833.2
D24: ԱՇԽԱՏԱՆՔԻ ՎԱՐՁԱՏՐՈՒԹՅՈՒՆ | E24: =+F24+G24 -> -24881 | F24: =+F25 -> -24000 | G24: =+G25 -> -881 | H24: =+I24+J24 -> -24881 | I24: =+I25 -> -24000 | J24: =+J25 -> -881
D25: Դրամով վճարվող աշխատավարձեր և հավելավճարներ | E25: =+F25+G25 -> -24881 | F25: =+F26 -> -24000 | G25: =+G26 -> -881 | H25: =+I25+J25 -> -24881 | I25: =+I26 -> -24000 | J25: =+J26 -> -881
D26: - Աշխատողների աշխատավարձեր և հավելավճարներ | E26: =+F26+G26 -> -24881 | F26: -24000 | G26: -881 | H26: =+I26+J26 -> -24881 | I26: -24000 | J26: -881
D27: ԱՅԼ ԾԱԽՍԵՐ | E27: =+F27+G27 -> -194952.2 | F27: =+F28 -> -151000 | G27: =+G28 -> -43952.2 | H27: =+I27+J27 -> -194952.2 | I27: =+I28 -> -151000 | J27: =+J28 -> -43952.2
D28: Այլ ծախսեր | E28: =+F28+G28 -> -194952.2 | F28: -151000 | G28: -43952.2 | H28: =+I28+J28 -> -194952.2 | I28: -151000 | J28: =-43952.2 -> -43952.2
C29: 31004 | D29: Գերմանիայի զարգացման վարկերի բանկի աջակցությամբ իրականացվող Ախուրյան գետի ջրային ռեսուրսների ինտեգրված կառավարման ծրագրի շրջանակներում ջրային տնտեսության ենթակառուցվածքների հիմնանորոգում | E29: =+E31 -> -172518.8 | F29: =+F31 -> -56133.4 | G29: =+G31 -> -116385.4 | H29: =+H31 -> -116385.4 | I29: =+I31 -> 0 | J29: =+J31 -> -116385.4
D30: այդ թվում` ըստ կատարողների
D31: ՀՀ տարածքային կառավարման և ենթակառուցվածքների նախարարության ջրային կոմիտե | E31: =+E33 -> -172518.8 | F31: =+F33 -> -56133.4 | G31: =+G33 -> -116385.4 | H31: =+H33 -> -116385.4 | I31: =+I33 -> 0 | J31: =+J33 -> -116385.4
D32: այդ թվում` բյուջետային ծախսերի տնտեսագիտական դասակարգման հոդվածներ
D33: ԸՆԴԱՄԵՆԸ ԾԱԽՍԵՐ | E33: =+F33+G33 -> -172518.8 | F33: =+F34 -> -56133.4 | G33: =+G34 -> -116385.4 | H33: =+I33+J33 -> -116385.4 | I33: =+I34 -> 0 | J33: =+J34 -> -116385.4
D34: ՈՉ ՖԻՆԱՆՍԱԿԱՆ ԱԿՏԻՎՆԵՐԻ ԳԾՈՎ ԾԱԽՍԵՐ | E34: =+F34+G34 -> -172518.8 | F34: =+F35 -> -56133.4 | G34: =+G35 -> -116385.4 | H34: =+I34+J34 -> -116385.4 | I34: =+I35 -> 0 | J34: =+J35 -> -116385.4
D35: ՀԻՄՆԱԿԱՆ ՄԻՋՈՑՆԵՐ | E35: =+F35+G35 -> -172518.8 | F35: =+F37 -> -56133.4 | G35: =+G37 -> -116385.4 | H35: =+I35+J35 -> -116385.4 | I35: =+I37 -> 0 | J35: =+J37 -> -116385.4
D36: ՇԵՆՔԵՐ ԵՎ ՇԻՆՈՒԹՅՈՒՆՆԵՐ | E36: =+F36+G36 -> -172518.8 | F36: =F37 -> -56133.4 | G36: =G37 -> -116385.4 | H36: =+I36+J36 -> -116385.4 | I36: =I37 -> 0 | J36: =J37 -> -116385.4
D37: - Շենքերի և շինությունների շինարարություն | E37: =+F37+G37 -> -172518.8 | F37: -56133.4 | G37: =+-109185.4-7200 -> -116385.4 | H37: =+I37+J37 -> -116385.4 | I37: 0 | J37: =-109185.4-7200 -> -116385.4
C38: 31005 | D38: Եվրասիական զարգացման բանկի աջակցությամբ իրականացվող ոռոգման համակարգերի զարգացման ծրագրի շրջանակներում ջրային տնտեսության ենթակառուցվածքների հիմնանորոգում | E38: =+E40 -> -58400 | F38: =+F40 -> -48333.3 | G38: =+G40 -> -10066.7 | H38: =+H40 -> -58400 | I38: =+I40 -> -48333.3 | J38: =+J40 -> -10066.7
D39: այդ թվում` ըստ կատարողների
D40: ՀՀ տարածքային կառավարման և ենթակառուցվածքների նախարարության ջրային կոմիտե | E40: =+E42 -> -58400 | F40: =+F42 -> -48333.3 | G40: =+G42 -> -10066.7 | H40: =+H42 -> -58400 | I40: =+I42 -> -48333.3 | J40: =+J42 -> -10066.7
D41: այդ թվում` բյուջետային ծախսերի տնտեսագիտական դասակարգման հոդվածներ
D42: ԸՆԴԱՄԵՆԸ ԾԱԽՍԵՐ | E42: =+F42+G42 -> -58400 | F42: =+F43 -> -48333.3 | G42: =+G43 -> -10066.7 | H42: =+I42+J42 -> -58400 | I42: =+I43 -> -48333.3 | J42: =+J43 -> -10066.7
D43: ՈՉ ՖԻՆԱՆՍԱԿԱՆ ԱԿՏԻՎՆԵՐԻ ԳԾՈՎ ԾԱԽՍԵՐ | E43: =+F43+G43 -> -58400 | F43: =+F44 -> -48333.3 | G43: =+G44 -> -10066.7 | H43: =+I43+J43 -> -58400 | I43: =+I44 -> -48333.3 | J43: =+J44 -> -10066.7
D44: ՀԻՄՆԱԿԱՆ ՄԻՋՈՑՆԵՐ | E44: =+F44+G44 -> -58400 | F44: =+F45+F47 -> -48333.3 | G44: =+G45+G47 -> -10066.7 | H44: =+I44+J44 -> -58400 | I44: =+I45+I47 -> -48333.3 | J44: =+J45+J47 -> -10066.7
D45: ՇԵՆՔԵՐ ԵՎ ՇԻՆՈՒԹՅՈՒՆՆԵՐ | E45: =+F45+G45 -> -18400 | F45: =F46 -> -15000 | G45: =G46 -> -3400 | H45: =+I45+J45 -> -18400 | I45: =I46 -> -15000 | J45: =J46 -> -3400
D46: - Շենքերի և շինությունների շինարարություն | E46: =+F46+G46 -> -18400 | F46: -15000 | G46: -3400 | H46: =+I46+J46 -> -18400 | I46: -15000 | J46: -3400
D47: ՄԵՔԵՆԱՆԵՐ ԵՎ ՍԱՐՔԱՎՈՐՈՒՄՆԵՐ | E47: =+F47+G47 -> -40000 | F47: =F48 -> -33333.3 | G47: =G48 -> -6666.7 | H47: =+I47+J47 -> -40000 | I47: =I48 -> -33333.3 | J47: =J48 -> -6666.7
D48: - Այլ մեքենաներ և սարքավորումներ | E48: =+F48+G48 -> -40000 | F48: -33333.3 | G48: -6666.7 | H48: =+I48+J48 -> -40000 | I48: -33333.3 | J48: -6666.7
C49: 31006 | D49: Գերմանիայի զարգացման վարկերի բանկի աջակցությամբ իրականացվող Ախուրյան գետի ջրային ռեսուրսների ինտեգրացված կառավարման ծրագրի երկրորդ փուլի շրջանակներում ջրային տնտեսության ենթակառուցվածքների հիմնանորոգում | E49: =+E51 -> 0 | F49: =+F51 -> 0 | G49: =+G51 -> 0 | H49: =+H51 -> -1284415.6 | I49: =+I51 -> -1094415.6 | J49: =+J51 -> -190000
D50: այդ թվում` ըստ կատարողների
D51: ՀՀ տարածքային կառավարման և ենթակառուցվածքների նախարարության ջրային կոմիտե | E51: =+E53 -> 0 | F51: =+F53 -> 0 | G51: =+G53 -> 0 | H51: =+H53 -> -1284415.6 | I51: =+I53 -> -1094415.6 | J51: =+J53 -> -190000
D52: այդ թվում` բյուջետային ծախսերի տնտեսագիտական դասակարգման հոդվածներ
D53: ԸՆԴԱՄԵՆԸ ԾԱԽՍԵՐ | E53: =+F53+G53 -> 0 | F53: =+F54 -> 0 | G53: =+G54 -> 0 | H53: =+I53+J53 -> -1284415.6 | I53: =+I54 -> -1094415.6 | J53: =+J54 -> -190000
D54: ՈՉ ՖԻՆԱՆՍԱԿԱՆ ԱԿՏԻՎՆԵՐԻ ԳԾՈՎ ԾԱԽՍԵՐ | E54: =+F54+G54 -> 0 | F54: =+F55 -> 0 | G54: =+G55 -> 0 | H54: =+I54+J54 -> -1284415.6 | I54: =+I55 -> -1094415.6 | J54: =+J55 -> -190000
D55: ՀԻՄՆԱԿԱՆ ՄԻՋՈՑՆԵՐ | E55: =+F55+G55 -> 0 | F55: =+F57 -> 0 | G55: =+G57 -> 0 | H55: =+I55+J55 -> -1284415.6 | I55: =+I57 -> -1094415.6 | J55: =+J57 -> -190000
D56: ՇԵՆՔԵՐ ԵՎ ՇԻՆՈՒԹՅՈՒՆՆԵՐ | E56: =+F56+G56 -> 0 | F56: =F57 -> 0 | G56: =G57 -> 0 | H56: =+I56+J56 -> -1284415.6 | I56: =I57 -> -1094415.6 | J56: =J57 -> -190000
D57: - Շենքերի և շինությունների շինարարություն | E57: =+F57+G57 -> 0 | H57: =+I57+J57 -> -1284415.6 | I57: -1094415.6 | J57: -190000
B58: 1019 | D58: Սոցիալական ներդրումների և տեղական զարգացման ծրագիր | E58: =+F58+G58 -> -146448 | F58: =+F60 -> -137200 | G58: =+G60 -> -9248 | H58: =+I58+J58 -> -146448 | I58: =+I60 -> -137200 | J58: =+J60 -> -9248
D59: այդ թվում`
C60: 12004 | D60: Համաշխարհային բանկի աջակցությամբ իրականացվող Սոցիալական ներդրումների և տեղական զարգացման ծրագրի լրացուցիչ ֆինանսավորման վարկի շրջանակներում ՀՀ համայնքային և միջհամայնքային ենթակառուցվածքների որակի, օգտագործման և հասանելիության բարելավում | E60: =+E62 -> -146448 | F60: =+F62 -> -137200 | G60: =+G62 -> -9248 | H60: =+H62 -> -146448 | I60: =+I62 -> -137200 | J60: =+J62 -> -9248
D61: այդ թվում` ըստ կատարողների
D62: ՀՀ տարածքային կառավարման և ենթակառուցվածքների նախարարություն | E62: =+E64 -> -146448 | F62: =+F64 -> -137200 | G62: =+G64 -> -9248 | H62: =+H64 -> -146448 | I62: =+I64 -> -137200 | J62: =+J64 -> -9248
D63: այդ թվում` բյուջետային ծախսերի տնտեսագիտական դասակարգման հոդվածներ
D64: ԸՆԴԱՄԵՆԸ ԾԱԽՍԵՐ | E64: =+F64+G64 -> -146448 | F64: =+F65 -> -137200 | G64: =+G65 -> -9248 | H64: =+I64+J64 -> -146448 | I64: =+I65 -> -137200 | J64: =+J65 -> -9248
D65: ՈՉ ՖԻՆԱՆՍԱԿԱՆ ԱԿՏԻՎՆԵՐԻ ԳԾՈՎ ԾԱԽՍԵՐ | E65: =+F65+G65 -> -146448 | F65: =+F66 -> -137200 | G65: =+G66 -> -9248 | H65: =+I65+J65 -> -146448 | I65: =+I66 -> -137200 | J65: =+J66 -> -9248
D66: ՀԻՄՆԱԿԱՆ ՄԻՋՈՑՆԵՐ | E66: =+F66+G66 -> -146448 | F66: =+F68+F70 -> -137200 | G66: =+G68+G70 -> -9248 | H66: =+I66+J66 -> -146448 | I66: =+I68+I70 -> -137200 | J66: =+J68+J70 -> -9248
D67: ՇԵՆՔԵՐ ԵՎ ՇԻՆՈՒԹՅՈՒՆՆԵՐ | E67: =+F67+G67 -> -21248 | F67: =F68 -> -12000 | G67: =G68 -> -9248 | H67: =+I67+J67 -> -21248 | I67: =I68 -> -12000 | J67: =J68 -> -9248
D68: - Շենքերի և շինությունների շինարարություն | E68: =+F68+G68 -> -21248 | F68: -12000 | G68: =J68 -> -9248 | H68: =+I68+J68 -> -21248 | I68: -12000 | J68: -9248
D69: ՄԵՔԵՆԱՆԵՐ ԵՎ ՍԱՐՔԱՎՈՐՈՒՄՆԵՐ | E69: =+F69+G69 -> -125200 | F69: =+F70 -> -125200 | G69: =+G70 -> 0 | H69: =+I69+J69 -> -125200 | I69: =+I70 -> -125200 | J69: =+J70 -> 0
D70: - Այլ մեքենաներ և սարքավորումներ | E70: =+F70+G70 -> -125200 | F70: -125200 | H70: =+I70+J70 -> -125200 | I70: -125200
B71: 1072 | D71: Ջրամատակարարաման և ջրահեռացման բարելավում | E71: =+F71+G71 -> 0 | F71: =+F73+F86+F95 -> 0 | G71: =+G73+G86+G95 -> 0 | H71: =+H73+H86+H95 -> -855674.7 | I71: =+I73+I86+I95 -> -773348.1 | J71: =+J73+J86+J95 -> -82326.6
D72: այդ թվում`
C73: 31001 | D73: Գերմանիայի զարգացման վարկերի բանկի աջակցությամբ իրականացվող ջրամատակարարման և ջրահեռացման ենթակառուցվածքների վերականգնման ծրագրի երրորդ փուլի շրջանակներում ջրամատակարարման և ջրահեռացման ենթակառուցվածքների հիմնանորոգում | E73: =+E75 -> 0 | F73: =+F75 -> 0 | G73: =+G75 -> 0 | H73: =+H75 -> 80100 | I73: =+I75 -> 60100 | J73: =+J75 -> 20000
D74: այդ թվում` ըստ կատարողների
D75: ՀՀ տարածքային կառավարման և ենթակառուցվածքների նախարարության ջրային կոմիտե | E75: =+E77 -> 0 | F75: =+F77 -> 0 | G75: =+G77 -> 0 | H75: =+H77 -> 80100 | I75: =+I77 -> 60100 | J75: =+J77 -> 20000
D76: այդ թվում` բյուջետային ծախսերի տնտեսագիտական դասակարգման հոդվածներ
D77: ԸՆԴԱՄԵՆԸ ԾԱԽՍԵՐ | E77: =+F77+G77 -> 0 | F77: =+F82+F78 -> 0 | G77: =+G82+G78 -> 0 | H77: =+I77+J77 -> 80100 | I77: =+I82+I78 -> 60100 | J77: =+J82+J78 -> 20000
D78: ԸՆԹԱՑԻԿ ԾԱԽՍԵՐ | E78: =+F78+G78 -> 0 | F78: =+F79 -> 0 | G78: 0 | H78: =+I78+J78 -> 100 | I78: =+I79 -> 100 | J78: 0
D79: ԾԱՌԱՅՈՒԹՅՈՒՆՆԵՐԻ ԵՎ ԱՊՐԱՆՔՆԵՐԻ ՁԵՌՔԲԵՐՈՒՄ | E79: =+F79+G79 -> 0 | F79: =+F80 -> 0 | G79: 0 | H79: =+I79+J79 -> 100 | I79: =+I80 -> 100 | J79: 0
D80: Շարունակական ծախսեր | E80: =+F80+G80 -> 0 | F80: =+F81 -> 0 | G80: 0 | H80: =+I80+J80 -> 100 | I80: =+I81 -> 100 | J80: 0
D81: - Գործառնական և բանկային ծառայությունների ծախսեր | E81: =+F81+G81 -> 0 | H81: =+I81+J81 -> 100 | I81: 100
D82: ՈՉ ՖԻՆԱՆՍԱԿԱՆ ԱԿՏԻՎՆԵՐԻ ԳԾՈՎ ԾԱԽՍԵՐ | E82: =+F82+G82 -> 0 | F82: =+F83 -> 0 | G82: =+G83 -> 0 | H82: =+I82+J82 -> 80000 | I82: =+I83 -> 60000 | J82: =+J83 -> 20000
D83: ՀԻՄՆԱԿԱՆ ՄԻՋՈՑՆԵՐ | E83: =+F83+G83 -> 0 | F83: =+F85 -> 0 | G83: =+G85 -> 0 | H83: =+I83+J83 -> 80000 | I83: =+I85 -> 60000 | J83: =+J85 -> 20000
D84: ՇԵՆՔԵՐ ԵՎ ՇԻՆՈՒԹՅՈՒՆՆԵՐ | E84: =+F84+G84 -> 0 | F84: =F85 -> 0 | G84: =G85 -> 0 | H84: =+I84+J84 -> 80000 | I84: =I85 -> 60000 | J84: =J85 -> 20000
D85: - Շենքերի և շինությունների շինարարություն | E85: =+F85+G85 -> 0 | H85: =+I85+J85 -> 80000 | I85: 60000 | J85: 20000
C86: 31002 | D86: Եվրոպական ներդրումային բանկի աջակցությամբ իրականացվող ջրամատակարարման և ջրահեռացման ենթակառուցվածքների վերականգնման ծրագրի երրորդ փուլի շրջանակներում ջրամատակարարման և ջրահեռացման ենթակառուցվածքների հիմնանորոգում | E86: =+E88 -> 0 | F86: =+F88 -> 0 | G86: =+G88 -> 0 | H86: =+H88 -> -1035774.7 | I86: =+I88 -> -933448.1 | J86: =+J88 -> -102326.6
D87: այդ թվում` ըստ կատարողների
D88: ՀՀ տարածքային կառավարման և ենթակառուցվածքների նախարարության ջրային կոմիտե | E88: =+E90 -> 0 | F88: =+F90 -> 0 | G88: =+G90 -> 0 | H88: =+H90 -> -1035774.7 | I88: =+I90 -> -933448.1 | J88: =+J90 -> -102326.6
D89: այդ թվում` բյուջետային ծախսերի տնտեսագիտական դասակարգման հոդվածներ
D90: ԸՆԴԱՄԵՆԸ ԾԱԽՍԵՐ | E90: =+F90+G90 -> 0 | F90: =+F91 -> 0 | G90: =+G91 -> 0 | H90: =+I90+J90 -> -1035774.7 | I90: =+I91 -> -933448.1 | J90: =+J91 -> -102326.6
D91: ՈՉ ՖԻՆԱՆՍԱԿԱՆ ԱԿՏԻՎՆԵՐԻ ԳԾՈՎ ԾԱԽՍԵՐ | E91: =+F91+G91 -> 0 | F91: =+F92 -> 0 | G91: =+G92 -> 0 | H91: =+I91+J91 -> -1035774.7 | I91: =+I92 -> -933448.1 | J91: =+J92 -> -102326.6
D92: ՀԻՄՆԱԿԱՆ ՄԻՋՈՑՆԵՐ | E92: =+F92+G92 -> 0 | F92: =++F93 -> 0 | G92: =++G93 -> 0 | H92: =+I92+J92 -> -1035774.7 | I92: =++I93 -> -933448.1 | J92: =++J93 -> -102326.6
D93: ՇԵՆՔԵՐ ԵՎ ՇԻՆՈՒԹՅՈՒՆՆԵՐ | E93: =+F93+G93 -> 0 | F93: =F94 -> 0 | G93: =G94 -> 0 | H93: =+I93+J93 -> -1035774.7 | I93: =I94 -> -933448.1 | J93: =J94 -> -102326.6
D94: - Շենքերի և շինությունների շինարարություն | E94: =+F94+G94 -> 0 | H94: =+I94+J94 -> -1035774.7 | I94: -933448.1 | J94: -102326.6
C95: 31003 | D95: Եվրոպակական ներդրումային բանկի աջակցությամբ իրականացվող Երևանի ջրամատակարարման բարելավման ծրագրի շրջանակներում ջրամատակարարման և ջրահեռացման ենթակառուցվածքների հիմնանորոգում | E95: =+E97 -> 0 | F95: =+F97 -> 0 | G95: =+G97 -> 0 | H95: =+H97 -> 100000 | I95: =+I97 -> 100000 | J95: =+J97 -> 0
D96: այդ թվում` ըստ կատարողների
D97: ՀՀ տարածքային կառավարման և ենթակառուցվածքների նախարարության ջրային կոմիտե | E97: =+E99 -> 0 | F97: =+F99 -> 0 | G97: =+G99 -> 0 | H97: =+H99 -> 100000 | I97: =+I99 -> 100000 | J97: =+J99 -> 0
D98: այդ թվում` բյուջետային ծախսերի տնտեսագիտական դասակարգման հոդվածներ
D99: ԸՆԴԱՄԵՆԸ ԾԱԽՍԵՐ | E99: =+F99+G99 -> 0 | F99: =+F100 -> 0 | G99: =+G100 -> 0 | H99: =+I99+J99 -> 100000 | I99: =+I100 -> 100000 | J99: =+J100 -> 0
D100: ՈՉ ՖԻՆԱՆՍԱԿԱՆ ԱԿՏԻՎՆԵՐԻ ԳԾՈՎ ԾԱԽՍԵՐ | E100: =+F100+G100 -> 0 | F100: =+F101 -> 0 | G100: =+G101 -> 0 | H100: =+I100+J100 -> 100000 | I100: =+I101 -> 100000 | J100: =+J101 -> 0
D101: ՀԻՄՆԱԿԱՆ ՄԻՋՈՑՆԵՐ | E101: =+F101+G101 -> 0 | F101: =++F102 -> 0 | G101: =++G102 -> 0 | H101: =+I101+J101 -> 100000 | I101: =++I102 -> 100000 | J101: =++J102 -> 0
...

Sheet 7
J1: Հավելված N 7
J2: ՀՀ կառավարության 2025 թվականի
J3: ______________ ի ___Ն որոշման
B5: «ՀԱՅԱUՏԱՆԻ ՀԱՆՐԱՊԵՏՈՒԹՅԱՆ 2025 ԹՎԱԿԱՆԻ ՊԵՏԱԿԱՆ ԲՅՈՒՋԵԻ ՄԱUԻՆ» OՐԵՆՔԻ N 1 ՀԱՎԵԼՎԱԾԻ N 5 ԱՂՅՈՒՍԱԿՈՒՄ ԵՎ ՀԱՅԱՍՏԱՆԻ ՀԱՆՐԱՊԵՏՈՒԹՅԱՆ ԿԱՌԱՎԱՐՈՒԹՅԱՆ 2024 ԹՎԱԿԱՆԻ ԴԵԿՏԵՄԲԵՐԻ 27-Ի N 2060-Ն ՈՐՈՇՄԱՆ N 5 ՀԱՎԵԼՎԱԾԻ N 4 ԱՂՅՈՒՍԱԿՈՒՄ ԿԱՏԱՐՎՈՂ ՓՈՓՈԽՈՒԹՅՈՒՆՆԵՐԸ ԵՎ ԼՐԱՑՈՒՄՆԵՐԸ
I6: հազար դրամներով
B7: Ծրագրային դասիչը | D7: Բյուջետային գլխավոր կարգադրիչների, ծրագրերի և միջոցառումների անվանումները | E7: Ցուցանիշների փոփոխությունը (ավելացումները նշված են դրական նշանով, իսկ նվազեցումները` փակագծերում)
E8: Ինն ամիս | H8: Տարի
E9: Ընդամենը | F9: այդ թվում` | H9: Ընդամենը | I9: այդ թվում`
B10: Ծրագիր | C10: Միջոցառում | F10: Դրամաշնորհային միջոցներ | G10: Համաֆինան սավորում | I10: Դրամաշնորհային միջոցներ | J10: Համաֆինան սավորում
D11: ԸՆԴԱՄԵՆԸ | E11: =+F11+G11 -> -213440.2 | F11: =+F13+F14 -> -303440.2 | G11: =+G13+G14 -> 90000 | H11: =+I11+J11 -> -399520.8 | I11: =+I13+I14 -> -399520.8 | J11: =+J13+J14 -> 0
D12: այդ թվում`
D13: ԸՆԹԱՑԻԿ ԾԱԽՍԵՐ | E13: =+F13+G13 -> -75952.5 | F13: =+F23+F60 -> -75952.5 | G13: =+G23+G60 -> 0 | H13: =+I13+J13 -> -172033.1 | I13: =+I23+I60 -> -172033.1 | J13: =+J23+J60 -> 0
D14: ՈՉ ՖԻՆԱՆՍԱԿԱՆ ԱԿՏԻՎՆԵՐԻ ԳԾՈՎ ԾԱԽՍԵՐ | E14: =+F14+G14 -> -137487.7 | F14: =+F47+F64 -> -227487.7 | G14: =+G47+G64 -> 90000 | H14: =+I14+J14 -> -227487.7 | I14: =+I47+I64 -> -227487.7 | J14: =+J47+J64 -> 0
D15: ՀՀ ՏԱՐԱԾՔԱՅԻՆ ԿԱՌԱՎԱՐՄԱՆ ԵՎ ԵՆԹԱԿԱՌՈՒՑՎԱԾՔՆԵՐԻ ՆԱԽԱՐԱՐՈՒԹՅՈՒՆ | E15: =+F15+G15 -> -213440.2 | F15: =+F16+F53 -> -303440.2 | G15: =+G16+G53 -> 90000 | H15: =+I15+J15 -> -399520.8 | I15: =+I16+I53 -> -399520.8 | J15: =+J16+J53 -> 0
B16: 1019 | D16: Սոցիալական ներդրումների և տեղական զարգացման ծրագիր | E16: =+F16+G16 -> -303590.2 | F16: =+F42+F18 -> -303590.2 | G16: =+G42 -> 0 | H16: =+I16+J16 -> -399670.8 | I16: =+I42+I18 -> -399670.8 | J16: =+J42 -> 0
D17: այդ թվում`
C18: 11004 | D18: ԱՄՆ ՄԶԳ աջակցությամբ իրականացվող Տեղականինքնակառավարման և ապակենտրոնացման բարեփոխումների դրամաշնորհային ծրագրի կառավարում | E18: =+E20 -> -76102.5 | F18: =+F20 -> -76102.5 | G18: =+G20 -> 0 | H18: =+H20 -> -172183.1 | I18: =+I20 -> -172183.1 | J18: =+J20 -> 0
D19: այդ թվում` ըստ կատարողների
D20: ՀՀ տարածքային կառավարման և ենթակառուցվածքների նախարարություն | E20: =+E22 -> -76102.5 | F20: =+F22 -> -76102.5 | G20: =+G22 -> 0 | H20: =+H22 -> -172183.1 | I20: =+I22 -> -172183.1 | J20: =+J22 -> 0
D21: այդ թվում` բյուջետային ծախսերի տնտեսագիտական դասակարգման հոդվածներ
D22: ԸՆԴԱՄԵՆԸ ԾԱԽՍԵՐ | E22: =+F22+G22 -> -76102.5 | F22: =+F23 -> -76102.5 | G22: =+G23 -> 0 | H22: =+I22+J22 -> -172183.1 | I22: =+I23 -> -172183.1 | J22: =+J23 -> 0
D23: ԸՆԹԱՑԻԿ ԾԱԽՍԵՐ | E23: =+F23+G23 -> -76102.5 | F23: =+F24+F40 -> -76102.5 | G23: =+G24+G40 -> 0 | H23: =+I23+J23 -> -172183.1 | I23: =+I24+I40 -> -172183.1 | J23: =+J24+J40 -> 0
D24: ԾԱՌԱՅՈՒԹՅՈՒՆՆԵՐԻ ԵՎ ԱՊՐԱՆՔՆԵՐԻ ՁԵՌՔԲԵՐՈՒՄ | E24: =+F24+G24 -> -56627.5 | F24: =+F25+F27+F33+F36 -> -56627.5 | G24: =+G25+G27+G33+G36 -> 0 | H24: =+I24+J24 -> -76114.1 | I24: =+I25+I27+I33+I36 -> -76114.1 | J24: =+J25+J27+J33+J36 -> 0
D25: Շարունակական ծախսեր | E25: =+F25+G25 -> -383.9 | F25: =+F26 -> -383.9 | G25: =+G26 -> 0 | H25: =+I25+J25 -> -383.9 | I25: =+I26 -> -383.9 | J25: =+J26 -> 0
D26: - Ապահովագրական ծախսեր | E26: =+F26+G26 -> -383.9 | F26: -383.9 | H26: =+I26+J26 -> -383.9 | I26: -383.9 | J26: 0
D27: Պայմանագրային այլ ծառայությունների ձեռքբերում | E27: =+F27+G27 -> -49519.7 | F27: =+SUM(F28:F32) -> -49519.7 | G27: =+SUM(G28:G32) -> 0 | H27: =+I27+J27 -> -67575.4 | I27: =+SUM(I28:I32) -> -67575.4 | J27: 0
D28: - Վարչական ծառայություններ | E28: =+F28+G28 -> -153.1 | F28: -153.1 | G28: 0 | H28: =+I28+J28 -> -153.1 | I28: -153.1 | J28: 0
D29: - Աշխատակազմի մասնագիտական զարգացման ծառայություններ | E29: =+F29+G29 -> -306.2 | F29: -306.2 | G29: 0 | H29: =+I29+J29 -> -306.2 | I29: -306.2 | J29: 0
D30: - Տեղեկատվական ծառայություններ | E30: =+F30+G30 -> -204.1 | F30: -204.1 | G30: 0 | H30: =+I30+J30 -> -204.1 | I30: -204.1 | J30: 0
D31: - Կառավարչական ծառայություններ | E31: =+F31+G31 -> -48611.4 | F31: -48611.4 | G31: 0 | H31: =+I31+J31 -> -66667.1 | I31: -66667.1 | J31: 0
D32: - Ներկայացուցչական ծախսեր | E32: =+F32+G32 -> -244.9 | F32: -244.9 | G32: 0 | H32: =+I32+J32 -> -244.9 | I32: -244.9 | J32: 0
D33: Ընթացիկ նորոգում և պահպանում (ծառայություններ և նյութեր) | E33: =+F33+G33 -> -1408.2 | F33: =+SUM(F34:F35) -> -1408.2 | G33: =+SUM(G34:G35) -> 0 | H33: =+I33+J33 -> -1939.1 | I33: =+SUM(I34:I35) -> -1939.1 | J33: =+SUM(J34:J35) -> 0
D34: - Շենքերի և կառույցների ընթացիկ նորոգում և պահպանում | E34: =+F34+G34 -> -1000 | F34: -1000 | G34: 0 | H34: =+I34+J34 -> -1530.9 | I34: -1530.9 | J34: 0
D35: - Մեքենաների և սարքավորումների ընթացիկ նորոգում և պահպանում | E35: =+F35+G35 -> -408.2 | F35: -408.2 | G35: 0 | H35: =+I35+J35 -> -408.2 | I35: -408.2 | J35: 0
D36: Նյութեր (Ապրանքներ) | E36: =+F36+G36 -> -5315.7 | F36: =+SUM(F37:F39) -> -5315.7 | G36: =+SUM(G37:G39) -> 0 | H36: =+I36+J36 -> -6215.7 | I36: =+SUM(I37:I39) -> -6215.7 | J36: =+SUM(J37:J39) -> 0
D37: - Գրասենյակային նյութեր և հագուստ | E37: =+F37+G37 -> -1600 | F37: -1600 | H37: =+I37+J37 -> -2500 | I37: -2500 | J37: 0
D38: - Տրանսպորտային նյութեր | E38: =+F38+G38 -> -3231 | F38: -3231 | H38: =+I38+J38 -> -3231 | I38: -3231 | J38: 0
D39: - Կենցաղային և հանրային սննդի նյութեր | E39: =+F39+G39 -> -484.7 | F39: -484.7 | H39: =+I39+J39 -> -484.7 | I39: -484.7 | J39: 0
D40: ԱՅԼ ԾԱԽՍԵՐ | E40: =+F40+G40 -> -19475 | F40: =+SUM(F41:F41) -> -19475 | G40: =+SUM(G41:G41) -> 0 | H40: =+I40+J40 -> -96069 | I40: =+SUM(I41:I41) -> -96069 | J40: =+SUM(J41:J41) -> 0
D41: Այլ ծախսեր | E41: =+F41+G41 -> -19475 | F41: -19475 | H41: =+I41+J41 -> -96069 | I41: -96069 | J41: 0
C42: 12005 | D42: ԱՄՆ ՄԶԳ աջակցությամբ իրականացվող Տեղականինքնակառավարման և ապակենտրոնացման բարեփոխումների դրամաշնորհային ծրագրի շրջանակներում Տեղական կառավարման համակարգերի հզորացում,ապակենտրոնացման գործընթացներին աջակցություն, պիլոտային ծրագրերի իրականացում | E42: =+E44 -> -227487.7 | F42: =+F44 -> -227487.7 | G42: =+G44 -> 0 | H42: =+H44 -> -227487.7 | I42: =+I44 -> -227487.7 | J42: =+J44 -> 0
D43: այդ թվում` ըստ կատարողների
D44: ՀՀ տարածքային կառավարման և ենթակառուցվածքների նախարարություն | E44: =+E46 -> -227487.7 | F44: =+F46 -> -227487.7 | G44: =+G46 -> 0 | H44: =+H46 -> -227487.7 | I44: =+I46 -> -227487.7 | J44: =+J46 -> 0
D45: այդ թվում` բյուջետային ծախսերի տնտեսագիտական դասակարգման հոդվածներ
D46: ԸՆԴԱՄԵՆԸ ԾԱԽՍԵՐ | E46: =+F46+G46 -> -227487.7 | F46: =+F47 -> -227487.7 | G46: =+G47 -> 0 | H46: =+I46+J46 -> -227487.7 | I46: =+I47 -> -227487.7 | J46: =+J47 -> 0
D47: ՈՉ ՖԻՆԱՆՍԱԿԱՆ ԱԿՏԻՎՆԵՐԻ ԳԾՈՎ ԾԱԽՍԵՐ | E47: =+F47+G47 -> -227487.7 | F47: =+F48 -> -227487.7 | G47: =+G48 -> 0 | H47: =+I47+J47 -> -227487.7 | I47: =+I48 -> -227487.7 | J47: =+J48 -> 0
D48: ՀԻՄՆԱԿԱՆ ՄԻՋՈՑՆԵՐ | E48: =+F48+G48 -> -227487.7 | F48: =F49+F51 -> -227487.7 | G48: =G49+G51 -> 0 | H48: =+I48+J48 -> -227487.7 | I48: =I49+I51 -> -227487.7 | J48: =J49+J51 -> 0
D49: ՇԵՆՔԵՐ ԵՎ ՇԻՆՈՒԹՅՈՒՆՆԵՐ | E49: =+F49+G49 -> -126487.7 | F49: =F50 -> -126487.7 | G49: =+G50 -> 0 | H49: =+I49+J49 -> -126487.7 | I49: =I50 -> -126487.7 | J49: =+J50 -> 0
D50: - Շենքերի և շինությունների շինարարություն | E50: =+F50+G50 -> -126487.7 | F50: -126487.7 | H50: =+I50+J50 -> -126487.7 | I50: -126487.7
D51: ՄԵՔԵՆԱՆԵՐ ԵՎ ՍԱՐՔԱՎՈՐՈՒՄՆԵՐ | E51: =+F51+G51 -> -101000 | F51: =F52 -> -101000 | G51: =+G52 -> 0 | H51: =+I51+J51 -> -101000 | I51: =I52 -> -101000 | J51: =+J52 -> 0
D52: - Վարչական սարքավորումներ | E52: =+F52+G52 -> -101000 | F52: -101000 | H52: =+I52+J52 -> -101000 | I52: -101000
B53: 1072 | D53: Ջրամատակարարաման և ջրահեռացման բարելավում | E53: =+F53+G53 -> 90150 | F53: =+F55 -> 150 | G53: =+G55 -> 90000 | H53: =+I53+J53 -> 150 | I53: =+I55 -> 150 | J53: =+J55 -> 0
D54: այդ թվում`
C55: 12001 | D55: Գերմանիայի զարգացման և Եվրոպական միության հարևանության ներդրումային բանկի աջակցությամբ իրականացվող ջրամատակարարման և ջրահեռացման ենթակառուցվածքների դրամաշնորհային ծրագիր` երրորդ փուլ | E55: =+E57 -> 90150 | F55: =+F57 -> 150 | G55: =+G57 -> 90000 | H55: =+H57 -> 150 | I55: =+I57 -> 150 | J55: =+J57 -> 0
D56: այդ թվում` ըստ կատարողների
D57: ՀՀ տարածքային կառավարման և ենթակառուցվածքների նախարարության ջրային կոմիտե | E57: =+E59 -> 90150 | F57: =+F59 -> 150 | G57: =+G59 -> 90000 | H57: =+H59 -> 150 | I57: =+I59 -> 150 | J57: =+J59 -> 0
D58: այդ թվում` բյուջետային ծախսերի տնտեսագիտական դասակարգման հոդվածներ
D59: ԸՆԴԱՄԵՆԸ ԾԱԽՍԵՐ | E59: =+F59+G59 -> 90150 | F59: =+F64+F60 -> 150 | G59: =+G64+G60 -> 90000 | H59: =+I59+J59 -> 150 | I59: =+I64+I60 -> 150 | J59: =+J64+J60 -> 0
D60: ԸՆԹԱՑԻԿ ԾԱԽՍԵՐ | E60: =+F60+G60 -> 150 | F60: =+F61 -> 150 | G60: =+G61 -> 0 | H60: =+I60+J60 -> 150 | I60: =+I61 -> 150 | J60: =+J61 -> 0
D61: ԾԱՌԱՅՈՒԹՅՈՒՆՆԵՐԻ ԵՎ ԱՊՐԱՆՔՆԵՐԻ ՁԵՌՔԲԵՐՈՒՄ | E61: =+F61+G61 -> 150 | F61: =+F62 -> 150 | G61: =+G62 -> 0 | H61: =+I61+J61 -> 150 | I61: =+I62 -> 150 | J61: =+J62 -> 0
D62: Շարունակական ծախսեր | E62: =+F62+G62 -> 150 | F62: =+F63 -> 150 | G62: =+G63 -> 0 | H62: =+I62+J62 -> 150 | I62: =+I63 -> 150 | J62: =+J63 -> 0
D63: - Գործառնական և բանկային ծառայությունների ծախսեր | E63: =+F63+G63 -> 150 | F63: 150 | H63: =+I63+J63 -> 150 | I63: 150 | J63: 0
D64: ՈՉ ՖԻՆԱՆՍԱԿԱՆ ԱԿՏԻՎՆԵՐԻ ԳԾՈՎ ԾԱԽՍԵՐ | E64: =+F64+G64 -> 90000 | F64: =+F65 -> 0 | G64: =+G65 -> 90000 | H64: =+I64+J64 -> 0 | I64: =+I65 -> 0 | J64: =+J65 -> 0
D65: ՀԻՄՆԱԿԱՆ ՄԻՋՈՑՆԵՐ | E65: =+F65+G65 -> 90000 | F65: =+F66 -> 0 | G65: =+G66 -> 90000 | H65: =+I65+J65 -> 0 | I65: =+I66 -> 0 | J65: =+J66 -> 0
D66: ՇԵՆՔԵՐ ԵՎ ՇԻՆՈՒԹՅՈՒՆՆԵՐ | E66: =+F66+G66 -> 90000 | F66: =F67 -> 0 | G66: =+G67 -> 90000 | H66: =+I66+J66 -> 0 | I66: =I67 -> 0 | J66: =+J67 -> 0
D67: - Շենքերի և շինությունների շինարարություն | E67: =+F67+G67 -> 90000 | F67: 0 | G67: 90000 | H67: =+I67+J67 -> 0 | I67: 0 | J67: 0
M73: 12794888
M74: 18252317
M75: =+M73+M74 -> 31047205

Sheet 8
A1: Հավելված N 8
A2: ՀՀ կառավարության 2025 թվականի
A3: -ի N -Ն որոշման
A5: ՀԱՅԱՍՏԱՆԻ ՀԱՆՐԱՊԵՏՈՒԹՅԱՆ ԿԱՌԱՎԱՐՈՒԹՅԱՆ 2024 ԹՎԱԿԱՆԻ ԴԵԿՏԵՄԲԵՐԻ 27-Ի N 2060-Ն ՈՐՈՇՄԱՆ N 9 ՀԱՎԵԼՎԱԾՈՒՄ ԿԱՏԱՐՎՈՂ ՓՈՓՈԽՈՒԹՅՈՒՆՆԵՐԸ ԵՎ ԼՐԱՑՈՒՄՆԵՐԸ
K6: հազար դրամներով
A7: ԲԳԿ | B7: Ծրագիր | D7: Միջոցառում | H7: Իրականացնողը/ ակտիվն օգտագործողը/ շահառուի ընտրության չափորոշիչը | I7: Արդյունքային չափորոշիչը | J7: Ցուցանիշների փոփոխությունը (ավելացումները նշված են դրական նշանով, իսկ նվազեցումները՝ փակագծերում)
B8: Դասիչը | C8: Անվա-նումը | D8: Դասիչը | E8: Անվա-նումը | F8: Նկարագրու-թյունը | G8: Տեսակը | J8: Ինն ամիս | K8: Տարի
A9: ԸՆԴԱՄԵՆԸ | J9: =+J10+J76+J86 -> -303440.2 | K9: =+K10+K76+K86 -> -399520.8 | M9: =+J9-'4'!H8 -> 0 | N9: =+K9-'4'!I8 -> 0
A10: ՀՀ տարածքային կառավարման և ենթակառուցվածքների նախարարություն | J10: =+J11+J32+J49 -> -810640.2 | K10: =+K11+K32+K49 -> -3073477.7
B11: 1004 | C11: Ոռոգման համակարգի առողջացում | J11: =+J12+J17+J21+J26 -> -450752 | K11: =+K12+K17+K21+K26 -> -1679034.2 | M11: =+'4'!H19 -> -450752 | N11: =+'4'!I19 -> -1679034.2
D12: 1004 - 11005 | E12: Եվրասիական զարգացման բանկի աջակցությամբ իրականացվող ոռոգման համակարգերի զարգացման ծրագրի խորհրդատվություն և կառավարում | J12: =+'6'!E18 -> -219833.2 | K12: =+'6'!H18 -> -219833.2 | M12: =+J11-M11 -> 0 | N12: =+K11-N11 -> 0
F13: Եվրասիական զարգացման բանկի աջակցությամբ իրականացվող ոռոգման համակարգերի զարգացման ծրագրի համակարգում և ղեկավարում
G14: Ծառայությունների մատուցում
H15: Ծառայությունը մատուցողի անվանումը` Մասնագիտացված միավոր
I16: Կառավարվող/վերահսկվող խորհրդատվական պայմանագրերի քանակ, հատ | K16: -2
D17: 1004 - 31004 | E17: =+'6'!D29 -> Գերմանիայի զարգացման վարկերի բանկի աջակցությամբ իրականացվող Ախուրյան գետի ջրային ռեսուրսների ինտեգրված կառավարման ծրագրի շրջանակներում ջրային տնտեսության ենթակառուցվածքների հիմնանորոգում | J17: =+'6'!E29 -> -172518.8 | K17: =+'6'!H29 -> -116385.4
F18: Գերմանիայի զարգացման վարկերի բանկի աջակցությամբ իրականացվող Ախուրյան գետի ջրային ռեսուրսների ինտեգրված կառավարման ծրագիր
G19: Պետական մարմինների կողմից օգտագործվող ոչ ֆինանսական ակտիվների հետ գործառնություններ
H20: Ակտիվն օգտագործող կազմակերպության անվանումը` Մասնագիտացված միավոր
D21: 1004 - 31005 | E21: =+'6'!D38 -> Եվրասիական զարգացման բանկի աջակցությամբ իրականացվող ոռոգման համակարգերի զարգացման ծրագրի շրջանակներում ջրային տնտեսության ենթակառուցվածքների հիմնանորոգում | J21: =+'6'!E38 -> -58400 | K21: =+'6'!H38 -> -58400
F22: Եվրասիական զարգացման բանկի աջակցությամբ իրականացվող ոռոգման համակարգերի զարգացման ծրագիր
G23: Պետական մարմինների կողմից օգտագործվող ոչ ֆինանսական ակտիվների հետ գործառնություններ
H24: Ակտիվն օգտագործող կազմակերպության անվանումը` Մասնագիտացված միավոր
I25: Հիմնանորոգվող ոռոգման ցանցերի երկարություն, կմ | K25: -1.45
D26: 1004 - 31006 | E26: =+'6'!D49 -> Գերմանիայի զարգացման վարկերի բանկի աջակցությամբ իրականացվող Ախուրյան գետի ջրային ռեսուրսների ինտեգրացված կառավարման ծրագրի երկրորդ փուլի շրջանակներում ջրային տնտեսության ենթակառուցվածքների հիմնանորոգում | J26: =+'6'!E49 -> 0 | K26: =+'6'!H49 -> -1284415.6
F27: Գերմանիայի զարգացման վարկերի բանկի աջակցությամբ իրականացվող Ախուրյան գետի ջրային ռեսուրսների ինտեգրացված կառավարման ծրագրի երկրորդ փուլ
G28: Պետական մարմինների կողմից օգտագործվող ոչ ֆինանսական ակտիվների հետ գործառնություններ
H29: Ակտիվն օգտագործող կազմակերպության անվանումը` Մասնագիտացված միավոր
I30: Թունելների վերակառուցում, մ | K30: -100
I31: Վարարային ջրհեռի կառուցում | K31: -200
B32: 1019 | C32: Սոցիալական ներդրումների և տեղական զարգացման ծրագիր | J32: =+J33+J40+J44 -> -450038.2 | K32: =+K33+K40+K44 -> -546118.8 | M32: =+'4'!H61 -> -450038.2 | N32: =+'4'!I61 -> -546118.8
D33: 1019 - 11004 | E33: =+'7'!D18 -> ԱՄՆ ՄԶԳ աջակցությամբ իրականացվող Տեղականինքնակառավարման և ապակենտրոնացման բարեփոխումների դրամաշնորհային ծրագրի կառավարում | J33: =+'7'!E18 -> -76102.5 | K33: =+'7'!H18 -> -172183.1 | M33: =+J32-M32 -> 0 | N33: =+K32-N32 -> 0
F34: ԱՄՆ ՄԶԳ աջակցությամբ իրականացվող Տեղական ինքնակառավարման և ապակենտրոնացման բարեփոխումների դրամաշնորհային ծրագրի իրականացման նպատակով ծրագերի կառավարման ծախսեր և Տեղական կառավարման համակարգերի հզորացման,ապակենտրոնացման գործընթացներին աջակցության նպատակով խորհրդատվություն և ուսուցում
G35: Ծառայությունների մատուցում
H36: Ծառայությունը մատուցողի անվանումը` Մասնագիտացված միավոր
I37: Տեղական ինքնակառավարման մարմինների ուսուցում՛ հաշվետվողականության ամրապնդման համար (տեղական ինքնակառավարման սուբյեկտներ, հատ) | K37: -8
I38: Հաշվետվողականության ամրապնդման վերաբերյալ սեմինարներին և թրեյնինգներին համայնքային ծառայողների մասնակցություն (մասնակիցների թիվ, անձ) | K38: -105
I39: Արտակարգ իրավիճակների արձագանքման / ռիսկերի նվազեցման քաղաքականության և ընթացակարգերի մշակում և փորձարկում (համայնքների թիվ, հատ) | K39: -8
D40: 1019 - 12004 | E40: =+'6'!D60 -> Համաշխարհային բանկի աջակցությամբ իրականացվող Սոցիալական ներդրումների և տեղական զարգացման ծրագրի լրացուցիչ ֆինանսավորման վարկի շրջանակներում ՀՀ համայնքային և միջհամայնքային ենթակառուցվածքների որակի, օգտագործման և հասանելիության բարելավում | J40: =+'6'!E58 -> -146448 | K40: =+'6'!H58 -> -146448
F41: Ջրագծերի, առողջապահության, կրթության օբյեկտների, մշակույթային տների, ծերանոցների, մանկատների, հատուկ դպրոցների, մանկապարտզների և կոյուղու օբյեկտնրի հիմն. և շինարարություն., գույքի և սարքավորումների տրամադրում շահառու ենթածրագրերի համար
G42: Տրանսֆերտների տրամադրում
H43: Շահառուների ընտրության չափորոշիչները` Մասնագիտացված միավոր
D44: 1019 - 12005 | E44: =+'7'!D42 -> ԱՄՆ ՄԶԳ աջակցությամբ իրականացվող Տեղականինքնակառավարման և ապակենտրոնացման բարեփոխումների դրամաշնորհային ծրագրի շրջանակներում Տեղական կառավարման համակարգերի հզորացում,ապակենտրոնացման գործընթացներին աջակցություն, պիլոտային ծրագրերի իրականացում | J44: =+'7'!E42 -> -227487.7 | K44: =+'7'!H42 -> -227487.7 | M44: =+J43-M43 -> 0 | N44: =+K43-N43 -> 0
F45: ԱՄՆ ՄԶԳ աջակցությամբ իրականացվող Տեղականինքնակառավարման և ապակենտրոնացմանբարեփոխումների դրամաշնորհային ծրագրիշրջանակներում մեքենասարքավորումներիտրամադրում և համայնքային մակարդակիենթակառուցվածքների կառուցում և վերականգնում
G46: Տրանսֆերտների տրամադրում
H47: Շահառուների ընտրության չափորոշիչները` Մասնագիտացված միավոր
I48: Համայնքների թիվ, որոնք ստացել են հանրային ծառայությունների բարելավմանն ուղղված մեքենասարքավորումներ կամ այլ անհրաժեշտ ապրանքներ (համայնքների թիվ, հատ) | K48: -7
B49: 1072 | C49: Ջրամատակարարաման և ջրահեռացման բարելավում | J49: =+J59+J66+J71+J50 -> 90150 | K49: =+K59+K66+K71+K54+K50 -> -848324.7 | M49: =+'4'!H123 -> 90150 | N49: =+'4'!I123 -> -848324.7
D50: 1072 - 12001 | E50: =+'3'!D22 -> Գերմանիայի զարգացման և Եվրոպական միության հարևանության ներդրումային բանկի աջակցությամբ իրականացվող ջրամատակարարման և ջրահեռացման ենթակառուցվածքների դրամաշնորհային ծրագիր` երրորդ փուլ | J50: =+'3'!G22 -> 90150 | K50: =+'3'!H22 -> 150 | M50: =+J49-M49 -> 0 | N50: =+K49-N49 -> 0
F51: =+'3'!E22 -> 579 գյուղական բնակավայրերից ընտրված որոշ համայնքների ջրամատակարարման և ջրահեռացման համակարգերի հատվածների հրատապ վերականգնման աշխատանքների իրականացում ինչպես նաև՛ Արմավիրի կեղտաջրերի մաքրման կայանի կառուցում
G52: =+'3'!F22 -> Տրանսֆերտների տրամադրում
H53: Շահառուների ընտրության չափորոշիչները` Մասնագիտացված միավոր
D54: 1072 - 12004 | E54: =+'5'!D14 -> Մաքրման կայանների պահպանություն | J54: 0 | K54: =+'5'!H12 -> 7200 | M54: =+J49-M49 -> 0 | N54: =+K49-N49 -> 0
F55: Մաքրման կայանների պահպանության նպատակով համապատասխան ծառայությունների ձեռքբերում
G56: Տրանսֆերտների տրամադրում
H57: Շահառուների ընտրության չափորոշիչները` Մասնագիտացված միավոր
I58: Կառավարվող/վերահսկվող խորհրդատվական պայմանագրերի քանակ, հատ | K58: 1
D59: 1072 - 31001 | E59: =+'6'!D73 -> Գերմանիայի զարգացման վարկերի բանկի աջակցությամբ իրականացվող ջրամատակարարման և ջրահեռացման ենթակառուցվածքների վերականգնման ծրագրի երրորդ փուլի շրջանակներում ջրամատակարարման և ջրահեռացման ենթակառուցվածքների հիմնանորոգում | J59: =+'6'!E73 -> 0 | K59: =+'6'!H73 -> 80100
F60: 6 քաղաքների և 37 գյուղական բնակավայրերի ջրամատակարարման և ջրահեռացման համակարգերի հատվածների հրատապ (մասնակի) վերականգնման աշխատանքներ
G61: Պետական մարմինների կողմից օգտագործվող ոչ ֆինանսական ակտիվների հետ գործառնություններ
H62: Ակտիվն օգտագործող կազմակերպության(ների) անվանում(ները)՛ Մասնագիտացված միավոր
I63: Նորոգվող ջրագծերի երկարություն, կմ | K63: -18
I64: Նորոգվող տնային միացումներ, հատ | K64: 275
I65: Նորոգվող կոյուղագծերի երկարություն, կմ | K65: 0.4
D66: 1072 - 31002 | E66: =+'6'!D86 -> Եվրոպական ներդրումային բանկի աջակցությամբ իրականացվող ջրամատակարարման և ջրահեռացման ենթակառուցվածքների վերականգնման ծրագրի երրորդ փուլի շրջանակներում ջրամատակարարման և ջրահեռացման ենթակառուցվածքների հիմնանորոգում | J66: =+'6'!E86 -> 0 | K66: =+'6'!H86 -> -1035774.7
F67: 6 քաղաքների և 37 գյուղական բնակավայրերի ջրամատակարարման և ջրահեռացման համակարգերի հատվածների հրատապ (մասնակի) վերականգնման աշխատանքներ
G68: Պետական մարմինների կողմից օգտագործվող ոչ ֆինանսական ակտիվների հետ գործառնություններ
H69: Ակտիվն օգտագործող կազմակերպության(ների) անվանում(ները)՛ Մասնագիտացված միավոր
I70: Նորոգվող ջրագծերի երկարություն, կմ | K70: -31
D71: 1072 - 31003 | E71: =+'6'!D95 -> Եվրոպակական ներդրումային բանկի աջակցությամբ իրականացվող Երևանի ջրամատակարարման բարելավման ծրագրի շրջանակներում ջրամատակարարման և ջրահեռացման ենթակառուցվածքների հիմնանորոգում | J71: =+'6'!E95 -> 0 | K71: =+'6'!H95 -> 100000
F72: Երևանի ջրամատակարարման ցանցի բարելավման աշխատանքներ
G73: Պետական մարմինների կողմից օգտագործվող ոչ ֆինանսական ակտիվների հետ գործառնություններ
H74: Ակտիվն օգտագործող կազմակերպության(ների) անվանում(ները)՛ Մասնագիտացված միավոր
I75: Նորոգվող ջրագծերի երկարություն, կմ | K75: 3
A76: ՀՀ կրթության, գիտության, մշակույթի և սպորտի նախարարություն | J76: =+J77 -> 1507200 | K76: =+K77 -> 3206252.6
B77: 1189 | C77: Դպրոցների սեյսմիկ անվտանգության մակարդակի բարձրացման ծրագիր | J77: =+J78+J82 -> 1507200 | K77: =+K78+K82 -> 3206252.6 | M77: =+'4'!H178 -> 1507200 | N77: =+'4'!I178 -> 3206252.6
D78: 1189 - 12001 | E78: =+'6'!D107 -> Ասիական զարգացման բանկի աջակցությամբ իրականացվող դպրոցների սեյսմիկ պաշտպանության ծրագրի շրջանակներում ՀՀ դպրոցների սեյսմիկ անվտանգության բարելավմանն ուղղված միջոցառումներ | J78: =+'6'!E107 -> 507200 | K78: =+'6'!H107 -> 500000 | M78: =+J77-M77 -> 0 | N78: =+K77-N77 -> 0
F79: Դպրոցների շենքերի ամրացման շինարարական աշխատանքներ, շինարարական ստանդարտների արդիականացում, արտակարգ իրավիճակներին արձագանքման ծրագրի մշակում, սեյսմիկ մոնիտորինգի դիտակետերի սարքավորումների արդիականացում
G80: Տրանսֆերտների տրամադրում
H81: Շահառուների ընտրության չափորոշիչները` Մասնագիտացված կազմակերպություն
D82: 1189 - 12003 | E82: =+'6'!D116 -> Ասիական զարգացման բանկի աջակցությամբ իրականացվող դպրոցների սեյսմիկ պաշտպանության ծրագրի լրացուցիչ ֆինանսավորման շրջանակներում ՀՀ դպրոցների սեյսմիկ անվտանգության բարելավմանն ուղղված միջոցառումներ | J82: =+'6'!E116 -> 1000000 | K82: =+'6'!H116 -> 2706252.6
F83: Դպրոցների սեյսմիկ պաշտպանության լրացուցիչ ֆինանսավորման ծրագիր, դպրոցների շենքերի կառուցման, ամրացման շինարարական աշխատանքներ, շինարարական ստանդարտների արդիականացում, արտակարգ իրավիճակներին արձագանքման ծրագրի մշակում
G84: Տրանսֆերտների տրամադրում
H85: Շահառուների ընտրության չափորոշիչները` Մասնագիտացված կազմակերպություն
A86: ՀՀ ՖԻՆԱՆՍՆԵՐԻ ՆԱԽԱՐԱՐՈՒԹՅՈՒՆ | J86: =+J87 -> -1000000 | K86: =+K87+K101+K107 -> -532295.7
B87: 1006 | C87: Պետական պարտքի կառավարում | J87: =+J88 -> -1000000 | K87: =+K88+K92 -> -532295.7
D88: 1006 - 13001 | E88: Կառավարության պարտքի սպասարկում | J88: =+'3'!G33 -> -1000000 | K88: =+'3'!H33 -> -532295.7
F89: Կառավարության պարտքի սպասարկում (տոկոսավճարներ)
G90: Ֆինանսավորման ծախսերի իրականացում
H91: Միջոցառումն իրականացնողի անվանումը՛` ՀՀ ֆինանսների նախարարություն
A92: ՀՀ կառավարություն | J92: =J93 -> 0 | K92: =K93 -> 0
B93: 1139 | C93: ՀՀ կառավարության պահուստային ֆոնդ | J93: =J94+J98 -> 0 | K93: =K94+K98 -> 0
D94: 1139 - 11001 | E94: ՀՀ կառավարության պահուստային ֆոնդ | J94: 0 | K94: -7200
F95: ՀՀ պետական բյուջեում նախատեսված ելքերի լրացուցիչ ֆինանսավորման, պետական բյուջեում չկանխատեսված ելքերի, ինչպես նաև բյուջետային երաշխիքների ապահովման ելքերի ֆինանսավորման ապահովում
G96: Ծառայությունների մատուցում
H97: Ծառայությունը մատուցողի անվանումը` ՀՀ կառավարություն
D98: 1139 - 11001 | E98: ՀՀ կառավարության պահուստային ֆոնդ | J98: 0 | K98: 7200
F99: ՀՀ պետական բյուջեում նախատեսված ելքերի լրացուցիչ ֆինանսավորման, պետական բյուջեում չկանխատեսված ելքերի, ինչպես նաև բյուջետային երաշխիքների ապահովման ելքերի ֆինանսավորման ապահովում
G100: Ծառայությունների մատուցում
H101: Ծառայությունը մատուցողի անվանումը` ՀՀ կառավարություն

Sheet 9
A1: Հավելված N 9
A2: ՀՀ կառավարության 2025 թվականի
A3: -ի N -Ն որոշման
A5: ՀԱՅԱՍՏԱՆԻ ՀԱՆՐԱՊԵՏՈՒԹՅԱՆ ԿԱՌԱՎԱՐՈՒԹՅԱՆ 2024 ԹՎԱԿԱՆԻ ԴԵԿՏԵՄԲԵՐԻ 27-Ի N 2060-Ն ՈՐՈՇՄԱՆ N 9.1 ՀԱՎԵԼՎԱԾՈՒՄ ԿԱՏԱՐՎՈՂ ՓՈՓՈԽՈՒԹՅՈՒՆՆԵՐԸ ԵՎ ԼՐԱՑՈՒՄՆԵՐԸ
K7: հազար դրամներով
A8: ԲՍԿ | B8: Ծրագիր | D8: Միջոցառում | H8: Իրականացնողը/ ակտիվն օգտագործողը/ շահառուի ընտրության չափորոշիչը | I8: Արդյունքային չափորոշիչը | J8: Ցուցանիշների փոփոխությունը (ավելացումները նշված են դրական նշանով, իսկ նվազեցումները՝ փակագծերում)
B9: Դասիչը | C9: Անվանումը | D9: Դասիչը | E9: Անվանումը | F9: Նկարագրությունը | G9: Տեսակը | J9: Ինն ամիս | K9: Տարի
A10: ԸՆԴԱՄԵՆԸ | J10: =+J11+J44+J88+J94 -> -303440.2 | K10: =+K11+K44+K88+K94 -> -399520.8 | M10: =+J10-'8'!J9 -> 0 | N10: =+K10-'8'!K9 -> -4.6566129e-10
A11: ՀՀ տարածքային կառավարման և ենթակառուցվածքների նախարարություն | J11: =+J12+J35+J29 -> 1057161.8 | K11: =+K12+K35+K29 -> 2667333.8
B12: 1019 | C12: Սոցիալական ներդրումների և տեղական զարգացման ծրագիր | J12: =+J13+J20+J24 -> -450038.2 | K12: =+K13+K20+K24 -> -546118.8 | M12: =+'8'!J32 -> -450038.2 | N12: =+'8'!K32 -> -546118.8
D13: 1019 - 11004 | E13: =+'8'!E33:I33 -> ԱՄՆ ՄԶԳ աջակցությամբ իրականացվող Տեղականինքնակառավարման և ապակենտրոնացման բարեփոխումների դրամաշնորհային ծրագրի կառավարում | J13: =+'8'!J33 -> -76102.5 | K13: =+'8'!K33 -> -172183.1 | M13: =+J12-M12 -> 0 | N13: =+K12-N12 -> 0
F14: ԱՄՆ ՄԶԳ աջակցությամբ իրականացվող Տեղական ինքնակառավարման և ապակենտրոնացման բարեփոխումների դրամաշնորհային ծրագրի իրականացման նպատակով ծրագերի կառավարման ծախսեր և Տեղական կառավարման համակարգերի հզորացման,ապակենտրոնացման գործընթացներին աջակցության նպատակով խորհրդատվություն և ուսուցում
G15: Ծառայությունների մատուցում
H16: Ծառայությունը մատուցողի անվանումը` Մասնագիտացված միավոր
I17: Տեղական ինքնակառավարման մարմինների ուսուցում՛ հաշվետվողականության ամրապնդման համար (տեղական ինքնակառավարման սուբյեկտներ, հատ) | K17: -8
I18: Հաշվետվողականության ամրապնդման վերաբերյալ սեմինարներին և թրեյնինգներին համայնքային ծառայողների մասնակցություն (մասնակիցների թիվ, անձ) | K18: -105
I19: Արտակարգ իրավիճակների արձագանքման / ռիսկերի նվազեցման քաղաքականության և ընթացակարգերի մշակում և փորձարկում (համայնքների թիվ, հատ) | K19: -8
D20: 1019 - 12004 | E20: =+'8'!E40:I40 -> Համաշխարհային բանկի աջակցությամբ իրականացվող Սոցիալական ներդրումների և տեղական զարգացման ծրագրի լրացուցիչ ֆինանսավորման վարկի շրջանակներում ՀՀ համայնքային և միջհամայնքային ենթակառուցվածքների որակի, օգտագործման և հասանելիության բարելավում | J20: =+'8'!J40 -> -146448 | K20: =+'8'!K40 -> -146448
F21: Ջրագծերի, առողջապահության, կրթության օբյեկտների, մշակույթային տների, ծերանոցների, մանկատների, հատուկ դպրոցների, մանկապարտզների և կոյուղու օբյեկտնրի հիմն. և շինարարություն., գույքի և սարքավորումների տրամադրում շահառու ենթածրագրերի համար
G22: Տրանսֆերտների տրամադրում
H23: Շահառուների ընտրության չափորոշիչները` Մասնագիտացված միավոր
D24: 1019 - 12005 | E24: =+'7'!D18 -> ԱՄՆ ՄԶԳ աջակցությամբ իրականացվող Տեղականինքնակառավարման և ապակենտրոնացման բարեփոխումների դրամաշնորհային ծրագրի կառավարում | J24: =+'8'!J44 -> -227487.7 | K24: =+'8'!K44 -> -227487.7 | M24: =+J23-M23 -> 0 | N24: =+K23-N23 -> 0
F25: ԱՄՆ ՄԶԳ աջակցությամբ իրականացվող Տեղականինքնակառավարման և ապակենտրոնացմանբարեփոխումների դրամաշնորհային ծրագրիշրջանակներում մեքենասարքավորումներիտրամադրում և համայնքային մակարդակիենթակառուցվածքների կառուցում և վերականգնում
G26: Տրանսֆերտների տրամադրում
H27: Շահառուների ընտրության չափորոշիչները` Մասնագիտացված միավոր
I28: Համայնքների թիվ, որոնք ստացել են հանրային ծառայությունների բարելավմանն ուղղված մեքենասարքավորումներ կամ այլ անհրաժեշտ ապրանքներ (համայնքների թիվ, հատ) | K28: -7
B29: 1072 | C29: Ջրամատակարարաման և ջրահեռացման բարելավում | J29: =J30 -> 0 | K29: =K30 -> 7200 | M29: =+'8'!J12 -> -219833.2 | N29: =+'8'!K12 -> -219833.2
D30: 1072 - 12004 | E30: =+'8'!E54:I54 -> Մաքրման կայանների պահպանություն | J30: 0 | K30: =+'5'!H14 -> 7200 | M30: =+J66-M66 -> 0 | N30: =+K66-N66 -> -7200
F31: Մաքրման կայանների պահպանության նպատակով համապատասխան ծառայությունների ձեռքբերում
G32: Տրանսֆերտների տրամադրում
H33: Շահառուների ընտրության չափորոշիչները` Մասնագիտացված միավոր
I34: Կառավարվող/վերահսկվող խորհրդատվական պայմանագրերի քանակ, հատ | K34: 1
B35: 1189 | C35: Դպրոցների սեյսմիկ անվտանգության մակարդակի բարձրացման ծրագիր | J35: =+J36+J40 -> 1507200 | K35: =+K36+K40 -> 3206252.6 | M35: =+'8'!J77 -> 1507200 | N35: =+'8'!K77 -> 3206252.6
D36: 1189 - 12001 | E36: =+'8'!E78:I78 -> Ասիական զարգացման բանկի աջակցությամբ իրականացվող դպրոցների սեյսմիկ պաշտպանության ծրագրի շրջանակներում ՀՀ դպրոցների սեյսմիկ անվտանգության բարելավմանն ուղղված միջոցառումներ | J36: =+'8'!J78 -> 507200 | K36: =+'8'!K78 -> 500000 | M36: =+J35-M35 -> 0 | N36: =+K35-N35 -> 0
F37: Դպրոցների շենքերի ամրացման շինարարական աշխատանքներ, շինարարական ստանդարտների արդիականացում, արտակարգ իրավիճակներին արձագանքման ծրագրի մշակում, սեյսմիկ մոնիտորինգի դիտակետերի սարքավորումների արդիականացում
G38: Տրանսֆերտների տրամադրում
H39: Շահառուների ընտրության չափորոշիչները` Մասնագիտացված կազմակերպություն
D40: 1189 - 12003 | E40: =+'8'!E82:I82 -> Ասիական զարգացման բանկի աջակցությամբ իրականացվող դպրոցների սեյսմիկ պաշտպանության ծրագրի լրացուցիչ ֆինանսավորման շրջանակներում ՀՀ դպրոցների սեյսմիկ անվտանգության բարելավմանն ուղղված միջոցառումներ | J40: =+'8'!J82 -> 1000000 | K40: =+'8'!K82 -> 2706252.6
F41: Դպրոցների սեյսմիկ պաշտպանության լրացուցիչ ֆինանսավորման ծրագիր, դպրոցների շենքերի կառուցման, ամրացման շինարարական աշխատանքներ, շինարարական ստանդարտների արդիականացում, արտակարգ իրավիճակներին արձագանքման ծրագրի մշակում
G42: Տրանսֆերտների տրամադրում
H43: Շահառուների ընտրության չափորոշիչները` Մասնագիտացված կազմակերպություն
A44: ՀՀ տարածքային կառավարման և ենթակառուցվածքների նախարարության ջրային կոմիտե | J44: =+J45+J66 -> -360602 | K44: =+K45+K66 -> -2534558.9
B45: 1004 | C45: Ոռոգման համակարգի առողջացում | J45: =+J46+J51+J55+J60 -> -450752 | K45: =+K46+K51+K55+K60 -> -1679034.2 | M45: =+'4'!H19 -> -450752 | N45: =+'4'!I19 -> -1679034.2
D46: 1004 - 11005 | E46: Եվրասիական զարգացման բանկի աջակցությամբ իրականացվող ոռոգման համակարգերի զարգացման ծրագրի խորհրդատվություն և կառավարում | J46: =+'8'!J12 -> -219833.2 | K46: =+'8'!K12 -> -219833.2 | M46: =+J45-M45 -> 0 | N46: =+K45-N45 -> 0
F47: Եվրասիական զարգացման բանկի աջակցությամբ իրականացվող ոռոգման համակարգերի զարգացման ծրագրի համակարգում և ղեկավարում
G48: Ծառայությունների մատուցում
H49: Ծառայությունը մատուցողի անվանումը` Մասնագիտացված միավոր
I50: Կառավարվող/վերահսկվող խորհրդատվական պայմանագրերի քանակ, հատ | K50: -2
D51: 1004 - 31004 | E51: =+'8'!E17:I17 -> Գերմանիայի զարգացման վարկերի բանկի աջակցությամբ իրականացվող Ախուրյան գետի ջրային ռեսուրսների ինտեգրված կառավարման ծրագրի շրջանակներում ջրային տնտեսության ենթակառուցվածքների հիմնանորոգում | J51: =+'8'!J17 -> -172518.8 | K51: =+'8'!K17 -> -116385.4
F52: Գերմանիայի զարգացման վարկերի բանկի աջակցությամբ իրականացվող Ախուրյան գետի ջրային ռեսուրսների ինտեգրված կառավարման ծրագիր
G53: Պետական մարմինների կողմից օգտագործվող ոչ ֆինանսական ակտիվների հետ գործառնություններ
H54: Ակտիվն օգտագործող կազմակերպության անվանումը` Մասնագիտացված միավոր
D55: 1004 - 31005 | E55: =+'8'!E21:I21 -> Եվրասիական զարգացման բանկի աջակցությամբ իրականացվող ոռոգման համակարգերի զարգացման ծրագրի շրջանակներում ջրային տնտեսության ենթակառուցվածքների հիմնանորոգում | J55: =+'8'!J21 -> -58400 | K55: =+'8'!K21 -> -58400
F56: Եվրասիական զարգացման բանկի աջակցությամբ իրականացվող ոռոգման համակարգերի զարգացման ծրագիր
G57: Պետական մարմինների կողմից օգտագործվող ոչ ֆինանսական ակտիվների հետ գործառնություններ
H58: Ակտիվն օգտագործող կազմակերպության անվանումը` Մասնագիտացված միավոր
I59: Հիմնանորոգվող ոռոգման ցանցերի երկարություն, կմ | K59: -1.45
D60: 1004 - 31006 | E60: =+'8'!E26:I26 -> Գերմանիայի զարգացման վարկերի բանկի աջակցությամբ իրականացվող Ախուրյան գետի ջրային ռեսուրսների ինտեգրացված կառավարման ծրագրի երկրորդ փուլի շրջանակներում ջրային տնտեսության ենթակառուցվածքների հիմնանորոգում | J60: =+'8'!J26 -> 0 | K60: =+'8'!K26 -> -1284415.6
F61: Գերմանիայի զարգացման վարկերի բանկի աջակցությամբ իրականացվող Ախուրյան գետի ջրային ռեսուրսների ինտեգրացված կառավարման ծրագրի երկրորդ փուլ
G62: Պետական մարմինների կողմից օգտագործվող ոչ ֆինանսական ակտիվների հետ գործառնություններ
H63: Ակտիվն օգտագործող կազմակերպության անվանումը` Մասնագիտացված միավոր
I64: Թունելների վերակառուցում, մ | K64: -100
I65: Վարարային ջրհեռի կառուցում | K65: -200
B66: 1072 | C66: Ջրամատակարարաման և ջրահեռացման բարելավում | J66: =J71+J78+J83+J67 -> 90150 | K66: =K71+K78+K83+K67 -> -855524.7 | M66: =+'8'!J49 -> 90150 | N66: =+'8'!K49 -> -848324.7
D67: 1072 - 12001 | E67: =+'8'!E50:I50 -> Գերմանիայի զարգացման և Եվրոպական միության հարևանության ներդրումային բանկի աջակցությամբ իրականացվող ջրամատակարարման և ջրահեռացման ենթակառուցվածքների դրամաշնորհային ծրագիր` երրորդ փուլ | J67: =+'8'!J50 -> 90150 | K67: =+'8'!K50 -> 150
F68: =+'8'!F51:K51 -> 579 գյուղական բնակավայրերից ընտրված որոշ համայնքների ջրամատակարարման և ջրահեռացման համակարգերի հատվածների հրատապ վերականգնման աշխատանքների իրականացում ինչպես նաև՛ Արմավիրի կեղտաջրերի մաքրման կայանի կառուցում
G69: =+'8'!G52:K52 -> Տրանսֆերտների տրամադրում
H70: Շահառուների ընտրության չափորոշիչները` Մասնագիտացված միավոր
D71: 1072 - 31001 | E71: =+'8'!E59:I59 -> Գերմանիայի զարգացման վարկերի բանկի աջակցությամբ իրականացվող ջրամատակարարման և ջրահեռացման ենթակառուցվածքների վերականգնման ծրագրի երրորդ փուլի շրջանակներում ջրամատակարարման և ջրահեռացման ենթակառուցվածքների հիմնանորոգում | J71: =+'6'!E75 -> 0 | K71: =+'6'!H75 -> 80100
F72: 6 քաղաքների և 37 գյուղական բնակավայրերի ջրամատակարարման և ջրահեռացման համակարգերի հատվածների հրատապ (մասնակի) վերականգնման աշխատանքներ
G73: Պետական մարմինների կողմից օգտագործվող ոչ ֆինանսական ակտիվների հետ գործառնություններ
H74: Ակտիվն օգտագործող կազմակերպության(ների) անվանում(ները)՛ Մասնագիտացված միավոր
I75: Նորոգվող ջրագծերի երկարություն, կմ | K75: -18
I76: Նորոգվող տնային միացումներ, հատ | K76: 275
I77: Նորոգվող կոյուղագծերի երկարություն, կմ | K77: 0.4
D78: 1072 - 31002 | E78: =+'8'!E66:I66 -> Եվրոպական ներդրումային բանկի աջակցությամբ իրականացվող ջրամատակարարման և ջրահեռացման ենթակառուցվածքների վերականգնման ծրագրի երրորդ փուլի շրջանակներում ջրամատակարարման և ջրահեռացման ենթակառուցվածքների հիմնանորոգում | J78: =+'6'!E88 -> 0 | K78: =+'6'!H88 -> -1035774.7
F79: 6 քաղաքների և 37 գյուղական բնակավայրերի ջրամատակարարման և ջրահեռացման համակարգերի հատվածների հրատապ (մասնակի) վերականգնման աշխատանքներ
G80: Պետական մարմինների կողմից օգտագործվող ոչ ֆինանսական ակտիվների հետ գործառնություններ
H81: Ակտիվն օգտագործող կազմակերպության(ների) անվանում(ները)՛ Մասնագիտացված միավոր
I82: Նորոգվող ջրագծերի երկարություն, կմ | K82: -31
D83: 1072 - 31003 | E83: =+'8'!E71:I71 -> Եվրոպակական ներդրումային բանկի աջակցությամբ իրականացվող Երևանի ջրամատակարարման բարելավման ծրագրի շրջանակներում ջրամատակարարման և ջրահեռացման ենթակառուցվածքների հիմնանորոգում | J83: =+'6'!E97 -> 0 | K83: =+'6'!H97 -> 100000
F84: Երևանի ջրամատակարարման ցանցի բարելավման աշխատանքներ
G85: Պետական մարմինների կողմից օգտագործվող ոչ ֆինանսական ակտիվների հետ գործառնություններ
H86: Ակտիվն օգտագործող կազմակերպության(ների) անվանում(ները)՛ Մասնագիտացված միավոր
I87: Նորոգվող ջրագծերի երկարություն, կմ | K87: 3
A88: ՀՀ ՖԻՆԱՆՍՆԵՐԻ ՆԱԽԱՐԱՐՈՒԹՅՈՒՆ | J88: =+J89 -> -1000000 | K88: =+K89+K103+K109 -> -532295.7
B89: 1006 | C89: Պետական պարտքի կառավարում | J89: =+J90 -> -1000000 | K89: =+K90+K94 -> -532295.7
D90: 1006 - 13001 | E90: Կառավարության պարտքի սպասարկում | J90: =+'4'!H220 -> -1000000 | K90: =+'4'!I220 -> -532295.7
F91: Կառավարության պարտքի սպասարկում (տոկոսավճարներ)
G92: Ֆինանսավորման ծախսերի իրականացում
H93: Միջոցառումն իրականացնողի անվանումը՛` ՀՀ ֆինանսների նախարարություն
A94: ՀՀ կառավարություն | J94: =J95 -> 0 | K94: =K95 -> 0
B95: 1139 | C95: ՀՀ կառավարության պահուստային ֆոնդ | J95: =J96+J100 -> 0 | K95: =K96+K100 -> 0
D96: 1139 - 11001 | E96: ՀՀ կառավարության պահուստային ֆոնդ | J96: ='8'!J94 -> 0 | K96: ='8'!K94 -> -7200
F97: ՀՀ պետական բյուջեում նախատեսված ելքերի լրացուցիչ ֆինանսավորման, պետական բյուջեում չկանխատեսված ելքերի, ինչպես նաև բյուջետային երաշխիքների ապահովման ելքերի ֆինանսավորման ապահովում
G98: Ծառայությունների մատուցում
H99: Ծառայությունը մատուցողի անվանումը` ՀՀ կառավարություն
D100: 1139 - 11001 | E100: ՀՀ կառավարության պահուստային ֆոնդ | J100: ='8'!J98 -> 0 | K100: ='8'!K98 -> 7200
F101: ՀՀ պետական բյուջեում նախատեսված ելքերի լրացուցիչ ֆինանսավորման, պետական բյուջեում չկանխատեսված ելքերի, ինչպես նաև բյուջետային երաշխիքների ապահովման ելքերի ֆինանսավորման ապահովում
G102: Ծառայությունների մատուցում
...

Sheet 10
A1: Հավելված N 10
A2: ՀՀ կառավարության 2025 թվականի
A3: -ի N -Ն որոշման
A5: ՀԱՅԱՍՏԱՆԻ ՀԱՆՐԱՊԵՏՈՒԹՅԱՆ ԿԱՌԱՎԱՐՈՒԹՅԱՆ ՊԱՀՈՒՍՏԱՅԻՆ ՖՈՆԴԻՑ ԿԱՏԱՐՎՈՂ ՀԱՏԿԱՑՈՒՄԸ
G6: հազար դրամներով
A8: Գործառական դասիչը | D8: Ծրագրային դասիչը | F8: Բյուջետային ծախսերի գործառական դասակարգման բաժինների, խմբերի և դասերի, բյուջետային ծրագրերի միջոցառումների, բյուջետային հատկացումների գլխավոր կարգադրիչների անվանումները | G8: Ցուցանիշների փոփոխությունը (ավելացումները նշված են դրական նշանով, իսկ նվազեցումները՝ փակագծերում)
G9: Ինն ամիս | H9: Տարի
A10: Բաժին | B10: Խումբ | C10: Դաս | D10: Ծրագիր | E10: Միջոցառում
F11: ԸՆԴԱՄԵՆԸ ԾԱԽՍԵՐ | G11: =G13+G33 -> 0 | H11: =H13+H33 -> 0
F12: այդ թվում`
F13: ՀՀ կառավարություն | G13: =G15 -> 0 | H13: =H15 -> -7200
F14: այդ թվում`
A15: 11 | F15: ՀԻՄՆԱԿԱՆ ԲԱԺԻՆՆԵՐԻՆ ՉԴԱՍՎՈՂ ՊԱՀՈՒՍՏԱՅԻՆ ՖՈՆԴԵՐ | G15: =G17 -> 0 | H15: =H17 -> -7200
F16: այդ թվում`
B17: 01 | F17: ՀՀ կառավարության և համայնքների պահուստային ֆոնդ | G17: =G19 -> 0 | H17: =H19 -> -7200
F18: այդ թվում`
C19: 01 | F19: ՀՀ կառավարության պահուստային ֆոնդ | G19: =G21 -> 0 | H19: =H21 -> -7200
F20: այդ թվում`
F21: ՀՀ կառավարություն | G21: =G23 -> 0 | H21: =H23 -> -7200
F22: այդ թվում`
D23: 1139 | F23: ՀՀ կառավարության պահուստային ֆոնդ | G23: =G25 -> 0 | H23: =H25 -> -7200
F24: այդ թվում`
E25: 11001 | F25: ՀՀ կառավարության պահուստային ֆոնդ | G25: =G27 -> 0 | H25: =H27 -> -7200
F26: այդ թվում` ըստ կատարողների
F27: ՀՀ կառավարություն | G27: =G29 -> 0 | H27: =H29 -> -7200
F28: այդ թվում` բյուջետային ծախսերի տնտեսագիտական դասակարգման հոդվածներ
F29: ԸՆԴԱՄԵՆԸ ԾԱԽՍԵՐ | G29: =G30 -> 0 | H29: =H30 -> -7200
F30: ԸՆԹԱՑԻԿ ԾԱԽՍԵՐ | G30: =G31 -> 0 | H30: =H31 -> -7200
F31: ԱՅԼ ԾԱԽՍԵՐ | G31: =G32 -> 0 | H31: =H32 -> -7200
F32: Պահուստային միջոցներ | G32: =+'3'!G36 -> 0 | H32: =+'3'!H36 -> -7200
F33: ՀՀ տարածքային կառավարման և ենթակառուցվածքների նախարարություն | G33: =G35 -> 0 | H33: =H35 -> 7200
F34: այդ թվում`
A35: 06 | F35: ԲՆԱԿԱՐԱՆԱՅԻՆ ՇԻՆԱՐԱՐՈՒԹՅՈՒՆ ԵՎ ԿՈՄՈՒՆԱԼ ԾԱՌԱՅՈՒԹՅՈՒՆՆԵՐ | G35: =G37 -> 0 | H35: =H37 -> 7200
F36: այդ թվում`
B37: 03 | F37: Ջրամատակարարում | G37: =G39 -> 0 | H37: =H39 -> 7200
F38: այդ թվում`
C39: 01 | F39: Ջրամատակարարում | G39: =G43+G68 -> 0 | H39: =H43+H68 -> 7200
F40: այդ թվում`
F41: =F47 -> ՀՀ տարածքային կառավարման և ենթակառուցվածքների նախարարություն | G41: =G43 -> 0 | H41: =H43 -> 7200
F42: այդ թվում`
D43: 1072 | F43: Ջրամատակարարաման և ջրահեռացման բարելավում | G43: =+G45 -> 0 | H43: =+H45 -> 7200
F44: այդ թվում`
E45: =+'5'!C14 -> 12004 | F45: =+'5'!D14 -> Մաքրման կայանների պահպանություն | G45: =G47 -> 0 | H45: =H47 -> 7200
F46: այդ թվում` ըստ կատարողների
F47: =+'5'!G14 -> ՀՀ տարածքային կառավարման և ենթակառուցվածքների նախարարություն | G47: =G49 -> 0 | H47: =H49 -> 7200
F48: այդ թվում` բյուջետային ծախսերի տնտեսագիտական դասակարգման հոդվածներ
F49: ԸՆԴԱՄԵՆԸ ԾԱԽՍԵՐ | G49: =G50 -> 0 | H49: =H50 -> 7200
F50: ԸՆԹԱՑԻԿ ԾԱԽՍԵՐ | G50: =G51 -> 0 | H50: =H51 -> 7200
F51: ԱՅԼ ԾԱԽՍԵՐ | G51: =G52 -> 0 | H51: =H52 -> 7200
F52: Այլ ծախսեր | G52: 0 | H52: =+'5'!H15 -> 7200
