Workbook
Name շախմատիստ: #REF!
Name շախմատիստ: #REF!
Name շախմատիստ: #REF!
Name շախմատիստ: #REF!

Sheet Հավելված N 1
F1: Հավելված N 1
F2: ՀՀ կառավարության 2025 թվականի
F3: ______________ ի ___Ն որոշման
A4: «ՀԱՅԱՍՏԱՆԻ ՀԱՆՐԱՊԵՏՈՒԹՅԱՆ 2025 ԹՎԱԿԱՆԻ ՊԵՏԱԿԱՆ ԲՅՈՒՋԵԻ ՄԱՍԻՆ» ՕՐԵՆՔԻ N 1 ՀԱՎԵԼՎԱԾԻ N 2 ԱՂՅՈՒՍԱԿՈՒՄ ԿԱՏԱՐՎՈՂ ՎԵՐԱԲԱՇԽՈՒՄԸ ԵՎ ՓՈՓՈԽՈՒԹՅՈՒՆԸ ԵՎ ՀԱՅԱՍՏԱՆԻ ՀԱՆՐԱՊԵՏՈՒԹՅԱՆ ԿԱՌԱՎԱՐՈՒԹՅԱՆ 2024 ԹՎԱԿԱՆԻ ԴԵԿՏԵՄԲԵՐԻ 27-Ի N 2060-Ն ՈՐՈՇՄԱՆ N 5 ՀԱՎԵԼՎԱԾԻ N 1 ԱՂՅՈՒՍԱԿՈՒՄ ԿԱՏԱՐՎՈՂ ՓՈՓՈԽՈՒԹՅՈՒՆՆԵՐԸ
H5: հազար դրամներով
A6: ԲԳԿ | B6: Ծրագրային դասիչը | D6: ԲԳԿ/Ծրագրի /միջոցառման անվանումը | E6: Ծրագրի նպատակը/Միջոցառման նկարագրությունը | F6: Վերջնական արդյունքի նկարագրությունը/Միջոցառման տեսակը | G6: Ցուցանիշների փոփոխությունը (ավելացումները նշված են դրական նշանով, իսկ նվազեցումները՝ փակագծերում)
B7: Ծրագիր | C7: Միջոցառում | G7: Ինն ամիս | H7: Տարի
A8: ԸՆԴԱՄԵՆԸ | G8: =G9 -> -7.2759576e-12 | H8: =H9 -> 0
A9: ՀՀ կրթության, գիտության, մշակույթի և սպորտի նախարարություն | G9: =G10+G12+G14+G16+G18+G20 -> -7.2759576e-12 | H9: =H10+H12+H14+H16+H18+H20 -> 0
B10: 1056 | D10: Կինեմատոգրաֆիայի ծրագիր | E10: Կինոարվեստի և կինոարտադրության զարգացմանն աջակցություն, հայկական ավանդույթների շարունակականության ապահովում և կինոարվեստի հանրահռչակում | F10: Կինոարտադրության ընդլայնում և տարածում, հասարակության կինոհաղորդակցության բարելավում | G10: =G11 -> 6000 | H10: =H11 -> 6000
C11: 1056 - 11005 | D11: Կինոարվեստի հանրահռչակում | E11: Կինոարվեստի հանրահռչակում, տարածում, մատչելիության ապահովում | F11: Ծառայությունների մատուցում | G11: ='Հավելված N 3'!G50 -> 6000 | H11: ='Հավելված N 3'!H50 -> 6000
B12: 1075 | D12: Մշակութային ժառանգության ծրագիր | E12: Մշակութային ժառանգության պահպանում, օգտագործում, համալրում և հանրահռչակում | F12: Մշակութային ժառանգության շարունակական պահպանում, մշակութային զբոսաշրջության զարգացում և խթանում | G12: =G13 -> 22399.3 | H12: =H13 -> 46213.4
C13: 1075-11010 | D13: Մշակույթի զարգացման հիմնադրամի ծառայություններ | E13: Մշակույթի պահպանման, տարածման և զարգացման համար լրացուցիչ ֆինանսական միջոցների ներգրավում, մշակութային ենթակառուցվածքների գործունեության շարունակական բարելավում, մշակութային ժառանգությանն ու մշակութային կյանքին հաղորդակցման մատչելիության ապահովում | F13: Ծառայությունների մատուցում | G13: ='Հավելված N 3'!G20 -> 22399.3 | H13: ='Հավելված N 3'!H20 -> 46213.4
B14: 1124 | D14: Գրահրատարակչության և գրադարանների ծրագիր | E14: Նպաստել գրականության զարգացմանը, տարածմանը և հանրահռչակմանը | F14: Գրքի և գրական արտադրանքի բազմազանության և հասանելիության ապահովում, ստեղծագործական գործընթացների խթանում | G14: =G15 -> 3790.1 | H14: =H15 -> 3790.1
C15: 1124 - 11005 | D15: Աջակցություն գրականության հանրահռչակմանը, գրական ծրագրերին և գրքերի միջազգային ցուցահանդեսներին մասնակցությանը | E15: Գրական ժառանգության պահպանման և տարածման ծառայությունների մատուցում | F15: Ծառայությունների մատուցում | G15: ='Հավելված N 3'!G63 -> 3790.1 | H15: ='Հավելված N 3'!H63 -> 3790.1
B16: 1168 | D16: Արվեստների ծրագիր | E16: Նպաստել ազգային հենքի վրա ժամանակակից թատերարվեստի, երաժշտարվեստի, կերպարվեստի և պարարվեստի զարգացմանը և հանրահռչակմանը | F16: Մրցունակ արվեստային արտադրանքի ստեղծում, ստեղծագործական գործընթացների խթանում, արվեստի նոր նախագծերի ներդրում և մշակութային կյանքում հասարակության ներգրավում | G16: =G17 -> 8640 | H16: =H17 -> 8640
C17: 1168-11006 | D17: Ազգային ակադեմիական խմբերգային համերգներ | E17: Խմբերգային համերգների իրականացում, Ազգային ակադեմիական երգչախմբի գործունեության ապահովում | F17: Ծառայությունների մատուցում | G17: ='Հավելված N 3'!G76 -> 8640 | H17: ='Հավելված N 3'!H76 -> 8640
B18: 1196 | D18: Մարզերի մշակութային զարգացման ծրագիր | E18: Մարզերում մշակութային կյանքի և մշակութաստեղծ գործունեության ակտիվացում | F18: Համայնքներում մշակույթի հասանելիության և մշակութային կյանքին մարզային բնակչության ընդգրկվածության ընդլայնում | G18: =G19 -> -39514.9 | H18: =H19 -> -63329
C19: 1196-12002 | D19: Համայնքային մշակութային-ժամանցային կենտրոնի ստեղծում | E19: Համայնքի մշակութային կյանքի ակտիվացում, հանրային ընթերցանության, գեղագիտական կրթության զարգացում, համայնքի բնակչության որակյալ և բովանդակալից ժամանցի կազմակերպում | F19: Տրանսֆերտների տրամադրում | G19: ='Հավելված N 3'!G35 -> -39514.9 | H19: ='Հավելված N 3'!H35 -> -63329
B20: 1198 | D20: Մշակութային և գեղագիտական դաստիարակության ծրագիր | E20: Երեխաների հոգևոր և գեղագիտական ընդունակությունների բացահայտում և զարգացում | F20: Ստեղծագործական ունակությունների ձևավորում և զարգացում | G20: =G21 -> -1314.5 | H20: =H21 -> -1314.5
C21: 1198-11009 | D21: Դպրոցական բաժանորդային համակարգի ծրագրի իրականացում | E21: Մշակութային միջոցառումներին աշակերտների ներգրավվածության բարձրացում, մշակութային հաստատություն այցելելու ավանդույթի, գեղարվեստական ճաշակի և լայն աշխարհայացքի ձևավորում | F21: Ծառայությունների մատուցում | G21: ='Հավելված N 3'!G103 -> -1314.5 | H21: ='Հավելված N 3'!H103 -> -1314.5

Sheet Հավելված N 2
F1: Հավելված N 2
F2: ՀՀ կառավարության 2025 թվականի
F3: ______________ ի ___Ն որոշման
A4: «ՀԱՅԱՍՏԱՆԻ ՀԱՆՐԱՊԵՏՈՒԹՅԱՆ 2025 ԹՎԱԿԱՆԻ ՊԵՏԱԿԱՆ ԲՅՈՒՋԵԻ ՄԱՍԻՆ» ՀԱՅԱՍՏԱՆԻ ՀԱՆՐԱՊԵՏՈՒԹՅԱՆ ՕՐԵՆՔԻ N 1 ՀԱՎԵԼՎԱԾԻ N 3 ԱՂՅՈՒՍԱԿՈՒՄ ԿԱՏԱՐՎՈՂ ՓՈՓՈԽՈՒԹՅՈՒՆՆԵՐԸ
H5: հազար դրամներով
A6: Ծրագրային դասիչ | C6: Բյուջետային գլխավոր կարգադրիչների, ծրագրերի, միջոցառումների, միջոցառումները կատարող պետական մարմինների և ուղղությունների անվանումները | D6: Ընդամենը | E6: Ցուցանիշների փոփոխությունը (նվազեցումները նշված են փակագծերում)
A7: Ծրագիր | B7: Միջոցառում | E7: Կառուցման աշխատանքներ | F7: Վերակառուցման, վերանորոգման և վերականգնման աշխատանքներ | G7: Նախագծահե- տազոտական, գեոդեզիա- քարտեզագրա- կան աշխա- տանքներ | H7: Ոչ ֆինանսական այլ ակտիվների ձեռքբերում
C8: ԸՆԴԱՄԵՆԸ | D8: =SUM(E8:H8) -> -63329 | E8: =+E10 -> 0 | F8: =+F10 -> -63329 | G8: =+G10 -> 0 | H8: =+H10 -> 0
C9: այդ թվում՝
C10: ՀՀ ԿՐԹՈՒԹՅԱՆ, ԳԻՏՈՒԹՅԱՆ, ՄՇԱԿՈՒՅԹԻ ԵՎ ՍՊՈՐՏԻ ՆԱԽԱՐԱՐՈՒԹՅՈՒՆ | D10: =SUM(E10:H10) -> -63329 | E10: =E11 -> 0 | F10: =F11 -> -63329 | G10: =G11 -> 0 | H10: =H11 -> 0
A11: 1196 | B11: 12002 | C11: Համայնքային մշակութային-ժամանցային կենտրոնի ստեղծում | D11: =SUM(E11:H11) -> -63329 | E11: 0 | F11: ='Հավելված N 3'!H35 -> -63329 | H11: 0

Sheet Հավելված N 3
F1: Հավելված N 3
F2: ՀՀ կառավարության 2025 թվականի
F3: ______________ ի ___Ն որոշման
A4: ՀԱՅԱՍՏԱՆԻ ՀԱՆՐԱՊԵՏՈՒԹՅԱՆ ԿԱՌԱՎԱՐՈՒԹՅԱՆ 2024 ԹՎԱԿԱՆԻ ԴԵԿՏԵՄԲԵՐԻ 27-Ի N 2060-Ն ՈՐՈՇՄԱՆ N 3 ԵՎ N 4 ՀԱՎԵԼՎԱԾՆԵՐՈՒՄ ԿԱՏԱՐՎՈՂ ՓՈՓՈԽՈՒԹՅՈՒՆՆԵՐԸ
H5: հազար դրամներով
A6: Գործառական դասիչը | D6: Ծրագրային դասիչը | F6: Բյուջետային ծախսերի գործառական դասակարգման բաժինների, խմբերի և դասերի, բյուջետային ծրագրերի միջոցառումների, բյուջետային հատկացումների գլխավոր կարգադրիչների անվանումները | G6: Ցուցանիշների փոփոխությունը (ավելացումները նշված են դրական նշանով, իսկ նվազեցումները՝ փակագծերում)
A7: Բաժին | B7: Խումբ | C7: Դաս | D7: Ծրագիր | E7: Միջոցառում | G7: Ինն ամիս | H7: Տարի
F8: ԸՆԴԱՄԵՆԸ | G8: =G10+G85 -> -3.6379788e-12 | H8: =H10+H85 -> 0
F9: այդ թվում`
A10: 08 | F10: ՀԱՆԳԻՍՏ, ՄՇԱԿՈՒՅԹ ԵՎ ԿՐՈՆ | G10: =G12 -> 1314.5 | H10: =H12 -> 1314.5
F11: այդ թվում`
B12: 02 | F12: Մշակութային ծառայություններ | G12: =G14+G29+G44 -> 1314.5 | H12: =H14+H29+H44 -> 1314.5
F13: այդ թվում`
C14: 02 | F14: Թանգարաններ և ցուցասրահներ | G14: =G16 -> 22399.3 | H14: =H16 -> 46213.4
F15: այդ թվում`
F16: ՀՀ կրթության , գիտության, մշակույթի և սպորտի նախարարություն | G16: =G18 -> 22399.3 | H16: =H18 -> 46213.4
F17: այդ թվում`
D18: 1075 | F18: Մշակութային ժառանգության ծրագիր | G18: =G20 -> 22399.3 | H18: =H20 -> 46213.4
F19: այդ թվում`
E20: 11010 | F20: Մշակույթի զարգացման հիմնադրամի ծառայություններ | G20: =G22 -> 22399.3 | H20: =H22 -> 46213.4
F21: այդ թվում ըստ կատարողների
F22: ՀՀ կրթության, գիտության, մշակույթի և սպորտի նախարարություն | G22: =G24 -> 22399.3 | H22: =H24 -> 46213.4
F23: այդ թվում` բյուջետային ծախսերի տնտեսագիտական դասակարգման հոդվածներ
F24: ԸՆԴԱՄԵՆԸ ԾԱԽՍԵՐ | G24: =G25 -> 22399.3 | H24: =H25 -> 46213.4
F25: ԸՆԹԱՑԻԿ ԾԱԽՍԵՐ | G25: =G26 -> 22399.3 | H25: =H26 -> 46213.4
F26: ԴՐԱՄԱՇՆՈՐՀՆԵՐ | G26: =G27 -> 22399.3 | H26: =H27 -> 46213.4
F27: Ընթացիկ դրամաշնորհներ պետական հատվածի այլ մակարդակներին | G27: =G28 -> 22399.3 | H27: =H28 -> 46213.4
F28: - Այլ ընթացիկ դրամաշնորհներ | G28: 22399.3 | H28: 46213.4
C29: 03 | F29: Մշակույթի տներ, ակումբներ, կենտրոններ | G29: =G31 -> -39514.9 | H29: =H31 -> -63329
F30: այդ թվում`
F31: ՀՀ կրթության , գիտության, մշակույթի և սպորտի նախարարություն | G31: =G33 -> -39514.9 | H31: =H33 -> -63329
F32: այդ թվում`
D33: 1196 | F33: Մարզերի մշակութային զարգացման ծրագիր | G33: =G35 -> -39514.9 | H33: =H35 -> -63329
F34: այդ թվում`
E35: 12002 | F35: Համայնքային մշակութային-ժամանցային կենտրոնի ստեղծում | G35: =G37 -> -39514.9 | H35: =H37 -> -63329
F36: այդ թվում ըստ կատարողների
F37: ՀՀ կրթության , գիտության, մշակույթի և սպորտի նախարարություն | G37: =G39 -> -39514.9 | H37: =H39 -> -63329
F38: այդ թվում` բյուջետային ծախսերի տնտեսագիտական դասակարգման հոդվածներ
F39: ԸՆԴԱՄԵՆԸ ԾԱԽՍԵՐ | G39: =G40 -> -39514.9 | H39: =H40 -> -63329
F40: ՈՉ ՖԻՆԱՆՍԱԿԱՆ ԱԿՏԻՎՆԵՐԻ ԳԾՈՎ ԾԱԽՍԵՐ | G40: =G41 -> -39514.9 | H40: =H41 -> -63329
...

Sheet Հավելված N 4
C1: Հավելված N 4
C2: ՀՀ կառավարության 2025 թվականի
C3: ______________ ի ___Ն որոշման
A4: ՀԱՅԱՍՏԱՆԻ ՀԱՆՐԱՊԵՏՈՒԹՅԱՆ ԿԱՌԱՎԱՐՈՒԹՅԱՆ 2024 ԹՎԱԿԱՆԻ ԴԵԿՏԵՄԲԵՐԻ 27-Ի N 2060-Ն ՈՐՈՇՄԱՆ N 5 ՀԱՎԵԼՎԱԾԻ N 2 ԱՂՅՈՒՍԱԿՈՒՄ ԿԱՏԱՐՎՈՂ ՓՈՓՈԽՈՒԹՅՈՒՆՆԵՐԸ
E5: հազար դրամներով
A6: Ծրագրային դասիչ | C6: Բյուջետային գլխավոր կարգադրիչների, ծրագրերի, միջոցառումների, միջոցառումները կատարող պետական մարմինների և ուղղությունների անվանումները | D6: Ցուցանիշների փոփոխությունը (նվազեցումները նշված են փակագծերում)
A7: Ծրագիր | B7: Միջոցառում | D7: Ինն ամիս | E7: Տարի
C8: ՀՀ ԿՐԹՈՒԹՅԱՆ, ԳԻՏՈՒԹՅԱՆ, ՄՇԱԿՈՒՅԹԻ ԵՎ ՍՊՈՐՏԻ ՆԱԽԱՐԱՐՈՒԹՅՈՒՆ | D8: =+D10 -> -39514.9 | E8: =+E10 -> -63329
C9: այդ թվում՝
A10: 1196 | B10: 12002 | C10: Համայնքային մշակութային-ժամանցային կենտրոնի ստեղծում | D10: =D12 -> -39514.9 | E10: =E12 -> -63329
C11: այդ թվում` ըստ կատարողների
C12: ՀՀ կրթության, գիտության, մշակույթի և սպորտի նախարարություն | D12: ='Հավելված N 3'!G35 -> -39514.9 | E12: ='Հավելված N 3'!H35 -> -63329

Sheet Հավելված N 5
F1: Հավելված N 5
F2: ՀՀ կառավարության 2025 թվականի
F3: ______________ ի ___Ն որոշման
A4: ՀԱՅԱՍՏԱՆԻ ՀԱՆՐԱՊԵՏՈՒԹՅԱՆ ԿԱՌԱՎԱՐՈՒԹՅԱՆ 2024 ԹՎԱԿԱՆԻ ԴԵԿՏԵՄԲԵՐԻ 27-Ի N 2060-Ն ՈՐՈՇՄԱՆ N 5 ՀԱՎԵԼՎԱԾԻ N 7 ԱՂՅՈՒՍԱԿՈՒՄ ԿԱՏԱՐՎՈՂ ՓՈՓՈԽՈՒԹՅՈՒՆՆԵՐԸ
A5: հազար դրամներով
A6: Ծրագրային դասիչը | D6: Բյուջետային հատկացումների գլխավոր կարգադրիչների, ծրագրերի, միջոցառումների և միջոցառումները կատարող պետական մարմինների անվանումները | F6: Միջոցառումները կատարող պետական մարմինների և դրամաշնորհ ստացող տնտեսվարող սուբյեկտների անվանումները | G6: Ցուցանիշների փոփոխությունը (ավելացումները նշված են դրական նշանով, իսկ նվազեցումները՝ փակագծերում)
A7: Ծրագիր | B7: Միջոցառում | G7: Տարի
A8: ՀՀ կրթության, գիտության, մշակույթի և սպորտի նախարարություն | G8: =G9+G13+G16+G20+G23 -> 54452
A9: 1056 | B9: Կինեմատոգրաֆիայի ծրագիր | G9: =G10 -> -2877
B10: 11005 | C10: Կինոարվեստի հանրահռչակում | F10: ՀՀ կրթության, գիտության, մշակույթի և սպորտի նախարարություն | G10: =G12 -> -2877
D11: այդ թվում՝ ըստ ուղղությունների
E12: Կինոարվեստի նախագծեր | F12: Մրցույթով ընտրված կազմակերպություն | G12: -2877
A13: 1075 | B13: Մշակութային ժառանգության ծրագիր | G13: =G14 -> 46213.4
B14: 11010 | C14: Մշակույթի զարգացման հիմնադրամի ստեղծում | F14: ՀՀ կրթության, գիտության, մշակույթի և սպորտի նախարարություն | G14: 46213.4
F15: Մշակույթի զարգացման հիմնադրամ | G15: ='Հավելված N 3'!H28 -> 46213.4
A16: 1124 | B16: Գրահրատարակչության և գրադարանների ծրագիր | G16: =+G17 -> 3790.1
B17: 11005 | C17: Աջակցություն գրականության հանրահռչակմանը, գրական ծրագրերին և գրքերի միջազգային ցուցահանդեսներին մասնակցությանը | F17: ՀՀ կրթության, գիտության, մշակույթի և սպորտի նախարարություն | G17: =G19 -> 3790.1
D18: այդ թվում՝ ըստ ուղղությունների
E19: Գրքերի միջազգային ցուցահանդեսներին և նախագծերին մասնակցություն | F19: «Հայաստանի ազգային գրադարան» ՊՈԱԿ | G19: ='Հավելված N 3'!H71 -> 3790.1
A20: 1168 | B20: Արվեստների ծրագիր | G20: =+G21 -> 8640
B21: 11006 | C21: Ազգային ակադեմիական խմբերգային համերգներ | F21: ՀՀ կրթության, գիտության, մշակույթի և սպորտի նախարարություն | G21: =G22 -> 8640
F22: «Հայաստանի պետական ազգային ակադեմիական երգչախումբ» ՊՈԱԿ | G22: ='Հավելված N 3'!H84 -> 8640
A23: 1198 | B23: Մշակութային և գեղագիտական դաստիարակության ծրագիր | G23: =G24 -> -1314.5
B24: 11009 | C24: Դպրոցական բաժանորդային համակարգի ծրագրի իրականացում | F24: ՀՀ կրթության, գիտության, մշակույթի և սպորտի նախարարություն | G24: =G25 -> -1314.5
F25: Մշակույթի զարգացման հիմնադրամ | G25: ='Հավելված N 3'!H103 -> -1314.5

Sheet Հավելված N 6
I1: Հավելված N 6
I2: ՀՀ կառավարության 2025 թվականի
I3: -ի N -Ն որոշման
A5: ՀԱՅԱՍՏԱՆԻ ՀԱՆՐԱՊԵՏՈՒԹՅԱՆ ԿԱՌԱՎԱՐՈՒԹՅԱՆ 2024 ԹՎԱԿԱՆԻ ԴԵԿՏԵՄԲԵՐԻ 27-Ի N 2060-Ն ՈՐՈՇՄԱՆ N 9 ՀԱՎԵԼՎԱԾՈՒՄ ԿԱՏԱՐՎՈՂ ՓՈՓՈԽՈՒԹՅՈՒՆՆԵՐԸ
J6: հազար դրամներով
A7: ԲԳԿ | B7: Ծրագիր | D7: Միջոցառում | H7: Իրականացնողը/ ակտիվն օգտագործողը/ շահառուի ընտրության չափորոշիչը | I7: Արդյունքային չափորոշիչը | J7: Ցուցանիշների փոփոխությունը (ավելացումները նշված են դրական նշանով, իսկ նվազեցումները նշված են փակագծերում)
B8: Դասիչը | C8: Անվանումը | D8: Դասիչը | E8: Անվանումը | F8: Նկարագրությունը | G8: Տեսակը | J8: Ինն ամիս | K8: Տարի
A9: ԸՆԴԱՄԵՆԸ | J9: =J10 -> -7.2759576e-12 | K9: =K10 -> 0
A10: ՀՀ կրթության, գիտության, մշակույթի և սպորտի նախարարություն | J10: =J11+J17+J22+J27+J32+J37 -> -7.2759576e-12 | K10: =K11+K17+K22+K27+K32+K37 -> 0
B11: 1056 | C11: Կինեմատոգրաֆիայի ծրագիր | J11: =J12 -> 6000 | K11: =K12 -> 6000
D12: 1056-11005 | E12: Կինոարվեստի հանրահռչակում | J12: ='Հավելված N 1'!G11 -> 6000 | K12: ='Հավելված N 1'!H11 -> 6000
F13: Կինոարվեստի հանրահռչակում, տարածում, մատչելիության ապահովում
G14: Ծառայությունների մատուցում
H15: Ծառայությունները մատուցողի անվանումը՝ մասնագիտացված կազմակերպություններ
I16: Միջազգային կինոնախագծերին անհատների մասնակցություն, քանակ | J16: 10 | K16: 10
B17: 1075 | C17: Մշակութային ժառանգության ծրագիր | J17: =J18 -> 22399.3 | K17: =K18 -> 46213.4
D18: 1075-11010 | E18: Մշակույթի զարգացման հիմնադրամի ստեղծում | J18: ='Հավելված N 1'!G13 -> 22399.3 | K18: ='Հավելված N 1'!H13 -> 46213.4
F19: Մշակույթի պահպանման, տարածման և զարգացման համար լրացուցիչ ֆինանսական միջոցների ներգրավում, մշակութային ենթակառուցվածքների գործունեության շարունակական բարելավում, մշակութային ժառանգությանն ու մշակութային կյանքին հաղորդակցման մատչելիության ապահովում
G20: Ծառայությունների մատուցում
H21: Ծառայությունները մատուցողի անվանումը՝ մասնագիտացված կազմակերպություն
B22: 1124 | C22: Գրահրատարակչության և գրադարանների ծրագիր | J22: =J23 -> 3790.1 | K22: =K23 -> 3790.1
D23: 1124 - 11005 | E23: Աջակցություն գրականության հանրահռչակմանը, գրական ծրագրերին և գրքերի միջազգային ցուցահանդեսներին մասնակցությանը | J23: ='Հավելված N 1'!G15 -> 3790.1 | K23: ='Հավելված N 1'!H15 -> 3790.1
F24: Գրական ժառանգության պահպանման և տարածման ծառայությունների մատուցում
G25: Ծառայությունների մատուցում
H26: Ծառայությունները մատուցողի անվանումը՝ մասնագիտացված կազմակերպություններ
B27: 1168 | C27: Արվեստների ծրագիր | J27: =J28 -> 8640 | K27: =K28 -> 8640
D28: 1168 - 11006 | E28: Ազգային ակադեմիական խմբերգային համերգներ | J28: ='Հավելված N 1'!G17 -> 8640 | K28: ='Հավելված N 1'!H17 -> 8640
F29: Խմբերգային համերգների իրականացում, Ազգային ակադեմիական երգչախմբի գործունեության ապահովում
G30: Ծառայությունների մատուցում
H31: Ծառայությունները մատուցողի անվանումը՝ մասնագիտացված կազմակերպություն
B32: 1196 | C32: Մարզերի մշակութային զարգացման ծրագիր | J32: =J33 -> -39514.9 | K32: =K33 -> -63329
D33: 1196-12002 | E33: Համայնքային մշակութային-ժամանցային կենտրոնի ստեղծում | J33: ='Հավելված N 1'!G19 -> -39514.9 | K33: ='Հավելված N 1'!H19 -> -63329
F34: Համայնքի մշակութային կյանքի ակտիվացում, հանրային ընթերցանության, գեղագիտական կրթության զարգացում, համայնքի բնակչության որակյալ և բովանդակալից ժամանցի կազմակերպում
G35: Տրանսֆերտների տրամադրում
H36: Շահառուների ընտրության չափորոշիչները` Մասնագիտացված կազմակերպություն
B37: 1198 | C37: Մշակութային և գեղագիտական դաստիարակության ծրագիր | J37: =J38 -> -1314.5 | K37: =K38 -> -1314.5
D38: 1198 - 11009 | E38: Դպրոցական բաժանորդային համակարգի ծրագրի իրականացում | J38: ='Հավելված N 3'!G103 -> -1314.5 | K38: ='Հավելված N 3'!H103 -> -1314.5
F39: Մշակութային միջոցառումներին աշակերտների ներգրավվածության բարձրացում, մշակութային հաստատություն այցելելու ավանդույթի, գեղարվեստական ճաշակի և լայն աշխարհայացքի ձևավորում
G40: Ծառայությունների մատուցում
H41: Ծառայությունը մատուցողի անվանումը` մասնագիտացված կազմակերպություն
...

Sheet Հավելված N 7
I1: Հավելված N 7
I2: ՀՀ կառավարության 2025 թվականի
I3: -ի N -Ն որոշման
A4: ՀԱՅԱՍՏԱՆԻ ՀԱՆՐԱՊԵՏՈՒԹՅԱՆ ԿԱՌԱՎԱՐՈՒԹՅԱՆ 2024 ԹՎԱԿԱՆԻ ԴԵԿՏԵՄԲԵՐԻ 27-Ի N 2060-Ն ՈՐՈՇՄԱՆ N 9.1 ՀԱՎԵԼՎԱԾՈՒՄ ԿԱՏԱՐՎՈՂ ՓՈՓՈԽՈՒԹՅՈՒՆՆԵՐԸ
J5: հազար դրամներով
A6: ԲՍԿ | B6: Ծրագիր | D6: Միջոցառում | H6: Իրականացնողը/ ակտիվն օգտագործողը/ շահառուի ընտրության չափորոշիչը | I6: Արդյունքային չափորոշիչը | J6: Ցուցանիշների փոփոխությունը (ավելացումները նշված են դրական նշանով, իսկ նվազեցումները նշված են փակագծերում)
B7: Դասիչը | C7: Անվանումը | D7: Դասիչը | E7: Անվանումը | F7: Նկարագրությունը | G7: Տեսակը | J7: Ինն ամիս | K7: Տարի
A8: ԸՆԴԱՄԵՆԸ | J8: =J9 -> -7.2759576e-12 | K8: =K9 -> 0
A9: ՀՀ կրթության, գիտության, մշակույթի և սպորտի նախարարություն | J9: =J10+J16+J21+J26+J31+J36 -> -7.2759576e-12 | K9: =K10+K16+K21+K26+K31+K36 -> 0
B10: 1056 | C10: Կինեմատոգրաֆիայի ծրագիր | J10: =J11 -> 6000 | K10: =K11 -> 6000
D11: 1056-11005 | E11: Կինոարվեստի հանրահռչակում | J11: ='Հավելված N 1'!G11 -> 6000 | K11: ='Հավելված N 1'!H11 -> 6000
F12: Կինոարվեստի հանրահռչակում, տարածում, մատչելիության ապահովում
F13: Ծառայությունների մատուցում | G13: Ծառայությունների մատուցում
H14: Ծառայությունները մատուցողի անվանումը՝ մասնագիտացված կազմակերպություններ
I15: Միջազգային կինոնախագծերին անհատների մասնակցություն, քանակ | J15: 10 | K15: 10
B16: 1075 | C16: Մշակութային ժառանգության ծրագիր | J16: =J17 -> 22399.3 | K16: =K17 -> 46213.4
D17: 1075-11010 | E17: Մշակույթի զարգացման հիմնադրամի ստեղծում | J17: ='Հավելված N 1'!G13 -> 22399.3 | K17: ='Հավելված N 1'!H13 -> 46213.4
F18: Մշակույթի պահպանման, տարածման և զարգացման համար լրացուցիչ ֆինանսական միջոցների ներգրավում, մշակութային ենթակառուցվածքների գործունեության շարունակական բարելավում, մշակութային ժառանգությանն ու մշակութային կյանքին հաղորդակցման մատչելիության ապահովում
G19: Ծառայությունների մատուցում
H20: Ծառայությունները մատուցողի անվանումը՝ մասնագիտացված կազմակերպություն
B21: 1124 | C21: Գրահրատարակչության և գրադարանների ծրագիր | J21: =J22 -> 3790.1 | K21: =K22 -> 3790.1
D22: 1124 - 11005 | E22: Աջակցություն գրականության հանրահռչակմանը, գրական ծրագրերին և գրքերի միջազգային ցուցահանդեսներին մասնակցությանը | J22: ='Հավելված N 1'!G15 -> 3790.1 | K22: ='Հավելված N 1'!H15 -> 3790.1
F23: Գրական ժառանգության պահպանման և տարածման ծառայությունների մատուցում
G24: Ծառայությունների մատուցում
H25: Ծառայությունները մատուցողի անվանումը՝ մասնագիտացված կազմակերպություններ
B26: 1168 | C26: Արվեստների ծրագիր | J26: =J27 -> 8640 | K26: =K27 -> 8640
D27: 1168 - 11006 | E27: Ազգային ակադեմիական խմբերգային համերգներ | J27: ='Հավելված N 1'!G17 -> 8640 | K27: ='Հավելված N 1'!H17 -> 8640
F28: Խմբերգային համերգների իրականացում, Ազգային ակադեմիական երգչախմբի գործունեության ապահովում
G29: Ծառայությունների մատուցում
H30: Ծառայությունները մատուցողի անվանումը՝ մասնագիտացված կազմակերպություն
B31: 1196 | C31: Մարզերի մշակութային զարգացման ծրագիր | J31: =J32 -> -39514.9 | K31: =K32 -> -63329
D32: 1196-12002 | E32: Համայնքային մշակութային-ժամանցային կենտրոնի ստեղծում | J32: ='Հավելված N 1'!G19 -> -39514.9 | K32: ='Հավելված N 1'!H19 -> -63329
F33: Համայնքի մշակութային կյանքի ակտիվացում, հանրային ընթերցանության, գեղագիտական կրթության զարգացում, համայնքի բնակչության որակյալ և բովանդակալից ժամանցի կազմակերպում
G34: Տրանսֆերտների տրամադրում
H35: Շահառուների ընտրության չափորոշիչները` Մասնագիտացված կազմակերպություն
B36: 1198 | C36: Մշակութային և գեղագիտական դաստիարակության ծրագիր | J36: =J37 -> -1314.5 | K36: =K37 -> -1314.5
D37: 1198 - 11009 | E37: Դպրոցական բաժանորդային համակարգի ծրագրի իրականացում | J37: ='Հավելված N 3'!G103 -> -1314.5 | K37: ='Հավելված N 3'!H103 -> -1314.5
F38: Մշակութային միջոցառումներին աշակերտների ներգրավվածության բարձրացում, մշակութային հաստատություն այցելելու ավանդույթի, գեղարվեստական ճաշակի և լայն աշխարհայացքի ձևավորում
G39: Ծառայությունների մատուցում
H40: Ծառայությունը մատուցողի անվանումը` մասնագիտացված կազմակերպություն
...

Sheet Հավելված N 8
H1: Հավելված N 8
H2: ՀՀ կառավարության 2025 թվականի
H3: -ի N -Ն որոշման
B4: ՀԱՅԱՍՏԱՆԻ ՀԱՆՐԱՊԵՏՈՒԹՅԱՆ ԿԱՌԱՎԱՐՈՒԹՅԱՆ 2024 ԹՎԱԿԱՆԻ ԴԵԿՏԵՄԲԵՐԻ 27-Ի N 2060-Ն ՈՐՈՇՄԱՆ N 10 ՀԱՎԵԼՎԱԾՈՒՄ ԿԱՏԱՐՎՈՂ ՓՈՓՈԽՈՒԹՅՈՒՆՆԵՐԸ
B6: Կոդը | C6: Անվանումը | F6: Գնման ձևը | G6: Չափման միավորը | H6: Միավորի գինը | I6: Ցուցանիշների փոփոխությունը (նվազեցումները նշված են փակագծերում)
I7: Քանակը | J7: Գումարը (հազար դրամ)
B8: 1 | C8: 2 | F8: 3 | G8: 4 | H8: 5 | I8: 6 | J8: 7
B9: ՀՀ կրթության, գիտության, մշակույթի և սպորտի նախարարություն | J9: =+J10 -> -63329
B10: Բաժին N 08 | C10: Խումբ N 02 | D10: Դաս N 03 | E10: Մշակույթի տներ, ակումբներ, կենտրոններ | J10: =J11 -> -63329
B11: 1196 12002 | C11: Համայնքային մշակութային-ժամանցային կենտրոնի ստեղծում | J11: =J12 -> -63329
C12: ՄԱՍ II. ԱՇԽԱՏԱՆՔՆԵՐ | J12: =J13 -> -63329
B13: 45611200-1 | C13: մշակութային օբյեկտների հիմնանորոգում | F13: ԲՄ | G13: դրամ | J13: -63329
