Workbook
Name a: #REF!
Name a: #REF!
Name a: #REF!
Name a: #REF!
Name a: #REF!
Name a: #REF!
Name AgencyCode: #REF!
Name AgencyCode: #REF!
Name AgencyCode: #REF!
Name AgencyCode: #REF!
Name AgencyCode: #REF!
Name AgencyCode: #REF!
Name AgencyCode: #REF!
Name AgencyCode: #REF!
Name AgencyCode: #REF!
Name AgencyCode: #REF!
Name AgencyName: #REF!
Name AgencyName: #REF!
Name AgencyName: #REF!
Name AgencyName: #REF!
Name AgencyName: #REF!
Name AgencyName: #REF!
Name AgencyName: #REF!
Name åû: #REF!
Name åû: #REF!
Name åû: #REF!
Name davit: #REF!
Name davit: #REF!
Name davit: #REF!
Name davit: #REF!
Name davit: #REF!
Name davit: #REF!
Name Functional1: #REF!
Name Functional1: #REF!
Name Functional1: #REF!
Name Functional1: #REF!
Name Functional1: #REF!
Name Functional1: #REF!
Name Functional1: #REF!
Name ggg: #REF!
Name ggg: #REF!
Name ggg: #REF!
Name ggg: #REF!
Name ggg: #REF!
Name ggg: #REF!
Name hav: #REF!
Name hav: #REF!
Name hav: #REF!
Name mas: #REF!
Name mas: #REF!
Name mas: #REF!
Name mass: #REF!
Name mass: #REF!
Name mass: #REF!
Name PANature: #REF!
Name PANature: #REF!
Name PANature: #REF!
Name PANature: #REF!
Name PANature: #REF!
Name PANature: #REF!

Sheet Հավելված N 1
F1: Հավելված N 1
F2: ՀՀ կառավարության 2025 թվականի
F3: ______________ ի ___Ն որոշման
A6: «ՀԱՅԱUՏԱՆԻ ՀԱՆՐԱՊԵՏՈՒԹՅԱՆ 2025 ԹՎԱԿԱՆԻ ՊԵՏԱԿԱՆ ԲՅՈՒՋԵԻ ՄԱUԻՆ» ՀԱՅԱUՏԱՆԻ ՀԱՆՐԱՊԵՏՈՒԹՅԱՆ OՐԵՆՔԻ N 1 ՀԱՎԵԼՎԱԾԻ N 2 ԱՂՅՈՒՍԱԿՈՒՄ ԿԱՏԱՐՎՈՂ ՎԵՐԱԲԱՇԽՈՒՄԸ ԵՎ ՀԱՅԱՍՏԱՆԻ ՀԱՆՐԱՊԵՏՈՒԹՅԱՆ ԿԱՌԱՎԱՐՈՒԹՅԱՆ 2024 ԹՎԱԿԱՆԻ ԴԵԿՏԵՄԲԵՐԻ 27-Ի N 2060-Ն ՈՐՈՇՄԱՆ N 5 ՀԱՎԵԼՎԱԾԻ N 1 ԱՂՅՈՒՍԱԿՈՒՄ ԿԱՏԱՐՎՈՂ ՓՈՓՈԽՈՒԹՅՈՒՆՆԵՐԸ ԵՎ ԼՐԱՑՈՒՄՆԵՐԸ
H9: հազ. դրամներով
A10: ԲԳԿ | B10: Ծրագրային դասիչը | D10: ԲԳԿ/Ծրագրի /միջոցառման անվանումը | E10: Ծրագրի նպատակը/Միջոցառման նկարագրությունը | F10: Վերջնական արդյունքի նկարագրությունը/Միջոցառման տեսակը | G10: Ցուցանիշների փոփոխությունը (ավելացումները նշված են դրական նշանով, իսկ նվազեցումները փակագծերում)
G11: Ինն ամիս | H11: Տարի
B12: Ծրագիր | C12: Միջոցառում
A13: ԸՆԴԱՄԵՆԸ | G13: =+G15+G50+G54 -> 0 | H13: =+H15+H50+H54 -> 0
A14: այդ թվում՝
A15: ՀՀ ԿՐԹՈՒԹՅԱՆ, ԳԻՏՈՒԹՅԱՆ, ՄՇԱԿՈՒՅԹԻ ԵՎ ՍՊՈՐՏԻ ՆԱԽԱՐԱՐՈՒԹՅՈՒՆ | G15: =+G16+G19+G23+G26+G28+G30+G35+G38+G42+G44 -> 2521776 | H15: =+H16+H19+H23+H26+H28+H30+H35+H38+H42+H44 -> 13214638
B16: 1045 | D16: Մասնագիտական կրթության և ուսուցման ծրագիր | E16: Աշխատաշուկայի արդի պահանջներին համապատասխան արհեստագործական և միջին մասնագիտական կրթության որակավորում ունեցող մասնագետների պատրաստում, կրթության մատչելիության ապահովում: | F16: Արհեստագործական և միջին մասնագիտական կրթության գրավչության բարձրացում, մատչելի և մրցունակ արհեստագործական և միջին մասնագիտական կրթության ապահովում | G16: =SUM(G17:G18) -> -358486 | H16: =SUM(H17:H18) -> -468197.3
C17: 1045 - 32001 | D17: Մասնագիտական ուսումնական հաստատությունների շենքային պայմանների բարելավում | E17: Մասնագիտական ուսումնական հաստատությունների շենքերի հիմնանորոգման և նախագծման (շինարարական աշխատանքներ, ջեռուցման համակարգի ստեղծում, ներքին հարդարում, տարածքի բարեկարգում) աշխատանքների իրականացում | F17: Այլ պետական կազմակերպությունների կողմից օգտագործվող ոչ ֆինանսական ակտիվների հետ գործառնություններ | G17: =+'Հավելված N 2'!G270 -> -231819.6 | H17: =+'Հավելված N 2'!H270 -> -207065
C18: 1045 - 32005 | D18: Մասնագիտական ուսումնական հաստատությունների շենքերի կառուցում | E18: Մասնագիտական ուսումնական հաստատությունների շենքերի (մասնաշենքերի) կառուցման և նախագծման աշխատանքների իրականացում | F18: Այլ պետական կազմակերպությունների կողմից օգտագործվող ոչ ֆինանսական ակտիվների հետ գործառնություններ | G18: =+'Հավելված N 2'!G289 -> -126666.4 | H18: =+'Հավելված N 2'!H289 -> -261132.3
B19: 1075 | D19: Մշակութային ժառանգության ծրագիր | E19: Մշակութային ժառանգության պահպանում, օգտագործում, համալրում և հանրահռչակում | F19: Մշակութային ժառանգության շարունակական պահպանում, մշակութային զբոսաշրջության զարգացում և խթանում | G19: =SUM(G20:G22) -> 80200.5 | H19: =SUM(H20:H22) -> 21647
C20: 1075 - 21001 | D20: Հուշարձանների ամրակայում, նորոգում և վերականգնում | E20: Հուշարձանների գիտանախագծային փաստաթղթերի կազմում, հրատապ ուսումնասիրում, վավերագրման և ուսումնասիրման աշխատանքներ, հետախուզում և հնագիտական պեղում, ամրակայում, նորոգում և վերականգնում | F20: Հանրության կողմից անմիջականորեն օգտագործվող ակտիվների հետ կապված միջոցառումներ | G20: =+'Հավելված N 2'!G128 -> 19137.2 | H20: =+'Հավելված N 2'!H128 -> -39416.3
C21: 1075 - 32008 | D21: Թանգարանների և պատկերասրահների գույքային և տեխնիկական հագեցվածության բարելավում | E21: Թանգարանների և պատկերասրահների համար անհրաժեշտ գույքի, տեխնիկայի և սարքավորումների ձեռքբերում | F21: Այլ պետական կազմակերպությունների կողմից օգտագործվող ոչ ֆինանսական ակտիվների հետ գործառնություններ | G21: =+'Հավելված N 2'!G52 -> 90113.3 | H21: =+'Հավելված N 2'!H52 -> 90113.3
C22: 1075 - 32012 | D22: Թանգարանների համար նոր շենքերի կառուցում | E22: Թանգարանների շենքերի, մասնաշենքերի կառուցում և նախագծում, նորաստեղծ թանգարանների նորակառույց շենքերով ապահովում | F22: Այլ պետական կազմակերպությունների կողմից օգտագործվող ոչ ֆինանսական ակտիվների հետ գործառնություններ | G22: =+'Հավելված N 2'!G62 -> -29050 | H22: =+'Հավելված N 2'!H62 -> -29050
B23: 1111 | D23: Բարձրագույն և հետբուհական մասնագիտական կրթության ծրագիր | E23: Ապահովել մատչելի, որակյալ և մրցունակ բարձրագույն և հետբուհական մասնագիտական կրթություն: | F23: Գիտելիքների տնտեսության և գիտության զարգացման արդի պահանջներին համապատասխան բարձրագույն և հետբուհական մասնագիտական որակավորում ունեցող մասնագետների պատրաստում | G23: =SUM(G24:G25) -> 166383.4 | H23: =SUM(H24:H25) -> 166383.4
C24: 1111 - 32001 | D24: Բարձրագույն ուսումնական հաստատությունների և «Զեյթուն» ուսանողական ավան» հիմնադրամի շենքային պայմանների բարելավում | E24: Բարձրագույն ուսումնական հաստատությունների և «Զեյթուն» ուսանողական ավան» հիմնադրամի շենքային պայմանների բարելավում | F24: Այլ պետական կազմակերպությունների կողմից օգտագործվող ոչ ֆինանսական ակտիվների հետ գործառնություններ | G24: =+'Հավելված N 2'!G300 -> 163986.4 | H24: =+'Հավելված N 2'!H300 -> 163986.4
C25: 1111 - 32003 | D25: Բարձրագույն ուսումնական հաստատությունների և «Զեյթուն» ուսանողական ավան» հիմնադրամի նյութատեխնիկական բազայի համալրում և գույքով ապահովում | E25: Բարձրագույն ուսումնական հաստատությունների և «Զեյթուն» ուսանողական ավան» հիմնադրամի համար անհրաժեշտ լաբորատոր և այլ սարքավորումների, տեխնիկայի, կահույքի ձեռքբերում | F25: Այլ պետական կազմակերպությունների կողմից օգտագործվող ոչ ֆինանսական ակտիվների հետ գործառնություններ | G25: =+'Հավելված N 2'!G310 -> 2397 | H25: =+'Հավելված N 2'!H310 -> 2397
B26: 1130 | D26: Կրթության, գիտության, մշակույթի և սպորտի բնագավառի պետական քաղաքականության մշակում, ծրագրերի համակարգում և մոնիտորինգ | E26: Ապահովել համընդհանուր, հավասարապես հասանելի, ներառական և որակյալ կրթություն՛ բավարարելով տնտեսության ու հասարակության պահանջները, լիարժեք ծառայելով ազգային շահերին | F26: Կրթության, գիտության, մշակույթի և սպորտի բնագավառում իրականացվող ծրագրերի ազդեցության և արդյունավետության բարելավում | G26: =+G27 -> 0 | H26: =+H27 -> 5040
C27: 1130 - 31001 | D27: ՀՀ կրթության, գիտության, մշակույթի և սպորտի նախարարության կարողությունների զարգացում և տեխնիկական հագեցվածության ապահովում | E27: ՀՀ կրթության, գիտության, մշակույթի և սպորտի նախարարության աշխատանքային պայմանների բարելավման համար վարչական սարքավորումների ձեռք բերում | F27: Պետական մարմինների կողմից օգտագործվող ոչ ֆինանսական ակտիվների հետ գործառնություններ | G27: =+'Հավելված N 2'!G403 -> 0 | H27: =+'Հավելված N 2'!H403 -> 5040
B28: 1148 | D28: Արտադպրոցական դաստիարակության ծրագիր | E28: Նպաստել հանրակրթական ուսուցման համակարգում ընդգրկված երեխաների ֆիզիկական, հոգևոր և գեղագիտական զարգացմանը, բնապահպանական և կիրառական գիտելիքների ձեռքբերմանը | F28: Ստեղծել պայմաններ սովորողների ազատ ժամանացի կազմակերպան միջոցով նրանց հետաքրքրությունների բացահայտման, ձևավորման և զարգացման համար | G28: =+G29 -> 8486.9 | H28: =+H29 -> 20761.4
C29: 1148 - 32005 | D29: Արտադպրոցական դաստիարակություն իրականացնող կազմակերպությունների շենքային պայմանների բարելավում | E29: Կառույցների տեխնիկական արողությունների և աշխատանքային միջավայրի բարելավում | F29: Այլ պետական կազմակերպությունների կողմից օգտագործվող ոչ ֆինանսական ակտիվների հետ գործառնություններ | G29: =+'Հավելված N 2'!G249 -> 8486.9 | H29: =+'Հավելված N 2'!H249 -> 20761.4
B30: 1163 | D30: Մասսայական սպորտ | E30: Բնակչության շրջանում առողջ ապրելակերպի արմատավորում, անհատի բազմակողմանի ու ներդաշնակ զարգացման գործում ֆիզիկական կուլտուրայի և սպորտի դերի բարձրացում | F30: Սպորտի նկատմամբ հետաքրքրվածության և մասնակցության ընդլայնում | G30: =SUM(G31:G34) -> -872174.6 | H30: =SUM(H31:H34) -> -1465250.3
C31: 1163 - 12001 | D31: Աջակցություն համայնքներին մարզական հաստատությունների շենքային պայմանների բարելավման համար | E31: Համայնքային ենթակայության մարզական հաստատությունների վերանորոգում և կառուցում | F31: Տրանսֆերտների տրամադրում | G31: =+'Հավելված N 2'!G321 -> -239793.5 | H31: =+'Հավելված N 2'!H321 -> -550936.9
C32: 1163 - 32001 | D32: Մարզական օբյեկտների շինարարություն | E32: Մարզական օբյեկտների շենքերի (մասնաշենքերի) կառուցում (համաշինարարական աշխատանքներ, ջեռուցման համակարգի իրականացում, ներքին հարդարում, տարածքի բարեկարգում) և նախագծում | F32: Այլ պետական կազմակերպությունների կողմից օգտագործվող ոչ ֆինանսական ակտիվների հետ գործառնություններ | G32: =+'Հավելված N 2'!G337 -> -539354.6 | H32: =+'Հավելված N 2'!H337 -> -621286.8
C33: 1163 - 32003 | D33: Թեթև կոնստրուկցիաներով մարզադահլիճների հիմնում | E33: ՀՀ մարզերում արագ հավաքվող, թեթև կոնստրուկցիաներով, օդահենային պնևմատիկ, եվրոպական ստանդարտներին համապատասխան մարզադահլիճների հիմնում | F33: Այլ պետական կազմակերպությունների կողմից օգտագործվող ոչ ֆինանսական ակտիվների հետ գործառնություններ | G33: =+'Հավելված N 2'!G26 -> -93026.5 | H33: =+'Հավելված N 2'!H26 -> -93026.6
C34: 1163 - 32006 | D34: Ֆուտբոլի ենթակառուցվածքների զարգացման նպատակով մարզադաշտերի և մարզադպրոցների կառուցում | E34: Ֆուտբոլի դպրոցների և ՈՒԵՖԱ ստանդարտներով ֆուտբոլի մարզադաշտերի նախագծում և կառուցում | F34: Այլ պետական կազմակերպությունների կողմից օգտագործվող ոչ ֆինանսական ակտիվների հետ գործառնություններ | G34: =+'Հավելված N 2'!G35 -> 0 | H34: =+'Հավելված N 2'!H35 -> -200000
B35: 1168 | D35: Արվեստների ծրագիր | E35: Նպաստել ազգային հենքի վրա ժամանակակից թատերարվեստի, երաժշտարվեստի, կերպարվեստի և պարարվեստի զարգացմանը և հանրահռչակմանը | F35: Մրցունակ արվեստային արտադրանքի ստեղծում, ստեղծագործական գործընթացների խթանում, արվեստի նոր նախագծերի ներդրում և մշակութային կյանքում հասարակության ներգրավում | G35: =SUM(G36:G37) -> -171579 | H35: =SUM(H36:H37) -> 692111.3
C36: 1168 - 32001 | D36: Ներդրումներ թատրոնների և համերգային կազմակերպությունների շենքերի կապիտալ վերանորոգման համար | E36: Թատրոնների և համերգային կազմակերպությունների շենքերի մասնաշենքերի հիմնանորոգում, համաշինարարական աշխատանքներ, ջեռուցման համակարգի իրականացում, ներքին հարդարում, տարածքի բարեկարգում և նախագծում | F36: Այլ պետական կազմակերպությունների կողմից օգտագործվող ոչ ֆինանսական ակտիվների հետ գործառնություններ | G36: =+'Հավելված N 2'!G98 -> -171579 | H36: =+'Հավելված N 2'!H98 -> -111991.1
C37: 1168 - 32007 | D37: Թատերահամերգային կազմակերպությունների նյութատեխնիկական բազայի համալրում | E37: Թատերահամերգային կազմակերպությունների համար անհրաժեշտ տեխնիկայի և սարքավորումների ձեռքբերում | F37: Այլ պետական կազմակերպությունների կողմից օգտագործվող ոչ ֆինանսական ակտիվների հետ գործառնություններ | G37: =+'Հավելված N 2'!G113 -> 0 | H37: =+'Հավելված N 2'!H113 -> 804102.4
B38: 1183 | D38: Ապահով դպրոց | E38: Դպրոցներին սպառնացող աղետների ռիսկի կառավարման կարողությունների հզորացում, դպրոցի անձնակազմի և աշակերտների անվտանգության ապահովման մակարդակի բարձրացում՛ կիրառելով ներառական և երեխայակենտրոն մոտեցում | F38: Դպրոցական միջավայրի բարելավում | G38: =SUM(G39:G41) -> 180941.9 | H38: =SUM(H39:H41) -> 225202.1
C39: 1183 - 32001 | D39: Կրթական օբյեկտների շենքային պայմանների բարելավում | E39: Կրթական օբյեկտների շենքերի (մասնաշենքերի) հիմնանորոգում (համաշինարարական աշխատանքներ, ջեռուցման համակարգի իրականացում, ներքին հարդարում, տարածքի բարեկարգում) և նախագծում | F39: Այլ պետական կազմակերպությունների կողմից օգտագործվող ոչ ֆինանսական ակտիվների հետ գործառնություններ | G39: =+'Հավելված N 2'!G350 -> 303488.1 | H39: =+'Հավելված N 2'!H350 -> 365182
C40: 1183 - 32004 | D40: Ավագ մակարդակի կրթություն իրականացնող ուսումնական հաստատությունների շենքային պայմանների բարելավում | E40: Ավագ դպրոցների շենքային պայմանների բարելավում | F40: Այլ պետական կազմակերպությունների կողմից օգտագործվող ոչ ֆինանսական ակտիվների հետ գործառնություններ | G40: =+'Հավելված N 2'!G377 -> 0 | H40: =+'Հավելված N 2'!H377 -> 13202.9
C41: 1183 - 32007 | D41: Հանրակրթական կրթություն իրականացնող ուսումնական հաստատությունների նոր մարզադահլիճների կառուցում | E41: Հանրակրթական ուսուցում իրականացնող ուսումնական հաստատությունների նոր մարզադահլիճների կառուցման նախագծանախահաշվային փաստաթղթերի մշակում | F41: Այլ պետական կազմակերպությունների կողմից օգտագործվող ոչ ֆինանսական ակտիվների հետ գործառնություններ | G41: =+'Հավելված N 2'!G386 -> -122546.2 | H41: =+'Հավելված N 2'!H386 -> -153182.8
B42: 1196 | D42: Մարզերի մշակութային զարգացման ծրագիր | E42: Մարզերում մշակութային կյանքի և մշակութաստեղծ գործունեության ակտիվացում | F42: Համայնքներում մշակույթի հասանելիության և մշակութային կյանքին մարզային բնակչության ընդգրկվածության ընդլայնում | G42: =+G43 -> 9499.2 | H42: =+H43 -> 47495.9
C43: 1196 - 12001 | D43: Աջակցություն համայնքներին մշակութային հաստատությունների շենքային պայմանների բարելավման համար | E43: Համայնքային ենթակայության մշակույթի տների՝ ակումբների և կենտրոնների հիմնանորոգում՝ կառուցում և նախագծում | F43: Տրանսֆերտների տրամադրում | G43: =+'Հավելված N 2'!G83 -> 9499.2 | H43: =+'Հավելված N 2'!H83 -> 47495.9
B44: 1236 | D44: Հանրակրթական և նախադպրոցական հաստատությունների հիմնում, կառուցում, բարելավում | E44: Առնվազն 300 դպրոցի և 500 մանկապարտեզի կառուցման, վերակառուցման, հիմնանորոգման ծրագրերի իրականացում ՀՀ պետական բյուջեի միջոցների շրջանակներում | F44: Կրթական միջավայրի բարելավում | G44: =SUM(G45:G48) -> 3478503.7 | H44: =SUM(H45:H48) -> 13969445
...

Sheet Հավելված N 2
F1: Հավելված N 2
F2: ՀՀ կառավարության 2025 թվականի
F3: ______________ ի ___Ն որոշման
A7: ՀԱՅԱՍՏԱՆԻ ՀԱՆՐԱՊԵՏՈՒԹՅԱՆ ԿԱՌԱՎԱՐՈՒԹՅԱՆ 2024 ԹՎԱԿԱՆԻ ԴԵԿՏԵՄԲԵՐԻ 27-Ի N 2060-Ն ՈՐՈՇՄԱՆ N 3 ԵՎ N 4 ՀԱՎԵԼՎԱԾՆԵՐՈՒՄ ԿԱՏԱՐՎՈՂ ՓՈՓՈԽՈՒԹՅՈՒՆՆԵՐԸ ԵՎ ԼՐԱՑՈՒՄՆԵՐԸ
H10: հազ. դրամներով
A11: Գործառական դասիչը | D11: Ծրագրային դասիչը | F11: Բյուջետային հատկացումների գլխավոր կարգադրիչների, ծրագրերի, միջոցառումների և միջոցառումները կատարող պետական մարմինների անվանումները | G11: Ցուցանիշների փոփոխությունը (ավելացումները նշված են դրական նշանով, իսկ նվազեցումները փակագծերում)
A12: Բաժին | B12: Խումբ | C12: Դաս | D12: Ծրագիր | E12: Միջոցառում | G12: Ինն ամիս | H12: Տարի
F13: ԸՆԴԱՄԵՆԸ | G13: =+G15+G413+G433 -> 0 | H13: =+H15+H413+H433 -> 0
F14: այդ թվում՝
F15: ՀՀ ԿՐԹՈՒԹՅԱՆ, ԳԻՏՈՒԹՅԱՆ, ՄՇԱԿՈՒՅԹԻ ԵՎ ՍՊՈՐՏԻ ՆԱԽԱՐԱՐՈՒԹՅՈՒՆ | G15: =+G16+G144 -> 2521776 | H15: =+H16+H144 -> 13214638
A16: 08 | F16: ՀԱՆԳԻՍՏ, ՄՇԱԿՈՒՅԹ ԵՎ ԿՐՈՆ | G16: =+G18+G44 -> -174905.8 | H16: =+H18+H44 -> 468227.6
F17: այդ թվում`
B18: 01 | F18: Հանգստի և սպորտի ծառայություններ | G18: =+G20 -> -93026.5 | H18: =+H20 -> -293026.6
F19: այդ թվում`
C20: 01 | F20: Հանգստի և սպորտի ծառայություններ | G20: =+G22 -> -93026.5 | H20: =+H22 -> -293026.6
F21: այդ թվում`
F22: ՀՀ կրթության, գիտության, մշակույթի և սպորտի նախարարություն | G22: =+G24 -> -93026.5 | H22: =+H24 -> -293026.6
F23: այդ թվում`
D24: 1163 | E24: Մասսայական սպորտ | G24: =+G26+G35 -> -93026.5 | H24: =+H26+H35 -> -293026.6
F25: այդ թվում`
E26: 32003 | F26: Թեթև կոնստրուկցիաներով մարզադահլիճների հիմնում | G26: =+G28 -> -93026.5 | H26: =+H28 -> -93026.6
F27: այդ թվում` ըստ կատարողների
F28: ՀՀ կրթության, գիտության, մշակույթի և սպորտի նախարարություն | G28: =+G30 -> -93026.5 | H28: =+H30 -> -93026.6
F29: այդ թվում՝ բյուջետային ծախսերի տնտեսագիտական դասակարգման հոդվածներ
F30: ԸՆԴԱՄԵՆԸ ԾԱԽՍԵՐ | G30: =+G31 -> -93026.5 | H30: =+H31 -> -93026.6
F31: ՈՉ ՖԻՆԱՆՍԱԿԱՆ ԱԿՏԻՎՆԵՐԻ ԳԾՈՎ ԾԱԽՍԵՐ | G31: =+G32 -> -93026.5 | H31: =+H32 -> -93026.6
F32: ՀԻՄՆԱԿԱՆ ՄԻՋՈՑՆԵՐ | G32: =+G33 -> -93026.5 | H32: =+H33 -> -93026.6
F33: ՇԵՆՔԵՐ ԵՎ ՇԻՆՈՒԹՅՈՒՆՆԵՐ | G33: =+G34 -> -93026.5 | H33: =+H34 -> -93026.6
F34: - Շենքերի և շինությունների շինարարություն | G34: =+'Հավելված N 4'!E102 -> -93026.5 | H34: =+'Հավելված N 4'!F102 -> -93026.6
E35: 32006 | F35: Ֆուտբոլի ենթակառուցվածքների զարգացման նպատակով մարզադաշտերի և մարզադպրոցների կառուցում | G35: =+G37 -> 0 | H35: =+H37 -> -200000
F36: այդ թվում` ըստ կատարողների
F37: ՀՀ քաղաքաշինության կոմիտե | G37: =+G39 -> 0 | H37: =+H39 -> -200000
F38: այդ թվում՝ բյուջետային ծախսերի տնտեսագիտական դասակարգման հոդվածներ
F39: ԸՆԴԱՄԵՆԸ ԾԱԽՍԵՐ | G39: =+G40 -> 0 | H39: =+H40 -> -200000
F40: ՈՉ ՖԻՆԱՆՍԱԿԱՆ ԱԿՏԻՎՆԵՐԻ ԳԾՈՎ ԾԱԽՍԵՐ | G40: =+G41 -> 0 | H40: =+H41 -> -200000
F41: ՀԻՄՆԱԿԱՆ ՄԻՋՈՑՆԵՐ | G41: =+G42 -> 0 | H41: =+H42 -> -200000
F42: ԱՅԼ ՀԻՄՆԱԿԱՆ ՄԻՋՈՑՆԵՐ | G42: =+G43 -> 0 | H42: =+H43 -> -200000
F43: - Նախագծահետազոտական ծախսեր | G43: =+'Հավելված N 4'!E108 -> 0 | H43: =+'Հավելված N 4'!F108 -> -200000
B44: 02 | F44: Մշակութային ծառայություններ | G44: =+G46+G77+G92+G122 -> -81879.3 | H44: =+H46+H77+H92+H122 -> 761254.2
F45: այդ թվում`
...

Sheet Հավելված N 3
F1: Հավելված N 3
F2: ՀՀ կառավարության 2025 թվականի
F3: ______________ ի ___Ն որոշման
A5: «ՀԱՅԱUՏԱՆԻ ՀԱՆՐԱՊԵՏՈՒԹՅԱՆ 2025 ԹՎԱԿԱՆԻ ՊԵՏԱԿԱՆ ԲՅՈՒՋԵԻ ՄԱUԻՆ» ՀԱՅԱUՏԱՆԻ ՀԱՆՐԱՊԵՏՈՒԹՅԱՆ OՐԵՆՔԻ N 1 ՀԱՎԵԼՎԱԾԻ N 3 ԱՂՅՈՒՍԱԿՈՒՄ ԿԱՏԱՐՎՈՂ ՓՈՓՈԽՈՒԹՅՈՒՆՆԵՐԸ ԵՎ ԼՐԱՑՈՒՄՆԵՐԸ
G8: հազ. դրամներով
A9: Ծրագրային դասիչ | C9: Բյուջետային գլխավոր կարգադրիչների, ծրագրերի, միջոցառումների, միջոցառումները կատարող պետական մարմինների և ուղղությունների անվանումները | D9: Ընդամենը | E9: Ցուցանիշների փոփոխությունը (ավելացումները նշված են դրական նշանով, իսկ նվազեցումները՝ փակագծերում)
A10: Ծրագիր | B10: Միջոցառում | E10: Կառուցման աշխատանքներ | F10: Վերակառուցման, վերանորոգման և վերականգնման աշխատանքներ | G10: Նախագծահե- տազոտական, գեոդեզիա- քարտեզագրա- կան աշխա- տանքներ | H10: Ոչ ֆինանսական այլ ակտիվների ձեռքբերում
C11: ԸՆԴԱՄԵՆԸ | D11: =SUM(E11:H11) -> 12622143 | E11: =+E13 -> 2973624.6 | F11: =+F13 -> 8955073.1 | G11: =+G13 -> -115006.2 | H11: =+H13 -> 808451.9
C12: այդ թվում՝
C13: ՀՀ ԿՐԹՈՒԹՅԱՆ, ԳԻՏՈՒԹՅԱՆ, ՄՇԱԿՈՒՅԹԻ ԵՎ ՍՊՈՐՏԻ ՆԱԽԱՐԱՐՈՒԹՅՈՒՆ | D13: =SUM(E13:H13) -> 12622143 | E13: =+E15+E23+E31+E49+E53+E54+E58+E63+E79+E83+E87+E94+E103+E109+E113+E116+E120+E131+E162+E167+E208 -> 2973624.6 | F13: =+F15+F23+F31+F49+F53+F54+F58+F63+F79+F83+F87+F94+F103+F109+F113+F116+F120+F131+F162+F167+F208 -> 8955073.1 | G13: =+G15+G23+G31+G49+G53+G54+G58+G63+G79+G83+G87+G94+G103+G109+G113+G116+G120+G131+G162+G167+G208 -> -115006.2 | H13: =+H15+H23+H31+H49+H53+H54+H58+H63+H79+H83+H87+H94+H103+H109+H113+H116+H120+H131+H162+H167+H208 -> 808451.9
C14: այդ թվում`
A15: 1045 | B15: 32001 | C15: Մասնագիտական ուսումնական հաստատությունների շենքային պայմանների բարելավում | D15: =SUM(E15:H15) -> -207565 | E15: =+E17+E19+E21 -> 0 | F15: =+F17+F19+F21 -> -207565 | G15: =+G17+G19+G21 -> 0 | H15: =+H17+H19+H21 -> 0
C16: այդ թվում`
C17: ՀՀ Արարատի մարզ | D17: =SUM(E17:H17) -> -100000 | E17: =+E18 -> 0 | F17: =+F18 -> -100000 | G17: =+G18 -> 0 | H17: =+H18 -> 0
C18: «Մասիսի պետական գյուղատնտեսական քոլեջ» ՊՈԱԿ | D18: =+E18+F18+G18+H18 -> -100000 | F18: =+'Հավելված N 8'!I209 -> -100000
C19: ՀՀ Գեղարքունիքի մարզ | D19: =SUM(E19:H19) -> -53096.5 | E19: =+E20 -> 0 | F19: =+F20 -> -53096.5 | G19: =+G20 -> 0 | H19: =+H20 -> 0
C20: «Գավառի պետական բժշկական քոլեջ» ՊՈԱԿ | D20: =+E20+F20+G20+H20 -> -53096.5 | F20: =+'Հավելված N 8'!I140+'Հավելված N 8'!I143+'Հավելված N 8'!I145 -> -53096.5
C21: ՀՀ Շիրակի մարզ | D21: =SUM(E21:H21) -> -54468.5 | E21: =+E22 -> 0 | F21: =+F22 -> -54468.5 | G21: =+G22 -> 0 | H21: =+H22 -> 0
C22: «Գյումրու պետական բժշկական քոլեջ» ՊՈԱԿ | D22: =+E22+F22+G22+H22 -> -54468.5 | F22: =+'Հավելված N 8'!I141+'Հավելված N 8'!I144+'Հավելված N 8'!I146 -> -54468.5
A23: 1045 | B23: 32005 | C23: Մասնագիտական ուսումնական հաստատությունների շենքերի կառուցում | D23: =SUM(E23:H23) -> -261132.3 | E23: =+E25+E27+E29 -> -261132.3 | F23: =+F25+F27+F29 -> 0 | G23: =+G25+G27+G29 -> 0 | H23: =+H25+H27+H29 -> 0
C24: այդ թվում`
C25: ՀՀ Լոռու մարզ | D25: =SUM(E25:H25) -> -103600 | E25: =+E26 -> -103600 | F25: =+F26 -> 0 | G25: =+G26 -> 0 | H25: =+H26 -> 0
C26: «Ստեփանավանի պրոֆ. Քալանթարի անվան պետական գյուղատնտեսական քոլեջ» ՊՈԱԿ | D26: =+E26+F26+G26+H26 -> -103600 | E26: =+'Հավելված N 8'!I212+'Հավելված N 8'!I216+'Հավելված N 8'!I219 -> -103600
C27: ՀՀ Սյունիքի մարզ | D27: =SUM(E27:H27) -> -103932.3 | E27: =+E28 -> -103932.3 | F27: =+F28 -> 0 | G27: =+G28 -> 0 | H27: =+H28 -> 0
C28: «Գորիսի պրոֆեսոր Խ. Երիցյանի անվան պետական գյուղատնտեսական քոլեջ» ՊՈԱԿ | D28: =+E28+F28+G28+H28 -> -103932.3 | E28: =+'Հավելված N 8'!I213+'Հավելված N 8'!I217+'Հավելված N 8'!I220 -> -103932.3
C29: ՀՀ Տավուշի մարզ | D29: =SUM(E29:H29) -> -53600 | E29: =+E30 -> -53600 | F29: =+F30 -> 0 | G29: =+G30 -> 0 | H29: =+H30 -> 0
C30: «Նոյեմբերյանի պետական քոլեջ» ՊՈԱԿ | D30: =+E30+F30+G30+H30 -> -53600 | E30: =+'Հավելված N 8'!I214+'Հավելված N 8'!I218+'Հավելված N 8'!I221 -> -53600
A31: 1075 | B31: 21001 | C31: Հուշարձանների ամրակայում, նորոգում և վերականգնում | D31: =SUM(E31:H31) -> -111367 | E31: =+E33+E41 -> 0 | F31: =+F33+F41 -> -82692 | G31: =+G33+G41 -> -28675 | H31: =+H33+H41 -> 0
C32: այդ թվում`
C33: 1. Վերականգնողական աշխատանքներ | D33: =SUM(E33:H33) -> -82692 | E33: =+E35+E37+E39 -> 0 | F33: =+F35+F37+F39 -> -82692 | G33: =+G35+G37+G39 -> 0 | H33: =+H35+H37+H39 -> 0
C34: որից`
C35: ՀՀ Գեղարքունիքի մարզ | D35: =SUM(E35:H35) -> -20686 | E35: =+E36 -> 0 | F35: =+F36 -> -20686 | G35: =+G36 -> 0 | H35: =+H36 -> 0
C36: Բերդկունքի Սպիտակ բերդի նորոգում, ամրակայում և վերականգնում | D36: =+E36+F36+G36+H36 -> -20686 | F36: =+'Հավելված N 8'!I61+'Հավելված N 8'!I65+'Հավելված N 8'!I68 -> -20686
C37: ՀՀ Լոռու մարզ | D37: =SUM(E37:H37) -> -20660 | E37: =+E38 -> 0 | F37: =+F38 -> -20660 | G37: =+G38 -> 0 | H37: =+H38 -> 0
C38: Ալավերդի համայնքի Կաճաճկուտ բնակավայրի Սեդվի վանական համալիրի փլուզված եռահարկ աշտարակի նորոգում, ամրակայում, վերականգնում և տարածքի բարեկարգում | D38: =+E38+F38+G38+H38 -> -20660 | F38: =+'Հավելված N 8'!I62+'Հավելված N 8'!I66+'Հավելված N 8'!I69 -> -20660
C39: ՀՀ Վայոց Ձորի մարզ | D39: =SUM(E39:H39) -> -41346 | E39: =+E40 -> 0 | F39: =+F40 -> -41346 | G39: =+G40 -> 0 | H39: =+H40 -> 0
C40: Հորսի իշխան Չեսար Օրբելյանի ապարանքի ամրակայում, նորոգում, վերականգնում | D40: =+E40+F40+G40+H40 -> -41346 | F40: =+'Հավելված N 8'!I63+'Հավելված N 8'!I67+'Հավելված N 8'!I70 -> -41346
C41: 2. Վավերագրման և ուսումնասիրման աշխատանքներ, (այդ թվում՝ հետախուզումև պեղում), գիտանախագծային փաստաթղթերի կազմում և փորձաքննում | D41: =SUM(E41:H41) -> -28675 | E41: =+E43+E45+E47 -> 0 | F41: =+F43+F45+F47 -> 0 | G41: =+G43+G45+G47 -> -28675 | H41: =+H43+H45+H47 -> 0
C42: որից`
C43: ՀՀ Արմավիրի մարզ | D43: =SUM(E43:H43) -> -15000 | E43: =+E44 -> 0 | F43: =+F44 -> 0 | G43: =+G44 -> -15000 | H43: =+H44 -> 0
...

Sheet Հավելված N 4
E1: Հավելված N 4
D2: ՀՀ կառավարության 2025 թվականի
E3: ______________ ի ___Ն որոշման
B6: ՀԱՅԱՍՏԱՆԻ ՀԱՆՐԱՊԵՏՈՒԹՅԱՆ ԿԱՌԱՎԱՐՈՒԹՅԱՆ 2024 ԹՎԱԿԱՆԻ ԴԵԿՏԵՄԲԵՐԻ 27-Ի N 2060-Ն ՈՐՈՇՄԱՆ N 5 ՀԱՎԵԼՎԱԾԻ N 2 ԱՂՅՈՒՍԱԿՈՒՄ ԿԱՏԱՐՎՈՂ ՓՈՓՈԽՈՒԹՅՈՒՆՆԵՐԸ ԵՎ ԼՐԱՑՈՒՄՆԵՐԸ
F8: հազ. դրամներով
B9: Ծրագրային դասիչ | D9: Բյուջետային գլխավոր կարգադրիչների, ծրագրերի, միջոցառումների, միջոցառումները կատարող պետական մարմինների և ուղղությունների անվանումները | E9: Ցուցանիշների փոփոխությունը (ավելացումները նշված են դրական նշանով, իսկ նվազեցումները՝ փակագծերում)
B10: Ծրագիր | C10: Միջոցառում | E10: Ինն ամիս | F10: Տարի
D11: ՀՀ ԿՐԹՈՒԹՅԱՆ, ԳԻՏՈՒԹՅԱՆ, ՄՇԱԿՈՒՅԹԻ ԵՎ ՍՊՈՐՏԻ ՆԱԽԱՐԱՐՈՒԹՅՈՒՆ | E11: =+E13+E25+E37+E57+E63+E66+E72+E82+E100+E106+E112+E121+E132+E142+E148+E151+E157+E172+E213+E223+E266 -> 1929281.3 | F11: =+F13+F25+F37+F57+F63+F66+F72+F82+F100+F106+F112+F121+F132+F142+F148+F151+F157+F172+F213+F223+F266 -> 12622143
D12: այդ թվում՝
B13: 1045 | C13: 32001 | D13: Մասնագիտական ուսումնական հաստատությունների շենքային պայմանների բարելավում | E13: =+E15+E21 -> -232319.6 | F13: =+F15+F21 -> -207565
D14: այդ թվում` ըստ կատարողների
D15: ՀՀ կրթության, գիտության, մշակույթի և սպորտի նախարարություն | E15: =+E17+E19 -> -145295.6 | F15: =+F17+F19 -> -107565
D16: այդ թվում`ըստ ուղղությունների
D17: ՀՀ Գեղարքունիքի մարզ | E17: =+E18 -> -72167.6 | F17: =+F18 -> -53096.5
D18: =+'Հավելված N 3'!C20 -> «Գավառի պետական բժշկական քոլեջ» ՊՈԱԿ | E18: -72167.6 | F18: =+'Հավելված N 3'!D20 -> -53096.5
D19: ՀՀ Շիրակի մարզ | E19: =+E20 -> -73128 | F19: =+F20 -> -54468.5
D20: =+'Հավելված N 3'!C22 -> «Գյումրու պետական բժշկական քոլեջ» ՊՈԱԿ | E20: -73128 | F20: =+'Հավելված N 3'!D22 -> -54468.5
D21: ՀՀ քաղաքաշինության կոմիտե | E21: =+E23 -> -87024 | F21: =+F23 -> -100000
D22: այդ թվում`ըստ ուղղությունների
D23: ՀՀ Արարատի մարզ | E23: =+E24 -> -87024 | F23: =+F24 -> -100000
D24: =+'Հավելված N 3'!C18 -> «Մասիսի պետական գյուղատնտեսական քոլեջ» ՊՈԱԿ | E24: -87024 | F24: =+'Հավելված N 3'!D18 -> -100000
B25: 1045 | C25: 32005 | D25: Մասնագիտական ուսումնական հաստատությունների շենքերի կառուցում | E25: =+E27 -> -126666.4 | F25: =+F27 -> -261132.3
D26: այդ թվում` ըստ կատարողների
D27: ՀՀ քաղաքաշինության կոմիտե | E27: =+E29+E31+E33+E35 -> -126666.4 | F27: =+F29+F31+F33+F35 -> -261132.3
D28: այդ թվում`ըստ ուղղությունների
D29: ՀՀ Գեղարքունիքի մարզ | E29: =+E30 -> 101519.5 | F29: =+F30 -> 0
D30: «Գավառի ակադեմիկոս Ա. Թամամշևի անվան պետական գյուղատնտեսական քոլեջ» ՊՈԱԿ | E30: 101519.5 | F30: =+'Հավելված N 3'!D24 -> 0
D31: ՀՀ Լոռու մարզ | E31: =+E32 -> -72520 | F31: =+F32 -> -103600
D32: =+'Հավելված N 3'!C26 -> «Ստեփանավանի պրոֆ. Քալանթարի անվան պետական գյուղատնտեսական քոլեջ» ՊՈԱԿ | E32: -72520 | F32: =+'Հավելված N 3'!D26 -> -103600
D33: ՀՀ Սյունիքի մարզ | E33: =+E34 -> -83145.9 | F33: =+F34 -> -103932.3
D34: =+'Հավելված N 3'!C28 -> «Գորիսի պրոֆեսոր Խ. Երիցյանի անվան պետական գյուղատնտեսական քոլեջ» ՊՈԱԿ | E34: =-80000-2633.7-512.2 -> -83145.9 | F34: =+'Հավելված N 3'!D28 -> -103932.3
D35: ՀՀ Տավուշի մարզ | E35: =+E36 -> -72520 | F35: =+F36 -> -53600
D36: =+'Հավելված N 3'!C30 -> «Նոյեմբերյանի պետական քոլեջ» ՊՈԱԿ | E36: -72520 | F36: =+'Հավելված N 3'!D30 -> -53600
B37: 1075 | C37: 21001 | D37: Հուշարձանների ամրակայում, նորոգում և վերականգնում | E37: =+E39 -> -52813.5 | F37: =+F39 -> -111367
D38: այդ թվում` ըստ կատարողների
D39: ՀՀ կրթության, գիտության, մշակույթի և սպորտի նախարարություն | E39: =+E41+E49 -> -52813.5 | F39: =+F41+F49 -> -111367
D40: այդ թվում՝ ըստ ուղղությունների
D41: 1. Վերականգնողական աշխատանքներ | E41: =+E43+E45+E47 -> -37813.5 | F41: =+F43+F45+F47 -> -82692
D42: որից`
D43: ՀՀ Գեղարքունիքի մարզ | E43: =+E44 -> -6658.5 | F43: =+F44 -> -20686
...

Sheet Հավելված N 5
F1: Հավելված 5
F2: ՀՀ կառավարության 2025 թվականի
F3: ______________ ի ___Ն որոշման
A6: ՀԱՅԱՍՏԱՆԻ ՀԱՆՐԱՊԵՏՈՒԹՅԱՆ ԿԱՌԱՎԱՐՈՒԹՅԱՆ 2024 ԹՎԱԿԱՆԻ ԴԵԿՏԵՄԲԵՐԻ 27-Ի N 2060-Ն ՈՐՈՇՄԱՆ N 5 ՀԱՎԵԼՎԱԾԻ N 7 ԱՂՅՈՒՍԱԿՈՒՄ ԿԱՏԱՐՎՈՂ ԼՐԱՑՈՒՄՆԵՐԸ
A7: հազար դրամ
A8: Ծրագրային դասիչը | C8: Բյուջետային հատկացումների գլխավոր կարգադրիչների, ծրագրերի, միջոցառումների, ծախսային ուղղությունների անվանումները | F8: Միջոցառումները կատարող պետական մարմինների և դրամաշնորհ ստացող տնտեսվարող սուբյեկտների անվանումները | G8: Ցուցանիշների փոփոխությունը (ավելացումները նշված են դրական նշանով)
A9: Ծրագիր | B9: Միջոցառում | G9: Տարի
A10: ՀՀ կրթության, գիտության, մշակույթի և սպորտի նախարարություն | G10: =+G11+G24+G32+G36+G40+G53 -> 606999.2
A11: 1075 | B11: Մշակութային ժառանգության ծրագիր | G11: =+G12+G21 -> 162064
B12: 21001 | C12: Հուշարձանների ամրակայում, նորոգում և վերականգնում | F12: ՀՀ կրթության, գիտության, մշակույթի և սպորտի նախարարություն | G12: =+G14+G16 -> 71950.7
D13: այդ թվում՝ ըստ ուղղությունների և միջոցառումների անվանումների
E14: Վերականգնողական աշխատանքներ | G14: =+G15 -> 26250.7
E15: Մատենադարանի թանգարանի ճակատային մասի արձանախմբի վերանորոգում | F15: «Մատենադարան» Մեսրոպ Մաշտոցի անվան հին ձեռագրերի գիտահետազոտական ինստիտուտ» հիմնադրամ | G15: =+ROUNDUP(24880+878.64+492.036,1) -> 26250.7
E16: Վավերագրման և ուսումնասիրման աշխատանքներ, (այդ թվում՝ հետախուզումև պեղում), գիտանախագծային փաստաթղթերի կազմում և փորձաքննում | G16: =SUM(G17:G20) -> 45700
E17: Արտաշատ մայրաքաղաքի Գետամերձ թաղամասի պեղումներ | F17: ՀՀ ԳԱԱ «Հնագիտության և ազգագրության ինստիտուտ» ՊՈԱԿ | G17: 15700
E18: Հալիձոր բերդի համալիրի ամրակայման, նորոգման և վերականգնման գիտանախագծային փաստաթղթեր | F18: «Պատմամշակութային ժառանգության գիտահետազոտական կենտրոն» ՊՈԱԿ | G18: =ROUND(5000*1.2,1) -> 6000
E19: Կավարտ գյուղի հունական եկեղեցու ամրակայման, նորոգման և վերականգնման գիտանախագծային փաստաթղթեր | F19: «Պատմամշակութային արգելոց թանգարանների և պատմական միջավայրի պահպանության ծառայություն» ՊՈԱԿ | G19: =ROUND(7500*1.2,1) -> 9000
E20: Պատմական Երվանդաշատ մայրաքաղաքի հնագիտական գեոռադարային ուսումնասիրություն | F20: ՀՀ ԳԱԱ «Հնագիտության և ազգագրության ինստիտուտ» ՊՈԱԿ | G20: 15000
B21: 32008 | C21: Թանգարանների և պատկերասրահների գույքային և տեխնիկական հագեցվածության բարելավում | F21: ՀՀ կրթության, գիտության, մշակույթի և սպորտի նախարարություն | G21: =SUM(G22:G23) -> 90113.3
F22: «Մշակույթի զարգացման» հիմնադրամ | G22: =56098.3+20095 -> 76193.3
F23: «Պատմամշակութային արգելոց-թանգարանների և պատմական միջավայրի պահպանության ծառայություն» ՊՈԱԿ | G23: =13920 -> 13920
A24: 1111 | B24: Բարձրագույն և հետբուհական մասնագիտական կրթության ծրագիր | G24: =+G25+G29 -> 166383.4
B25: 32001 | C25: Բարձրագույն ուսումնական հաստատությունների և «Զեյթուն» ուսանողական ավան» հիմնադրամի շենքային պայմանների բարելավում | G25: =+G26 -> 163986.4
F26: ՀՀ կրթության, գիտության, մշակույթի և սպորտի նախարարություն | G26: =SUM(G27:G28) -> 163986.4
F27: «Հայաստանի ազգային ագրարային համալսարան» հիմնադրամ | G27: 146912.2
F28: «Երևանի թատրոնի և կինոյի պետական ինստիտուտ» ՊՈԱԿ | G28: =ROUND(11847*1.1+3675*1.1,1) -> 17074.2
B29: 32003 | C29: Բարձրագույն ուսումնական հաստատությունների և ««Զեյթուն» ուսանողկան ավան» հիմնադրամի նյութատեխնիկական բազայի համալրում և գույքով ապահովում | G29: =+G30 -> 2397
F30: ՀՀ կրթության, գիտության, մշակույթի և սպորտի նախարարություն | G30: =+G31 -> 2397
F31: «Երևանի թատրոնի և կինոյի պետական ինստիտուտ» ՊՈԱԿ | G31: 2397
A32: 1148 | B32: Արտադպրոցական դաստիարակության ծրագիր | G32: =+G33 -> 8486.9
B33: 32005 | C33: Արտադպրոցական դաստիարակություն իրականացնող կազմակերպությունների շենքային պայմանների բարելավում | G33: =+G34 -> 8486.9
F34: ՀՀ կրթության, գիտության, մշակույթի և սպորտի նախարարություն | G34: =+G35 -> 8486.9
F35: «Վանաձորի բռնցքամարտի մանկապատանեկան մարզադպրոց» ՊՈԱԿ | G35: 8486.9
A36: 1168 | B36: Արվեստների ծրագիր | G36: =+G37 -> 16049.3
B37: 32001 | C37: Ներդրումներ թատրոնների և համերգային կազմակերպությունների շենքերի կապիտալ վերանորոգման համար | G37: =+G38 -> 16049.3
F38: ՀՀ կրթության, գիտության, մշակույթի և սպորտի նախարարություն | G38: =+G39 -> 16049.3
F39: «Ալ. Սպենդիարյանի անվան օպերայի և բալետի ազգային ակադեմիական թատրոն» ՊՈԱԿ | G39: =15600+345.6+103.7 -> 16049.3
A40: 1183 | B40: Ապահով դպրոց | G40: =+G41 -> 253325.1
B41: 32001 | C41: Կրթական օբյեկտների շենքային պայմանների բարելավում | G41: =+G42+G44 -> 253325.1
F42: ՀՀ կրթության, գիտության, մշակույթի և սպորտի նախարարություն | G42: =+G43 -> 4005.3
...

Sheet Հավելված N 6
I1: Հավելված N 6
I2: ՀՀ կառավարության 2025 թվականի
I3: ______________ ի ___Ն որոշման
A6: ՀԱՅԱՍՏԱՆԻ ՀԱՆՐԱՊԵՏՈՒԹՅԱՆ ԿԱՌԱՎԱՐՈՒԹՅԱՆ 2024 ԹՎԱԿԱՆԻ ԴԵԿՏԵՄԲԵՐԻ 27-Ի N 2060-Ն ՈՐՈՇՄԱՆ N 9 ՀԱՎԵԼՎԱԾՈՒՄ ԿԱՏԱՐՎՈՂ ՓՈՓՈԽՈՒԹՅՈՒՆՆԵՐԸ ԵՎ ԼՐԱՑՈՒՄՆԵՐԸ
A9: ԲԳԿ | B9: Ծրագիր | D9: Միջոցառում | H9: Իրականացնողը/ ակտիվն օգտագործողը/ շահառուի ընտրության չափորոշիչը | I9: Արդյունքային չափորոշիչը | J9: Ցուցանիշների փոփոխությունը (ավելացումները նշված են դրական նշանով, իսկ նվազեցումները՝ փակագծերում)
B10: Դասիչը | C10: Անվանումը | D10: Դասիչը | E10: Անվանումը | F10: Նկարագրությունը | G10: Տեսակը | J10: Ինն ամիս | K10: Տարի
A11: ԸՆԴԱՄԵՆԸ | J11: =+J13+J150+J157 -> 0 | K11: =+K13+K150+K157 -> 0
A12: այդ թվում՝
A13: ՀՀ ԿՐԹՈՒԹՅԱՆ, ԳԻՏՈՒԹՅԱՆ, ՄՇԱԿՈԻՅԹԻ ԵՎ ՍՊՈՐՏԻ ՆԱԽԱՐԱՐՈՒԹՅՈՒՆ | J13: =+J14+J25+J42+J54+J61+J69+J91+J104+J121+J128 -> 2521776 | K13: =+K14+K25+K42+K54+K61+K69+K91+K104+K121+K128 -> 13214638
B14: 1045 | C14: Մասնագիտական կրթության և ուսուցման ծրագիր | J14: =+J15+J19 -> -358486 | K14: =+K15+K19 -> -468197.3
D15: 1045 - 32001 | E15: Մասնագիտական ուսումնական հաստատությունների շենքային պայմանների բարելավում | J15: =+'Հավելված N 1'!G17 -> -231819.6 | K15: =+'Հավելված N 1'!H17 -> -207065
F16: Մասնագիտական ուսումնական հաստատությունների շենքերի հիմնանորոգման և նախագծման (շինարարական աշխատանքներ, ջեռուցման համակարգի ստեղծում, ներքին հարդարում, տարածքի բարեկարգում) աշխատանքների իրականացում
G17: Այլ պետական կազմակերպությունների կողմից օգտագործվող ոչ ֆինանսական ակտիվների հետ գործառնություններ
H18: Ակտիվն օգտագործող կազմակերպությունների անվանումները` Մասնագիտական ուսումնական հաստատություններ
D19: 1045 - 32005 | E19: Մասնագիտական ուսումնական հաստատությունների շենքերի կառուցում | J19: =+'Հավելված N 1'!G18 -> -126666.4 | K19: =+'Հավելված N 1'!H18 -> -261132.3
F20: Մասնագիտական ուսումնական հաստատությունների շենքերի (մասնաշենքերի) կառուցման և նախագծման աշխատանքների իրականացում
G21: Այլ պետական կազմակերպությունների կողմից օգտագործվող ոչ ֆինանսական ակտիվների հետ գործառնություններ
H22: Ակտիվն օգտագործող կազմակերպությունների անվանումները` Մասնագիտական ուսումնական հաստատություններ
I23: Կառուցվող մասնագիտական ուսումնական հաստատությունների քանակ, հատ | K23: -1
B25: 1075 | C25: Մշակութային ժառանգության ծրագիր | J25: =+J26+J32+J37 -> 80200.5 | K25: =+K26+K32+K37 -> 21647
D26: 1075 - 21001 | E26: Հուշարձանների ամրակայում, նորոգում և վերականգնում | J26: =+'Հավելված N 1'!G20 -> 19137.2 | K26: =+'Հավելված N 1'!H20 -> -39416.3
F27: Հուշարձանների գիտանախագծային փաստաթղթերի կազմում, հրատապ ուսումնասիրում, վավերագրման և ուսումնասիրման աշխատանքներ, հետախուզում և հնագիտական պեղում, ամրակայում, նորոգում և վերականգնում
G28: Հանրության կողմից անմիջականորեն օգտագործվող ակտիվների հետ կապված միջոցառումներ
H29: Ծառայությունը մատուցող կազմակերպության անվանումը` Մասնագիտացված կազմակերպություններ
I30: Հուշարձանների ամրակայման, նորոգման և վերականգնման աշխատանքներ, քանակ | K30: -3
I31: Հուշարձանների ուսումնասիրման, հետախուզումների և պեղումների աշխատանքներ, քանակ | K31: 1
D32: 1075 - 32008 | E32: Թանգարանների և պատկերասրահների գույքային և տեխնիկական հագեցվածության բարելավում | J32: =+'Հավելված N 1'!G21 -> 90113.3 | K32: =+'Հավելված N 1'!H21 -> 90113.3
F33: Թանգարանների և պատկերասրահների համար անհրաժեշտ գույքի, տեխնիկայի և սարքավորումների ձեռքբերում
G34: Այլ պետական կազմակերպությունների կողմից օգտագործվող ոչ ֆինանսական ակտիվների հետ գործառնություններ
H35: Ակտիվն օգտագործող կազմակերպության անվանումը` Թանգարաններ և պատկերասրահներ
I36: Կազմակերպությունների թիվը, որտեղ կատարվում են ներդրումները | K36: 13
D37: 1075 - 32012 | E37: Թանգարանների համար նոր շենքերի կառուցում | J37: =+'Հավելված N 1'!G22 -> -29050 | K37: =+'Հավելված N 1'!H22 -> -29050
F38: Թանգարանների շենքերի, մասնաշենքերի կառուցում և նախագծում, նորաստեղծ թանգարանների նորակառույց շենքերով ապահովում
G39: Այլ պետական կազմակերպությունների կողմից օգտագործվող ոչ ֆինանսական ակտիվների հետ գործառնություններ
H40: Ակտիվն օգտագործող կազմակերպության անվանումը` Թանգարաններ
B42: 1111 | C42: Բարձրագույն և հետբուհական մասնագիտական կրթության ծրագիր | J42: =+J43+J48 -> 166383.4 | K42: =+K43+K48 -> 166383.4
D43: 1111 - 32001 | E43: Բարձրագույն ուսումնական հաստատությունների և «Զեյթուն» ուսանողական ավան» հիմնադրամի շենքային պայմանների բարելավում | J43: =+'Հավելված N 1'!G24 -> 163986.4 | K43: =+'Հավելված N 1'!H24 -> 163986.4
F44: Բարձրագույն ուսումնական հաստատությունների և «Զեյթուն» ուսանողական ավան» հիմնադրամի շենքային պայմանների բարելավում
G45: Այլ պետական կազմակերպությունների կողմից օգտագործվող ոչ ֆինանսական ակտիվների հետ գործառնություններ
H46: Ակտիվն օգտագործող կազմակերպության անվանումը` Բարձրագույն ուսումնական հաստատություններ
...

Sheet Հավելված N 7
I1: Հավելված N 7
I2: ՀՀ կառավարության 2025 թվականի
I3: ______________ ի ___Ն որոշման
A6: ՀԱՅԱՍՏԱՆԻ ՀԱՆՐԱՊԵՏՈՒԹՅԱՆ ԿԱՌԱՎԱՐՈՒԹՅԱՆ 2024 ԹՎԱԿԱՆԻ ԴԵԿՏԵՄԲԵՐԻ 27-Ի N 2060-Ն ՈՐՈՇՄԱՆ N 9.1 ՀԱՎԵԼՎԱԾՈՒՄ ԿԱՏԱՐՎՈՂ ՓՈՓՈԽՈՒԹՅՈՒՆՆԵՐԸ ԵՎ ԼՐԱՑՈՒՄՆԵՐԸ
A9: ԲՍԿ | B9: Ծրագիր | D9: Միջոցառում | H9: Իրականացնողը/ ակտիվն օգտագործողը/ շահառուի ընտրության չափորոշիչը | I9: Արդյունքային չափորոշիչը | J9: Ցուցանիշների փոփոխությունը (ավելացումները նշված են դրական նշանով, իսկ նվազեցումները՝ փակագծերում)
B10: Դասիչը | C10: Անվանումը | D10: Դասիչը | E10: Անվանումը | F10: Նկարագրությունը | G10: Տեսակը | J10: Ինն ամիս | K10: Տարի
A11: ԸՆԴԱՄԵՆԸ | J11: =+ROUND(J13+J126+J173+J181+J189+J196,1) -> 0 | K11: =+ROUND(K13+K126+K173+K181+K189+K196,1) -> 0
A12: այդ թվում՝
A13: ՀՀ ԿՐԹՈՒԹՅԱՆ, ԳԻՏՈՒԹՅԱՆ, ՄՇԱԿՈԻՅԹԻ ԵՎ ՍՊՈՐՏԻ ՆԱԽԱՐԱՐՈՒԹՅՈՒՆ | J13: =+J14+J20+J37+J49+J56+J64+J75+J88+J101+J108 -> 2028336.1 | K13: =+K14+K20+K37+K49+K56+K64+K75+K88+K101+K108 -> 12701430
B14: 1045 | C14: Մասնագիտական կրթության և ուսուցման ծրագիր | J14: =+J15 -> -144795.6 | K14: =+K15 -> -107065
D15: 1045 - 32001 | E15: Մասնագիտական ուսումնական հաստատությունների շենքային պայմանների բարելավում | J15: =+'Հավելված N 2'!G272 -> -144795.6 | K15: =+'Հավելված N 2'!H272 -> -107065
F16: Մասնագիտական ուսումնական հաստատությունների շենքերի հիմնանորոգման և նախագծման (շինարարական աշխատանքներ, ջեռուցման համակարգի ստեղծում, ներքին հարդարում, տարածքի բարեկարգում) աշխատանքների իրականացում
G17: Այլ պետական կազմակերպությունների կողմից օգտագործվող ոչ ֆինանսական ակտիվների հետ գործառնություններ
H18: Ակտիվն օգտագործող կազմակերպությունների անվանումները` Մասնագիտական ուսումնական հաստատություններ
B20: 1075 | C20: Մշակութային ժառանգության ծրագիր | J20: =+J21+J27+J32 -> 80200.5 | K20: =+K21+K27+K32 -> 21647
D21: 1075 - 21001 | E21: Հուշարձանների ամրակայում, նորոգում և վերականգնում | J21: =+'Հավելված N 2'!G130 -> 19137.2 | K21: =+'Հավելված N 2'!H130 -> -39416.3
F22: Հուշարձանների գիտանախագծային փաստաթղթերի կազմում, հրատապ ուսումնասիրում, վավերագրման և ուսումնասիրման աշխատանքներ, հետախուզում և հնագիտական պեղում, ամրակայում, նորոգում և վերականգնում
G23: Հանրության կողմից անմիջականորեն օգտագործվող ակտիվների հետ կապված միջոցառումներ
H24: Ծառայությունը մատուցող կազմակերպության անվանումը` Մասնագիտացված կազմակերպություններ
I25: Հուշարձանների ամրակայման, նորոգման և վերականգնման աշխատանքներ, քանակ | K25: -3
I26: Հուշարձանների ուսումնասիրման, հետախուզումների և պեղումների աշխատանքներ, քանակ | K26: 1
D27: 1075 - 32008 | E27: Թանգարանների և պատկերասրահների գույքային և տեխնիկական հագեցվածության բարելավում | J27: =+'Հավելված N 2'!G54 -> 90113.3 | K27: =+'Հավելված N 2'!H54 -> 90113.3
F28: Թանգարանների և պատկերասրահների համար անհրաժեշտ գույքի, տեխնիկայի և սարքավորումների ձեռքբերում
G29: Այլ պետական կազմակերպությունների կողմից օգտագործվող ոչ ֆինանսական ակտիվների հետ գործառնություններ
H30: Ակտիվն օգտագործող կազմակերպության անվանումը` Թանգարաններ և պատկերասրահներ
I31: Կազմակերպությունների թիվը, որտեղ կատարվում են ներդրումները | K31: 13
D32: 1075 - 32012 | E32: Թանգարանների համար նոր շենքերի կառուցում | J32: =+'Հավելված N 2'!G64 -> -29050 | K32: =+'Հավելված N 2'!H64 -> -29050
F33: Թանգարանների շենքերի, մասնաշենքերի կառուցում և նախագծում, նորաստեղծ թանգարանների նորակառույց շենքերով ապահովում
G34: Այլ պետական կազմակերպությունների կողմից օգտագործվող ոչ ֆինանսական ակտիվների հետ գործառնություններ
H35: Ակտիվն օգտագործող կազմակերպության անվանումը` Թանգարաններ
B37: 1111 | C37: Բարձրագույն և հետբուհական մասնագիտական կրթության ծրագիր | J37: =+J38+J43 -> 166383.4 | K37: =+K38+K43 -> 166383.4
D38: 1111 - 32001 | E38: Բարձրագույն ուսումնական հաստատությունների և «Զեյթուն» ուսանողական ավան» հիմնադրամի շենքային պայմանների բարելավում | J38: =+'Հավելված N 2'!G302 -> 163986.4 | K38: =+'Հավելված N 2'!H302 -> 163986.4
F39: Բարձրագույն ուսումնական հաստատությունների և «Զեյթուն» ուսանողական ավան» հիմնադրամի շենքային պայմանների բարելավում
G40: Այլ պետական կազմակերպությունների կողմից օգտագործվող ոչ ֆինանսական ակտիվների հետ գործառնություններ
H41: Ակտիվն օգտագործող կազմակերպության անվանումը` Բարձրագույն ուսումնական հաստատություններ
I42: Կազմակերպությունների թիվը, որտեղ կատարվում են ներդրումները, հատ | K42: 2
D43: 1111 - 32003 | E43: Բարձրագույն ուսումնական հաստատությունների և «Զեյթուն» ուսանողական ավան» հիմնադրամի նյութատեխնիկական բազայի համալրում և գույքով ապահովում | J43: =+'Հավելված N 2'!G312 -> 2397 | K43: =+'Հավելված N 2'!H312 -> 2397
F44: Բարձրագույն ուսումնական հաստատությունների և «Զեյթուն» ուսանողական ավան» հիմնադրամի համար անհրաժեշտ լաբորատոր և այլ սարքավորումների, տեխնիկայի, կահույքի ձեռքբերում
G45: Այլ պետական կազմակերպությունների կողմից օգտագործվող ոչ ֆինանսական ակտիվների հետ գործառնություններ
H46: Ակտիվն օգտագործող կազմակերպության անվանումը` Բարձրագույն ուսումնական հաստատություններ
...

Sheet Հավելված N 8
H1: Հավելված N 8
H2: ՀՀ կառավարության 2025 թվականի
H3: ______________ ի ___Ն որոշման
A6: ՀԱՅԱՍՏԱՆԻ ՀԱՆՐԱՊԵՏՈՒԹՅԱՆ ԿԱՌԱՎԱՐՈՒԹՅԱՆ 2024 ԹՎԱԿԱՆԻ ԴԵԿՏԵՄԲԵՐԻ 27-Ի N 2060-Ն N 10 ՀԱՎԵԼՎԱԾՈՒՄ ԿԱՏԱՐՎՈՂ ՓՈՓՈԽՈՒԹՅՈՒՆՆԵՐԸ ԵՎ ԼՐԱՑՈՒՄՆԵՐԸ
A10: Կոդը | B10: Անվանումը | E10: Գնման ձևը | F10: Չափման միավորը | G10: Միավորի գինը | H10: Ցուցանիշների փոփոխությունը (ավելացումները նշված են դրական նշանով, իսկ նվազեցումները՝ փակագծերում)
H11: Քանակը | I11: Գումարը (հազար դրամ)
A12: 1 | B12: 2 | E12: 3 | F12: 4 | G12: 5 | H12: 6 | I12: 7
A13: ՀՀ կրթության, գիտության, մշակույթի և սպորտի նախարարություն | I13: =+I14+I21+I25+I32+I58+I76+I80+I132+I137+I159 -> -5641745.3
A14: Բաժին N 08 | B14: Խումբ N 01 | C14: Դաս N 01 | D14: Հանգստի և սպորտի ծառայություններ | I14: =+I15 -> -93026.6
A15: 1163-32003 | B15: Թեթև կոնստրուկցիաներով մարզադահլիճների հիմնում | I15: =+I16+I18 -> -93026.6
B16: ՄԱՍ II. ԱՇԽԱՏԱՆՔՆԵՐ | I16: =+I17 -> -90631.5
A17: 45211131-1 | B17: մարզական օբյեկտների շինարարական աշխատանքներ | E17: ԲՄ | F17: դրամ | G17: 90631500 | H17: -1 | I17: =+ROUNDDOWN(H17*G17/1000,1) -> -90631.5
B18: ՄԱՍ III. ԾԱՌԱՅՈՒԹՅՈՒՆՆԵՐ | I18: =SUM(I19:I20) -> -2395.1
A19: 71351540-1 | B19: տեխնիկական հսկողության ծառայություններ | E19: ԳՀ | F19: դրամ | G19: 1842400 | H19: -1 | I19: =+ROUNDDOWN(H19*G19/1000,1) -> -1842.4
A20: 98111140-1 | B20: հեղինակային հսկողության ծառայություններ | E20: ՄԱ | F20: դրամ | G20: 552700 | H20: -1 | I20: =+ROUNDDOWN(H20*G20/1000,1) -> -552.7
A21: Բաժին N 08 | B21: Խումբ N 02 | C21: Դաս N 02 | D21: Թանգարաններ և ցուցասրահներ | I21: =+I22 -> 960
A22: 1075-32012 | B22: Թանգարանների համար նոր շենքերի կառուցում | I22: =+I23 -> 960
B23: ՄԱՍ III. ԾԱՌԱՅՈՒԹՅՈՒՆՆԵՐ | I23: =+I24 -> 960
A24: 50531140-535 | B24: փորձաքննության ծառայություններ | E24: ԳՀ | F24: դրամ | G24: 960000 | H24: 1 | I24: =+ROUNDUP(H24*G24/1000,1) -> 960
A25: Բաժին N 08 | B25: Խումբ N 02 | C25: Դաս N 03 | D25: Մշակույթի տներ, ակումբներ, կենտրոններ | I25: =+I26 -> 47495.9
A26: 1196-12001 | B26: Աջակցություն համայնքներին մշակութային հաստատությունների շենքային պայմանների բարելավման համար | I26: =+I27+I29 -> 47495.9
B27: ՄԱՍ II. ԱՇԽԱՏԱՆՔՆԵՐ | I27: =SUM(I28:I28) -> 46000
A28: 45611200-501 | B28: մշակութային օբյեկտների հիմնանորոգում | E28: ԲՄ | F28: դրամ | G28: 46000000 | H28: 1 | I28: =+ROUNDUP(H28*G28/1000,1) -> 46000
B29: ՄԱՍ III. ԾԱՌԱՅՈՒԹՅՈՒՆՆԵՐ | I29: =SUM(I30:I31) -> 1495.9
A30: 71351540-524 | B30: տեխնիկական հսկողության ծառայություններ | E30: ԳՀ | F30: դրամ | G30: =2000000/82400000*G28 -> 1116504.9 | H30: 1 | I30: =+ROUNDUP(H30*G30/1000,1) -> 1116.6
A31: 98111140 | B31: հեղինակային հսկողության ծառայություններ | E31: ՄԱ | F31: դրամ | G31: =+G28/82400000*679369.097 -> 379259.45 | H31: 1 | I31: =+ROUNDUP(H31*G31/1000,1) -> 379.3
A32: Բաժին N 08 | B32: Խումբ N 02 | C32: Դաս N 05 | D32: Արվեստ | I32: =+I33+I43 -> 676062
A33: 1168-32001 | B33: Ներդրումներ թատրոնների և համերգային կազմակերպությունների շենքերի կապիտալ վերանորոգման համար | I33: =+I34+I37 -> -128040.4
B34: ՄԱՍ II. ԱՇԽԱՏԱՆՔՆԵՐ | I34: =SUM(I35:I36) -> -139786
A35: 45611200-1 | B35: մշակութային օբյեկտների հիմնանորոգում | E35: ԲՄ | F35: դրամ | I35: -59786
A36: 45611200-3 | B36: մշակութային օբյեկտների հիմնանորոգում | E36: ԲՄ | F36: դրամ | I36: -80000
B37: ՄԱՍ III. ԾԱՌԱՅՈՒԹՅՈՒՆՆԵՐ | I37: =SUM(I38:I42) -> 11745.6
A38: 71351540-1 | B38: տեխնիկական հսկողության ծառայություններ | E38: ԳՀ | F38: դրամ | G38: 2195700 | H38: -1 | I38: =+ROUNDDOWN(H38*G38/1000,1) -> -2195.7
A39: 71351540-3 | B39: տեխնիկական հսկողության ծառայություններ | E39: ԳՀ | F39: դրամ | G39: 4500000 | H39: -1 | I39: =+ROUNDDOWN(H39*G39/1000,1) -> -4500
A40: 98111140-1 | B40: հեղինակային հսկողության ծառայություններ | E40: ՄԱ | F40: դրամ | G40: 658700 | H40: -1 | I40: =+ROUNDDOWN(H40*G40/1000,1) -> -658.7
A41: 98111140-3 | B41: հեղինակային հսկողության ծառայություններ | E41: ՄԱ | F41: դրամ | G41: 900000 | H41: -1 | I41: =+ROUNDDOWN(H41*G41/1000,1) -> -900
A42: 71241200-503 | B42: նախագծերի պատրաստում, ծախսերի գնահատում | E42: ԳՀ | F42: դրամ | G42: 19999997 | H42: 1 | I42: =+ROUNDUP(H42*G42/1000,1) -> 20000
A43: 1168-32007 | B43: Թատերահամերգային կազմակերպությունների նյութատեխնիկական բազայի համալրում | I43: =+I44 -> 804102.4
B44: ՄԱՍ I. ԱՊՐԱՆՔՆԵՐ | I44: =SUM(I45:I57) -> 804102.4
A45: 32351121-501 | B45: LED էկրան իր համակարգով | C45: ԷԱՃ | D45: լրակազմ | E45: ԷԱՃ | F45: լրակազմ | G45: 78700049 | H45: 1 | I45: =+ROUNDUP(H45*G45/1000,1) -> 78700.1
...

Sheet Հավելված N 9
F1: Հավելված N 9
H2: ՀՀ կառավարության 2025 թվականի
H3: ______________ ի ___Ն որոշման
A6: ՀԱՅԱՍՏԱՆԻ ՀԱՆՐԱՊԵՏՈՒԹՅԱՆ 2025 ԹՎԱԿԱՆԻ ՊԵՏԱԿԱՆ ԲՅՈՒՋԵՈՎ ՆԱԽԱՏԵՍՎԱԾ՝ ՀԱՅԱՍՏԱՆԻ ՀԱՆՐԱՊԵՏՈՒԹՅԱՆ ԿԱՌԱՎԱՐՈՒԹՅԱՆ ՊԱՀՈՒՍՏԱՅԻՆ ՖՈՆԴԻՑ ՀԱՏԿԱՑՈՒՄՆԵՐ ԿԱՏԱՐԵԼՈՒ ՎԵՐԱԲԵՐՅԱԼ
A9: Գործառական դասիչը | D9: Ծրագրային դասիչը | F9: Բյուջետային հատկացումների գլխավոր կարգադրիչների, ծրագրերի, միջոցառումների և միջոցառումները կատարող պետական մարմինների անվանումները | G9: Ցուցանիշների փոփոխությունը (ավելացումները նշված են դրական նշանով, իսկ նվազեցումները` փակագծերում)
A10: Բաժին | B10: Խումբ | C10: Դաս | D10: Ծրագիր | E10: Միջոցառում | G10: Ինն ամիս | H10: Տարի
F11: ԸՆԴԱՄԵՆԸ | G11: =+G13+G33 -> 0 | H11: =+H13+H33 -> 0
F12: այդ թվում
F13: ՀՀ ԿԱՌԱՎԱՐՈՒԹՅՈՒՆ | G13: =+G14 -> -10883.9 | H13: =+H14 -> -23158.4
A14: 11 | F14: ՀԻՄՆԱԿԱՆ ԲԱԺԻՆՆԵՐԻՆ ՉԴԱՍՎՈՂ ՊԱՀՈՒՍՏԱՅԻՆ ՖՈՆԴԵՐ | G14: =+G16 -> -10883.9 | H14: =+H16 -> -23158.4
F15: այդ թվում`
B16: 01 | F16: ՀՀ կառավարության և համայնքների պահուստային ֆոնդ | G16: =+G18 -> -10883.9 | H16: =+H18 -> -23158.4
F17: այդ թվում`
C18: 01 | F18: ՀՀ կառավարության պահուստային ֆոնդ | G18: =+G20 -> -10883.9 | H18: =+H20 -> -23158.4
F19: այդ թվում`
F20: ՀՀ կառավարություն | G20: =+G22 -> -10883.9 | H20: =+H22 -> -23158.4
F21: այդ թվում`
D22: 1139 | E22: ՀՀ կառավարության պահուստային ֆոնդ | F22: ՀՀ կառավարության պահուստային ֆոնդ | G22: =+G24 -> -10883.9 | H22: =+H24 -> -23158.4
F23: այդ թվում`
E24: 11001 | F24: ՀՀ կառավարության պահուստային ֆոնդ | G24: =+G26 -> -10883.9 | H24: =+H26 -> -23158.4
F25: այդ թվում` ըստ կատարողների
F26: ՀՀ կառավարություն | G26: =+G28 -> -10883.9 | H26: =+H28 -> -23158.4
F27: այդ թվում՝ բյուջետային ծախսերի տնտեսագիտական դասակարգման հոդվածներ
F28: ԸՆԴԱՄԵՆԸ ԾԱԽՍԵՐ | G28: =+G29 -> -10883.9 | H28: =+H29 -> -23158.4
F29: ԸՆԹԱՑԻԿ ԾԱԽՍԵՐ | G29: =+G30 -> -10883.9 | H29: =+H30 -> -23158.4
F30: ԱՅԼ ԾԱԽՍԵՐ | G30: =+G31 -> -10883.9 | H30: =+H31 -> -23158.4
F31: - Պահուստային միջոցներ | G31: =+'Հավելված N 2'!G459 -> -10883.9 | H31: =+'Հավելված N 2'!H459 -> -23158.4
F33: ՀՀ ԿՐԹՈՒԹՅԱՆ, ԳԻՏՈՒԹՅԱՆ, ՄՇԱԿՈՒՅԹԻ ԵՎ ՍՊՈՐՏԻ ՆԱԽԱՐԱՐՈՒԹՅՈՒՆ | G33: =+G34 -> 10883.9 | H33: =+H34 -> 23158.4
A34: 09 | F34: ԿՐԹՈՒԹՅՈՒՆ | G34: =+G36+G57 -> 10883.9 | H34: =+H36+H57 -> 23158.4
F35: այդ թվում`
B36: 05 | F36: Ըստ մակարդակների չդասակարգվող կրթություն | G36: =+G38 -> 8486.9 | H36: =+H38 -> 20761.4
F37: այդ թվում`
C38: 01 | F38: Արտադպրոցական դաստիարակություն | G38: =+G40 -> 8486.9 | H38: =+H40 -> 20761.4
F39: այդ թվում`
F40: ՀՀ կրթության, գիտության, մշակույթի և սպորտի նախարարություն | G40: =+G42 -> 8486.9 | H40: =+H42 -> 20761.4
F41: այդ թվում`
D42: 1148 | E42: Արտադպրոցական դաստիարակության ծրագիր | G42: =+G44 -> 8486.9 | H42: =+H44 -> 20761.4
F43: այդ թվում`
E44: 32005 | F44: Արտադպրոցական դաստիարակություն իրականացնող կազմակերպությունների շենքային պայմանների բարելավում | G44: =+G46 -> 8486.9 | H44: =+H46 -> 20761.4
F45: այդ թվում` ըստ կատարողների
...
