Workbook
Name a: #REF!
Name a: #REF!
Name a: #REF!
Name a: #REF!
Name a: #REF!
Name a: #REF!
Name AgencyCode: #REF!
Name AgencyCode: #REF!
Name AgencyCode: #REF!
Name AgencyCode: #REF!
Name AgencyCode: #REF!
Name AgencyCode: #REF!
Name AgencyCode: #REF!
Name AgencyCode: #REF!
Name AgencyCode: #REF!
Name AgencyCode: #REF!
Name AgencyName: #REF!
Name AgencyName: #REF!
Name AgencyName: #REF!
Name AgencyName: #REF!
Name AgencyName: #REF!
Name AgencyName: #REF!
Name AgencyName: #REF!
Name åû: #REF!
Name åû: #REF!
Name åû: #REF!
Name davit: #REF!
Name davit: #REF!
Name davit: #REF!
Name davit: #REF!
Name davit: #REF!
Name davit: #REF!
Name Functional1: #REF!
Name Functional1: #REF!
Name Functional1: #REF!
Name Functional1: #REF!
Name Functional1: #REF!
Name Functional1: #REF!
Name Functional1: #REF!
Name ggg: #REF!
Name ggg: #REF!
Name ggg: #REF!
Name ggg: #REF!
Name ggg: #REF!
Name ggg: #REF!
Name hav: #REF!
Name hav: #REF!
Name hav: #REF!
Name mas: #REF!
Name mas: #REF!
Name mas: #REF!
Name mass: #REF!
Name mass: #REF!
Name mass: #REF!
Name PANature: #REF!
Name PANature: #REF!
Name PANature: #REF!
Name PANature: #REF!
Name PANature: #REF!
Name PANature: #REF!

Sheet Հավելված N 1
F1: Հավելված N 1
F2: ՀՀ կառավարության 2025 թվականի
F3: ______________ ի ___Ն որոշման
A6: «ՀԱՅԱUՏԱՆԻ ՀԱՆՐԱՊԵՏՈՒԹՅԱՆ 2025 ԹՎԱԿԱՆԻ ՊԵՏԱԿԱՆ ԲՅՈՒՋԵԻ ՄԱUԻՆ» ՀԱՅԱUՏԱՆԻ ՀԱՆՐԱՊԵՏՈՒԹՅԱՆ OՐԵՆՔԻ N 1 ՀԱՎԵԼՎԱԾԻ N 2 ԱՂՅՈՒՍԱԿՈՒՄ ԿԱՏԱՐՎՈՂ ՎԵՐԱԲԱՇԽՈՒՄԸ ԵՎ ՀԱՅԱՍՏԱՆԻ ՀԱՆՐԱՊԵՏՈՒԹՅԱՆ ԿԱՌԱՎԱՐՈՒԹՅԱՆ 2024 ԹՎԱԿԱՆԻ ԴԵԿՏԵՄԲԵՐԻ 27-Ի N 2060-Ն ՈՐՈՇՄԱՆ N 5 ՀԱՎԵԼՎԱԾԻ N 1 ԱՂՅՈՒՍԱԿՈՒՄ ԿԱՏԱՐՎՈՂ ՓՈՓՈԽՈՒԹՅՈՒՆՆԵՐԸ ԵՎ ԼՐԱՑՈՒՄՆԵՐԸ
H9: հազ. դրամներով
A10: ԲԳԿ | B10: Ծրագրային դասիչը | D10: ԲԳԿ/Ծրագրի /միջոցառման անվանումը | E10: Ծրագրի նպատակը/Միջոցառման նկարագրությունը | F10: Վերջնական արդյունքի նկարագրությունը/Միջոցառման տեսակը | G10: Ցուցանիշների փոփոխությունը (ավելացումները նշված են դրական նշանով, իսկ նվազեցումները փակագծերում)
G11: Ինն ամիս | H11: Տարի
B12: Ծրագիր | C12: Միջոցառում
A13: ԸՆԴԱՄԵՆԸ | G13: =+G15+G50+G54 -> 0 | H13: =+H15+H50+H54 -> 0
A14: այդ թվում՝
A15: ՀՀ ԿՐԹՈՒԹՅԱՆ, ԳԻՏՈՒԹՅԱՆ, ՄՇԱԿՈՒՅԹԻ ԵՎ ՍՊՈՐՏԻ ՆԱԽԱՐԱՐՈՒԹՅՈՒՆ | G15: =+G16+G19+G23+G26+G28+G30+G35+G38+G42+G44 -> 2521776 | H15: =+H16+H19+H23+H26+H28+H30+H35+H38+H42+H44 -> 13214638
B16: 1045 | D16: Մասնագիտական կրթության և ուսուցման ծրագիր | E16: Աշխատաշուկայի արդի պահանջներին համապատասխան արհեստագործական և միջին մասնագիտական կրթության որակավորում ունեցող մասնագետների պատրաստում, կրթության մատչելիության ապահովում: | F16: Արհեստագործական և միջին մասնագիտական կրթության գրավչության բարձրացում, մատչելի և մրցունակ արհեստագործական և միջին մասնագիտական կրթության ապահովում | G16: =SUM(G17:G18) -> -358486 | H16: =SUM(H17:H18) -> -468197.3
C17: 1045 - 32001 | D17: Մասնագիտական ուսումնական հաստատությունների շենքային պայմանների բարելավում | E17: Մասնագիտական ուսումնական հաստատությունների շենքերի հիմնանորոգման և նախագծման (շինարարական աշխատանքներ, ջեռուցման համակարգի ստեղծում, ներքին հարդարում, տարածքի բարեկարգում) աշխատանքների իրականացում | F17: Այլ պետական կազմակերպությունների կողմից օգտագործվող ոչ ֆինանսական ակտիվների հետ գործառնություններ | G17: =+'Հավելված N 2'!G270 -> -231819.6 | H17: =+'Հավելված N 2'!H270 -> -207065
C18: 1045 - 32005 | D18: Մասնագիտական ուսումնական հաստատությունների շենքերի կառուցում | E18: Մասնագիտական ուսումնական հաստատությունների շենքերի (մասնաշենքերի) կառուցման և նախագծման աշխատանքների իրականացում | F18: Այլ պետական կազմակերպությունների կողմից օգտագործվող ոչ ֆինանսական ակտիվների հետ գործառնություններ | G18: =+'Հավելված N 2'!G289 -> -126666.4 | H18: =+'Հավելված N 2'!H289 -> -261132.3
B19: 1075 | D19: Մշակութային ժառանգության ծրագիր | E19: Մշակութային ժառանգության պահպանում, օգտագործում, համալրում և հանրահռչակում | F19: Մշակութային ժառանգության շարունակական պահպանում, մշակութային զբոսաշրջության զարգացում և խթանում | G19: =SUM(G20:G22) -> 80200.5 | H19: =SUM(H20:H22) -> 21647
C20: 1075 - 21001 | D20: Հուշարձանների ամրակայում, նորոգում և վերականգնում | E20: Հուշարձանների գիտանախագծային փաստաթղթերի կազմում, հրատապ ուսումնասիրում, վավերագրման և ուսումնասիրման աշխատանքներ, հետախուզում և հնագիտական պեղում, ամրակայում, նորոգում և վերականգնում | F20: Հանրության կողմից անմիջականորեն օգտագործվող ակտիվների հետ կապված միջոցառումներ | G20: =+'Հավելված N 2'!G128 -> 19137.2 | H20: =+'Հավելված N 2'!H128 -> -39416.3
C21: 1075 - 32008 | D21: Թանգարանների և պատկերասրահների գույքային և տեխնիկական հագեցվածության բարելավում | E21: Թանգարանների և պատկերասրահների համար անհրաժեշտ գույքի, տեխնիկայի և սարքավորումների ձեռքբերում | F21: Այլ պետական կազմակերպությունների կողմից օգտագործվող ոչ ֆինանսական ակտիվների հետ գործառնություններ | G21: =+'Հավելված N 2'!G52 -> 90113.3 | H21: =+'Հավելված N 2'!H52 -> 90113.3
C22: 1075 - 32012 | D22: Թանգարանների համար նոր շենքերի կառուցում | E22: Թանգարանների շենքերի, մասնաշենքերի կառուցում և նախագծում, նորաստեղծ թանգարանների նորակառույց շենքերով ապահովում | F22: Այլ պետական կազմակերպությունների կողմից օգտագործվող ոչ ֆինանսական ակտիվների հետ գործառնություններ | G22: =+'Հավելված N 2'!G62 -> -29050 | H22: =+'Հավելված N 2'!H62 -> -29050
B23: 1111 | D23: Բարձրագույն և հետբուհական մասնագիտական կրթության ծրագիր | E23: Ապահովել մատչելի, որակյալ և մրցունակ բարձրագույն և հետբուհական մասնագիտական կրթություն: | F23: Գիտելիքների տնտեսության և գիտության զարգացման արդի պահանջներին համապատասխան բարձրագույն և հետբուհական մասնագիտական որակավորում ունեցող մասնագետների պատրաստում | G23: =SUM(G24:G25) -> 166383.4 | H23: =SUM(H24:H25) -> 166383.4
C24: 1111 - 32001 | D24: Բարձրագույն ուսումնական հաստատությունների և «Զեյթուն» ուսանողական ավան» հիմնադրամի շենքային պայմանների բարելավում | E24: Բարձրագույն ուսումնական հաստատությունների և «Զեյթուն» ուսանողական ավան» հիմնադրամի շենքային պայմանների բարելավում | F24: Այլ պետական կազմակերպությունների կողմից օգտագործվող ոչ ֆինանսական ակտիվների հետ գործառնություններ | G24: =+'Հավելված N 2'!G300 -> 163986.4 | H24: =+'Հավելված N 2'!H300 -> 163986.4
C25: 1111 - 32003 | D25: Բարձրագույն ուսումնական հաստատությունների և «Զեյթուն» ուսանողական ավան» հիմնադրամի նյութատեխնիկական բազայի համալրում և գույքով ապահովում | E25: Բարձրագույն ուսումնական հաստատությունների և «Զեյթուն» ուսանողական ավան» հիմնադրամի համար անհրաժեշտ լաբորատոր և այլ սարքավորումների, տեխնիկայի, կահույքի ձեռքբերում | F25: Այլ պետական կազմակերպությունների կողմից օգտագործվող ոչ ֆինանսական ակտիվների հետ գործառնություններ | G25: =+'Հավելված N 2'!G310 -> 2397 | H25: =+'Հավելված N 2'!H310 -> 2397
B26: 1130 | D26: Կրթության, գիտության, մշակույթի և սպորտի բնագավառի պետական քաղաքականության մշակում, ծրագրերի համակարգում և մոնիտորինգ | E26: Ապահովել համընդհանուր, հավասարապես հասանելի, ներառական և որակյալ կրթություն՛ բավարարելով տնտեսության ու հասարակության պահանջները, լիարժեք ծառայելով ազգային շահերին | F26: Կրթության, գիտության, մշակույթի և սպորտի բնագավառում իրականացվող ծրագրերի ազդեցության և արդյունավետության բարելավում | G26: =+G27 -> 0 | H26: =+H27 -> 5040
C27: 1130 - 31001 | D27: ՀՀ կրթության, գիտության, մշակույթի և սպորտի նախարարության կարողությունների զարգացում և տեխնիկական հագեցվածության ապահովում | E27: ՀՀ կրթության, գիտության, մշակույթի և սպորտի նախարարության աշխատանքային պայմանների բարելավման համար վարչական սարքավորումների ձեռք բերում | F27: Պետական մարմինների կողմից օգտագործվող ոչ ֆինանսական ակտիվների հետ գործառնություններ | G27: =+'Հավելված N 2'!G403 -> 0 | H27: =+'Հավելված N 2'!H403 -> 5040
B28: 1148 | D28: Արտադպրոցական դաստիարակության ծրագիր | E28: Նպաստել հանրակրթական ուսուցման համակարգում ընդգրկված երեխաների ֆիզիկական, հոգևոր և գեղագիտական զարգացմանը, բնապահպանական և կիրառական գիտելիքների ձեռքբերմանը | F28: Ստեղծել պայմաններ սովորողների ազատ ժամանացի կազմակերպան միջոցով նրանց հետաքրքրությունների բացահայտման, ձևավորման և զարգացման համար | G28: =+G29 -> 8486.9 | H28: =+H29 -> 20761.4
C29: 1148 - 32005 | D29: Արտադպրոցական դաստիարակություն իրականացնող կազմակերպությունների շենքային պայմանների բարելավում | E29: Կառույցների տեխնիկական արողությունների և աշխատանքային միջավայրի բարելավում | F29: Այլ պետական կազմակերպությունների կողմից օգտագործվող ոչ ֆինանսական ակտիվների հետ գործառնություններ | G29: =+'Հավելված N 2'!G249 -> 8486.9 | H29: =+'Հավելված N 2'!H249 -> 20761.4
B30: 1163 | D30: Մասսայական սպորտ | E30: Բնակչության շրջանում առողջ ապրելակերպի արմատավորում, անհատի բազմակողմանի ու ներդաշնակ զարգացման գործում ֆիզիկական կուլտուրայի և սպորտի դերի բարձրացում | F30: Սպորտի նկատմամբ հետաքրքրվածության և մասնակցության ընդլայնում | G30: =SUM(G31:G34) -> -872174.6 | H30: =SUM(H31:H34) -> -1465250.3
C31: 1163 - 12001 | D31: Աջակցություն համայնքներին մարզական հաստատությունների շենքային պայմանների բարելավման համար | E31: Համայնքային ենթակայության մարզական հաստատությունների վերանորոգում և կառուցում | F31: Տրանսֆերտների տրամադրում | G31: =+'Հավելված N 2'!G321 -> -239793.5 | H31: =+'Հավելված N 2'!H321 -> -550936.9
C32: 1163 - 32001 | D32: Մարզական օբյեկտների շինարարություն | E32: Մարզական օբյեկտների շենքերի (մասնաշենքերի) կառուցում (համաշինարարական աշխատանքներ, ջեռուցման համակարգի իրականացում, ներքին հարդարում, տարածքի բարեկարգում) և նախագծում | F32: Այլ պետական կազմակերպությունների կողմից օգտագործվող ոչ ֆինանսական ակտիվների հետ գործառնություններ | G32: =+'Հավելված N 2'!G337 -> -539354.6 | H32: =+'Հավելված N 2'!H337 -> -621286.8
C33: 1163 - 32003 | D33: Թեթև կոնստրուկցիաներով մարզադահլիճների հիմնում | E33: ՀՀ մարզերում արագ հավաքվող, թեթև կոնստրուկցիաներով, օդահենային պնևմատիկ, եվրոպական ստանդարտներին համապատասխան մարզադահլիճների հիմնում | F33: Այլ պետական կազմակերպությունների կողմից օգտագործվող ոչ ֆինանսական ակտիվների հետ գործառնություններ | G33: =+'Հավելված N 2'!G26 -> -93026.5 | H33: =+'Հավելված N 2'!H26 -> -93026.6
C34: 1163 - 32006 | D34: Ֆուտբոլի ենթակառուցվածքների զարգացման նպատակով մարզադաշտերի և մարզադպրոցների կառուցում | E34: Ֆուտբոլի դպրոցների և ՈՒԵՖԱ ստանդարտներով ֆուտբոլի մարզադաշտերի նախագծում և կառուցում | F34: Այլ պետական կազմակերպությունների կողմից օգտագործվող ոչ ֆինանսական ակտիվների հետ գործառնություններ | G34: =+'Հավելված N 2'!G35 -> 0 | H34: =+'Հավելված N 2'!H35 -> -200000
B35: 1168 | D35: Արվեստների ծրագիր | E35: Նպաստել ազգային հենքի վրա ժամանակակից թատերարվեստի, երաժշտարվեստի, կերպարվեստի և պարարվեստի զարգացմանը և հանրահռչակմանը | F35: Մրցունակ արվեստային արտադրանքի ստեղծում, ստեղծագործական գործընթացների խթանում, արվեստի նոր նախագծերի ներդրում և մշակութային կյանքում հասարակության ներգրավում | G35: =SUM(G36:G37) -> -171579 | H35: =SUM(H36:H37) -> 692111.3
C36: 1168 - 32001 | D36: Ներդրումներ թատրոնների և համերգային կազմակերպությունների շենքերի կապիտալ վերանորոգման համար | E36: Թատրոնների և համերգային կազմակերպությունների շենքերի մասնաշենքերի հիմնանորոգում, համաշինարարական աշխատանքներ, ջեռուցման համակարգի իրականացում, ներքին հարդարում, տարածքի բարեկարգում և նախագծում | F36: Այլ պետական կազմակերպությունների կողմից օգտագործվող ոչ ֆինանսական ակտիվների հետ գործառնություններ | G36: =+'Հավելված N 2'!G98 -> -171579 | H36: =+'Հավելված N 2'!H98 -> -111991.1
C37: 1168 - 32007 | D37: Թատերահամերգային կազմակերպությունների նյութատեխնիկական բազայի համալրում | E37: Թատերահամերգային կազմակերպությունների համար անհրաժեշտ տեխնիկայի և սարքավորումների ձեռքբերում | F37: Այլ պետական կազմակերպությունների կողմից օգտագործվող ոչ ֆինանսական ակտիվների հետ գործառնություններ | G37: =+'Հավելված N 2'!G113 -> 0 | H37: =+'Հավելված N 2'!H113 -> 804102.4
B38: 1183 | D38: Ապահով դպրոց | E38: Դպրոցներին սպառնացող աղետների ռիսկի կառավարման կարողությունների հզորացում, դպրոցի անձնակազմի և աշակերտների անվտանգության ապահովման մակարդակի բարձրացում՛ կիրառելով ներառական և երեխայակենտրոն մոտեցում | F38: Դպրոցական միջավայրի բարելավում | G38: =SUM(G39:G41) -> 180941.9 | H38: =SUM(H39:H41) -> 225202.1
C39: 1183 - 32001 | D39: Կրթական օբյեկտների շենքային պայմանների բարելավում | E39: Կրթական օբյեկտների շենքերի (մասնաշենքերի) հիմնանորոգում (համաշինարարական աշխատանքներ, ջեռուցման համակարգի իրականացում, ներքին հարդարում, տարածքի բարեկարգում) և նախագծում | F39: Այլ պետական կազմակերպությունների կողմից օգտագործվող ոչ ֆինանսական ակտիվների հետ գործառնություններ | G39: =+'Հավելված N 2'!G350 -> 303488.1 | H39: =+'Հավելված N 2'!H350 -> 365182
C40: 1183 - 32004 | D40: Ավագ մակարդակի կրթություն իրականացնող ուսումնական հաստատությունների շենքային պայմանների բարելավում | E40: Ավագ դպրոցների շենքային պայմանների բարելավում | F40: Այլ պետական կազմակերպությունների կողմից օգտագործվող ոչ ֆինանսական ակտիվների հետ գործառնություններ | G40: =+'Հավելված N 2'!G377 -> 0 | H40: =+'Հավելված N 2'!H377 -> 13202.9
C41: 1183 - 32007 | D41: Հանրակրթական կրթություն իրականացնող ուսումնական հաստատությունների նոր մարզադահլիճների կառուցում | E41: Հանրակրթական ուսուցում իրականացնող ուսումնական հաստատությունների նոր մարզադահլիճների կառուցման նախագծանախահաշվային փաստաթղթերի մշակում | F41: Այլ պետական կազմակերպությունների կողմից օգտագործվող ոչ ֆինանսական ակտիվների հետ գործառնություններ | G41: =+'Հավելված N 2'!G386 -> -122546.2 | H41: =+'Հավելված N 2'!H386 -> -153182.8
B42: 1196 | D42: Մարզերի մշակութային զարգացման ծրագիր | E42: Մարզերում մշակութային կյանքի և մշակութաստեղծ գործունեության ակտիվացում | F42: Համայնքներում մշակույթի հասանելիության և մշակութային կյանքին մարզային բնակչության ընդգրկվածության ընդլայնում | G42: =+G43 -> 9499.2 | H42: =+H43 -> 47495.9
C43: 1196 - 12001 | D43: Աջակցություն համայնքներին մշակութային հաստատությունների շենքային պայմանների բարելավման համար | E43: Համայնքային ենթակայության մշակույթի տների՝ ակումբների և կենտրոնների հիմնանորոգում՝ կառուցում և նախագծում | F43: Տրանսֆերտների տրամադրում | G43: =+'Հավելված N 2'!G83 -> 9499.2 | H43: =+'Հավելված N 2'!H83 -> 47495.9
B44: 1236 | D44: Հանրակրթական և նախադպրոցական հաստատությունների հիմնում, կառուցում, բարելավում | E44: Առնվազն 300 դպրոցի և 500 մանկապարտեզի կառուցման, վերակառուցման, հիմնանորոգման ծրագրերի իրականացում ՀՀ պետական բյուջեի միջոցների շրջանակներում | F44: Կրթական միջավայրի բարելավում | G44: =SUM(G45:G48) -> 3478503.7 | H44: =SUM(H45:H48) -> 13969445
C45: 1236 - 32001 | D45: Մանկապարտեզների նոր շենքերի կառուցում | E45: Նախադպրոցական կրթության հասանելիության ապահովման նպատակով՛ մանկապարտեզների հիմնում, նոր շենքերի (մասնաշենքերի), ներառյալ՛ ,Մոդուլայինե տիպի շենքերի կառուցում և նախագծում | F45: Այլ պետական կազմակերպությունների կողմից օգտագործվող ոչ ֆինանսական ակտիվների հետ գործառնություններ | G45: =+'Հավելված N 2'!G154 -> -252336.9 | H45: =+'Հավելված N 2'!H154 -> -168168.4
C46: 1236 - 32003 | D46: Հանրակրթական դպրոցների նոր շենքերի կառուցում | E46: ՀՀ մարզերում կրթական որակյալ ծառայությունների հասանելիության ապահովման ծրագրի շրջանակներում հանրակրթական և նախադպրոցական կրթության հասանելիության ապահովման նպատակով կրթական կենտրոնների կառուցում | F46: Այլ պետական կազմակերպությունների կողմից օգտագործվող ոչ ֆինանսական ակտիվների հետ գործառնություններ | G46: =+'Հավելված N 2'!G178 -> 1488479.1 | H46: =+'Հավելված N 2'!H178 -> 6594937.1
C47: 1236 - 32004 | D47: Հանրակրթական դպրոցների շենքերի վերակառուցում, հիմնանորոգում | E47: Դպրոցական պարտադիր կրթության հասանելիության ապահովման նպատակով՛ հանրակրթական դպրոցների շենքերի (մասնաշենքերի), վերակառուցում, հիմնանորոգում և նախագծում | F47: Այլ պետական կազմակերպությունների կողմից օգտագործվող ոչ ֆինանսական ակտիվների հետ գործառնություններ | G47: =+'Հավելված N 2'!G201 -> 3800000 | H47: =+'Հավելված N 2'!H201 -> 9245548.7
C48: 1236 - 32005 | D48: Կրթահամալիրների կառուցում | E48: ՀՀ մարզերում կրթական որակյալ ծառայությունների հասանելիության ապահովման ծրագրի շրջանակներում հանրակրթական և նախադպրոցական կրթության հասանելիության ապահովման նպատակով կրթական կենտրոնների կառուցում | F48: Այլ պետական կազմակերպությունների կողմից օգտագործվող ոչ ֆինանսական ակտիվների հետ գործառնություններ | G48: =+'Հավելված N 2'!G219 -> -1557638.5 | H48: =+'Հավելված N 2'!H219 -> -1702872.8
A50: ՀՀ ՖԻՆԱՆՍՆԵՐԻ ՆԱԽԱՐԱՐՈՒԹՅՈՒՆ | G50: =+G51 -> -2521776 | H50: =+H51 -> -13214638
B51: 1006 | D51: Պետական պարտքի կառավարում | E51: Կառավարության ֆինանսական կարիքների բավարարման մշտական հնարավորության ապահովումը` երկարաժամկետ հատվածում նվազեցնելով պարտքի սպասարկման մեծությունը | F51: Կառավարության պարտքի օպտիմալ կառուցվածքի ձևավորում՛ հաշվի առնելով պոտենցիալ ռիսկերը | G51: =+G52 -> -2521776 | H51: =+H52 -> -13214638
C52: 1006 - 13001 | D52: Կառավարության պարտքի սպասարկում | E52: Կառավարության պարտքի սպասարկում (տոկոսավճարներ) | F52: Ֆինանսավորման ծախսերի իրականացում | G52: =+'Հավելված N 2'!G424 -> -2521776 | H52: =+'Հավելված N 2'!H424 -> -13214638
A54: ՀՀ ԿԱՌԱՎԱՐՈՒԹՅՈՒՆ | G54: =+G55 -> 0 | H54: =+H55 -> 0
B55: 1139 | D55: ՀՀ կառավարության պահուստային ֆոնդ | E55: Պետական բյուջեում չկանխատեսված, ինչպես նաեւ բյուջետային երաշխիքների ապահովման ծախսերի ֆինանսավորման ապահովում | F55: Պահուստային ֆոնդի կառավարման արդյունավետության և թափանցիկության ապահովում | G55: =+G56+G57 -> 0 | H55: =+H56+H57 -> 0
C56: 1139 - 11001 | D56: ՀՀ կառավարության պահուստային ֆոնդ | E56: ՀՀ պետական բյուջեում նախատեսված ելքերի լրացուցիչ ֆինանսավորման, պետական բյուջեում չկանխատեսված ելքերի, ինչպես նաև բյուջետային երաշխիքների ապահովման ելքերի ֆինանսավորման ապահովում | F56: Ծառայությունների մատուցում | G56: =+'Հավելված N 2'!G444 -> 10883.9 | H56: =+'Հավելված N 2'!H444 -> 23158.4
C57: 1139 - 11001 | D57: ՀՀ կառավարության պահուստային ֆոնդ | E57: ՀՀ պետական բյուջեում նախատեսված ելքերի լրացուցիչ ֆինանսավորման, պետական բյուջեում չկանխատեսված ելքերի, ինչպես նաև բյուջետային երաշխիքների ապահովման ելքերի ֆինանսավորման ապահովում | F57: Ծառայությունների մատուցում | G57: =+'Հավելված N 2'!G452 -> -10883.9 | H57: =+'Հավելված N 2'!H452 -> -23158.4

Sheet Հավելված N 2
F1: Հավելված N 2
F2: ՀՀ կառավարության 2025 թվականի
F3: ______________ ի ___Ն որոշման
A7: ՀԱՅԱՍՏԱՆԻ ՀԱՆՐԱՊԵՏՈՒԹՅԱՆ ԿԱՌԱՎԱՐՈՒԹՅԱՆ 2024 ԹՎԱԿԱՆԻ ԴԵԿՏԵՄԲԵՐԻ 27-Ի N 2060-Ն ՈՐՈՇՄԱՆ N 3 ԵՎ N 4 ՀԱՎԵԼՎԱԾՆԵՐՈՒՄ ԿԱՏԱՐՎՈՂ ՓՈՓՈԽՈՒԹՅՈՒՆՆԵՐԸ ԵՎ ԼՐԱՑՈՒՄՆԵՐԸ
H10: հազ. դրամներով
A11: Գործառական դասիչը | D11: Ծրագրային դասիչը | F11: Բյուջետային հատկացումների գլխավոր կարգադրիչների, ծրագրերի, միջոցառումների և միջոցառումները կատարող պետական մարմինների անվանումները | G11: Ցուցանիշների փոփոխությունը (ավելացումները նշված են դրական նշանով, իսկ նվազեցումները փակագծերում)
A12: Բաժին | B12: Խումբ | C12: Դաս | D12: Ծրագիր | E12: Միջոցառում | G12: Ինն ամիս | H12: Տարի
F13: ԸՆԴԱՄԵՆԸ | G13: =+G15+G413+G433 -> 0 | H13: =+H15+H413+H433 -> 0
F14: այդ թվում՝
F15: ՀՀ ԿՐԹՈՒԹՅԱՆ, ԳԻՏՈՒԹՅԱՆ, ՄՇԱԿՈՒՅԹԻ ԵՎ ՍՊՈՐՏԻ ՆԱԽԱՐԱՐՈՒԹՅՈՒՆ | G15: =+G16+G144 -> 2521776 | H15: =+H16+H144 -> 13214638
A16: 08 | F16: ՀԱՆԳԻՍՏ, ՄՇԱԿՈՒՅԹ ԵՎ ԿՐՈՆ | G16: =+G18+G44 -> -174905.8 | H16: =+H18+H44 -> 468227.6
F17: այդ թվում`
B18: 01 | F18: Հանգստի և սպորտի ծառայություններ | G18: =+G20 -> -93026.5 | H18: =+H20 -> -293026.6
F19: այդ թվում`
C20: 01 | F20: Հանգստի և սպորտի ծառայություններ | G20: =+G22 -> -93026.5 | H20: =+H22 -> -293026.6
F21: այդ թվում`
F22: ՀՀ կրթության, գիտության, մշակույթի և սպորտի նախարարություն | G22: =+G24 -> -93026.5 | H22: =+H24 -> -293026.6
F23: այդ թվում`
D24: 1163 | E24: Մասսայական սպորտ | G24: =+G26+G35 -> -93026.5 | H24: =+H26+H35 -> -293026.6
F25: այդ թվում`
E26: 32003 | F26: Թեթև կոնստրուկցիաներով մարզադահլիճների հիմնում | G26: =+G28 -> -93026.5 | H26: =+H28 -> -93026.6
F27: այդ թվում` ըստ կատարողների
F28: ՀՀ կրթության, գիտության, մշակույթի և սպորտի նախարարություն | G28: =+G30 -> -93026.5 | H28: =+H30 -> -93026.6
F29: այդ թվում՝ բյուջետային ծախսերի տնտեսագիտական դասակարգման հոդվածներ
F30: ԸՆԴԱՄԵՆԸ ԾԱԽՍԵՐ | G30: =+G31 -> -93026.5 | H30: =+H31 -> -93026.6
F31: ՈՉ ՖԻՆԱՆՍԱԿԱՆ ԱԿՏԻՎՆԵՐԻ ԳԾՈՎ ԾԱԽՍԵՐ | G31: =+G32 -> -93026.5 | H31: =+H32 -> -93026.6
F32: ՀԻՄՆԱԿԱՆ ՄԻՋՈՑՆԵՐ | G32: =+G33 -> -93026.5 | H32: =+H33 -> -93026.6
F33: ՇԵՆՔԵՐ ԵՎ ՇԻՆՈՒԹՅՈՒՆՆԵՐ | G33: =+G34 -> -93026.5 | H33: =+H34 -> -93026.6
F34: - Շենքերի և շինությունների շինարարություն | G34: =+'Հավելված N 4'!E102 -> -93026.5 | H34: =+'Հավելված N 4'!F102 -> -93026.6
E35: 32006 | F35: Ֆուտբոլի ենթակառուցվածքների զարգացման նպատակով մարզադաշտերի և մարզադպրոցների կառուցում | G35: =+G37 -> 0 | H35: =+H37 -> -200000
F36: այդ թվում` ըստ կատարողների
F37: ՀՀ քաղաքաշինության կոմիտե | G37: =+G39 -> 0 | H37: =+H39 -> -200000
F38: այդ թվում՝ բյուջետային ծախսերի տնտեսագիտական դասակարգման հոդվածներ
F39: ԸՆԴԱՄԵՆԸ ԾԱԽՍԵՐ | G39: =+G40 -> 0 | H39: =+H40 -> -200000
F40: ՈՉ ՖԻՆԱՆՍԱԿԱՆ ԱԿՏԻՎՆԵՐԻ ԳԾՈՎ ԾԱԽՍԵՐ | G40: =+G41 -> 0 | H40: =+H41 -> -200000
F41: ՀԻՄՆԱԿԱՆ ՄԻՋՈՑՆԵՐ | G41: =+G42 -> 0 | H41: =+H42 -> -200000
F42: ԱՅԼ ՀԻՄՆԱԿԱՆ ՄԻՋՈՑՆԵՐ | G42: =+G43 -> 0 | H42: =+H43 -> -200000
F43: - Նախագծահետազոտական ծախսեր | G43: =+'Հավելված N 4'!E108 -> 0 | H43: =+'Հավելված N 4'!F108 -> -200000
B44: 02 | F44: Մշակութային ծառայություններ | G44: =+G46+G77+G92+G122 -> -81879.3 | H44: =+H46+H77+H92+H122 -> 761254.2
F45: այդ թվում`
C46: 02 | F46: Թանգարաններ և ցուցասրահներ | G46: =+G48 -> 61063.3 | H46: =+H48 -> 61063.3
F47: այդ թվում`
F48: ՀՀ կրթության, գիտության, մշակույթի և սպորտի նախարարություն | G48: =+G50 -> 61063.3 | H48: =+H50 -> 61063.3
F49: այդ թվում`
D50: 1075 | E50: Մշակութային ժառանգության ծրագիր | G50: =+G52+G62 -> 61063.3 | H50: =+H52+H62 -> 61063.3
F51: այդ թվում`
E52: 32008 | F52: Թանգարանների և պատկերասրահների գույքային և տեխնիկական հագեցվածության բարելավում | G52: =+G54 -> 90113.3 | H52: =+H54 -> 90113.3
F53: այդ թվում` ըստ կատարողների
F54: ՀՀ կրթության, գիտության, մշակույթի և սպորտի նախարարություն | G54: =+G56 -> 90113.3 | H54: =+H56 -> 90113.3
F55: այդ թվում՝ բյուջետային ծախսերի տնտեսագիտական դասակարգման հոդվածներ
F56: ԸՆԴԱՄԵՆԸ ԾԱԽՍԵՐ | G56: =+G57 -> 90113.3 | H56: =+H57 -> 90113.3
F57: ԸՆԹԱՑԻԿ ԾԱԽՍԵՐ | G57: =+G58 -> 90113.3 | H57: =+H58 -> 90113.3
F58: ԴՐԱՄԱՇՆՈՐՀՆԵՐ | G58: =+G59 -> 90113.3 | H58: =+H59 -> 90113.3
F59: ԿԱՊԻՏԱԼ ԴՐԱՄԱՇՆՈՐՀՆԵՐ ՊԵՏԱԿԱՆ ՀԱՏՎԱԾԻ ԱՅԼ ՄԱԿԱՐԴԱԿՆԵՐԻՆ | G59: =+G60+G61 -> 90113.3 | H59: =+H60+H61 -> 90113.3
F60: - Կապիտալ դրամաշնորհներ պետական և համայնքային ոչ առևտրային կազմակերպություններին | G60: =+H60 -> 13920 | H60: =+'Հավելված N 5'!G23 -> 13920
F61: - Այլ կապիտալ դրամաշնորհներ | G61: =+H61 -> 76193.3 | H61: =+'Հավելված N 5'!G22 -> 76193.3
E62: 32012 | F62: Թանգարանների համար նոր շենքերի կառուցում | G62: =+G64 -> -29050 | H62: =+H64 -> -29050
F63: այդ թվում` ըստ կատարողների
F64: ՀՀ կրթության, գիտության, մշակույթի և սպորտի նախարարություն | G64: =+G66 -> -29050 | H64: =+H66 -> -29050
F65: այդ թվում՝ բյուջետային ծախսերի տնտեսագիտական դասակարգման հոդվածներ
F66: ԸՆԴԱՄԵՆԸ ԾԱԽՍԵՐ | G66: =+G67+G73 -> -29050 | H66: =+H67+H73 -> -29050
F67: ԸՆԹԱՑԻԿ ԾԱԽՍԵՐ | G67: =+G68+G71 -> -30010 | H67: =+H68+H71 -> -30010
F68: ԾԱՌԱՅՈՒԹՅՈՒՆՆԵՐԻ ԵՎ ԱՊՐԱՆՔՆԵՐԻ ՁԵՌՔ ԲԵՐՈՒՄ | G68: =+G69 -> -960 | H68: =+H69 -> -960
F69: ԱՅԼ ՄԱՍՆԱԳԻՏԱԿԱՆ ԾԱՌԱՅՈՒԹՅՈՒՆՆԵՐԻ ՁԵՌՔ ԲԵՐՈՒՄ | G69: =+G70 -> -960 | H69: =+H70 -> -960
F70: - Մասնագիտական ծառայություններ | G70: -960 | H70: -960
F71: ԱՅԼ ԾԱԽՍԵՐ | G71: =+G72 -> -29050 | H71: =+H72 -> -29050
F72: Հարկեր, պարտադիր վճարներ և տույժեր, որոնք կառավարման տարբեր մակարդակների կողմից կիրառվում են միմյանց նկատմամբ | G72: -29050 | H72: -29050
F73: ՈՉ ՖԻՆԱՆՍԱԿԱՆ ԱԿՏԻՎՆԵՐԻ ԳԾՈՎ ԾԱԽՍԵՐ | G73: =+G74 -> 960 | H73: =+H74 -> 960
F74: ՀԻՄՆԱԿԱՆ ՄԻՋՈՑՆԵՐ | G74: =+G75 -> 960 | H74: =+H75 -> 960
F75: ԱՅԼ ՀԻՄՆԱԿԱՆ ՄԻՋՈՑՆԵՐ | G75: =+G76 -> 960 | H75: =+H76 -> 960
F76: - Նախագծահետազոտական ծախսեր | G76: =+'Հավելված N 4'!E59 -> 960 | H76: =+'Հավելված N 4'!F59 -> 960
C77: 03 | F77: Մշակույթի տներ, ակումբներ, կենտրոններ | G77: =+G79 -> 9499.2 | H77: =+H79 -> 47495.9
F78: այդ թվում`
F79: ՀՀ կրթության, գիտության, մշակույթի և սպորտի նախարարություն | G79: =+G81 -> 9499.2 | H79: =+H81 -> 47495.9
F80: այդ թվում`
D81: 1196 | E81: Մարզերի մշակութային զարգացման ծրագիր | G81: =+G83 -> 9499.2 | H81: =+H83 -> 47495.9
F82: այդ թվում`
E83: 12001 | F83: Աջակցություն համայնքներին մշակութային հաստատությունների շենքային պայմանների բարելավման համար | G83: =+G85 -> 9499.2 | H83: =+H85 -> 47495.9
F84: այդ թվում` ըստ կատարողների
F85: ՀՀ կրթության, գիտության, մշակույթի և սպորտի նախարարություն | G85: =+G87 -> 9499.2 | H85: =+H87 -> 47495.9
F86: այդ թվում՝ բյուջետային ծախսերի տնտեսագիտական դասակարգման հոդվածներ
F87: ԸՆԴԱՄԵՆԸ ԾԱԽՍԵՐ | G87: =+G88 -> 9499.2 | H87: =+H88 -> 47495.9
F88: ՈՉ ՖԻՆԱՆՍԱԿԱՆ ԱԿՏԻՎՆԵՐԻ ԳԾՈՎ ԾԱԽՍԵՐ | G88: =+G89 -> 9499.2 | H88: =+H89 -> 47495.9
F89: ՀԻՄՆԱԿԱՆ ՄԻՋՈՑՆԵՐ | G89: =+G90 -> 9499.2 | H89: =+H90 -> 47495.9
F90: ՇԵՆՔԵՐ ԵՎ ՇԻՆՈՒԹՅՈՒՆՆԵՐ | G90: =+G91 -> 9499.2 | H90: =+H91 -> 47495.9
F91: - Շենքերի և շինությունների կապիտալ վերանորոգում | G91: =+'Հավելված N 4'!E153 -> 9499.2 | H91: =+'Հավելված N 4'!F153 -> 47495.9
C92: 05 | F92: Արվեստ | G92: =+G94 -> -171579 | H92: =+H94 -> 692111.3
F93: այդ թվում`
F94: ՀՀ կրթության, գիտության, մշակույթի և սպորտի նախարարություն | G94: =+G96 -> -171579 | H94: =+H96 -> 692111.3
F95: այդ թվում`
D96: 1168 | E96: Արվեստների ծրագիր | G96: =+G98+G113 -> -171579 | H96: =+H98+H113 -> 692111.3
F97: այդ թվում`
E98: 32001 | F98: Ներդրումներ թատրոնների և համերգային կազմակերպությունների շենքերի կապիտալ վերանորոգման համար | G98: =+G100 -> -171579 | H98: =+H100 -> -111991.1
F99: այդ թվում` ըստ կատարողների
F100: ՀՀ կրթության, գիտության, մշակույթի և սպորտի նախարարություն | G100: =+G102 -> -171579 | H100: =+H102 -> -111991.1
F101: այդ թվում՝ բյուջետային ծախսերի տնտեսագիտական դասակարգման հոդվածներ
F102: ԸՆԴԱՄԵՆԸ ԾԱԽՍԵՐ | G102: =+G103+G107 -> -171579 | H102: =+H103+H107 -> -111991.1
F103: ԸՆԹԱՑԻԿ ԾԱԽՍԵՐ | G103: =+G104 -> 16049.3 | H103: =+H104 -> 16049.3
F104: ԴՐԱՄԱՇՆՈՐՀՆԵՐ | G104: =+G105 -> 16049.3 | H104: =+H105 -> 16049.3
F105: ԿԱՊԻՏԱԼ ԴՐԱՄԱՇՆՈՐՀՆԵՐ ՊԵՏԱԿԱՆ ՀԱՏՎԱԾԻ ԱՅԼ ՄԱԿԱՐԴԱԿՆԵՐԻՆ | G105: =+G106 -> 16049.3 | H105: =+H106 -> 16049.3
...

Sheet Հավելված N 3
F1: Հավելված N 3
F2: ՀՀ կառավարության 2025 թվականի
F3: ______________ ի ___Ն որոշման
A5: «ՀԱՅԱUՏԱՆԻ ՀԱՆՐԱՊԵՏՈՒԹՅԱՆ 2025 ԹՎԱԿԱՆԻ ՊԵՏԱԿԱՆ ԲՅՈՒՋԵԻ ՄԱUԻՆ» ՀԱՅԱUՏԱՆԻ ՀԱՆՐԱՊԵՏՈՒԹՅԱՆ OՐԵՆՔԻ N 1 ՀԱՎԵԼՎԱԾԻ N 3 ԱՂՅՈՒՍԱԿՈՒՄ ԿԱՏԱՐՎՈՂ ՓՈՓՈԽՈՒԹՅՈՒՆՆԵՐԸ ԵՎ ԼՐԱՑՈՒՄՆԵՐԸ
G8: հազ. դրամներով
A9: Ծրագրային դասիչ | C9: Բյուջետային գլխավոր կարգադրիչների, ծրագրերի, միջոցառումների, միջոցառումները կատարող պետական մարմինների և ուղղությունների անվանումները | D9: Ընդամենը | E9: Ցուցանիշների փոփոխությունը (ավելացումները նշված են դրական նշանով, իսկ նվազեցումները՝ փակագծերում)
A10: Ծրագիր | B10: Միջոցառում | E10: Կառուցման աշխատանքներ | F10: Վերակառուցման, վերանորոգման և վերականգնման աշխատանքներ | G10: Նախագծահե- տազոտական, գեոդեզիա- քարտեզագրա- կան աշխա- տանքներ | H10: Ոչ ֆինանսական այլ ակտիվների ձեռքբերում
C11: ԸՆԴԱՄԵՆԸ | D11: =SUM(E11:H11) -> 12622143 | E11: =+E13 -> 2973624.6 | F11: =+F13 -> 8955073.1 | G11: =+G13 -> -115006.2 | H11: =+H13 -> 808451.9
C12: այդ թվում՝
C13: ՀՀ ԿՐԹՈՒԹՅԱՆ, ԳԻՏՈՒԹՅԱՆ, ՄՇԱԿՈՒՅԹԻ ԵՎ ՍՊՈՐՏԻ ՆԱԽԱՐԱՐՈՒԹՅՈՒՆ | D13: =SUM(E13:H13) -> 12622143 | E13: =+E15+E23+E31+E49+E53+E54+E58+E63+E79+E83+E87+E94+E103+E109+E113+E116+E120+E131+E162+E167+E208 -> 2973624.6 | F13: =+F15+F23+F31+F49+F53+F54+F58+F63+F79+F83+F87+F94+F103+F109+F113+F116+F120+F131+F162+F167+F208 -> 8955073.1 | G13: =+G15+G23+G31+G49+G53+G54+G58+G63+G79+G83+G87+G94+G103+G109+G113+G116+G120+G131+G162+G167+G208 -> -115006.2 | H13: =+H15+H23+H31+H49+H53+H54+H58+H63+H79+H83+H87+H94+H103+H109+H113+H116+H120+H131+H162+H167+H208 -> 808451.9
C14: այդ թվում`
A15: 1045 | B15: 32001 | C15: Մասնագիտական ուսումնական հաստատությունների շենքային պայմանների բարելավում | D15: =SUM(E15:H15) -> -207565 | E15: =+E17+E19+E21 -> 0 | F15: =+F17+F19+F21 -> -207565 | G15: =+G17+G19+G21 -> 0 | H15: =+H17+H19+H21 -> 0
C16: այդ թվում`
C17: ՀՀ Արարատի մարզ | D17: =SUM(E17:H17) -> -100000 | E17: =+E18 -> 0 | F17: =+F18 -> -100000 | G17: =+G18 -> 0 | H17: =+H18 -> 0
C18: «Մասիսի պետական գյուղատնտեսական քոլեջ» ՊՈԱԿ | D18: =+E18+F18+G18+H18 -> -100000 | F18: =+'Հավելված N 8'!I209 -> -100000
C19: ՀՀ Գեղարքունիքի մարզ | D19: =SUM(E19:H19) -> -53096.5 | E19: =+E20 -> 0 | F19: =+F20 -> -53096.5 | G19: =+G20 -> 0 | H19: =+H20 -> 0
C20: «Գավառի պետական բժշկական քոլեջ» ՊՈԱԿ | D20: =+E20+F20+G20+H20 -> -53096.5 | F20: =+'Հավելված N 8'!I140+'Հավելված N 8'!I143+'Հավելված N 8'!I145 -> -53096.5
C21: ՀՀ Շիրակի մարզ | D21: =SUM(E21:H21) -> -54468.5 | E21: =+E22 -> 0 | F21: =+F22 -> -54468.5 | G21: =+G22 -> 0 | H21: =+H22 -> 0
C22: «Գյումրու պետական բժշկական քոլեջ» ՊՈԱԿ | D22: =+E22+F22+G22+H22 -> -54468.5 | F22: =+'Հավելված N 8'!I141+'Հավելված N 8'!I144+'Հավելված N 8'!I146 -> -54468.5
A23: 1045 | B23: 32005 | C23: Մասնագիտական ուսումնական հաստատությունների շենքերի կառուցում | D23: =SUM(E23:H23) -> -261132.3 | E23: =+E25+E27+E29 -> -261132.3 | F23: =+F25+F27+F29 -> 0 | G23: =+G25+G27+G29 -> 0 | H23: =+H25+H27+H29 -> 0
C24: այդ թվում`
C25: ՀՀ Լոռու մարզ | D25: =SUM(E25:H25) -> -103600 | E25: =+E26 -> -103600 | F25: =+F26 -> 0 | G25: =+G26 -> 0 | H25: =+H26 -> 0
C26: «Ստեփանավանի պրոֆ. Քալանթարի անվան պետական գյուղատնտեսական քոլեջ» ՊՈԱԿ | D26: =+E26+F26+G26+H26 -> -103600 | E26: =+'Հավելված N 8'!I212+'Հավելված N 8'!I216+'Հավելված N 8'!I219 -> -103600
C27: ՀՀ Սյունիքի մարզ | D27: =SUM(E27:H27) -> -103932.3 | E27: =+E28 -> -103932.3 | F27: =+F28 -> 0 | G27: =+G28 -> 0 | H27: =+H28 -> 0
C28: «Գորիսի պրոֆեսոր Խ. Երիցյանի անվան պետական գյուղատնտեսական քոլեջ» ՊՈԱԿ | D28: =+E28+F28+G28+H28 -> -103932.3 | E28: =+'Հավելված N 8'!I213+'Հավելված N 8'!I217+'Հավելված N 8'!I220 -> -103932.3
C29: ՀՀ Տավուշի մարզ | D29: =SUM(E29:H29) -> -53600 | E29: =+E30 -> -53600 | F29: =+F30 -> 0 | G29: =+G30 -> 0 | H29: =+H30 -> 0
C30: «Նոյեմբերյանի պետական քոլեջ» ՊՈԱԿ | D30: =+E30+F30+G30+H30 -> -53600 | E30: =+'Հավելված N 8'!I214+'Հավելված N 8'!I218+'Հավելված N 8'!I221 -> -53600
A31: 1075 | B31: 21001 | C31: Հուշարձանների ամրակայում, նորոգում և վերականգնում | D31: =SUM(E31:H31) -> -111367 | E31: =+E33+E41 -> 0 | F31: =+F33+F41 -> -82692 | G31: =+G33+G41 -> -28675 | H31: =+H33+H41 -> 0
C32: այդ թվում`
C33: 1. Վերականգնողական աշխատանքներ | D33: =SUM(E33:H33) -> -82692 | E33: =+E35+E37+E39 -> 0 | F33: =+F35+F37+F39 -> -82692 | G33: =+G35+G37+G39 -> 0 | H33: =+H35+H37+H39 -> 0
C34: որից`
C35: ՀՀ Գեղարքունիքի մարզ | D35: =SUM(E35:H35) -> -20686 | E35: =+E36 -> 0 | F35: =+F36 -> -20686 | G35: =+G36 -> 0 | H35: =+H36 -> 0
C36: Բերդկունքի Սպիտակ բերդի նորոգում, ամրակայում և վերականգնում | D36: =+E36+F36+G36+H36 -> -20686 | F36: =+'Հավելված N 8'!I61+'Հավելված N 8'!I65+'Հավելված N 8'!I68 -> -20686
C37: ՀՀ Լոռու մարզ | D37: =SUM(E37:H37) -> -20660 | E37: =+E38 -> 0 | F37: =+F38 -> -20660 | G37: =+G38 -> 0 | H37: =+H38 -> 0
C38: Ալավերդի համայնքի Կաճաճկուտ բնակավայրի Սեդվի վանական համալիրի փլուզված եռահարկ աշտարակի նորոգում, ամրակայում, վերականգնում և տարածքի բարեկարգում | D38: =+E38+F38+G38+H38 -> -20660 | F38: =+'Հավելված N 8'!I62+'Հավելված N 8'!I66+'Հավելված N 8'!I69 -> -20660
C39: ՀՀ Վայոց Ձորի մարզ | D39: =SUM(E39:H39) -> -41346 | E39: =+E40 -> 0 | F39: =+F40 -> -41346 | G39: =+G40 -> 0 | H39: =+H40 -> 0
C40: Հորսի իշխան Չեսար Օրբելյանի ապարանքի ամրակայում, նորոգում, վերականգնում | D40: =+E40+F40+G40+H40 -> -41346 | F40: =+'Հավելված N 8'!I63+'Հավելված N 8'!I67+'Հավելված N 8'!I70 -> -41346
C41: 2. Վավերագրման և ուսումնասիրման աշխատանքներ, (այդ թվում՝ հետախուզումև պեղում), գիտանախագծային փաստաթղթերի կազմում և փորձաքննում | D41: =SUM(E41:H41) -> -28675 | E41: =+E43+E45+E47 -> 0 | F41: =+F43+F45+F47 -> 0 | G41: =+G43+G45+G47 -> -28675 | H41: =+H43+H45+H47 -> 0
C42: որից`
C43: ՀՀ Արմավիրի մարզ | D43: =SUM(E43:H43) -> -15000 | E43: =+E44 -> 0 | F43: =+F44 -> 0 | G43: =+G44 -> -15000 | H43: =+H44 -> 0
C44: Պատմական Երվանդաշատ մայրաքաղաքի հնագիտական գեոռադարային ուսումնասիրություն | D44: =+E44+F44+G44+H44 -> -15000 | G44: =+'Հավելված N 8'!I75 -> -15000
C45: ՀՀ Սյունիքի մարզ | D45: =SUM(E45:H45) -> -5500 | E45: =+E46 -> 0 | F45: =+F46 -> 0 | G45: =+G46 -> -5500 | H45: =+H46 -> 0
C46: Հալիձոր բերդի համալիրի ամրակայման, նորոգման և վերականգնման գիտանախագծային փաստաթղթեր | D46: =+E46+F46+G46+H46 -> -5500 | G46: =+'Հավելված N 8'!I71+'Հավելված N 8'!I73 -> -5500
C47: ՀՀ Վայոց Ձորի մարզ | D47: =SUM(E47:H47) -> -8175 | E47: =+E48 -> 0 | F47: =+F48 -> 0 | G47: =+G48 -> -8175 | H47: =+H48 -> 0
C48: Կավարտ գյուղի հունական եկեղեցու ամրակայման, նորոգման և վերականգնման գիտանախագծային փաստաթղթեր | D48: =+E48+F48+G48+H48 -> -8175 | G48: =+'Հավելված N 8'!I72+'Հավելված N 8'!I74 -> -8175
A49: 1075 | B49: 32012 | C49: Թանգարանների համար նոր շենքերի կառուցում | D49: =SUM(E49:H49) -> 960 | E49: =+E51 -> 0 | F49: =+F51 -> 0 | G49: =+G51 -> 960 | H49: =+H51 -> 0
C50: այդ թվում`
C51: Երևան քաղաք | D51: =SUM(E51:H51) -> 960 | E51: =+E52 -> 0 | F51: =+F52 -> 0 | G51: =+G52 -> 960 | H51: =+H52 -> 0
C52: «Հ. Թումանյանի թանգարան» ՊՈԱԿ | D52: =+E52+F52+G52+H52 -> 960 | G52: =+'Հավելված N 8'!I24 -> 960
A53: 1130 | B53: 31001 | C53: ՀՀ կրթության, գիտության, մշակույթի և սպորտի նախարարության կարողությունների զարգացում և տեխնիկական հագեցվածության ապահովում | D53: =SUM(E53:H53) -> 5040 | E53: 0 | F53: 0 | G53: 0 | H53: =+'Հավելված N 8'!I161 -> 5040
A54: 1148 | B54: 32005 | C54: Արտադպրոցական դաստիարակություն իրականացնող կազմակերպությունների շենքային պայմանների բարելավում | D54: =SUM(E54:H54) -> 12274.5 | E54: =+E56 -> 0 | F54: =+F56 -> 0 | G54: =+G56 -> 12274.5 | H54: =+H56 -> 0
C55: այդ թվում`
C56: Երևան քաղաք | D56: =SUM(E56:H56) -> 12274.5 | E56: =+E57 -> 0 | F56: =+F57 -> 0 | G56: =+G57 -> 12274.5 | H56: =+H57 -> 0
C57: «Տիգրան Պետրոսյանի անվան շախմատի-տուն մարզադպրոց» ՊՈԱԿ | D57: =+E57+F57+G57+H57 -> 12274.5 | G57: =+'Հավելված N 8'!I135+'Հավելված N 8'!I136 -> 12274.5
A58: 1163 | B58: 12001 | C58: Աջակցություն համայնքներին մարզական հաստատությունների շենքային պայմանների բարելավման համար | D58: =SUM(E58:H58) -> -550936.9 | E58: =+E60 -> -567074.9 | F58: =+F60 -> 0 | G58: =+G60 -> 16138 | H58: =+H60 -> 0
C59: այդ թվում`
C60: ՀՀ Շիրակի մարզ | D60: =SUM(E60:H60) -> -550936.9 | E60: =+E61+E62 -> -567074.9 | F60: =+F61+F62 -> 0 | G60: =+G61+G62 -> 16138 | H60: =+H61+H62 -> 0
C61: Անի համայնքի Մարալիկ քաղաքի մարզադաշտ | D61: =+E61+F61+G61+H61 -> 16138 | G61: =+'Հավելված N 8'!I149+'Հավելված N 8'!I150 -> 16138
C62: Արթուր Ալեքսանյանի անվան նոր սպորտային համալիր | D62: =+E62+F62+G62+H62 -> -567074.9 | E62: =+'Հավելված N 8'!I224+'Հավելված N 8'!I226+'Հավելված N 8'!I227 -> -567074.9
A63: 1163 | B63: 32001 | C63: Մարզական օբյեկտների շինարարություն | D63: =SUM(E63:H63) -> -621286.8 | E63: =+E65+E68+E71+E73+E75+E77 -> -648149.2 | F63: =+F65+F68+F71+F73+F75+F77 -> 0 | G63: =+G65+G68+G71+G73+G75+G77 -> 26862.4 | H63: =+H65+H68+H71+H73+H75+H77 -> 0
C64: այդ թվում`
C65: Երևան քաղաք | D65: =SUM(E65:H65) -> -168674.6 | E65: =+E66+E67 -> -168674.6 | F65: =+F66+F67 -> 0 | G65: =+G66+G67 -> 0 | H65: =+H66+H67 -> 0
C66: Արթուր Աբրահամի անվան մարզահամալիր | D66: =+E66+F66+G66+H66 -> -103600 | E66: =+'Հավելված N 8'!I230+'Հավելված N 8'!I236+'Հավելված N 8'!I241 -> -103600
C67: «Երևանի օլիմպիական հերթափոխի պետական մարզական քոլեջ» ՊՈԱԿ (բռնցքամարտի և ձյուդոյի մարզադահլիճ) | D67: =+E67+F67+G67+H67 -> -65074.6 | E67: =+'Հավելված N 8'!I231+'Հավելված N 8'!I237+'Հավելված N 8'!I242 -> -65074.6
C68: ՀՀ Արագածոտնի մարզ | D68: =SUM(E68:H68) -> -60829.1 | E68: =+E69+E70 -> -65074.6 | F68: =+F69+F70 -> 0 | G68: =+G69+G70 -> 4245.5 | H68: =+H69+H70 -> 0
C69: Ալագյազ համայնքում Մալխաս և Ռոման Ամոյանների անվան նոր մարզադպրոց | D69: =+E69+F69+G69+H69 -> -65074.6 | E69: =+'Հավելված N 8'!I232+'Հավելված N 8'!I238+'Հավելված N 8'!I243 -> -65074.6
C70: Մարզական համալիր Աշտարակում | D70: =+E70+F70+G70+H70 -> 4245.5 | G70: =+'Հավելված N 8'!I249+'Հավելված N 8'!I253 -> 4245.5
C71: ՀՀ Արարատի մարզ | D71: =SUM(E71:H71) -> 9185.7 | E71: =+E72 -> 0 | F71: =+F72 -> 0 | G71: =+G72 -> 9185.7 | H71: =+H72 -> 0
C72: Մարզական համալիր Արարատում | D72: =+E72+F72+G72+H72 -> 9185.7 | G72: =+'Հավելված N 8'!I246+'Հավելված N 8'!I250 -> 9185.7
C73: ՀՀ Արմավիրի մարզ | D73: =SUM(E73:H73) -> 4245.5 | E73: =+E74 -> 0 | F73: =+F74 -> 0 | G73: =+G74 -> 4245.5 | H73: =+H74 -> 0
C74: Մարզական համալիր Արմավիրում | D74: =+E74+F74+G74+H74 -> 4245.5 | G74: =+'Հավելված N 8'!I248+'Հավելված N 8'!I252 -> 4245.5
C75: ՀՀ Վայոց Ձորի մարզ | D75: =SUM(E75:H75) -> -198014.3 | E75: =+E76 -> -207200 | F75: =+F76 -> 0 | G75: =+G76 -> 9185.7 | H75: =+H76 -> 0
C76: Մարզական համալիր Եղեգնաձորում | D76: =+E76+F76+G76+H76 -> -198014.3 | E76: =+'Հավելված N 8'!I233+'Հավելված N 8'!I239+'Հավելված N 8'!I244 -> -207200 | G76: =+'Հավելված N 8'!I247+'Հավելված N 8'!I251 -> 9185.7
C77: ՀՀ Տավուշի մարզ | D77: =SUM(E77:H77) -> -207200 | E77: =+E78 -> -207200 | F77: =+F78 -> 0 | G77: =+G78 -> 0 | H77: =+H78 -> 0
C78: Մարզական համալիր Բերդում | D78: =+E78+F78+G78+H78 -> -207200 | E78: =+'Հավելված N 8'!I234+'Հավելված N 8'!I240+'Հավելված N 8'!I245 -> -207200
A79: 1163 | B79: 32003 | C79: Թեթև կոնստրուկցիաներով մարզադահլիճների հիմնում | D79: =SUM(E79:H79) -> -93026.6 | E79: =+E81 -> -93026.6 | F79: =+F81 -> 0 | G79: =+G81 -> 0 | H79: =+H81 -> 0
C80: այդ թվում`
C81: ՀՀ Կոտայքի մարզ | D81: =SUM(E81:H81) -> -93026.6 | E81: =+E82 -> -93026.6 | F81: =+F82 -> 0 | G81: =+G82 -> 0 | H81: =+H82 -> 0
C82: ՀՀ Կոտայքի մարզի Նաիրի համայնքում Զովունի գյուղում թեթև կոնստրուկցիաներով մարզադահլիճ | D82: =+E82+F82+G82+H82 -> -93026.6 | E82: =+'Հավելված N 8'!I17+'Հավելված N 8'!I19+'Հավելված N 8'!I20 -> -93026.6
A83: 1163 | B83: 32006 | C83: Ֆուտբոլի ենթակառուցվածքների զարգացման նպատակով մարզադաշտերի և մարզադպրոցների կառուցում | D83: =SUM(E83:H83) -> -200000 | E83: =+E85 -> 0 | F83: =+F85 -> 0 | G83: =+G85 -> -200000 | H83: =+H85 -> 0
C84: այդ թվում`
C85: ՀՀ Տավուշի մարզ | D85: =SUM(E85:H85) -> -200000 | E85: =+E86 -> 0 | F85: =+F86 -> 0 | G85: =+G86 -> -200000 | H85: =+H86 -> 0
C86: Ֆուտբոլի մարզադաշտ Իջևանում ՈՒԵՖԱ ստանդարտներով | D86: =+E86+F86+G86+H86 -> -200000 | G86: =+'Հավելված N 8'!I168+'Հավելված N 8'!I169 -> -200000
A87: 1168 | B87: 32001 | C87: Ներդրումներ թատրոնների և համերգային կազմակերպությունների շենքերի կապիտալ վերանորոգման համար | D87: =SUM(E87:H87) -> -128040.4 | E87: =+E89+E92 -> 0 | F87: =+F89+F92 -> -148040.4 | G87: =+G89+G92 -> 20000 | H87: =+H89+H92 -> 0
C88: այդ թվում`
C89: Երևան քաղաք | D89: =SUM(E89:H89) -> -42640.4 | E89: =+E90+E91 -> 0 | F89: =+F90+F91 -> -62640.4 | G89: =+G90+G91 -> 20000 | H89: =+H90+H91 -> 0
C90: «Հայաստանի պետական սիմֆոնիկ նվագախումբ» ՊՈԱԿ | D90: =+E90+F90+G90+H90 -> -62640.4 | F90: =+'Հավելված N 8'!I35+'Հավելված N 8'!I38+'Հավելված N 8'!I40 -> -62640.4 | I90: 4300
C91: Ա. Սպենդիարյանի անվան օպերայի և բալետի ազգային ակադեմիական թատրոնի և «Ա. Խաչատրյան» համերգասրահի ինժեներական ենթակառուցվածքների և տանիքի հիմնանորոգում | D91: =+E91+F91+G91+H91 -> 20000 | G91: =+'Հավելված N 8'!I42 -> 20000
C92: ՀՀ Սյունիքի մարզ | D92: =SUM(E92:H92) -> -85400 | E92: =+E93 -> 0 | F92: =+F93 -> -85400 | G92: =+G93 -> 0 | H92: =+H93 -> 0
C93: «Գորիսի Վ․Վաղարշյանի անվան դրամատիկական թատրոն» ՊՈԱԿ | D93: =+E93+F93+G93+H93 -> -85400 | F93: =+'Հավելված N 8'!I36+'Հավելված N 8'!I39+'Հավելված N 8'!I41 -> -85400
A94: 1168 | B94: 32007 | C94: Թատերահամերգային կազմակերպությունների նյութատեխնիկական բազայի համալրում | D94: =SUM(E94:H94) -> 804102.4 | E94: =+E96 -> 0 | F94: =+F96 -> 0 | G94: =+G96 -> 0 | H94: =+H96 -> 804102.4
C95: այդ թվում`
C96: Երևան քաղաք | D96: =SUM(E96:H96) -> 804102.4 | E96: =SUM(E97:E102) -> 0 | F96: =SUM(F97:F102) -> 0 | G96: =SUM(G97:G102) -> 0 | H96: =SUM(H97:H102) -> 804102.4
C97: «Հայաստանի ազգային ֆիլհարմոնիկ նվագախումբ» ՊՈԱԿ («Արամ Խաչատրյան» համերգասրահ) | D97: =+E97+F97+G97+H97 -> 476902.1 | H97: =+'Հավելված N 8'!I45+'Հավելված N 8'!I46 -> 476902.1
C98: «Գ. Սունդուկյանի անվան ազգային թատրոն» ՊՈԱԿ | D98: =+E98+F98+G98+H98 -> 61860 | H98: =+'Հավելված N 8'!I47+'Հավելված N 8'!I48 -> 61860
C99: «Երևանի կամերային պետական թատրոն» ՊՈԱԿ | D99: =+E99+F99+G99+H99 -> 8144.9 | H99: =+'Հավելված N 8'!I49+'Հավելված N 8'!I50+'Հավելված N 8'!I51+'Հավելված N 8'!I52 -> 8144.9
C100: «Արտաշատի Ա. Խարազյանի անվան պետական դրամատիկական թատրոն» ՊՈԱԿ | D100: =+E100+F100+G100+H100 -> 102326.6 | H100: =+'Հավելված N 8'!I53+'Հավելված N 8'!I54 -> 102326.6
C101: «Գյումրու Վ. Աճեմյանի անվան պետական դրամատիկական թատրոն» ՊՈԱԿ | D101: =+E101+F101+G101+H101 -> 137138.8 | H101: =+'Հավելված N 8'!I55+'Հավելված N 8'!I56 -> 137138.8
C102: «Սոս Սարգսյանի անվան համազգային թատրոն» ՊՈԱԿ | D102: =+E102+F102+G102+H102 -> 17730 | H102: =+'Հավելված N 8'!I57 -> 17730
A103: 1183 | B103: 32001 | C103: Կրթական օբյեկտների շենքային պայմանների բարելավում | D103: =SUM(E103:H103) -> 111856.9 | E103: =+E105+E107 -> 0 | F103: =+F105+F107 -> 100325.9 | G103: =+G105+G107 -> 11531 | H103: =+H105+H107 -> 0
...

Sheet Հավելված N 4
E1: Հավելված N 4
D2: ՀՀ կառավարության 2025 թվականի
E3: ______________ ի ___Ն որոշման
B6: ՀԱՅԱՍՏԱՆԻ ՀԱՆՐԱՊԵՏՈՒԹՅԱՆ ԿԱՌԱՎԱՐՈՒԹՅԱՆ 2024 ԹՎԱԿԱՆԻ ԴԵԿՏԵՄԲԵՐԻ 27-Ի N 2060-Ն ՈՐՈՇՄԱՆ N 5 ՀԱՎԵԼՎԱԾԻ N 2 ԱՂՅՈՒՍԱԿՈՒՄ ԿԱՏԱՐՎՈՂ ՓՈՓՈԽՈՒԹՅՈՒՆՆԵՐԸ ԵՎ ԼՐԱՑՈՒՄՆԵՐԸ
F8: հազ. դրամներով
B9: Ծրագրային դասիչ | D9: Բյուջետային գլխավոր կարգադրիչների, ծրագրերի, միջոցառումների, միջոցառումները կատարող պետական մարմինների և ուղղությունների անվանումները | E9: Ցուցանիշների փոփոխությունը (ավելացումները նշված են դրական նշանով, իսկ նվազեցումները՝ փակագծերում)
B10: Ծրագիր | C10: Միջոցառում | E10: Ինն ամիս | F10: Տարի
D11: ՀՀ ԿՐԹՈՒԹՅԱՆ, ԳԻՏՈՒԹՅԱՆ, ՄՇԱԿՈՒՅԹԻ ԵՎ ՍՊՈՐՏԻ ՆԱԽԱՐԱՐՈՒԹՅՈՒՆ | E11: =+E13+E25+E37+E57+E63+E66+E72+E82+E100+E106+E112+E121+E132+E142+E148+E151+E157+E172+E213+E223+E266 -> 1929281.3 | F11: =+F13+F25+F37+F57+F63+F66+F72+F82+F100+F106+F112+F121+F132+F142+F148+F151+F157+F172+F213+F223+F266 -> 12622143
D12: այդ թվում՝
B13: 1045 | C13: 32001 | D13: Մասնագիտական ուսումնական հաստատությունների շենքային պայմանների բարելավում | E13: =+E15+E21 -> -232319.6 | F13: =+F15+F21 -> -207565
D14: այդ թվում` ըստ կատարողների
D15: ՀՀ կրթության, գիտության, մշակույթի և սպորտի նախարարություն | E15: =+E17+E19 -> -145295.6 | F15: =+F17+F19 -> -107565
D16: այդ թվում`ըստ ուղղությունների
D17: ՀՀ Գեղարքունիքի մարզ | E17: =+E18 -> -72167.6 | F17: =+F18 -> -53096.5
D18: =+'Հավելված N 3'!C20 -> «Գավառի պետական բժշկական քոլեջ» ՊՈԱԿ | E18: -72167.6 | F18: =+'Հավելված N 3'!D20 -> -53096.5
D19: ՀՀ Շիրակի մարզ | E19: =+E20 -> -73128 | F19: =+F20 -> -54468.5
D20: =+'Հավելված N 3'!C22 -> «Գյումրու պետական բժշկական քոլեջ» ՊՈԱԿ | E20: -73128 | F20: =+'Հավելված N 3'!D22 -> -54468.5
D21: ՀՀ քաղաքաշինության կոմիտե | E21: =+E23 -> -87024 | F21: =+F23 -> -100000
D22: այդ թվում`ըստ ուղղությունների
D23: ՀՀ Արարատի մարզ | E23: =+E24 -> -87024 | F23: =+F24 -> -100000
D24: =+'Հավելված N 3'!C18 -> «Մասիսի պետական գյուղատնտեսական քոլեջ» ՊՈԱԿ | E24: -87024 | F24: =+'Հավելված N 3'!D18 -> -100000
B25: 1045 | C25: 32005 | D25: Մասնագիտական ուսումնական հաստատությունների շենքերի կառուցում | E25: =+E27 -> -126666.4 | F25: =+F27 -> -261132.3
D26: այդ թվում` ըստ կատարողների
D27: ՀՀ քաղաքաշինության կոմիտե | E27: =+E29+E31+E33+E35 -> -126666.4 | F27: =+F29+F31+F33+F35 -> -261132.3
D28: այդ թվում`ըստ ուղղությունների
D29: ՀՀ Գեղարքունիքի մարզ | E29: =+E30 -> 101519.5 | F29: =+F30 -> 0
D30: «Գավառի ակադեմիկոս Ա. Թամամշևի անվան պետական գյուղատնտեսական քոլեջ» ՊՈԱԿ | E30: 101519.5 | F30: =+'Հավելված N 3'!D24 -> 0
D31: ՀՀ Լոռու մարզ | E31: =+E32 -> -72520 | F31: =+F32 -> -103600
D32: =+'Հավելված N 3'!C26 -> «Ստեփանավանի պրոֆ. Քալանթարի անվան պետական գյուղատնտեսական քոլեջ» ՊՈԱԿ | E32: -72520 | F32: =+'Հավելված N 3'!D26 -> -103600
D33: ՀՀ Սյունիքի մարզ | E33: =+E34 -> -83145.9 | F33: =+F34 -> -103932.3
D34: =+'Հավելված N 3'!C28 -> «Գորիսի պրոֆեսոր Խ. Երիցյանի անվան պետական գյուղատնտեսական քոլեջ» ՊՈԱԿ | E34: =-80000-2633.7-512.2 -> -83145.9 | F34: =+'Հավելված N 3'!D28 -> -103932.3
D35: ՀՀ Տավուշի մարզ | E35: =+E36 -> -72520 | F35: =+F36 -> -53600
D36: =+'Հավելված N 3'!C30 -> «Նոյեմբերյանի պետական քոլեջ» ՊՈԱԿ | E36: -72520 | F36: =+'Հավելված N 3'!D30 -> -53600
B37: 1075 | C37: 21001 | D37: Հուշարձանների ամրակայում, նորոգում և վերականգնում | E37: =+E39 -> -52813.5 | F37: =+F39 -> -111367
D38: այդ թվում` ըստ կատարողների
D39: ՀՀ կրթության, գիտության, մշակույթի և սպորտի նախարարություն | E39: =+E41+E49 -> -52813.5 | F39: =+F41+F49 -> -111367
D40: այդ թվում՝ ըստ ուղղությունների
D41: 1. Վերականգնողական աշխատանքներ | E41: =+E43+E45+E47 -> -37813.5 | F41: =+F43+F45+F47 -> -82692
D42: որից`
D43: ՀՀ Գեղարքունիքի մարզ | E43: =+E44 -> -6658.5 | F43: =+F44 -> -20686
D44: =+'Հավելված N 3'!C36 -> Բերդկունքի Սպիտակ բերդի նորոգում, ամրակայում և վերականգնում | E44: -6658.5 | F44: =+'Հավելված N 3'!D36 -> -20686
D45: ՀՀ Լոռու մարզ | E45: =+E46 -> -10330 | F45: =+F46 -> -20660
D46: =+'Հավելված N 3'!C38 -> Ալավերդի համայնքի Կաճաճկուտ բնակավայրի Սեդվի վանական համալիրի փլուզված եռահարկ աշտարակի նորոգում, ամրակայում, վերականգնում և տարածքի բարեկարգում | E46: -10330 | F46: =+'Հավելված N 3'!D38 -> -20660
D47: ՀՀ Վայոց Ձորի մարզ | E47: =+E48 -> -20825 | F47: =+F48 -> -41346
D48: =+'Հավելված N 3'!C40 -> Հորսի իշխան Չեսար Օրբելյանի ապարանքի ամրակայում, նորոգում, վերականգնում | E48: -20825 | F48: =+'Հավելված N 3'!D40 -> -41346
D49: 2. Վավերագրման և ուսումնասիրման աշխատանքներ, (այդ թվում՝ հետախուզումև պեղում), գիտանախագծային փաստաթղթերի կազմում և փորձաքննում | E49: =+E51+E53+E55 -> -15000 | F49: =+F51+F53+F55 -> -28675
D50: որից`
D51: ՀՀ Արմավիրի մարզ | E51: =+E52 -> -15000 | F51: =+F52 -> -15000
D52: =+'Հավելված N 3'!C44 -> Պատմական Երվանդաշատ մայրաքաղաքի հնագիտական գեոռադարային ուսումնասիրություն | E52: -15000 | F52: =+'Հավելված N 3'!D44 -> -15000
D53: ՀՀ Սյունիքի մարզ | E53: =+E54 -> 0 | F53: =+F54 -> -5500
D54: =+'Հավելված N 3'!C46 -> Հալիձոր բերդի համալիրի ամրակայման, նորոգման և վերականգնման գիտանախագծային փաստաթղթեր | E54: 0 | F54: =+'Հավելված N 3'!D46 -> -5500
D55: ՀՀ Վայոց Ձոր | E55: =+E56 -> 0 | F55: =+F56 -> -8175
D56: =+'Հավելված N 3'!C48 -> Կավարտ գյուղի հունական եկեղեցու ամրակայման, նորոգման և վերականգնման գիտանախագծային փաստաթղթեր | E56: 0 | F56: =+'Հավելված N 3'!D48 -> -8175
B57: 1075 | C57: 32012 | D57: Թանգարանների համար նոր շենքերի կառուցում | E57: =+E59 -> 960 | F57: =+F59 -> 960
D58: այդ թվում` ըստ կատարողների
D59: ՀՀ կրթության, գիտության, մշակույթի և սպորտի նախարարություն | E59: =+E61 -> 960 | F59: =+F61 -> 960
D60: այդ թվում`ըստ ուղղությունների
D61: Երևան քաղաք | E61: =+E62 -> 960 | F61: =+F62 -> 960
D62: =+'Հավելված N 3'!C52 -> «Հ. Թումանյանի թանգարան» ՊՈԱԿ | E62: =+F62 -> 960 | F62: =+'Հավելված N 3'!D52 -> 960
B63: 1130 | C63: 31001 | D63: ՀՀ կրթության, գիտության, մշակույթի և սպորտի նախարարության կարողությունների զարգացում և տեխնիկական հագեցվածության ապահովում | E63: =+E65 -> 0 | F63: =+F65 -> 5040
D64: այդ թվում` ըստ կատարողների
D65: ՀՀ կրթության, գիտության, մշակույթի և սպորտի նախարարություն | E65: 0 | F65: =+'Հավելված N 3'!D53 -> 5040
B66: 1148 | C66: 32005 | D66: Արտադպրոցական դաստիարակություն իրականացնող կազմակերպությունների շենքային պայմանների բարելավում | E66: =+E68 -> 0 | F66: =+F68 -> 12274.5
D67: այդ թվում` ըստ կատարողների
D68: ՀՀ կրթության, գիտության, մշակույթի և սպորտի նախարարություն | E68: =+E70 -> 0 | F68: =+F70 -> 12274.5
D69: այդ թվում`ըստ ուղղությունների
D70: Երևան քաղաք | E70: =+E71 -> 0 | F70: =+F71 -> 12274.5
D71: =+'Հավելված N 3'!C57 -> «Տիգրան Պետրոսյանի անվան շախմատի-տուն մարզադպրոց» ՊՈԱԿ | E71: 0 | F71: =+'Հավելված N 3'!D57 -> 12274.5
B72: 1163 | C72: 12001 | D72: Աջակցություն համայնքներին մարզական հաստատությունների շենքային պայմանների բարելավման համար | E72: =+E74+E78 -> -239793.5 | F72: =+F74+F78 -> -550936.9
D73: այդ թվում` ըստ կատարողների
D74: ՀՀ կրթության, գիտության, մշակույթի և սպորտի նախարարություն | E74: =+E76 -> 0 | F74: =+F76 -> 16138
D75: այդ թվում`ըստ ուղղությունների
D76: ՀՀ Շիրակի մարզ | E76: =+E77 -> 0 | F76: =+F77 -> 16138
D77: =+'Հավելված N 3'!C61 -> Անի համայնքի Մարալիկ քաղաքի մարզադաշտ | E77: 0 | F77: =+'Հավելված N 3'!D61 -> 16138
D78: ՀՀ քաղաքաշինության կոմիտե | E78: =+E80 -> -239793.5 | F78: =+F80 -> -567074.9
D79: այդ թվում`ըստ ուղղությունների
D80: ՀՀ Շիրակի մարզ | E80: =+E81 -> -239793.5 | F80: =+F81 -> -567074.9
D81: =+'Հավելված N 3'!C62 -> Արթուր Ալեքսանյանի անվան նոր սպորտային համալիր | E81: =-239065.7-727.8 -> -239793.5 | F81: =+'Հավելված N 3'!D62 -> -567074.9
B82: 1163 | C82: 32001 | D82: Մարզական օբյեկտների շինարարություն | E82: =+E84 -> -539354.6 | F82: =+F84 -> -621286.8
D83: այդ թվում` ըստ կատարողների
D84: ՀՀ քաղաքաշինության կոմիտե | E84: =+E86+E89+E92+E94+E96+E98 -> -539354.6 | F84: =+F86+F89+F92+F94+F96+F98 -> -621286.8
D85: այդ թվում`ըստ ուղղությունների
D86: Երևան քաղաք | E86: =+E87+E88 -> -204872.2 | F86: =+F87+F88 -> -168674.6
D87: =+'Հավելված N 3'!C66 -> Արթուր Աբրահամի անվան մարզահամալիր | E87: =-120000-3600-720 -> -124320 | F87: =+'Հավելված N 3'!D66 -> -103600
D88: =+'Հավելված N 3'!C67 -> «Երևանի օլիմպիական հերթափոխի պետական մարզական քոլեջ» ՊՈԱԿ (բռնցքամարտի և ձյուդոյի մարզադահլիճ) | E88: =-77753.1-2332.6-466.5 -> -80552.2 | F88: =+'Հավելված N 3'!D67 -> -65074.6
D89: ՀՀ Արագածոտնի մարզ | E89: =+E90+E91 -> -39462.4 | F89: =+F90+F91 -> -60829.1
D90: =+'Հավելված N 3'!C69 -> Ալագյազ համայնքում Մալխաս և Ռոման Ամոյանների անվան նոր մարզադպրոց | E90: =-33322.8-999.7-199.9 -> -34522.4 | F90: =+'Հավելված N 3'!D69 -> -65074.6
D91: =+'Հավելված N 3'!C70 -> Մարզական համալիր Աշտարակում | E91: =-4700-240 -> -4940 | F91: =+'Հավելված N 3'!D70 -> 4245.5
D92: ՀՀ Արարատի մարզ | E92: =+E93 -> 0 | F92: =+F93 -> 9185.7
D93: =+'Հավելված N 3'!C72 -> Մարզական համալիր Արարատում | E93: 0 | F93: =+'Հավելված N 3'!D72 -> 9185.7
D94: ՀՀ Արմավիրի մարզ | E94: =+E95 -> -4940 | F94: =+F95 -> 4245.5
D95: =+'Հավելված N 3'!C74 -> Մարզական համալիր Արմավիրում | E95: =-4700-240 -> -4940 | F95: =+'Հավելված N 3'!D74 -> 4245.5
D96: ՀՀ Վայոց Ձորի մարզ | E96: =+E97 -> -145040 | F96: =+F97 -> -198014.3
D97: =+'Հավելված N 3'!C76 -> Մարզական համալիր Եղեգնաձորում | E97: =-140000-4200-840 -> -145040 | F97: =+'Հավելված N 3'!D76 -> -198014.3
D98: ՀՀ Տավուշի մարզ | E98: =+E99 -> -145040 | F98: =+F99 -> -207200
D99: =+'Հավելված N 3'!C78 -> Մարզական համալիր Բերդում | E99: =-140000-4200-840 -> -145040 | F99: =+'Հավելված N 3'!D78 -> -207200
B100: 1163 | C100: 32003 | D100: Թեթև կոնստրուկցիաներով մարզադահլիճների հիմնում | E100: =+E102 -> -93026.5 | F100: =+F102 -> -93026.6
D101: այդ թվում` ըստ կատարողների
D102: ՀՀ կրթության, գիտության, մշակույթի և սպորտի նախարարություն | E102: =+E104 -> -93026.5 | F102: =+F104 -> -93026.6
D103: այդ թվում`ըստ ուղղությունների
...

Sheet Հավելված N 5
F1: Հավելված 5
F2: ՀՀ կառավարության 2025 թվականի
F3: ______________ ի ___Ն որոշման
A6: ՀԱՅԱՍՏԱՆԻ ՀԱՆՐԱՊԵՏՈՒԹՅԱՆ ԿԱՌԱՎԱՐՈՒԹՅԱՆ 2024 ԹՎԱԿԱՆԻ ԴԵԿՏԵՄԲԵՐԻ 27-Ի N 2060-Ն ՈՐՈՇՄԱՆ N 5 ՀԱՎԵԼՎԱԾԻ N 7 ԱՂՅՈՒՍԱԿՈՒՄ ԿԱՏԱՐՎՈՂ ԼՐԱՑՈՒՄՆԵՐԸ
A7: հազար դրամ
A8: Ծրագրային դասիչը | C8: Բյուջետային հատկացումների գլխավոր կարգադրիչների, ծրագրերի, միջոցառումների, ծախսային ուղղությունների անվանումները | F8: Միջոցառումները կատարող պետական մարմինների և դրամաշնորհ ստացող տնտեսվարող սուբյեկտների անվանումները | G8: Ցուցանիշների փոփոխությունը (ավելացումները նշված են դրական նշանով)
A9: Ծրագիր | B9: Միջոցառում | G9: Տարի
A10: ՀՀ կրթության, գիտության, մշակույթի և սպորտի նախարարություն | G10: =+G11+G24+G32+G36+G40+G53 -> 606999.2
A11: 1075 | B11: Մշակութային ժառանգության ծրագիր | G11: =+G12+G21 -> 162064
B12: 21001 | C12: Հուշարձանների ամրակայում, նորոգում և վերականգնում | F12: ՀՀ կրթության, գիտության, մշակույթի և սպորտի նախարարություն | G12: =+G14+G16 -> 71950.7
D13: այդ թվում՝ ըստ ուղղությունների և միջոցառումների անվանումների
E14: Վերականգնողական աշխատանքներ | G14: =+G15 -> 26250.7
E15: Մատենադարանի թանգարանի ճակատային մասի արձանախմբի վերանորոգում | F15: «Մատենադարան» Մեսրոպ Մաշտոցի անվան հին ձեռագրերի գիտահետազոտական ինստիտուտ» հիմնադրամ | G15: =+ROUNDUP(24880+878.64+492.036,1) -> 26250.7
E16: Վավերագրման և ուսումնասիրման աշխատանքներ, (այդ թվում՝ հետախուզումև պեղում), գիտանախագծային փաստաթղթերի կազմում և փորձաքննում | G16: =SUM(G17:G20) -> 45700
E17: Արտաշատ մայրաքաղաքի Գետամերձ թաղամասի պեղումներ | F17: ՀՀ ԳԱԱ «Հնագիտության և ազգագրության ինստիտուտ» ՊՈԱԿ | G17: 15700
E18: Հալիձոր բերդի համալիրի ամրակայման, նորոգման և վերականգնման գիտանախագծային փաստաթղթեր | F18: «Պատմամշակութային ժառանգության գիտահետազոտական կենտրոն» ՊՈԱԿ | G18: =ROUND(5000*1.2,1) -> 6000
E19: Կավարտ գյուղի հունական եկեղեցու ամրակայման, նորոգման և վերականգնման գիտանախագծային փաստաթղթեր | F19: «Պատմամշակութային արգելոց թանգարանների և պատմական միջավայրի պահպանության ծառայություն» ՊՈԱԿ | G19: =ROUND(7500*1.2,1) -> 9000
E20: Պատմական Երվանդաշատ մայրաքաղաքի հնագիտական գեոռադարային ուսումնասիրություն | F20: ՀՀ ԳԱԱ «Հնագիտության և ազգագրության ինստիտուտ» ՊՈԱԿ | G20: 15000
B21: 32008 | C21: Թանգարանների և պատկերասրահների գույքային և տեխնիկական հագեցվածության բարելավում | F21: ՀՀ կրթության, գիտության, մշակույթի և սպորտի նախարարություն | G21: =SUM(G22:G23) -> 90113.3
F22: «Մշակույթի զարգացման» հիմնադրամ | G22: =56098.3+20095 -> 76193.3
F23: «Պատմամշակութային արգելոց-թանգարանների և պատմական միջավայրի պահպանության ծառայություն» ՊՈԱԿ | G23: =13920 -> 13920
A24: 1111 | B24: Բարձրագույն և հետբուհական մասնագիտական կրթության ծրագիր | G24: =+G25+G29 -> 166383.4
B25: 32001 | C25: Բարձրագույն ուսումնական հաստատությունների և «Զեյթուն» ուսանողական ավան» հիմնադրամի շենքային պայմանների բարելավում | G25: =+G26 -> 163986.4
F26: ՀՀ կրթության, գիտության, մշակույթի և սպորտի նախարարություն | G26: =SUM(G27:G28) -> 163986.4
F27: «Հայաստանի ազգային ագրարային համալսարան» հիմնադրամ | G27: 146912.2
F28: «Երևանի թատրոնի և կինոյի պետական ինստիտուտ» ՊՈԱԿ | G28: =ROUND(11847*1.1+3675*1.1,1) -> 17074.2
B29: 32003 | C29: Բարձրագույն ուսումնական հաստատությունների և ««Զեյթուն» ուսանողկան ավան» հիմնադրամի նյութատեխնիկական բազայի համալրում և գույքով ապահովում | G29: =+G30 -> 2397
F30: ՀՀ կրթության, գիտության, մշակույթի և սպորտի նախարարություն | G30: =+G31 -> 2397
F31: «Երևանի թատրոնի և կինոյի պետական ինստիտուտ» ՊՈԱԿ | G31: 2397
A32: 1148 | B32: Արտադպրոցական դաստիարակության ծրագիր | G32: =+G33 -> 8486.9
B33: 32005 | C33: Արտադպրոցական դաստիարակություն իրականացնող կազմակերպությունների շենքային պայմանների բարելավում | G33: =+G34 -> 8486.9
F34: ՀՀ կրթության, գիտության, մշակույթի և սպորտի նախարարություն | G34: =+G35 -> 8486.9
F35: «Վանաձորի բռնցքամարտի մանկապատանեկան մարզադպրոց» ՊՈԱԿ | G35: 8486.9
A36: 1168 | B36: Արվեստների ծրագիր | G36: =+G37 -> 16049.3
B37: 32001 | C37: Ներդրումներ թատրոնների և համերգային կազմակերպությունների շենքերի կապիտալ վերանորոգման համար | G37: =+G38 -> 16049.3
F38: ՀՀ կրթության, գիտության, մշակույթի և սպորտի նախարարություն | G38: =+G39 -> 16049.3
F39: «Ալ. Սպենդիարյանի անվան օպերայի և բալետի ազգային ակադեմիական թատրոն» ՊՈԱԿ | G39: =15600+345.6+103.7 -> 16049.3
A40: 1183 | B40: Ապահով դպրոց | G40: =+G41 -> 253325.1
B41: 32001 | C41: Կրթական օբյեկտների շենքային պայմանների բարելավում | G41: =+G42+G44 -> 253325.1
F42: ՀՀ կրթության, գիտության, մշակույթի և սպորտի նախարարություն | G42: =+G43 -> 4005.3
F43: «Գյումրու թիվ 1 ավագ դպրոց» ՊՈԱԿ | G43: 4005.3
F44: ՀՀ Արարատի մարզպետի աշխատակազմ | G44: =SUM(G45:G52) -> 249319.8
F45: «Արտաշատի Հ. Ճգնավորյանի անվան թիվ 5 հիմնական դպրոց» ՊՈԱԿ | G45: 5858.1
F46: «Դաշտաքարի միջնակարգ դպրոց» ՊՈԱԿ | G46: 7816.8
F47: «Ռանչպարի միջնակարգ դպրոց» ՊՈԱԿ | G47: 33677.5
F48: «Մասիսի թիվ 6 հիմնական դպրոց» ՊՈԱԿ | G48: 24088.8
F49: «Նարեկի Արեն Ստեփանյանի անվան միջնակարգ դպրոց» ՊՈԱԿ | G49: 46548.7
F50: «Սայաթ-Նովայի միջնակարգ դպրոց» ՊՈԱԿ | G50: 40722.6
F51: «Սիսի միջնակարգ դպրոց» ՊՈԱԿ | G51: 43424
F52: «Բյուրավանի միջնակարգ դպրոց» ՊՈԱԿ | G52: 47183.3
A53: 1236 | B53: Հանրակրթական և նախադպրոցական հաստատությունների հիմնում, կառուցում, բարելավում | G53: =+G54 -> 690.5
B54: 32006 | C54: Հանրակրթական դպրոցների, մանկապարտեզների և կրթահամալիրների գույքով և տեխնիկայով ապահովում | G54: =+G55+G57 -> 690.5
F55: ՀՀ կրթության, գիտության, մշակույթի և սպորտի նախարարություն | G55: =+G56 -> 690.5
F56: «Երևանի Տ. Շևչենկոյի անվ. թիվ 42 ավագ դպրոց» ՊՈԱԿ | G56: 690.5

Sheet Հավելված N 6
I1: Հավելված N 6
I2: ՀՀ կառավարության 2025 թվականի
I3: ______________ ի ___Ն որոշման
A6: ՀԱՅԱՍՏԱՆԻ ՀԱՆՐԱՊԵՏՈՒԹՅԱՆ ԿԱՌԱՎԱՐՈՒԹՅԱՆ 2024 ԹՎԱԿԱՆԻ ԴԵԿՏԵՄԲԵՐԻ 27-Ի N 2060-Ն ՈՐՈՇՄԱՆ N 9 ՀԱՎԵԼՎԱԾՈՒՄ ԿԱՏԱՐՎՈՂ ՓՈՓՈԽՈՒԹՅՈՒՆՆԵՐԸ ԵՎ ԼՐԱՑՈՒՄՆԵՐԸ
A9: ԲԳԿ | B9: Ծրագիր | D9: Միջոցառում | H9: Իրականացնողը/ ակտիվն օգտագործողը/ շահառուի ընտրության չափորոշիչը | I9: Արդյունքային չափորոշիչը | J9: Ցուցանիշների փոփոխությունը (ավելացումները նշված են դրական նշանով, իսկ նվազեցումները՝ փակագծերում)
B10: Դասիչը | C10: Անվանումը | D10: Դասիչը | E10: Անվանումը | F10: Նկարագրությունը | G10: Տեսակը | J10: Ինն ամիս | K10: Տարի
A11: ԸՆԴԱՄԵՆԸ | J11: =+J13+J150+J157 -> 0 | K11: =+K13+K150+K157 -> 0
A12: այդ թվում՝
A13: ՀՀ ԿՐԹՈՒԹՅԱՆ, ԳԻՏՈՒԹՅԱՆ, ՄՇԱԿՈԻՅԹԻ ԵՎ ՍՊՈՐՏԻ ՆԱԽԱՐԱՐՈՒԹՅՈՒՆ | J13: =+J14+J25+J42+J54+J61+J69+J91+J104+J121+J128 -> 2521776 | K13: =+K14+K25+K42+K54+K61+K69+K91+K104+K121+K128 -> 13214638
B14: 1045 | C14: Մասնագիտական կրթության և ուսուցման ծրագիր | J14: =+J15+J19 -> -358486 | K14: =+K15+K19 -> -468197.3
D15: 1045 - 32001 | E15: Մասնագիտական ուսումնական հաստատությունների շենքային պայմանների բարելավում | J15: =+'Հավելված N 1'!G17 -> -231819.6 | K15: =+'Հավելված N 1'!H17 -> -207065
F16: Մասնագիտական ուսումնական հաստատությունների շենքերի հիմնանորոգման և նախագծման (շինարարական աշխատանքներ, ջեռուցման համակարգի ստեղծում, ներքին հարդարում, տարածքի բարեկարգում) աշխատանքների իրականացում
G17: Այլ պետական կազմակերպությունների կողմից օգտագործվող ոչ ֆինանսական ակտիվների հետ գործառնություններ
H18: Ակտիվն օգտագործող կազմակերպությունների անվանումները` Մասնագիտական ուսումնական հաստատություններ
D19: 1045 - 32005 | E19: Մասնագիտական ուսումնական հաստատությունների շենքերի կառուցում | J19: =+'Հավելված N 1'!G18 -> -126666.4 | K19: =+'Հավելված N 1'!H18 -> -261132.3
F20: Մասնագիտական ուսումնական հաստատությունների շենքերի (մասնաշենքերի) կառուցման և նախագծման աշխատանքների իրականացում
G21: Այլ պետական կազմակերպությունների կողմից օգտագործվող ոչ ֆինանսական ակտիվների հետ գործառնություններ
H22: Ակտիվն օգտագործող կազմակերպությունների անվանումները` Մասնագիտական ուսումնական հաստատություններ
I23: Կառուցվող մասնագիտական ուսումնական հաստատությունների քանակ, հատ | K23: -1
B25: 1075 | C25: Մշակութային ժառանգության ծրագիր | J25: =+J26+J32+J37 -> 80200.5 | K25: =+K26+K32+K37 -> 21647
D26: 1075 - 21001 | E26: Հուշարձանների ամրակայում, նորոգում և վերականգնում | J26: =+'Հավելված N 1'!G20 -> 19137.2 | K26: =+'Հավելված N 1'!H20 -> -39416.3
F27: Հուշարձանների գիտանախագծային փաստաթղթերի կազմում, հրատապ ուսումնասիրում, վավերագրման և ուսումնասիրման աշխատանքներ, հետախուզում և հնագիտական պեղում, ամրակայում, նորոգում և վերականգնում
G28: Հանրության կողմից անմիջականորեն օգտագործվող ակտիվների հետ կապված միջոցառումներ
H29: Ծառայությունը մատուցող կազմակերպության անվանումը` Մասնագիտացված կազմակերպություններ
I30: Հուշարձանների ամրակայման, նորոգման և վերականգնման աշխատանքներ, քանակ | K30: -3
I31: Հուշարձանների ուսումնասիրման, հետախուզումների և պեղումների աշխատանքներ, քանակ | K31: 1
D32: 1075 - 32008 | E32: Թանգարանների և պատկերասրահների գույքային և տեխնիկական հագեցվածության բարելավում | J32: =+'Հավելված N 1'!G21 -> 90113.3 | K32: =+'Հավելված N 1'!H21 -> 90113.3
F33: Թանգարանների և պատկերասրահների համար անհրաժեշտ գույքի, տեխնիկայի և սարքավորումների ձեռքբերում
G34: Այլ պետական կազմակերպությունների կողմից օգտագործվող ոչ ֆինանսական ակտիվների հետ գործառնություններ
H35: Ակտիվն օգտագործող կազմակերպության անվանումը` Թանգարաններ և պատկերասրահներ
I36: Կազմակերպությունների թիվը, որտեղ կատարվում են ներդրումները | K36: 13
D37: 1075 - 32012 | E37: Թանգարանների համար նոր շենքերի կառուցում | J37: =+'Հավելված N 1'!G22 -> -29050 | K37: =+'Հավելված N 1'!H22 -> -29050
F38: Թանգարանների շենքերի, մասնաշենքերի կառուցում և նախագծում, նորաստեղծ թանգարանների նորակառույց շենքերով ապահովում
G39: Այլ պետական կազմակերպությունների կողմից օգտագործվող ոչ ֆինանսական ակտիվների հետ գործառնություններ
H40: Ակտիվն օգտագործող կազմակերպության անվանումը` Թանգարաններ
B42: 1111 | C42: Բարձրագույն և հետբուհական մասնագիտական կրթության ծրագիր | J42: =+J43+J48 -> 166383.4 | K42: =+K43+K48 -> 166383.4
D43: 1111 - 32001 | E43: Բարձրագույն ուսումնական հաստատությունների և «Զեյթուն» ուսանողական ավան» հիմնադրամի շենքային պայմանների բարելավում | J43: =+'Հավելված N 1'!G24 -> 163986.4 | K43: =+'Հավելված N 1'!H24 -> 163986.4
F44: Բարձրագույն ուսումնական հաստատությունների և «Զեյթուն» ուսանողական ավան» հիմնադրամի շենքային պայմանների բարելավում
G45: Այլ պետական կազմակերպությունների կողմից օգտագործվող ոչ ֆինանսական ակտիվների հետ գործառնություններ
H46: Ակտիվն օգտագործող կազմակերպության անվանումը` Բարձրագույն ուսումնական հաստատություններ
I47: Կազմակերպությունների թիվը, որտեղ կատարվում են ներդրումները, հատ | K47: 2
D48: 1111 - 32003 | E48: Բարձրագույն ուսումնական հաստատությունների և «Զեյթուն» ուսանողական ավան» հիմնադրամի նյութատեխնիկական բազայի համալրում և գույքով ապահովում | J48: =+'Հավելված N 1'!G25 -> 2397 | K48: =+'Հավելված N 1'!H25 -> 2397
F49: Բարձրագույն ուսումնական հաստատությունների և «Զեյթուն» ուսանողական ավան» հիմնադրամի համար անհրաժեշտ լաբորատոր և այլ սարքավորումների, տեխնիկայի, կահույքի ձեռքբերում
G50: Այլ պետական կազմակերպությունների կողմից օգտագործվող ոչ ֆինանսական ակտիվների հետ գործառնություններ
H51: Ակտիվն օգտագործող կազմակերպության անվանումը` Բարձրագույն ուսումնական հաստատություններ
I52: Կազմակերպությունների թիվը, որոնք ապահովվում են գույքով, հատ | K52: 1
B54: 1130 | C54: Կրթության, գիտության, մշակույթի և սպորտի բնագավառի պետական քաղաքականության մշակում, ծրագրերի համակարգում և մոնիտորինգ | J54: =+J55 -> 0 | K54: =+K55 -> 5040
D55: 1130 - 31001 | E55: ՀՀ կրթության, գիտության, մշակույթի և սպորտի նախարարության կարողությունների զարգացում և տեխնիկական հագեցվածության ապահովում | J55: =+'Հավելված N 1'!G27 -> 0 | K55: =+'Հավելված N 1'!H27 -> 5040
F56: ՀՀ կրթության, գիտության, մշակույթի և սպորտի նախարարության աշխատանքային պայմանների բարելավման համար վարչական սարքավորումների ձեռք բերում
G57: Պետական մարմինների կողմից օգտագործվող ոչ ֆինանսական ակտիվների հետ գործառնություններ
H58: Ակտիվն օգտագործող կազմակերպության անվանումը` ՀՀ կրթության, գիտության, մշակույթի և սպորտի նախարարություն
I59: Ծրագրային համակարգեր, հատ | K59: 1
B61: 1148 | C61: Արտադպրոցական դաստիարակության ծրագիր | J61: =+J62 -> 8486.9 | K61: =+K62 -> 20761.4
D62: 1148 - 32005 | E62: Արտադպրոցական դաստիարակություն իրականացնող կազմակերպությունների շենքային պայմանների բարելավում | J62: =+'Հավելված N 1'!G29 -> 8486.9 | K62: =+'Հավելված N 1'!H29 -> 20761.4
F63: Կառույցների տեխնիկական արողությունների և աշխատանքային միջավայրի բարելավում
G64: Այլ պետական կազմակերպությունների կողմից օգտագործվող ոչ ֆինանսական ակտիվների հետ գործառնություններ
H65: Ակտիվն օգտագործող կազմակերպության անվանումը` Արտադպրոցական դաստիարակություն իրականացնող կազմակերպություններ
I66: Կազմակերպությունների թիվը, որտեղ կատարվում են ներդրումները, հատ | K66: 1
I67: Նախագծանախահաշվային փաստաթղթերի քանակ, հատ | K67: 1
B69: 1163 | C69: Մասսայական սպորտ | J69: =+J70+J75+J81+J85 -> -872174.6 | K69: =+K70+K75+K81+K85 -> -1465250.3
D70: 1163 - 12001 | E70: Աջակցություն համայնքներին մարզական հաստատությունների շենքային պայմանների բարելավման համար | J70: =+'Հավելված N 1'!G31 -> -239793.5 | K70: =+'Հավելված N 1'!H31 -> -550936.9
F71: Համայնքային ենթակայության մարզական հաստատությունների վերանորոգում և կառուցում
G72: Տրանսֆերտների տրամադրում
H73: Շահառուների ընտրության չափորոշիչները` ՀՀ համայնքների ենթակայության մարզական հաստատությունների շենքային պայմանների բարելավման անհրաժեշտությունը
I74: Նախագծանախահաշվային փաստաթղթերի քանակ, հատ | K74: 1
D75: 1163 - 32001 | E75: Մարզական օբյեկտների շինարարություն | J75: =+'Հավելված N 1'!G32 -> -539354.6 | K75: =+'Հավելված N 1'!H32 -> -621286.8
F76: Մարզական օբյեկտների շենքերի (մասնաշենքերի) կառուցում (համաշինարարական աշխատանքներ, ջեռուցման համակարգի իրականացում, ներքին հարդարում, տարածքի բարեկարգում) և նախագծում
G77: Այլ պետական կազմակերպությունների կողմից օգտագործվող ոչ ֆինանսական ակտիվների հետ գործառնություններ
H78: Ակտիվն օգտագործող կազմակերպության անվանումը` Մարզական հաստատություններ
I79: Կառուցման ենթակա օբյյեկտների թիվ, հատ | K79: -2
I80: Նախագծանախահաշվային փաստաթղթերի քանակ, հատ | K80: 2
D81: 1163 - 32003 | E81: Թեթև կոնստրուկցիաներով մարզադահլիճների հիմնում | J81: =+'Հավելված N 1'!G33 -> -93026.5 | K81: =+'Հավելված N 1'!H33 -> -93026.6
F82: ՀՀ մարզերում արագ հավաքվող, թեթև կոնստրուկցիաներով, եվրոպական ստանդարտներին համապատասխան մարզադահլիճների հիմնում
G83: Այլ պետական կազմակերպությունների կողմից օգտագործվող ոչ ֆինանսական ակտիվների հետ գործառնություններ
H84: Ակտիվն օգտագործող կազմակերպության անվանումը` Մարզական հաստատություններ
D85: 1163 - 32006 | E85: Ֆուտբոլի ենթակառուցվածքների զարգացման նպատակով մարզադաշտերի և մարզադպրոցների կառուցում | J85: =+'Հավելված N 1'!G34 -> 0 | K85: =+'Հավելված N 1'!H34 -> -200000
F86: Ֆուտբոլի դպրոցների և ՈՒԵՖԱ ստանդարտներով ֆուտբոլի մարզադաշտերի նախագծում և կառուցում
G87: Այլ պետական կազմակերպությունների կողմից օգտագործվող ոչ ֆինանսական ակտիվների հետ գործառնություններ
H88: Ակտիվն օգտագործող կազմակերպության անվանումը` «Գնումների մասին» ՀՀ օրենքի համաձայն ընտրված կազմակերպություն
I89: Նախագծանախահաշվային փաստաթղթերի քանակը, հատ | K89: -1
B91: 1168 | C91: Արվեստների ծրագիր | J91: =+J92+J97 -> -171579 | K91: =+K92+K97 -> 692111.3
D92: 1168 - 32001 | E92: Ներդրումներ թատրոնների և համերգային կազմակերպությունների շենքերի կապիտալ վերանորոգման համար | J92: =+'Հավելված N 1'!G36 -> -171579 | K92: =+'Հավելված N 1'!H36 -> -111991.1
F93: Թատրոնների և համերգային կազմակերպությունների շենքերի մասնաշենքերի հիմնանորոգում, համաշինարարական աշխատանքներ, ջեռուցման համակարգի իրականացում, ներքին հարդարում, տարածքի բարեկարգում և նախագծում
G94: Այլ պետական կազմակերպությունների կողմից օգտագործվող ոչ ֆինանսական ակտիվների հետ գործառնություններ
H95: Ակտիվն օգտագործող կազմակերպության անվանումը` Թատրոններ և համերգային կազմակերպություններ
I96: Մասնակի հիմնանորոգվող թատրոնների քանակ, հատ | K96: 1
D97: 1168 - 32007 | E97: Թատերահամերգային կազմակերպությունների նյութատեխնիկական բազայի համալրում | J97: =+'Հավելված N 1'!G37 -> 0 | K97: =+'Հավելված N 1'!H37 -> 804102.4
F98: Թատերահամերգային կազմակերպությունների համար անհրաժեշտ տեխնիկայի և սարքավորումների ձեռքբերում
G99: Այլ պետական կազմակերպությունների կողմից օգտագործվող ոչ ֆինանսական ակտիվների հետ գործառնություններ
H100: Ակտիվն օգտագործող կազմակերպության անվանումը` Թատրոններ և համերգային կազմակերպություններ
I101: Թատրոնների թիվը, որտեղ կատարվում են ներդրումները, հատ | K101: 4
I102: Համերգային կազմակերպությունների թիվը, որտեղ կատարվում են ներդրումները, հատ | K102: 1
B104: 1183 | C104: Ապահով դպրոց | J104: =+J105+J111+J116 -> 180941.9 | K104: =+K105+K111+K116 -> 225202.1
D105: 1183 - 32001 | E105: Կրթական օբյեկտների շենքային պայմանների բարելավում | J105: =+'Հավելված N 1'!G39 -> 303488.1 | K105: =+'Հավելված N 1'!H39 -> 365182
F106: Կրթական օբյեկտների շենքերի (մասնաշենքերի) հիմնանորոգում (համաշինարարական աշխատանքներ, ջեռուցման համակարգի իրականացում, ներքին հարդարում, տարածքի բարեկարգում) և նախագծում
G107: Այլ պետական կազմակերպությունների կողմից օգտագործվող ոչ ֆինանսական ակտիվների հետ գործառնություններ
H108: Ակտիվն օգտագործող կազմակերպությունների անվանումները` Հանրակրթական դպրոցներ
I109: Մասնակի նորոգվող դպրոցների քանակ, հատ | K109: 8
I110: Նախագծանախահաշվային փաստաթղթերի քանակ, հատ | K110: 1
D111: 1183 - 32004 | E111: Ավագ մակարդակի կրթություն իրականացնող ուսումնական հաստատությունների շենքային պայմանների բարելավում | J111: =+'Հավելված N 1'!G40 -> 0 | K111: =+'Հավելված N 1'!H40 -> 13202.9
...

Sheet Հավելված N 7
I1: Հավելված N 7
I2: ՀՀ կառավարության 2025 թվականի
I3: ______________ ի ___Ն որոշման
A6: ՀԱՅԱՍՏԱՆԻ ՀԱՆՐԱՊԵՏՈՒԹՅԱՆ ԿԱՌԱՎԱՐՈՒԹՅԱՆ 2024 ԹՎԱԿԱՆԻ ԴԵԿՏԵՄԲԵՐԻ 27-Ի N 2060-Ն ՈՐՈՇՄԱՆ N 9.1 ՀԱՎԵԼՎԱԾՈՒՄ ԿԱՏԱՐՎՈՂ ՓՈՓՈԽՈՒԹՅՈՒՆՆԵՐԸ ԵՎ ԼՐԱՑՈՒՄՆԵՐԸ
A9: ԲՍԿ | B9: Ծրագիր | D9: Միջոցառում | H9: Իրականացնողը/ ակտիվն օգտագործողը/ շահառուի ընտրության չափորոշիչը | I9: Արդյունքային չափորոշիչը | J9: Ցուցանիշների փոփոխությունը (ավելացումները նշված են դրական նշանով, իսկ նվազեցումները՝ փակագծերում)
B10: Դասիչը | C10: Անվանումը | D10: Դասիչը | E10: Անվանումը | F10: Նկարագրությունը | G10: Տեսակը | J10: Ինն ամիս | K10: Տարի
A11: ԸՆԴԱՄԵՆԸ | J11: =+ROUND(J13+J126+J173+J181+J189+J196,1) -> 0 | K11: =+ROUND(K13+K126+K173+K181+K189+K196,1) -> 0
A12: այդ թվում՝
A13: ՀՀ ԿՐԹՈՒԹՅԱՆ, ԳԻՏՈՒԹՅԱՆ, ՄՇԱԿՈԻՅԹԻ ԵՎ ՍՊՈՐՏԻ ՆԱԽԱՐԱՐՈՒԹՅՈՒՆ | J13: =+J14+J20+J37+J49+J56+J64+J75+J88+J101+J108 -> 2028336.1 | K13: =+K14+K20+K37+K49+K56+K64+K75+K88+K101+K108 -> 12701430
B14: 1045 | C14: Մասնագիտական կրթության և ուսուցման ծրագիր | J14: =+J15 -> -144795.6 | K14: =+K15 -> -107065
D15: 1045 - 32001 | E15: Մասնագիտական ուսումնական հաստատությունների շենքային պայմանների բարելավում | J15: =+'Հավելված N 2'!G272 -> -144795.6 | K15: =+'Հավելված N 2'!H272 -> -107065
F16: Մասնագիտական ուսումնական հաստատությունների շենքերի հիմնանորոգման և նախագծման (շինարարական աշխատանքներ, ջեռուցման համակարգի ստեղծում, ներքին հարդարում, տարածքի բարեկարգում) աշխատանքների իրականացում
G17: Այլ պետական կազմակերպությունների կողմից օգտագործվող ոչ ֆինանսական ակտիվների հետ գործառնություններ
H18: Ակտիվն օգտագործող կազմակերպությունների անվանումները` Մասնագիտական ուսումնական հաստատություններ
B20: 1075 | C20: Մշակութային ժառանգության ծրագիր | J20: =+J21+J27+J32 -> 80200.5 | K20: =+K21+K27+K32 -> 21647
D21: 1075 - 21001 | E21: Հուշարձանների ամրակայում, նորոգում և վերականգնում | J21: =+'Հավելված N 2'!G130 -> 19137.2 | K21: =+'Հավելված N 2'!H130 -> -39416.3
F22: Հուշարձանների գիտանախագծային փաստաթղթերի կազմում, հրատապ ուսումնասիրում, վավերագրման և ուսումնասիրման աշխատանքներ, հետախուզում և հնագիտական պեղում, ամրակայում, նորոգում և վերականգնում
G23: Հանրության կողմից անմիջականորեն օգտագործվող ակտիվների հետ կապված միջոցառումներ
H24: Ծառայությունը մատուցող կազմակերպության անվանումը` Մասնագիտացված կազմակերպություններ
I25: Հուշարձանների ամրակայման, նորոգման և վերականգնման աշխատանքներ, քանակ | K25: -3
I26: Հուշարձանների ուսումնասիրման, հետախուզումների և պեղումների աշխատանքներ, քանակ | K26: 1
D27: 1075 - 32008 | E27: Թանգարանների և պատկերասրահների գույքային և տեխնիկական հագեցվածության բարելավում | J27: =+'Հավելված N 2'!G54 -> 90113.3 | K27: =+'Հավելված N 2'!H54 -> 90113.3
F28: Թանգարանների և պատկերասրահների համար անհրաժեշտ գույքի, տեխնիկայի և սարքավորումների ձեռքբերում
G29: Այլ պետական կազմակերպությունների կողմից օգտագործվող ոչ ֆինանսական ակտիվների հետ գործառնություններ
H30: Ակտիվն օգտագործող կազմակերպության անվանումը` Թանգարաններ և պատկերասրահներ
I31: Կազմակերպությունների թիվը, որտեղ կատարվում են ներդրումները | K31: 13
D32: 1075 - 32012 | E32: Թանգարանների համար նոր շենքերի կառուցում | J32: =+'Հավելված N 2'!G64 -> -29050 | K32: =+'Հավելված N 2'!H64 -> -29050
F33: Թանգարանների շենքերի, մասնաշենքերի կառուցում և նախագծում, նորաստեղծ թանգարանների նորակառույց շենքերով ապահովում
G34: Այլ պետական կազմակերպությունների կողմից օգտագործվող ոչ ֆինանսական ակտիվների հետ գործառնություններ
H35: Ակտիվն օգտագործող կազմակերպության անվանումը` Թանգարաններ
B37: 1111 | C37: Բարձրագույն և հետբուհական մասնագիտական կրթության ծրագիր | J37: =+J38+J43 -> 166383.4 | K37: =+K38+K43 -> 166383.4
D38: 1111 - 32001 | E38: Բարձրագույն ուսումնական հաստատությունների և «Զեյթուն» ուսանողական ավան» հիմնադրամի շենքային պայմանների բարելավում | J38: =+'Հավելված N 2'!G302 -> 163986.4 | K38: =+'Հավելված N 2'!H302 -> 163986.4
F39: Բարձրագույն ուսումնական հաստատությունների և «Զեյթուն» ուսանողական ավան» հիմնադրամի շենքային պայմանների բարելավում
G40: Այլ պետական կազմակերպությունների կողմից օգտագործվող ոչ ֆինանսական ակտիվների հետ գործառնություններ
H41: Ակտիվն օգտագործող կազմակերպության անվանումը` Բարձրագույն ուսումնական հաստատություններ
I42: Կազմակերպությունների թիվը, որտեղ կատարվում են ներդրումները, հատ | K42: 2
D43: 1111 - 32003 | E43: Բարձրագույն ուսումնական հաստատությունների և «Զեյթուն» ուսանողական ավան» հիմնադրամի նյութատեխնիկական բազայի համալրում և գույքով ապահովում | J43: =+'Հավելված N 2'!G312 -> 2397 | K43: =+'Հավելված N 2'!H312 -> 2397
F44: Բարձրագույն ուսումնական հաստատությունների և «Զեյթուն» ուսանողական ավան» հիմնադրամի համար անհրաժեշտ լաբորատոր և այլ սարքավորումների, տեխնիկայի, կահույքի ձեռքբերում
G45: Այլ պետական կազմակերպությունների կողմից օգտագործվող ոչ ֆինանսական ակտիվների հետ գործառնություններ
H46: Ակտիվն օգտագործող կազմակերպության անվանումը` Բարձրագույն ուսումնական հաստատություններ
I47: Կազմակերպությունների թիվը, որոնք ապահովվում են գույքով, հատ | K47: 1
B49: 1130 | C49: Կրթության, գիտության, մշակույթի և սպորտի բնագավառի պետական քաղաքականության մշակում, ծրագրերի համակարգում և մոնիտորինգ | J49: =+J50 -> 0 | K49: =+K50 -> 5040
D50: 1130 - 31001 | E50: ՀՀ կրթության, գիտության, մշակույթի և սպորտի նախարարության կարողությունների զարգացում և տեխնիկական հագեցվածության ապահովում | J50: =+'Հավելված N 2'!G405 -> 0 | K50: =+'Հավելված N 2'!H405 -> 5040
F51: ՀՀ կրթության, գիտության, մշակույթի և սպորտի նախարարության աշխատանքային պայմանների բարելավման համար վարչական սարքավորումների ձեռք բերում
G52: Պետական մարմինների կողմից օգտագործվող ոչ ֆինանսական ակտիվների հետ գործառնություններ
H53: Ակտիվն օգտագործող կազմակերպության անվանումը` ՀՀ կրթության, գիտության, մշակույթի և սպորտի նախարարություն
I54: Ծրագրային համակարգեր, հատ | K54: 1
B56: 1148 | C56: Արտադպրոցական դաստիարակության ծրագիր | J56: =+J57 -> 8486.9 | K56: =+K57 -> 20761.4
D57: 1148 - 32005 | E57: Արտադպրոցական դաստիարակություն իրականացնող կազմակերպությունների շենքային պայմանների բարելավում | J57: =+'Հավելված N 2'!G251 -> 8486.9 | K57: =+'Հավելված N 2'!H251 -> 20761.4
F58: Կառույցների տեխնիկական արողությունների և աշխատանքային միջավայրի բարելավում
G59: Այլ պետական կազմակերպությունների կողմից օգտագործվող ոչ ֆինանսական ակտիվների հետ գործառնություններ
H60: Ակտիվն օգտագործող կազմակերպության անվանումը` Արտադպրոցական դաստիարակություն իրականացնող կազմակերպություններ
I61: Կազմակերպությունների թիվը, որտեղ կատարվում են ներդրումները, հատ | K61: 1
I62: Նախագծանախահաշվային փաստաթղթերի քանակ, հատ | K62: 1
B64: 1163 | C64: Մասսայական սպորտ | J64: =+J65+J70 -> -93026.5 | K64: =+K65+K70 -> -76888.6
D65: 1163 - 12001 | E65: Աջակցություն համայնքներին մարզական հաստատությունների շենքային պայմանների բարելավման համար | J65: =+'Հավելված N 2'!G323 -> 0 | K65: =+'Հավելված N 2'!H323 -> 16138
F66: Համայնքային ենթակայության մարզական հաստատությունների վերանորոգում և կառուցում
G67: Տրանսֆերտների տրամադրում
H68: Շահառուների ընտրության չափորոշիչները` ՀՀ համայնքների ենթակայության մարզական հաստատությունների շենքային պայմանների բարելավման անհրաժեշտությունը
I69: Նախագծանախահաշվային փաստաթղթերի քանակ, հատ | K69: 1
D70: 1163 - 32003 | E70: Թեթև կոնստրուկցիաներով մարզադահլիճների հիմնում | J70: =+'Հավելված N 2'!G28 -> -93026.5 | K70: =+'Հավելված N 1'!H33 -> -93026.6
F71: ՀՀ մարզերում արագ հավաքվող, թեթև կոնստրուկցիաներով, եվրոպական ստանդարտներին համապատասխան մարզադահլիճների հիմնում
G72: Այլ պետական կազմակերպությունների կողմից օգտագործվող ոչ ֆինանսական ակտիվների հետ գործառնություններ
H73: Ակտիվն օգտագործող կազմակերպության անվանումը` Մարզական հաստատություններ
B75: 1168 | C75: Արվեստների ծրագիր | J75: =+J76+J81 -> -171579 | K75: =+K76+K81 -> 692111.3
D76: 1168 - 32001 | E76: Ներդրումներ թատրոնների և համերգային կազմակերպությունների շենքերի կապիտալ վերանորոգման համար | J76: =+'Հավելված N 2'!G100 -> -171579 | K76: =+'Հավելված N 2'!H100 -> -111991.1
F77: Թատրոնների և համերգային կազմակերպությունների շենքերի մասնաշենքերի հիմնանորոգում, համաշինարարական աշխատանքներ, ջեռուցման համակարգի իրականացում, ներքին հարդարում, տարածքի բարեկարգում և նախագծում
G78: Այլ պետական կազմակերպությունների կողմից օգտագործվող ոչ ֆինանսական ակտիվների հետ գործառնություններ
H79: Ակտիվն օգտագործող կազմակերպության անվանումը` Թատրոններ և համերգային կազմակերպություններ
I80: Մասնակի հիմնանորոգվող թատրոնների քանակ, հատ | K80: 1
D81: 1168 - 32007 | E81: Թատերահամերգային կազմակերպությունների նյութատեխնիկական բազայի համալրում | J81: =+'Հավելված N 2'!G115 -> 0 | K81: =+'Հավելված N 2'!H115 -> 804102.4
F82: Թատերահամերգային կազմակերպությունների համար անհրաժեշտ տեխնիկայի և սարքավորումների ձեռքբերում
G83: Այլ պետական կազմակերպությունների կողմից օգտագործվող ոչ ֆինանսական ակտիվների հետ գործառնություններ
H84: Ակտիվն օգտագործող կազմակերպության անվանումը` Թատրոններ և համերգային կազմակերպություններ
I85: Թատրոնների թիվը, որտեղ կատարվում են ներդրումները, հատ | K85: 4
I86: Համերգային կազմակերպությունների թիվը, որտեղ կատարվում են ներդրումները, հատ | K86: 1
B88: 1183 | C88: Ապահով դպրոց | J88: =+J89+J95 -> 4005.3 | K88: =+K89+K95 -> 28739.2
D89: 1183 - 32001 | E89: Կրթական օբյեկտների շենքային պայմանների բարելավում | J89: =+'Հավելված N 2'!G352 -> 4005.3 | K89: =+'Հավելված N 2'!H352 -> 15536.3
F90: Կրթական օբյեկտների շենքերի (մասնաշենքերի) հիմնանորոգում (համաշինարարական աշխատանքներ, ջեռուցման համակարգի իրականացում, ներքին հարդարում, տարածքի բարեկարգում) և նախագծում
G91: Այլ պետական կազմակերպությունների կողմից օգտագործվող ոչ ֆինանսական ակտիվների հետ գործառնություններ
H92: Ակտիվն օգտագործող կազմակերպությունների անվանումները` Հանրակրթական դպրոցներ
I93: Մասնակի նորոգվող դպրոցների քանակ, հատ | K93: 1
I94: Նախագծանախահաշվային փաստաթղթերի քանակ, հատ | K94: 1
D95: 1183 - 32004 | E95: Ավագ մակարդակի կրթություն իրականացնող ուսումնական հաստատությունների շենքային պայմանների բարելավում | J95: =+'Հավելված N 2'!G379 -> 0 | K95: =+'Հավելված N 2'!H379 -> 13202.9
F96: Ավագ դպրոցների շենքային պայմանների բարելավում
G97: Այլ պետական կազմակերպությունների կողմից օգտագործվող ոչ ֆինանսական ակտիվների հետ գործառնություններ
H98: Ակտիվն օգտագործող կազմակերպությունների անվանումները` Ավագ դպրոցներ
I99: Նախագծանախահաշվային փաստաթղթերի քանակ, հատ | K99: 1
B101: 1196 | C101: Մարզերի մշակութային զարգացման ծրագիր | J101: =+J102 -> 9499.2 | K101: =+K102 -> 47495.9
D102: 1196 - 12001 | E102: Աջակցություն համայնքներին մշակութային հաստատությունների շենքային պայմանների բարելավման համար | J102: =+'Հավելված N 2'!G85 -> 9499.2 | K102: =+'Հավելված N 2'!H85 -> 47495.9
F103: Համայնքային ենթակայության մշակույթի տների՝ ակումբների և կենտրոնների հիմնանորոգում՝ կառուցում և նախագծում
G104: Տրանսֆերտների տրամադրում
H105: Շահառուների ընտրության չափանիշները՝ ՀՀ համայնքների ենթակայության մշակութային հաստատություններ
I106: Կազմակերպությունների թիվը, որտեղ կատարվում են ներդրումները, հատ | K106: 1
B108: 1236 | C108: Հանրակրթական և նախադպրոցական հաստատությունների հիմնում, կառուցում, բարելավում | J108: =+J109+J113+J117+J121 -> 2169161.9 | K108: =+K109+K113+K117+K121 -> 11903205
D109: 1236 - 32001 | E109: Մանկապարտեզների նոր շենքերի կառուցում | J109: =+'Հավելված N 2'!G156 -> 29138 | K109: =+'Հավելված N 2'!H156 -> 29138
F110: Նախադպրոցական կրթության հասանելիության ապահովման նպատակով՛ մանկապարտեզների հիմնում, նոր շենքերի (մասնաշենքերի), ներառյալ՝ «Մոդուլային» տիպի շենքերի կառուցում և նախագծում
G111: Այլ պետական կազմակերպությունների կողմից օգտագործվող ոչ ֆինանսական ակտիվների հետ գործառնություններ
H112: Շահառուների ընտրության չափորոշիչները` Նախադպրոցական կրթություն իրականացնող ուսումնական հաստատություններ
D113: 1236 - 32003 | E113: Հանրակրթական դպրոցների նոր շենքերի կառուցում | J113: =+'Հավելված N 2'!G180 -> 497662.4 | K113: =+'Հավելված N 2'!H180 -> 5576939.8
...

Sheet Հավելված N 8
H1: Հավելված N 8
H2: ՀՀ կառավարության 2025 թվականի
H3: ______________ ի ___Ն որոշման
A6: ՀԱՅԱՍՏԱՆԻ ՀԱՆՐԱՊԵՏՈՒԹՅԱՆ ԿԱՌԱՎԱՐՈՒԹՅԱՆ 2024 ԹՎԱԿԱՆԻ ԴԵԿՏԵՄԲԵՐԻ 27-Ի N 2060-Ն N 10 ՀԱՎԵԼՎԱԾՈՒՄ ԿԱՏԱՐՎՈՂ ՓՈՓՈԽՈՒԹՅՈՒՆՆԵՐԸ ԵՎ ԼՐԱՑՈՒՄՆԵՐԸ
A10: Կոդը | B10: Անվանումը | E10: Գնման ձևը | F10: Չափման միավորը | G10: Միավորի գինը | H10: Ցուցանիշների փոփոխությունը (ավելացումները նշված են դրական նշանով, իսկ նվազեցումները՝ փակագծերում)
H11: Քանակը | I11: Գումարը (հազար դրամ)
A12: 1 | B12: 2 | E12: 3 | F12: 4 | G12: 5 | H12: 6 | I12: 7
A13: ՀՀ կրթության, գիտության, մշակույթի և սպորտի նախարարություն | I13: =+I14+I21+I25+I32+I58+I76+I80+I132+I137+I159 -> -5641745.3
A14: Բաժին N 08 | B14: Խումբ N 01 | C14: Դաս N 01 | D14: Հանգստի և սպորտի ծառայություններ | I14: =+I15 -> -93026.6
A15: 1163-32003 | B15: Թեթև կոնստրուկցիաներով մարզադահլիճների հիմնում | I15: =+I16+I18 -> -93026.6
B16: ՄԱՍ II. ԱՇԽԱՏԱՆՔՆԵՐ | I16: =+I17 -> -90631.5
A17: 45211131-1 | B17: մարզական օբյեկտների շինարարական աշխատանքներ | E17: ԲՄ | F17: դրամ | G17: 90631500 | H17: -1 | I17: =+ROUNDDOWN(H17*G17/1000,1) -> -90631.5
B18: ՄԱՍ III. ԾԱՌԱՅՈՒԹՅՈՒՆՆԵՐ | I18: =SUM(I19:I20) -> -2395.1
A19: 71351540-1 | B19: տեխնիկական հսկողության ծառայություններ | E19: ԳՀ | F19: դրամ | G19: 1842400 | H19: -1 | I19: =+ROUNDDOWN(H19*G19/1000,1) -> -1842.4
A20: 98111140-1 | B20: հեղինակային հսկողության ծառայություններ | E20: ՄԱ | F20: դրամ | G20: 552700 | H20: -1 | I20: =+ROUNDDOWN(H20*G20/1000,1) -> -552.7
A21: Բաժին N 08 | B21: Խումբ N 02 | C21: Դաս N 02 | D21: Թանգարաններ և ցուցասրահներ | I21: =+I22 -> 960
A22: 1075-32012 | B22: Թանգարանների համար նոր շենքերի կառուցում | I22: =+I23 -> 960
B23: ՄԱՍ III. ԾԱՌԱՅՈՒԹՅՈՒՆՆԵՐ | I23: =+I24 -> 960
A24: 50531140-535 | B24: փորձաքննության ծառայություններ | E24: ԳՀ | F24: դրամ | G24: 960000 | H24: 1 | I24: =+ROUNDUP(H24*G24/1000,1) -> 960
A25: Բաժին N 08 | B25: Խումբ N 02 | C25: Դաս N 03 | D25: Մշակույթի տներ, ակումբներ, կենտրոններ | I25: =+I26 -> 47495.9
A26: 1196-12001 | B26: Աջակցություն համայնքներին մշակութային հաստատությունների շենքային պայմանների բարելավման համար | I26: =+I27+I29 -> 47495.9
B27: ՄԱՍ II. ԱՇԽԱՏԱՆՔՆԵՐ | I27: =SUM(I28:I28) -> 46000
A28: 45611200-501 | B28: մշակութային օբյեկտների հիմնանորոգում | E28: ԲՄ | F28: դրամ | G28: 46000000 | H28: 1 | I28: =+ROUNDUP(H28*G28/1000,1) -> 46000
B29: ՄԱՍ III. ԾԱՌԱՅՈՒԹՅՈՒՆՆԵՐ | I29: =SUM(I30:I31) -> 1495.9
A30: 71351540-524 | B30: տեխնիկական հսկողության ծառայություններ | E30: ԳՀ | F30: դրամ | G30: =2000000/82400000*G28 -> 1116504.9 | H30: 1 | I30: =+ROUNDUP(H30*G30/1000,1) -> 1116.6
A31: 98111140 | B31: հեղինակային հսկողության ծառայություններ | E31: ՄԱ | F31: դրամ | G31: =+G28/82400000*679369.097 -> 379259.45 | H31: 1 | I31: =+ROUNDUP(H31*G31/1000,1) -> 379.3
A32: Բաժին N 08 | B32: Խումբ N 02 | C32: Դաս N 05 | D32: Արվեստ | I32: =+I33+I43 -> 676062
A33: 1168-32001 | B33: Ներդրումներ թատրոնների և համերգային կազմակերպությունների շենքերի կապիտալ վերանորոգման համար | I33: =+I34+I37 -> -128040.4
B34: ՄԱՍ II. ԱՇԽԱՏԱՆՔՆԵՐ | I34: =SUM(I35:I36) -> -139786
A35: 45611200-1 | B35: մշակութային օբյեկտների հիմնանորոգում | E35: ԲՄ | F35: դրամ | I35: -59786
A36: 45611200-3 | B36: մշակութային օբյեկտների հիմնանորոգում | E36: ԲՄ | F36: դրամ | I36: -80000
B37: ՄԱՍ III. ԾԱՌԱՅՈՒԹՅՈՒՆՆԵՐ | I37: =SUM(I38:I42) -> 11745.6
A38: 71351540-1 | B38: տեխնիկական հսկողության ծառայություններ | E38: ԳՀ | F38: դրամ | G38: 2195700 | H38: -1 | I38: =+ROUNDDOWN(H38*G38/1000,1) -> -2195.7
A39: 71351540-3 | B39: տեխնիկական հսկողության ծառայություններ | E39: ԳՀ | F39: դրամ | G39: 4500000 | H39: -1 | I39: =+ROUNDDOWN(H39*G39/1000,1) -> -4500
A40: 98111140-1 | B40: հեղինակային հսկողության ծառայություններ | E40: ՄԱ | F40: դրամ | G40: 658700 | H40: -1 | I40: =+ROUNDDOWN(H40*G40/1000,1) -> -658.7
A41: 98111140-3 | B41: հեղինակային հսկողության ծառայություններ | E41: ՄԱ | F41: դրամ | G41: 900000 | H41: -1 | I41: =+ROUNDDOWN(H41*G41/1000,1) -> -900
A42: 71241200-503 | B42: նախագծերի պատրաստում, ծախսերի գնահատում | E42: ԳՀ | F42: դրամ | G42: 19999997 | H42: 1 | I42: =+ROUNDUP(H42*G42/1000,1) -> 20000
A43: 1168-32007 | B43: Թատերահամերգային կազմակերպությունների նյութատեխնիկական բազայի համալրում | I43: =+I44 -> 804102.4
B44: ՄԱՍ I. ԱՊՐԱՆՔՆԵՐ | I44: =SUM(I45:I57) -> 804102.4
A45: 32351121-501 | B45: LED էկրան իր համակարգով | C45: ԷԱՃ | D45: լրակազմ | E45: ԷԱՃ | F45: լրակազմ | G45: 78700049 | H45: 1 | I45: =+ROUNDUP(H45*G45/1000,1) -> 78700.1
A46: 32331610-502 | B46: թատրոնի բեմի ձայնային համակարգ | C46: ԷԱՃ | D46: լրակազմ | E46: ԷԱՃ | F46: լրակազմ | G46: 398202000 | H46: 1 | I46: =+ROUNDUP(H46*G46/1000,1) -> 398202
A47: 38651220-502 | B47: տեսապրոյեկտորներ | C47: ԷԱՃ | D47: լրակազմ | E47: ԷԱՃ | F47: հատ | G47: 9720000 | H47: 1 | I47: =+ROUNDUP(H47*G47/1000,1) -> 9720
A48: 32331610-507 | B48: թատրոնի բեմի ձայնային համակարգ | C48: ԷԱՃ | D48: լրակազմ | E48: ԳՀ | F48: լրակազմ | G48: 52140000 | H48: 1 | I48: =+ROUNDUP(H48*G48/1000,1) -> 52140
A49: 31512420-501 | B49: ուղղորդված լույսով լուսարձակ | C49: ԷԱՃ | D49: հատ | E49: ԷԱՃ | F49: հատ | G49: 291760.61 | H49: 13 | I49: =+ROUNDUP(H49*G49/1000,1) -> 3792.9
A50: 30211200-502 | B50: դյուրակիր համակարգիչներ | C50: ԷԱՃ | D50: հատ | E50: ԷԱՃ | F50: հատ | G50: 445920 | H50: 1 | I50: =+ROUNDUP(H50*G50/1000,1) -> 446
A51: 32341110-503 | B51: բարձրախոսներ | C51: ԷԱՃ | D51: մետր | E51: ԳՀ | F51: հատ | G51: 348000 | H51: 1 | I51: =+ROUNDUP(H51*G51/1000,1) -> 348
A52: 31682130-502 | B52: ղեկավարման վահանակներ | C52: ԷԱՃ | D52: մետր | E52: ԷԱՃ | F52: հատ | G52: 3558000 | H52: 1 | I52: =+ROUNDUP(H52*G52/1000,1) -> 3558
A53: 31521700-508 | B53: թատրոնի բեմի լուսային համակարգ | C53: ԷԱՃ | D53: մետր | E53: ԷԱՃ | F53: լրակազմ | G53: 66331737 | H53: 1 | I53: =+ROUNDUP(H53*G53/1000,1) -> 66331.8
A54: 32331610-509 | B54: թատրոնի բեմի ձայնային համակարգ | C54: ԷԱՃ | D54: լրակազմ | E54: ԷԱՃ | F54: լրակազմ | G54: 35994737 | H54: 1 | I54: =+ROUNDUP(H54*G54/1000,1) -> 35994.8
A55: 31521700-509 | B55: թատրոնի բեմի լուսային համակարգ | C55: ԷԱՃ | D55: մետր | E55: ԲՄ | F55: լրակազմ | G55: 93221897 | H55: 1 | I55: =+ROUNDUP(H55*G55/1000,1) -> 93221.9
A56: 32331610-510 | B56: թատրոնի բեմի ձայնային համակարգ | C56: ԷԱՃ | D56: լրակազմ | E56: ԷԱՃ | F56: լրակազմ | G56: 43916875 | H56: 1 | I56: =+ROUNDUP(H56*G56/1000,1) -> 43916.9
A57: 39295300-506 | B57: ծալովի աթոռներ | C57: ԷԱՃ | D57: մետր | E57: ԳՀ | F57: հատ | G57: 70920 | H57: 250 | I57: =+ROUNDUP(H57*G57/1000,1) -> 17730
A58: Բաժին N 08 | B58: Խումբ N 02 | C58: Դաս N 07 | D58: Հուշարձանների և մշակութային արժեքների վերականգնում և պահպանում | I58: =+I59 -> -111367
A59: 1075-21001 | B59: Հուշարձանների ամրակայում, նորոգում և վերականգնում | I59: =+I60+I64 -> -111367
B60: ՄԱՍ II. ԱՇԽԱՏԱՆՔՆԵՐ | I60: =SUM(I61:I63) -> -80319.4
A61: 45451600-6 | B61: վերականգնողական աշխատանքներ | E61: ԲՄ | F61: դրամ | G61: 20000040 | H61: -1 | I61: =+ROUNDDOWN(H61*G61/1000,1) -> -20000
A62: 45451600-11 | B62: վերականգնողական աշխատանքներ | E62: ԲՄ | F62: դրամ | G62: 20000000 | H62: -1 | I62: =+ROUNDDOWN(H62*G62/1000,1) -> -20000
A63: 45451600-14 | B63: վերականգնողական աշխատանքներ | E63: ԲՄ | F63: դրամ | G63: 40319460 | H63: -1 | I63: =+ROUNDDOWN(H63*G63/1000,1) -> -40319.4
B64: ՄԱՍ III. ԾԱՌԱՅՈՒԹՅՈՒՆՆԵՐ | I64: =SUM(I65:I75) -> -31047.6
A65: 71351540-6 | B65: տեխնիկական հսկողության ծառայություններ | E65: ԳՀ | F65: դրամ | G65: =543184-143100 -> 400084 | H65: -1 | I65: =+ROUNDDOWN(H65*G65/1000,1) -> -400
A66: 71351540-11 | B66: տեխնիկական հսկողության ծառայություններ | E66: ԳՀ | F66: դրամ | G66: 400000 | H66: -1 | I66: =+ROUNDDOWN(H66*G66/1000,1) -> -400
A67: 71351540-14 | B67: տեխնիկական հսկողության ծառայություններ | E67: ԳՀ | F67: դրամ | I67: -502.5
A68: 98111140-6 | B68: հեղինակային հսկողության ծառայություններ | E68: ՄԱ | F68: դրամ | G68: =353070-67000 -> 286070 | H68: -1 | I68: =+ROUNDDOWN(H68*G68/1000,1) -> -286
A69: 98111140-11 | B69: հեղինակային հսկողության ծառայություններ | E69: ՄԱ | F69: դրամ | G69: 260000 | H69: -1 | I69: =+ROUNDDOWN(H69*G69/1000,1) -> -260
A70: 98111140-14 | B70: հեղինակային հսկողության ծառայություններ | E70: ՄԱ | F70: դրամ | G70: 524152 | H70: -1 | I70: =+ROUNDDOWN(H70*G70/1000,1) -> -524.1
A71: 71241200-8 | B71: նախագծերի պատրաստում, ծախսերի գնահատում | E71: ԳՀ | F71: դրամ | G71: 5000000 | H71: -1 | I71: =+ROUNDDOWN(H71*G71/1000,1) -> -5000
A72: 71241200-9 | B72: նախագծերի պատրաստում, ծախսերի գնահատում | E72: ԳՀ | F72: դրամ | G72: 7500000 | H72: -1 | I72: =+ROUNDDOWN(H72*G72/1000,1) -> -7500
A73: 50531140-8 | B73: փորձաքննության ծառայություններ | E73: ԳՀ | F73: դրամ | G73: 500000 | H73: -1 | I73: =+ROUNDDOWN(H73*G73/1000,1) -> -500
A74: 50531140-9 | B74: փորձաքննության ծառայություններ | E74: ԳՀ | F74: դրամ | G74: 675000 | H74: -1 | I74: =+ROUNDDOWN(H74*G74/1000,1) -> -675
A75: 45111410-1 | B75: հնէաբանական պեղումների վայրերում հողի փորման աշխատանքներ | E75: ԳՀ | F75: դրամ | G75: 15000000 | H75: -1 | I75: =+ROUNDDOWN(H75*G75/1000,1) -> -15000
A76: Բաժին N 09 | B76: Խումբ N 01 | C76: Դաս N 01 | D76: Նախադպրոցական կրթություն | I76: =+I77 -> 29138
A77: 1236-32001 | B77: Մանկապարտեզների նոր շենքերի կառուցում | I77: =+I78 -> 29138
B78: ՄԱՍ II. ԱՇԽԱՏԱՆՔՆԵՐ | I78: =+I79 -> 29138
A79: 45211228-14 | B79: շինարարական աշխատանքներ մանկապարտեզների համար | E79: ԲՄ | F79: դրամ | G79: 29137934 | H79: 1 | I79: =+ROUNDUP(H79*G79/1000,1) -> 29138
A80: Բաժին N 09 | B80: Խումբ N 02 | C80: Դաս N 01 | D80: Հիմնական ընդհանուր կրթություն | I80: =+I81+I99+I129 -> -6141629
A81: 1236-32003 | B81: Հանրակրթական դպրոցների նոր շենքերի կառուցում | I81: =+I82+I97 -> -1938065.7
B82: ՄԱՍ II. ԱՇԽԱՏԱՆՔՆԵՐ | I82: =SUM(I83:I96) -> -1939665.7
A83: 45211229-74 | B83: շինարարական աշխատանքներ դպրոցների համար | E83: ՀԲՄ | F83: դրամ | I83: -11962.7
A84: 45211229-77 | B84: շինարարական աշխատանքներ դպրոցների համար | E84: ՀԲՄ | F84: դրամ | I84: -53440.8
A85: 45211229-80 | B85: շինարարական աշխատանքներ դպրոցների համար | E85: ՀԲՄ | F85: դրամ | I85: -65640
A86: 45211229-85 | B86: շինարարական աշխատանքներ դպրոցների համար | E86: ՀԲՄ | F86: դրամ | I86: -27000
A87: 45211229-90 | B87: շինարարական աշխատանքներ դպրոցների համար | E87: ՀԲՄ | F87: դրամ | I87: -260000
A88: 45211229-94 | B88: շինարարական աշխատանքներ դպրոցների համար | E88: ՀԲՄ | F88: դրամ | I88: -55147.6
A89: 45211229-95 | B89: շինարարական աշխատանքներ դպրոցների համար | E89: ՀԲՄ | F89: դրամ | I89: -90564.6
A90: 45211229-96 | B90: շինարարական աշխատանքներ դպրոցների համար | E90: ՀԲՄ | F90: դրամ | I90: -26739
A91: 45211229-98 | B91: շինարարական աշխատանքներ դպրոցների համար | E91: ՀԲՄ | F91: դրամ | I91: -425600
A92: 45211229-103 | B92: շինարարական աշխատանքներ դպրոցների համար | E92: ՀԲՄ | F92: դրամ | I92: -250000
A93: 45211229-104 | B93: շինարարական աշխատանքներ դպրոցների համար | E93: ՀԲՄ | F93: դրամ | I93: -220971.4
A94: 45211229-108 | B94: շինարարական աշխատանքներ դպրոցների համար | E94: ՀԲՄ | F94: դրամ | I94: -248863.49
... A96: 45211229-112 | B96: շինարարական աշխատանքներ դպրոցների համար | E96: ՀԲՄ | F96: դրամ | I96: -45072.7
B97: ՄԱՍ III. ԾԱՌԱՅՈՒԹՅՈՒՆՆԵՐ | I97: =+I98 -> 1600
A98: 71241200 | B98: նախագծերի պատրաստում, ծախսերի գնահատում | E98: ԳՀ | F98: դրամ | G98: 1600000 | H98: 1 | I98: =+ROUNDUP(H98*G98/1000,1) -> 1600
A99: 1236-32005 | B99: Կրթահամալիրների կառուցում | I99: =+I100 -> -4202872.8
B100: ՄԱՍ II. ԱՇԽԱՏԱՆՔՆԵՐ | I100: =SUM(I101:I128) -> -4202872.8
A101: 45211229-127 | B101: շինարարական աշխատանքներ դպրոցների համար | E101: ՀԲՄ | F101: դրամ | I101: -10938.6
A102: 45211229-130 | B102: շինարարական աշխատանքներ դպրոցների համար | E102: ՀԲՄ | F102: դրամ | I102: -71714.9
A103: 45211229-131 | B103: շինարարական աշխատանքներ դպրոցների համար | E103: ՀԲՄ | F103: դրամ | I103: -26946.9
A104: 45211229-132 | B104: շինարարական աշխատանքներ դպրոցների համար | E104: ՀԲՄ | F104: դրամ | I104: -572341.5
A105: 45211229-135 | B105: շինարարական աշխատանքներ դպրոցների համար | E105: ՀԲՄ | F105: դրամ | I105: -147986.3
A106: 45211229-138 | B106: շինարարական աշխատանքներ դպրոցների համար | E106: ՀԲՄ | F106: դրամ | I106: -209469.7
...

Sheet Հավելված N 9
F1: Հավելված N 9
H2: ՀՀ կառավարության 2025 թվականի
H3: ______________ ի ___Ն որոշման
A6: ՀԱՅԱՍՏԱՆԻ ՀԱՆՐԱՊԵՏՈՒԹՅԱՆ 2025 ԹՎԱԿԱՆԻ ՊԵՏԱԿԱՆ ԲՅՈՒՋԵՈՎ ՆԱԽԱՏԵՍՎԱԾ՝ ՀԱՅԱՍՏԱՆԻ ՀԱՆՐԱՊԵՏՈՒԹՅԱՆ ԿԱՌԱՎԱՐՈՒԹՅԱՆ ՊԱՀՈՒՍՏԱՅԻՆ ՖՈՆԴԻՑ ՀԱՏԿԱՑՈՒՄՆԵՐ ԿԱՏԱՐԵԼՈՒ ՎԵՐԱԲԵՐՅԱԼ
A9: Գործառական դասիչը | D9: Ծրագրային դասիչը | F9: Բյուջետային հատկացումների գլխավոր կարգադրիչների, ծրագրերի, միջոցառումների և միջոցառումները կատարող պետական մարմինների անվանումները | G9: Ցուցանիշների փոփոխությունը (ավելացումները նշված են դրական նշանով, իսկ նվազեցումները` փակագծերում)
A10: Բաժին | B10: Խումբ | C10: Դաս | D10: Ծրագիր | E10: Միջոցառում | G10: Ինն ամիս | H10: Տարի
F11: ԸՆԴԱՄԵՆԸ | G11: =+G13+G33 -> 0 | H11: =+H13+H33 -> 0
F12: այդ թվում
F13: ՀՀ ԿԱՌԱՎԱՐՈՒԹՅՈՒՆ | G13: =+G14 -> -10883.9 | H13: =+H14 -> -23158.4
A14: 11 | F14: ՀԻՄՆԱԿԱՆ ԲԱԺԻՆՆԵՐԻՆ ՉԴԱՍՎՈՂ ՊԱՀՈՒՍՏԱՅԻՆ ՖՈՆԴԵՐ | G14: =+G16 -> -10883.9 | H14: =+H16 -> -23158.4
F15: այդ թվում`
B16: 01 | F16: ՀՀ կառավարության և համայնքների պահուստային ֆոնդ | G16: =+G18 -> -10883.9 | H16: =+H18 -> -23158.4
F17: այդ թվում`
C18: 01 | F18: ՀՀ կառավարության պահուստային ֆոնդ | G18: =+G20 -> -10883.9 | H18: =+H20 -> -23158.4
F19: այդ թվում`
F20: ՀՀ կառավարություն | G20: =+G22 -> -10883.9 | H20: =+H22 -> -23158.4
F21: այդ թվում`
D22: 1139 | E22: ՀՀ կառավարության պահուստային ֆոնդ | F22: ՀՀ կառավարության պահուստային ֆոնդ | G22: =+G24 -> -10883.9 | H22: =+H24 -> -23158.4
F23: այդ թվում`
E24: 11001 | F24: ՀՀ կառավարության պահուստային ֆոնդ | G24: =+G26 -> -10883.9 | H24: =+H26 -> -23158.4
F25: այդ թվում` ըստ կատարողների
F26: ՀՀ կառավարություն | G26: =+G28 -> -10883.9 | H26: =+H28 -> -23158.4
F27: այդ թվում՝ բյուջետային ծախսերի տնտեսագիտական դասակարգման հոդվածներ
F28: ԸՆԴԱՄԵՆԸ ԾԱԽՍԵՐ | G28: =+G29 -> -10883.9 | H28: =+H29 -> -23158.4
F29: ԸՆԹԱՑԻԿ ԾԱԽՍԵՐ | G29: =+G30 -> -10883.9 | H29: =+H30 -> -23158.4
F30: ԱՅԼ ԾԱԽՍԵՐ | G30: =+G31 -> -10883.9 | H30: =+H31 -> -23158.4
F31: - Պահուստային միջոցներ | G31: =+'Հավելված N 2'!G459 -> -10883.9 | H31: =+'Հավելված N 2'!H459 -> -23158.4
F33: ՀՀ ԿՐԹՈՒԹՅԱՆ, ԳԻՏՈՒԹՅԱՆ, ՄՇԱԿՈՒՅԹԻ ԵՎ ՍՊՈՐՏԻ ՆԱԽԱՐԱՐՈՒԹՅՈՒՆ | G33: =+G34 -> 10883.9 | H33: =+H34 -> 23158.4
A34: 09 | F34: ԿՐԹՈՒԹՅՈՒՆ | G34: =+G36+G57 -> 10883.9 | H34: =+H36+H57 -> 23158.4
F35: այդ թվում`
B36: 05 | F36: Ըստ մակարդակների չդասակարգվող կրթություն | G36: =+G38 -> 8486.9 | H36: =+H38 -> 20761.4
F37: այդ թվում`
C38: 01 | F38: Արտադպրոցական դաստիարակություն | G38: =+G40 -> 8486.9 | H38: =+H40 -> 20761.4
F39: այդ թվում`
F40: ՀՀ կրթության, գիտության, մշակույթի և սպորտի նախարարություն | G40: =+G42 -> 8486.9 | H40: =+H42 -> 20761.4
F41: այդ թվում`
D42: 1148 | E42: Արտադպրոցական դաստիարակության ծրագիր | G42: =+G44 -> 8486.9 | H42: =+H44 -> 20761.4
F43: այդ թվում`
E44: 32005 | F44: Արտադպրոցական դաստիարակություն իրականացնող կազմակերպությունների շենքային պայմանների բարելավում | G44: =+G46 -> 8486.9 | H44: =+H46 -> 20761.4
F45: այդ թվում` ըստ կատարողների
F46: ՀՀ կրթության, գիտության, մշակույթի և սպորտի նախարարություն | G46: =+G48 -> 8486.9 | H46: =+H48 -> 20761.4
F47: այդ թվում՝ բյուջետային ծախսերի տնտեսագիտական դասակարգման հոդվածներ
F48: ԸՆԴԱՄԵՆԸ ԾԱԽՍԵՐ | G48: =+G49+G53 -> 8486.9 | H48: =+H49+H53 -> 20761.4
F49: ԸՆԹԱՑԻԿ ԾԱԽՍԵՐ | G49: =+G50 -> 8486.9 | H49: =+H50 -> 8486.9
F50: ԴՐԱՄԱՇՆՈՐՀՆԵՐ | G50: =+G51 -> 8486.9 | H50: =+H51 -> 8486.9
F51: ԿԱՊԻՏԱԼ ԴՐԱՄԱՇՆՈՐՀՆԵՐ ՊԵՏԱԿԱՆ ՀԱՏՎԱԾԻ ԱՅԼ ՄԱԿԱՐԴԱԿՆԵՐԻՆ | G51: =+G52 -> 8486.9 | H51: =+H52 -> 8486.9
F52: - Կապիտալ դրամաշնորհներ պետական և համայնքային ոչ առևտրային կազմակերպություններին | G52: =+'Հավելված N 2'!G257 -> 8486.9 | H52: =+'Հավելված N 2'!H257 -> 8486.9
F53: ՈՉ ՖԻՆԱՆՍԱԿԱՆ ԱԿՏԻՎՆԵՐԻ ԳԾՈՎ ԾԱԽՍԵՐ | G53: =+G54 -> 0 | H53: =+H54 -> 12274.5
F54: ՀԻՄՆԱԿԱՆ ՄԻՋՈՑՆԵՐ | G54: =+G55 -> 0 | H54: =+H55 -> 12274.5
F55: ԱՅԼ ՀԻՄՆԱԿԱՆ ՄԻՋՈՑՆԵՐ | G55: =+G56 -> 0 | H55: =+H56 -> 12274.5
F56: - Նախագծահետազոտական ծախսեր | G56: =+'Հավելված N 2'!G261 -> 0 | H56: =+'Հավելված N 2'!H261 -> 12274.5
B57: 06 | F57: Կրթությանը տրամադրվող օժանդակ ծառայություններ | G57: =+G59 -> 2397 | H57: =+H59 -> 2397
F58: այդ թվում`
C59: 01 | F59: Կրթությանը տրամադրվող օժանդակ ծառայություններ | G59: =+G61 -> 2397 | H59: =+H61 -> 2397
F60: այդ թվում`
F61: ՀՀ կրթության, գիտության, մշակույթի և սպորտի նախարարություն | G61: =+G63 -> 2397 | H61: =+H63 -> 2397
F62: այդ թվում`
D63: 1111 | E63: Բարձրագույն և հետբուհական մասնագիտական կրթության ծրագիր | G63: =+G65 -> 2397 | H63: =+H65 -> 2397
F64: այդ թվում`
E65: 32003 | F65: Բարձրագույն ուսումնական հաստատությունների և «Զեյթուն» ուսանողկան ավան» հիմնադրամի նյութատեխնիկական բազայի համալրում և գույքով ապահովում | G65: =+G67 -> 2397 | H65: =+H67 -> 2397
F66: այդ թվում` ըստ կատարողների
F67: ՀՀ կրթության, գիտության, մշակույթի և սպորտի նախարարություն | G67: =+G69 -> 2397 | H67: =+H69 -> 2397
F68: այդ թվում՝ բյուջետային ծախսերի տնտեսագիտական դասակարգման հոդվածներ
F69: ԸՆԴԱՄԵՆԸ ԾԱԽՍԵՐ | G69: =+G70+G74 -> 2397 | H69: =+H70+H74 -> 2397
F70: ԸՆԹԱՑԻԿ ԾԱԽՍԵՐ | G70: =+G71 -> 2397 | H70: =+H71 -> 2397
F71: ԴՐԱՄԱՇՆՈՐՀՆԵՐ | G71: =+G72 -> 2397 | H71: =+H72 -> 2397
F72: ԿԱՊԻՏԱԼ ԴՐԱՄԱՇՆՈՐՀՆԵՐ ՊԵՏԱԿԱՆ ՀԱՏՎԱԾԻ ԱՅԼ ՄԱԿԱՐԴԱԿՆԵՐԻՆ | G72: =+G73 -> 2397 | H72: =+H73 -> 2397
F73: - Կապիտալ դրամաշնորհներ պետական և համայնքային ոչ առևտրային կազմակերպություններին | G73: =+'Հավելված N 2'!G318 -> 2397 | H73: =+'Հավելված N 2'!H318 -> 2397
