Workbook

Sheet 1
H1: Հավելված N 1
E2: ՀՀ կառավարության 2025 թվականի
E3: -----------------ի N -----------Ն որոշման
A5: «ՀԱՅԱՍՏԱՆԻ ՀԱՆՐԱՊԵՏՈՒԹՅԱՆ 2025 ԹՎԱԿԱՆԻ ՊԵՏԱԿԱՆ ԲՅՈՒՋԵԻ ՄԱՍԻՆ» ՕՐԵՆՔԻ N 1 ՀԱՎԵԼՎԱԾԻ N 2 ԱՂՅՈՒՍԱԿՈՒՄ ԿԱՏԱՐՎՈՂ ՎԵՐԱԲԱՇԽՈՒՄԸ, ՀԱՅԱՍՏԱՆԻ ՀԱՆՐԱՊԵՏՈՒԹՅԱՆ ԿԱՌԱՎԱՐՈՒԹՅԱՆ 2024 ԹՎԱԿԱՆԻ ԴԵԿՏԵՄԲԵՐԻ 27-Ի N 2060-Ն ՈՐՈՇՄԱՆ N 5 ՀԱՎԵԼՎԱԾԻ N 1 ԱՂՅՈՒՍԱԿՈՒՄ ԿԱՏԱՐՎՈՂ ՓՈՓՈԽՈՒԹՅՈՒՆՆԵՐԸ ԵՎ ԼՐԱՑՈՒՄՆԵՐԸ
H6: հազար դրամներով
A7: ԲԳԿ | B7: Ծրագրային դասիչը | D7: ԲԳԿ/Ծրագրի /միջոցառման անվանումը | E7: Ծրագրի նպատակը/Միջոցառման նկարագրույունը | F7: Վերջնական արդյունքի նկարագրությունը/Միջոցառման տեսակը | G7: Ցուցանիշների փոփոխությունները ավելացումները նշված են դրական նշանով, իսկ նվազեցումները՝ փակագծերում
B8: Ծրագիր | C8: Միջոցառում | G8: Ինն ամիս | H8: Տարի
A9: ԸՆԴԱՄԵՆԸ | G9: =G10 -> 0 | H9: =H10 -> 0
A10: ՀՀ աշխատանքի և սոցիալական հարցերի նախարարություն | G10: =G11+G13 -> 0 | H10: =H11+H13 -> 0
B11: 1160 | D11: Հաշմանդամություն ունեցող անձանց սոցիալական ներառում | E11: Հաշմանդամություն ունեցող անձանց հիմնական պահանջմունքների և սոցիալական կարիքների բավարարում և սոցիալական ներառում հասարակություն | F11: Հաշմանդամություն ունեցող անձանց մատուցվող սոցիալական ծառայությունների հասցեականության և արդյունավետության բարձրացում | G11: =G12 -> 2299.2 | H11: =H12 -> 11496
C12: 1160 - 11013 | D12: Հաշմանդամություն ունեցող անձանց շուրջօրյա խնամքի ծառայություներ համայնքահենք փոքր խմբային տներում | E12: Հաշմանդամություն ունեցող անձանց շուրջօրյա խնամքի ծառայություներ համայնքահենք փոքր խմբային տներում | F12: Ծառայությունների մատուցում | G12: =G14*-1 -> 2299.2 | H12: 11496
B13: 1032 | D13: Տարեց և (կամ) հաշմանդամություն ունեցող անձանց աջակցություն | E13: Տարեց և (կամ) հաշմանդամություն ունեցող անձանց խնամքի տրամադրում | F13: Տարեց և (կամ) հաշմանդամություն ունեցող անձանց խնամքի ծառայությունների որակի բարելավում | G13: =G14 -> -2299.2 | H13: =H14 -> -11496
C14: 1032 - 11001 | D14: Տարեց և (կամ) հաշմանդամություն ունեցող անձանց շուրջօրյա խնամքի ծառայություններ | E14: Բնակչության սոցիալական պաշտպանության հաստատություններում տարեց և (կամ) հաշմանդամություն ունեցող անձանց շուրջօրյա խնամքի տրամադրման ծառայություն | F14: Ծառայությունների մատուցում | G14: =H14/5*1 -> -2299.2 | H14: -11496

Sheet 2
H1: Հավելված N 2
F2: ՀՀ կառավարության 2025 թվականի
F3: -----------------ի N -----------Ն որոշման
A5: ՀԱՅԱՍՏԱՆԻ ՀԱՆՐԱՊԵՏՈՒԹՅԱՆ ԿԱՌԱՎԱՐՈՒԹՅԱՆ 2024 ԹՎԱԿԱՆԻ ԴԵԿՏԵՄԲԵՐԻ 27-Ի N 2060-Ն ՈՐՈՇՄԱՆ N N 3 ԵՎ 4 ՀԱՎԵԼՎԱԾՆԵՐՈՒՄ ԿԱՏԱՐՎՈՂ ՓՈՓՈԽՈՒԹՅՈՒՆՆԵՐԸ ԵՎ ԼՐԱՑՈՒՄՆԵՐԸ
G6: հազար դրամներով
A7: Գործառական դասիչը | D7: Ծրագրային դասիչը | F7: Բյուջետային ծախսերի գործառական դասակարգման բաժինների, խմբերի և դասերի, բյուջետային ծրագրերի միջոցառումների, բյուջետային հատկացումների գլխավոր կարգադրիչների անվանումները | G7: Ցուցանիշների փոփոխությունները ավելացումները նշված են դրական նշանով, իսկ նվազեցումները՝ փակագծերում
A8: Բաժինը | B8: Խումբը | C8: Դասը | D8: Ծրագիր | E8: Միջոցառում | G8: Ինն ամիս | H8: Տարի
F9: ԸՆԴԱՄԵՆԸ ԾԱԽՍԵՐ | G9: =G13 -> 0 | H9: =H13 -> 0
F10: այդ թվում`
F11: ՀՀ աշխատանքի և սոցիալական հարցերի նախարարություն | G11: =G13 -> 0 | H11: =H13 -> 0
F12: այդ թվում՝
A13: 10 | F13: ՍՈՑԻԱԼԱԿԱՆ ՊԱՇՏՊԱՆՈՒԹՅՈՒՆ | G13: =G15+G32 -> 0 | H13: =H15+H32 -> 0
F14: այդ թվում՝
B15: 01 | F15: Վատառողջություն և անաշխատունակություն | G15: =G17 -> 2299.2 | H15: =H17 -> 11496
F16: այդ թվում՝
C17: 02 | F17: Անաշխատունակություն | G17: =G19 -> 2299.2 | H17: =H19 -> 11496
F18: այդ թվում՝
F19: ՀՀ աշխատանքի և սոցիալական հարցերի նախարարություն | G19: =G21 -> 2299.2 | H19: =H21 -> 11496
F20: այդ թվում՝
D21: 1160 | F21: ='1'!D11 -> Հաշմանդամություն ունեցող անձանց սոցիալական ներառում | G21: =G23 -> 2299.2 | H21: =H23 -> 11496
F22: այդ թվում`
E23: 11013 | F23: Հաշմանդամություն ունեցող անձանց շուրջօրյա խնամքի ծառայություներ համայնքահենք փոքր խմբային տներում | G23: =G25 -> 2299.2 | H23: =H25 -> 11496
F24: այդ թվում` ըստ կատարողների
F25: ՀՀ աշխատանքի և սոցիալական հարցերի նախարարություն | G25: =G27 -> 2299.2 | H25: =H27 -> 11496
F26: այդ թվում` բյուջետային ծախսերի տնտեսագիտական դասակարգման հոդվածներ
F27: ԸՆԴԱՄԵՆԸ ԾԱԽՍԵՐ | G27: =G28 -> 2299.2 | H27: =H28 -> 11496
F28: ԸՆԹԱՑԻԿ ԾԱԽՍԵՐ | G28: =G29 -> 2299.2 | H28: =H29 -> 11496
F29: ԴՐԱՄԱՇՆՈՐՀՆԵՐ | G29: =G30 -> 2299.2 | H29: =H30 -> 11496
F30: Ընթացիկ դրամաշնորհներ պետական հատվածի այլ մակարդակներին | G30: =G31 -> 2299.2 | H30: =H31 -> 11496
F31: - Այլ ընթացիկ դրամաշնորհներ | G31: ='1'!G12 -> 2299.2 | H31: ='1'!H12 -> 11496
B32: 02 | F32: Ծերություն | G32: =G34 -> -2299.2 | H32: =H34 -> -11496
F33: այդ թվում՝
C34: 01 | F34: Ծերություն | G34: =G36 -> -2299.2 | H34: =H36 -> -11496
F35: այդ թվում՝
F36: ՀՀ աշխատանքի և սոցիալական հարցերի նախարարություն | G36: =G38 -> -2299.2 | H36: =H38 -> -11496
F37: այդ թվում՝
D38: 1032 | F38: ='1'!D13 -> Տարեց և (կամ) հաշմանդամություն ունեցող անձանց աջակցություն | G38: =G40 -> -2299.2 | H38: =H40 -> -11496
F39: այդ թվում՝
E40: 11001 | F40: Տարեց և (կամ) հաշմանդամություն ունեցող անձանց շուրջօրյա խնամքի ծառայություններ | G40: =G42 -> -2299.2 | H40: =H42 -> -11496
F41: այդ թվում` ըստ կատարողների
F42: ՀՀ աշխատանքի և սոցիալական հարցերի նախարարություն | G42: =G44 -> -2299.2 | H42: =H44 -> -11496
F43: այդ թվում` բյուջետային ծախսերի տնտեսագիտական դասակարգման հոդվածներ
F44: ԸՆԴԱՄԵՆԸ ԾԱԽՍԵՐ | G44: =G45 -> -2299.2 | H44: =H45 -> -11496
F45: ԸՆԹԱՑԻԿ ԾԱԽՍԵՐ | G45: =G46 -> -2299.2 | H45: =H46 -> -11496
F46: ԴՐԱՄԱՇՆՈՐՀՆԵՐ | G46: =G47 -> -2299.2 | H46: =H47 -> -11496
F47: Ընթացիկ դրամաշնորհներ պետական հատվածի այլ մակարդակներին | G47: =G48 -> -2299.2 | H47: =H48 -> -11496
F48: - Ընթացիկ դրամաշնորհներ պետական և համայնքների ոչ առևտրային կազմակերպություններին | G48: ='1'!G14 -> -2299.2 | H48: ='1'!H14 -> -11496

Sheet 3
H2: Հավելված N 3
H3: ՀՀ կառավարության 2025 թվականի
H4: -----------------ի N -----------Ն որոշման
B6: ՀԱՅԱՍՏԱՆԻ ՀԱՆՐԱՊԵՏՈՒԹՅԱՆ ԿԱՌԱՎԱՐՈՒԹՅԱՆ 2024 ԹՎԱԿԱՆԻ ԴԵԿՏԵՄԲԵՐԻ 27-Ի N 2060-Ն ՈՐՈՇՄԱՆ N 5 ՀԱՎԵԼՎԱԾԻ N 7 ԱՂՅՈՒՍԱԿՈՒՄ ԿԱՏԱՐՎՈՂ ԼՐԱՑՈՒՄՆԵՐԸ
H7: հազար դրամներով
B8: Ծրագրային դասիչ | D8: Բյուջետային գլխավոր կարգադրիչների, ծրագրերի, միջոցառումների, միջոցառումները կատարող պետական մարմինների և ուղղությունների անվանումները | G8: Միջոցառումները կատարող պետական մարմինների և դրամաշնորհ ստացող տնտեսավարող սուբյեկտների անվանումները | H8: Ցուցանիշների փոփոխությունները ավելացումները նշված են դրական նշանով, իսկ նվազեցումները՝ փակագծերում
B9: Ծրագիր | C9: Միջոցառում | H9: Տարի
B11: 1 | C11: 2 | D11: 3 | G11: 4 | H11: 5
B12: ՀՀ աշխատանքի և սոցիալական հարցերի նախարարություն | H12: =H16+H13 -> 0
B13: 1160 | C13: ='1'!D11 -> Հաշմանդամություն ունեցող անձանց սոցիալական ներառում | H13: =H14 -> 11496
C14: 11013 | D14: ='1'!D12 -> Հաշմանդամություն ունեցող անձանց շուրջօրյա խնամքի ծառայություներ համայնքահենք փոքր խմբային տներում | G14: ՀՀ աշխատանքի և սոցիալական հարցերի նախարարություն | H14: =SUM(H15:H15) -> 11496
G15: Մրցույթով ընտրված կազմակերպություն | H15: ='1'!H12 -> 11496
B16: 1032 | C16: ='1'!D13 -> Տարեց և (կամ) հաշմանդամություն ունեցող անձանց աջակցություն | H16: =H17 -> -11496
C17: 11001 | D17: ='1'!D14 -> Տարեց և (կամ) հաշմանդամություն ունեցող անձանց շուրջօրյա խնամքի ծառայություններ | G17: ՀՀ աշխատանքի և սոցիալական հարցերի նախարարություն | H17: =SUM(H18:H18) -> -11496
G18: ««Ձորակ» շուրջօրյա մասնագիտացված խնամքի կենտրոն» ՊՈԱԿ | H18: ='1'!H14 -> -11496

Sheet 4
K1: Հավելված N 4
K2: ՀՀ կառավարության 2025 թվականի
K3: -----------------ի N -----------Ն որոշման
A6: ՀԱՅԱՍՏԱՆԻ ՀԱՆՐԱՊԵՏՈՒԹՅԱՆ ԿԱՌԱՎԱՐՈՒԹՅԱՆ 2024 ԹՎԱԿԱՆԻ ԴԵԿՏԵՄԲԵՐԻ 27-Ի N 2060-Ն ՈՐՈՇՄԱՆ N 9 ՀԱՎԵԼՎԱԾՈՒՄ ԿԱՏԱՐՎՈՂ ՓՈՓՈԽՈՒԹՅՈՒՆՆԵՐԸ ԵՎ ԼՐԱՑՈՒՄՆԵՐԸ
J7: հազար դրամներով
A8: ԲԳԿ | B8: Ծրագիր | D8: Միջոցառում | H8: Իրականացնողը/ ակտիվն օգտագործողը/ շահառուի ընտրության չափորոշիչը | I8: Արդյունքային չափորոշիչը | J8: Ցուցանիշների փոփոխությունները ավելացումները նշված են դրական նշանով, իսկ նվազեցումները՝ փակագծերում
B9: Դասիչը | C9: Անվա-նումը | D9: Դասիչը | E9: Անվա-նումը | F9: Նկարագրու-թյունը | G9: Տեսակը | J9: Ինն ամիս | K9: Տարի
A10: ԸՆԴԱՄԵՆԸ | J10: =J11 -> 0 | K10: =K11 -> 0
A11: ՀՀ աշխատանքի և սոցիալական հարցերի նախարարություն | J11: =J12+J24 -> 0 | K11: =K12+K24 -> 0
B12: 1160 | C12: ='1'!D11 -> Հաշմանդամություն ունեցող անձանց սոցիալական ներառում | J12: =J13 -> 2299.2 | K12: =K13 -> 11496
D13: ='1'!C12 -> 1160 - 11013 | E13: ='1'!D12 -> Հաշմանդամություն ունեցող անձանց շուրջօրյա խնամքի ծառայություներ համայնքահենք փոքր խմբային տներում | J13: ='2'!G21 -> 2299.2 | K13: ='2'!H21 -> 11496
F14: ='1'!E12 -> Հաշմանդամություն ունեցող անձանց շուրջօրյա խնամքի ծառայություներ համայնքահենք փոքր խմբային տներում
G15: ='1'!F12 -> Ծառայությունների մատուցում
H16: Ծառայությունը մատուցողի անվանումը` Մասնագիտացված կազմակերպություններ
I17: Սպասարկվող անձանց (խնամվողների) թիվ, մարդ, այդ թվում | K17: 12
I18: ՀՀ Սպասարկվող անձանց (խնամվողների) թիվ, մարդ, այդ թվում՛ | K18: 12
I19: կին | K19: 6
I20: տղամարդ | K20: 6
I21: Փոքր տների թիվ, հատ | K21: 1
B24: 1032 | C24: ='1'!D13 -> Տարեց և (կամ) հաշմանդամություն ունեցող անձանց աջակցություն | J24: =J25+J31 -> -2299.2 | K24: =K25+K31 -> -11496
D25: ='1'!C14 -> 1032 - 11001 | E25: ='1'!D14 -> Տարեց և (կամ) հաշմանդամություն ունեցող անձանց շուրջօրյա խնամքի ծառայություններ | J25: ='1'!G14 -> -2299.2 | K25: ='1'!H14 -> -11496
F26: ='1'!E14 -> Բնակչության սոցիալական պաշտպանության հաստատություններում տարեց և (կամ) հաշմանդամություն ունեցող անձանց շուրջօրյա խնամքի տրամադրման ծառայություն
G27: ='1'!F14 -> Ծառայությունների մատուցում
H28: Ծառայությունը մատուցողի անվանումը` ՀՀ աշխատանքի և սոցիալական հարցերի նախարարություն և Հայկական Կարմիր Խաչի ընկերություն

Sheet 5
K1: Հավելված N 5
K2: ՀՀ կառավարության 2025 թվականի
K3: -----------------ի N -----------Ն որոշման
A6: ՀԱՅԱՍՏԱՆԻ ՀԱՆՐԱՊԵՏՈՒԹՅԱՆ ԿԱՌԱՎԱՐՈՒԹՅԱՆ 2024 ԹՎԱԿԱՆԻ ԴԵԿՏԵՄԲԵՐԻ 27-Ի N 2060-Ն ՈՐՈՇՄԱՆ N 9.1 ՀԱՎԵԼՎԱԾՈՒՄ ԿԱՏԱՐՎՈՂ ՓՈՓՈԽՈՒԹՅՈՒՆՆԵՐԸ ԵՎ ԼՐԱՑՈՒՄՆԵՐԸ
J7: հազար դրամներով
A8: ԲՍԿ | B8: Ծրագիր | D8: Միջոցառում | H8: Իրականացնողը/ ակտիվն օգտագործողը/ շահառուի ընտրության չափորոշիչը | I8: Արդյունքային չափորոշիչը | J8: Ցուցանիշների փոփոխությունները ավելացումները նշված են դրական նշանով, իսկ նվազեցումները՝ փակագծերում
B9: Դասիչը | C9: Անվա-նումը | D9: Դասիչը | E9: Անվա-նումը | F9: Նկարագրու-թյունը | G9: Տեսակը | J9: Ինն ամիս | K9: Տարի
A10: ԸՆԴԱՄԵՆԸ | J10: =J11 -> 0 | K10: =K11 -> 0
A11: ՀՀ աշխատանքի և սոցիալական հարցերի նախարարություն | J11: =J12+J23 -> 0 | K11: =K12+K23 -> 0
B12: ='4'!B12 -> 1160 | C12: ='4'!C12:I12 -> Հաշմանդամություն ունեցող անձանց սոցիալական ներառում | J12: =J13 -> 2299.2 | K12: =K13 -> 11496
D13: ='1'!C12 -> 1160 - 11013 | E13: ='1'!D12 -> Հաշմանդամություն ունեցող անձանց շուրջօրյա խնամքի ծառայություներ համայնքահենք փոքր խմբային տներում | J13: ='2'!G21 -> 2299.2 | K13: ='2'!H21 -> 11496
F14: ='1'!E12 -> Հաշմանդամություն ունեցող անձանց շուրջօրյա խնամքի ծառայություներ համայնքահենք փոքր խմբային տներում
G15: ='1'!F12 -> Ծառայությունների մատուցում
H16: ='4'!H16:K16 -> Ծառայությունը մատուցողի անվանումը` Մասնագիտացված կազմակերպություններ
I17: Սպասարկվող անձանց (խնամվողների) թիվ, մարդ, այդ թվում | K17: 12
I18: ='4'!I18 -> ՀՀ Սպասարկվող անձանց (խնամվողների) թիվ, մարդ, այդ թվում՛ | K18: ='4'!K18 -> 12
I19: ='4'!I19 -> կին | K19: ='4'!K19 -> 6
I20: ='4'!I20 -> տղամարդ | K20: ='4'!K20 -> 6
I21: ='4'!I21 -> Փոքր տների թիվ, հատ | K21: ='4'!K21 -> 1
B23: 1032 | C23: ='4'!C24:I24 -> Տարեց և (կամ) հաշմանդամություն ունեցող անձանց աջակցություն | J23: =J24+J29 -> -2299.2 | K23: =K24+K29 -> -11496
D24: ='4'!D25 -> 1032 - 11001 | E24: ='4'!E25:I25 -> Տարեց և (կամ) հաշմանդամություն ունեցող անձանց շուրջօրյա խնամքի ծառայություններ | J24: ='1'!G13 -> -2299.2 | K24: ='1'!H13 -> -11496
F25: ='4'!F26:K26 -> Բնակչության սոցիալական պաշտպանության հաստատություններում տարեց և (կամ) հաշմանդամություն ունեցող անձանց շուրջօրյա խնամքի տրամադրման ծառայություն
G26: ='4'!G27:K27 -> Ծառայությունների մատուցում
H27: ='4'!H28:K28 -> Ծառայությունը մատուցողի անվանումը` ՀՀ աշխատանքի և սոցիալական հարցերի նախարարություն և Հայկական Կարմիր Խաչի ընկերություն
