Workbook
Name _tab10: #REF!
Name _tab11: #REF!
Name _tab12: #REF!
Name _tab13: #REF!
Name _tab14: #REF!
Name _tab15: #REF!
Name _tab16: #REF!
Name _tab17: #REF!
Name _tab18: #REF!
Name _tab19: #REF!
Name _tab20: #REF!
Name _tab21: #REF!
Name _tab22: #REF!
Name _tab23: #REF!
Name _tab24: #REF!
Name _tab5: #REF!
Name _tab6: #REF!
Name _tab7: #REF!
Name _tab8: #REF!
Name _tab9: #REF!
Name a: #REF!
Name a: #REF!
Name AgencyCode: #REF!
Name AgencyCode: #REF!
Name AgencyCode: #REF!
Name AgencyCode: #REF!
Name AgencyCode: #REF!
Name AgencyCode: #REF!
Name AgencyName: #REF!
Name AgencyName: #REF!
Name åû: #REF!
Name davit: #REF!
Name Functional1: #REF!
Name Functional1: #REF!
Name ggg: #REF!
Name hav: #REF!
Name hav: #REF!
Name havelvac: #REF!
Name HAVELVAC10: #REF!
Name mas: #REF!
Name mass: #REF!
Name PANature: #REF!
Name PANature: #REF!
Name par_count: #REF!,#REF!,#REF!,#REF!,#REF!,#REF!,#REF!,#REF!,#REF!,#REF!,#REF!,#REF!,#REF!,#REF!,#REF!
Name par_qual: #REF!,#REF!,#REF!,#REF!,#REF!
Name par_time: #REF!,#REF!,#REF!,#REF!
Name par2.12s: #REF!
Name par2.4s: #REF!,#REF!,#REF!,#REF!,#REF!,#REF!,#REF!,#REF!,#REF!,#REF!,#REF!,#REF!,#REF!,#REF!,#REF!,#REF!
Name par2.5s: #REF!,#REF!
Name par2.6s: #REF!,#REF!,#REF!,#REF!
Name par2.7s: #REF!,#REF!
Name par2.9s: #REF!,#REF!,#REF!,#REF!,#REF!,#REF!,#REF!,#REF!,#REF!,#REF!,#REF!,#REF!,#REF!,#REF!,#REF!,#REF!
Name par4.10s: #REF!,#REF!
Name par4.11d: #REF!,#REF!,#REF!,#REF!,#REF!
Name par4.12d: #REF!
Name par4.13s: #REF!
Name par4.14: #REF!,#REF!,#REF!,#REF!,#REF!,#REF!
Name par4.15: #REF!,#REF!,#REF!
Name par4.16: #REF!,#REF!,#REF!
Name par4.17: #REF!,#REF!,#REF!,#REF!

Sheet Հավելված N 1
G1: Հավելված N 1
G2: ՀՀ կառավարության 2025 թվականի
G3: ______________ ի ___Ն որոշման
B6: «ՀԱՅԱUՏԱՆԻ ՀԱՆՐԱՊԵՏՈՒԹՅԱՆ 2025 ԹՎԱԿԱՆԻ ՊԵՏԱԿԱՆ ԲՅՈՒՋԵԻ ՄԱUԻՆ» ՀԱՅԱUՏԱՆԻ ՀԱՆՐԱՊԵՏՈՒԹՅԱՆ OՐԵՆՔԻ N 1 ՀԱՎԵԼՎԱԾԻ N 2 ԱՂՅՈՒՍԱԿՈՒՄ ԿԱՏԱՐՎՈՂ ՎԵՐԱԲԱՇԽՈՒՄԸ ԵՎ ՀԱՅԱՍՏԱՆԻ ՀԱՆՐԱՊԵՏՈՒԹՅԱՆ ԿԱՌԱՎԱՐՈՒԹՅԱՆ 2024 ԹՎԱԿԱՆԻ ԴԵԿՏԵՄԲԵՐԻ 27-Ի N 2060-Ն ՈՐՈՇՄԱՆ N 5 ՀԱՎԵԼՎԱԾԻ N 1 ԱՂՅՈՒՍԱԿՈՒՄ ԿԱՏԱՐՎՈՂ ՓՈՓՈԽՈՒԹՅՈՒՆՆԵՐԸ ԵՎ ԼՐԱՑՈՒՄՆԵՐԸ
I8: հազար դրամներով
B9: ԲԳԿ | C9: Ծրագրային դասիչը | E9: ԲԳԿ/Ծրագրի /միջոցառման անվանումը | F9: Ծրագրի նպատակը/Միջոցառման նկարագրությունը | G9: Վերջնական արդյունքի նկարագրությունը/Միջոցառման տեսակը | H9: Ցուցանիշների փոփոխությունը (ավելացումները նշված են դրական նշանով, իսկ նվազեցումները փակագծերում)
H10: Ինն ամիս | I10: Տարի
C11: Ծրագիր | D11: Միջոցառում
B12: ԸՆԴԱՄԵՆԸ | H12: =H14+H18 -> 0 | I12: =I14+I18 -> 0
B13: այդ թվում՝
B14: ՀՀ ԿՐԹՈՒԹՅԱՆ, ԳԻՏՈՒԹՅԱՆ, ՄՇԱԿՈՒՅԹԻ ԵՎ ՍՊՈՐՏԻ ՆԱԽԱՐԱՐՈՒԹՅՈՒՆ | H14: =H15 -> 0 | I14: =I15 -> 0
C15: 1240 | E15: Ակադեմիական քաղաքի ստեղծում | F15: Որակյալ բարձրագույն կրթության և հետազոտության համար արդիական կրթական միջավայրի ապահովման կամպուսային կլաստերների համախումբ | G15: «ՀՀ կրթության մինչև 2030 թվականի զարգացման պետական ծրագիրը հաստատելու մասին» ՀՀ օրենքի համաձայն նախատեսված է ակադեմիական քաղաքի ստեղծում | H15: =H16+H17 -> 0 | I15: =I16+I17 -> 0
D16: 1240 - 12001 | E16: «Ակադեմիական քաղաք» ծրագրի շրջանակներում գույքերի օտարման գործընթացների ապահովում | F16: «Ակադեմիական քաղաք» ծրագրի շրջանակներում գույքերի օտարման գործընթացների իրականացում | G16: Տրանսֆերտների տրամադրում | H16: 12000 | I16: 12000
D17: 1240 - 32001 | E17: Ակադեմիական քաղաքի նախագծման, կառուցման և բովանդակային գործընթացների ապահովում | F17: Չորս ակադեմիական կլաստերներից բաղկացած քաղաքի համապատասխան ենթակառուցվածքների ապահովման նպատակով նախագծանախահաշվային փաստաթղթերի կազմում և շինարարական աշխատանքների իրականացում | G17: Այլ պետական կազմակերպությունների կողմից օգտագործվող ոչ ֆինանսական ակտիվների հետ գործառնություններ | H17: -12000 | I17: -12000
B18: ՀՀ ԿԱՌԱՎԱՐՈՒԹՅՈՒՆ | H18: =H19 -> 0 | I18: =I19 -> 0
C19: 1139 | E19: ՀՀ կառավարության պահուստային ֆոնդ | F19: Պետական բյուջեում չկանխատեսված, ինչպես նաեւ բյուջետային երաշխիքների ապահովման ծախսերի ֆինանսավորման ապահովում | G19: Պահուստային ֆոնդի կառավարման արդյունավետության և թափանցիկության ապահովում | H19: =H20+H21 -> 0 | I19: =I20+I21 -> 0
D20: 1139 - 11001 | E20: ՀՀ կառավարության պահուստային ֆոնդ | F20: ՀՀ պետական բյուջեում նախատեսված ելքերի լրացուցիչ ֆինանսավորման, պետական բյուջեում չկանխատեսված ելքերի, ինչպես նաև բյուջետային երաշխիքների ապահովման ելքերի ֆինանսավորման ապահովում | G20: Ծառայությունների մատուցում | H20: 12000 | I20: 12000
D21: 1139 - 11001 | E21: ՀՀ կառավարության պահուստային ֆոնդ | F21: ՀՀ պետական բյուջեում նախատեսված ելքերի լրացուցիչ ֆինանսավորման, պետական բյուջեում չկանխատեսված ելքերի, ինչպես նաև բյուջետային երաշխիքների ապահովման ելքերի ֆինանսավորման ապահովում | G21: Ծառայությունների մատուցում | H21: -12000 | I21: -12000

Sheet Հավելված N 2
G1: Հավելված N 2 | K1: Հավելված N 2
G2: ՀՀ կառավարության 2025 թվականի | K2: ՀՀ կառավարության 2025 թվականի
G3: ______________ ի N ___Ն որոշման | K3: ______________ ի N ___Ն որոշման
A7: ՀԱՅԱՍՏԱՆԻ ՀԱՆՐԱՊԵՏՈՒԹՅԱՆ ԿԱՌԱՎԱՐՈՒԹՅԱՆ 2024 ԹՎԱԿԱՆԻ ԴԵԿՏԵՄԲԵՐԻ 27-Ի N 2060-Ն ՈՐՈՇՄԱՆ N 3 ԵՎ N 4 ՀԱՎԵԼՎԱԾՆԵՐՈՒՄ ԿԱՏԱՐՎՈՂ ՓՈՓՈԽՈՒԹՅՈՒՆՆԵՐԸ ԵՎ ԼՐԱՑՈՒՄՆԵՐԸ
H8: հազար դրամներով
A9: Գործառական դասիչը | D9: Ծրագրային դասիչը | F9: Բյուջետային հատկացումների գլխավոր կարգադրիչների, ծրագրերի, միջոցառումների և միջոցառումները կատարող պետական մարմինների անվանումները | G9: Ցուցանիշների փոփոխությունը (ավելացումները նշված են դրական նշանով, իսկ նվազեցումները փակագծերում)
A10: Բաժին | B10: Խումբ | C10: Դաս | D10: Ծրագիր | E10: Միջոցառում | G10: Ինն ամիս | H10: Տարի
F11: ԸՆԴԱՄԵՆԸ | G11: =G13+G42 -> 0 | H11: =H13+H42 -> 0
F12: այդ թվում՝
F13: ՀՀ ԿՐԹՈՒԹՅԱՆ, ԳԻՏՈՒԹՅԱՆ, ՄՇԱԿՈՒՅԹԻ ԵՎ ՍՊՈՐՏԻ ՆԱԽԱՐԱՐՈՒԹՅՈՒՆ | G13: =G14 -> 0 | H13: =H14 -> 0
A14: 01 | F14: ԸՆԴՀԱՆՈՒՐ ԲՆՈՒՅԹԻ ՀԱՆՐԱՅԻՆ ԾԱՌԱՅՈՒԹՅՈՒՆՆԵՐ | G14: =+G16 -> 0 | H14: =+H16 -> 0
F15: այդ թվում`
B16: 04 | F16: Ընդհանուր բնույթի հետազոտական աշխատանք | G16: =+G18 -> 0 | H16: =+H18 -> 0
F17: այդ թվում`
C18: 01 | F18: Ընդհանուր բնույթի հետազոտական աշխատանք | G18: =+G20 -> 0 | H18: =+H20 -> 0
F19: այդ թվում`
F20: ՀՀ կրթության, գիտության, մշակույթի և սպորտի նախարարություն | G20: =+G22 -> 0 | H20: =+H22 -> 0
F21: այդ թվում`
D22: 1240 | E22: Ակադեմիական քաղաքի ստեղծում | G22: =G24+G33 -> 0 | H22: =H24+H33 -> 0
F23: այդ թվում`
E24: 12001 | F24: «Ակադեմիական քաղաք» ծրագրի շրջանակներում գույքերի օտարման գործընթացների ապահովում | G24: =G26 -> 12000 | H24: =H26 -> 12000
F25: այդ թվում` ըստ կատարողների
F26: ՀՀ տարածքային կառավարման և ենթակառուցվածքների նախարարություն | G26: =G28 -> 12000 | H26: =H28 -> 12000
F27: այդ թվում` բյուջետային ծախսերի տնտեսագիտական դասակարգման հոդվածներ
F28: ԸՆԴԱՄԵՆԸ ԾԱԽՍԵՐ | G28: =G29 -> 12000 | H28: =H29 -> 12000
F29: ԸՆԹԱՑԻԿ ԾԱԽՍԵՐ | G29: =G30 -> 12000 | H29: =H30 -> 12000
F30: ԴՐԱՄԱՇՆՈՐՀՆԵՐ | G30: =G31 -> 12000 | H30: =H31 -> 12000
F31: Ընթացիկ դրամաշնորհներ պետական հատվածի այլ մակարդակներին | G31: =G32 -> 12000 | H31: =H32 -> 12000
F32: - Ընթացիկ սուբվենցիաներ համայնքներին | G32: ='Հավելված N 1'!H16 -> 12000 | H32: ='Հավելված N 1'!I16 -> 12000
E33: 32001 | F33: Ակադեմիական քաղաքի նախագծման, կառուցման և բովանդակային գործընթացների ապահովում | G33: =G35 -> -12000 | H33: =H35 -> -12000
F34: այդ թվում` ըստ կատարողների
F35: ՀՀ կրթության, գիտության, մշակույթի և սպորտի նախարարության բարձրագույն կրթության և գիտության կոմիտե | G35: =G37 -> -12000 | H35: =H37 -> -12000
F36: այդ թվում` բյուջետային ծախսերի տնտեսագիտական դասակարգման հոդվածներ
F37: ԸՆԴԱՄԵՆԸ ԾԱԽՍԵՐ | G37: =G38 -> -12000 | H37: =H38 -> -12000
F38: ՈՉ ՖԻՆԱՆՍԱԿԱՆ ԱԿՏԻՎՆԵՐԻ ԳԾՈՎ ԾԱԽՍԵՐ | G38: =G39 -> -12000 | H38: =H39 -> -12000
F39: ՀԻՄՆԱԿԱՆ ՄԻՋՈՑՆԵՐ | G39: =G40 -> -12000 | H39: =H40 -> -12000
F40: ԱՅԼ ՀԻՄՆԱԿԱՆ ՄԻՋՈՑՆԵՐ | G40: =G41 -> -12000 | H40: =H41 -> -12000
F41: - Նախագծահետազոտական ծախսեր | G41: ='Հավելված N 1'!H17 -> -12000 | H41: ='Հավելված N 1'!I17 -> -12000
F42: ՀՀ ԿԱՌԱՎԱՐՈՒԹՅՈՒՆ | G42: =G43 -> 0 | H42: =H43 -> 0
A43: 11 | F43: ՀԻՄՆԱԿԱՆ ԲԱԺԻՆՆԵՐԻՆ ՉԴԱՍՎՈՂ ՊԱՀՈՒՍՏԱՅԻՆ ՖՈՆԴԵՐ | G43: =G45 -> 0 | H43: =H45 -> 0
...

Sheet Հավելված N 3
G1: Հավելված N 3
G2: ՀՀ կառավարության 2025 թվականի
G3: ______________ ի N ___Ն որոշման
A5: «ՀԱՅԱUՏԱՆԻ ՀԱՆՐԱՊԵՏՈՒԹՅԱՆ 2025 ԹՎԱԿԱՆԻ ՊԵՏԱԿԱՆ ԲՅՈՒՋԵԻ ՄԱUԻՆ» ՀԱՅԱUՏԱՆԻ ՀԱՆՐԱՊԵՏՈՒԹՅԱՆ OՐԵՆՔԻ N 1 ՀԱՎԵԼՎԱԾԻ N 3 ԱՂՅՈՒՍԱԿՈՒՄ ԿԱՏԱՐՎՈՂ ՓՈՓՈԽՈՒԹՅՈՒՆԸ
G8: հազար դրամներով
A9: Ծրագրային դասիչ | C9: Բյուջետային գլխավոր կարգադրիչների, ծրագրերի, միջոցառումների և ուղղությունների անվանումները | D9: Ընդամենը | E9: Ցուցանիշների փոփոխությունը (նվազեցումները նշված են փակագծերում)
A10: Ծրագիր | B10: Միջոցառում | E10: Կառուցման աշխատանքներ | F10: Վերակառուցման, վերանորոգման և վերականգնման աշխատանքներ | G10: Նախագծահե- տազոտական, գեոդեզիա- քարտեզագրական աշխատանքներ | H10: Ոչ ֆինանսական այլ ակտիվների ձեռքբերում
C11: ԸՆԴԱՄԵՆԸ | D11: =SUM(E11:H11) -> -12000 | E11: =+E13 -> 0 | F11: =+F13 -> 0 | G11: =+G13 -> -12000 | H11: =+H13 -> 0
C12: այդ թվում՝
C13: ՀՀ ԿՐԹՈՒԹՅԱՆ, ԳԻՏՈՒԹՅԱՆ, ՄՇԱԿՈՒՅԹԻ ԵՎ ՍՊՈՐՏԻ ՆԱԽԱՐԱՐՈՒԹՅՈՒՆ | D13: =SUM(D15) -> -12000 | E13: =SUM(E15) -> 0 | F13: =SUM(F15) -> 0 | G13: =SUM(G15) -> -12000 | H13: =SUM(H15) -> 0
C14: այդ թվում`
A15: 1240 | B15: 32001 | C15: Ակադեմիական քաղաքի նախագծման, կառուցման և բովանդակային գործընթացների ապահովում | D15: =SUM(E15:H15) -> -12000 | E15: 0 | F15: 0 | G15: ='Հավելված N 1'!I17 -> -12000 | H15: 0

Sheet Հավելված N 4
E1: Հավելված N 4 | J1: Հավելված N 4
E2: ՀՀ կառավարության 2025 թվականի | I2: ՀՀ կառավարության 2025 թվականի
E3: ______________ ի ___Ն որոշման | J3: ______________ ի ___Ն որոշման
B6: ՀԱՅԱՍՏԱՆԻ ՀԱՆՐԱՊԵՏՈՒԹՅԱՆ ԿԱՌԱՎԱՐՈՒԹՅԱՆ 2024 ԹՎԱԿԱՆԻ ԴԵԿՏԵՄԲԵՐԻ 27-Ի N 2060-Ն ՈՐՈՇՄԱՆ N 5 ՀԱՎԵԼՎԱԾԻ N 2 ԱՂՅՈՒՍԱԿՈՒՄ ԿԱՏԱՐՎՈՂ ՓՈՓՈԽՈՒԹՅՈՒՆԸ
E7: հազար դրամներով
B8: Ծրագրային դասիչ | D8: Բյուջետային գլխավոր կարգադրիչների, ծրագրերի, միջոցառումների, միջոցառումները կատարող պետական մարմինների և ուղղությունների անվանումները | E8: Ցուցանիշների փոփոխությունը (նվազեցումները նշված են փակագծերում)
B9: Ծրագիր | C9: Միջոցառում | E9: Ինն ամիս | F9: Տարի
D10: ԸՆԴԱՄԵՆԸ | E10: =E12 -> -12000 | F10: =F12 -> -12000
D11: այդ թվում`
D12: ՀՀ ԿՐԹՈՒԹՅԱՆ, ԳԻՏՈՒԹՅԱՆ, ՄՇԱԿՈՒՅԹԻ ԵՎ ՍՊՈՐՏԻ ՆԱԽԱՐԱՐՈՒԹՅՈՒՆ | E12: =E14 -> -12000 | F12: =F14 -> -12000
D13: այդ թվում՝
B14: 1240 | C14: 32001 | D14: Ակադեմիական քաղաքի նախագծման, կառուցման և բովանդակային գործընթացների ապահովում | E14: =+E16 -> -12000 | F14: =+F16 -> -12000
D15: այդ թվում` ըստ կատարողների
D16: ՀՀ կրթության, գիտության, մշակույթի և սպորտի նախարարության բարձրագույն կրթության և գիտության կոմիտե | E16: ='Հավելված N 1'!H17 -> -12000 | F16: ='Հավելված N 1'!I17 -> -12000

Sheet Հավելված N 5
E1: Հավելված N 5
C2: ՀՀ կառավարության 2025 թվականի
C3: -----------------ի N -----------Ն որոշման
A5: «ՀԱՅԱՍՏԱՆԻ ՀԱՆՐԱՊԵՏՈՒԹՅԱՆ 2025 ԹՎԱԿԱՆԻ ՊԵՏԱԿԱՆ ԲՅՈՒՋԵԻ ՄԱՍԻՆ» ՕՐԵՆՔԻ N 1 ՀԱՎԵԼՎԱԾԻ N 7 ԱՂՅՈՒՍԱԿՈՒՄ ԵՎ ՀԱՅԱՍՏԱՆԻ ՀԱՆՐԱՊԵՏՈՒԹՅԱՆ ԿԱՌԱՎԱՐՈՒԹՅԱՆ 2024 ԹՎԱԿԱՆԻ ԴԵԿՏԵՄԲԵՐԻ 27-Ի N 2060-Ն ՈՐՈՇՄԱՆ N 5 ՀԱՎԵԼՎԱԾԻ N 6 ԱՂՅՈՒՍԱԿՈՒՄ ԿԱՏԱՐՎՈՂ ՓՈՓՈԽՈՒԹՅՈՒՆՆԵՐԸ ԵՎ ԼՐԱՑՈՒՄՆԵՐԸ
E6: հազար դրամներով
A7: Ծրագրային դասիչը | C7: Հատկացումների տրամադրման նպատակները և բյուջետային գլխավոր կարգադրիչների, ծրագրերի, միջոցառումների և կատարող պետական մարմնի անվանումները | D7: Ցուցանիշների փոփոխություն (ավելացումները նշված են դրական նշանով)
A8: Ծրագիր | B8: Միջոցառում | D8: Ինն ամիս | E8: Տարի
C9: Ընդամենը | D9: =+D11 -> 12000 | E9: =+E11 -> 12000
A10: այդ թվում`
A11: - Ընթացիկ սուբվենցիաներ համայնքներին | D11: =+D13 -> 12000 | E11: =+E13 -> 12000
A12: այդ թվում`
A13: ՀՀ կրթության, գիտության, մշակույթի և սպորտի նախարարություն | D13: =+D14 -> 12000 | E13: =+E14 -> 12000
A14: 1240 | C14: Ակադեմիական քաղաքի ստեղծում | D14: =+D16 -> 12000 | E14: =+E16 -> 12000
C15: այդ թվում`
B16: 12001 | C16: «Ակադեմիական քաղաք» ծրագրի շրջանակներում գույքերի օտարման գործընթացների ապահովում | D16: =+D18 -> 12000 | E16: =+E18 -> 12000
C17: այդ թվում` ըստ կատարողների
C18: ՀՀ տարածքային կառավարման և ենթակառուցվածքների նախարարություն | D18: ='Հավելված N 1'!H16 -> 12000 | E18: ='Հավելված N 1'!I16 -> 12000

Sheet Հավելված N 6
D2: Հավելված N 6
D3: ՀՀ կառավարության 2025 թվականի
D4: ______________ ի ___Ն որոշման
B7: ՀԱՅԱՍՏԱՆԻ ՀԱՆՐԱՊԵՏՈՒԹՅԱՆ ԿԱՌԱՎԱՐՈՒԹՅԱՆ 2024 ԹՎԱԿԱՆԻ ԴԵԿՏԵՄԲԵՐԻ 27-Ի N 2060-Ն ՈՐՈՇՄԱՆ N 8 ՀԱՎԵԼՎԱԾՈՒՄ ԿԱՏԱՐՎՈՂ ԼՐԱՑՈՒՄՆԵՐԸ
E8: հազար դրամներով
B9: Ծրագրային դասիչը | D9: Ծրագրերի, միջոցառումների անվանումները | E9: Ցուցանիշների փոփոխություն (ավելացումները նշված են դրական նշանով)
B10: Ծրագիր | C10: Միջոցառում | E10: Գումարը
D11: ԸՆԴԱՄԵՆԸ ԾԱԽՍԵՐ | E11: =E13 -> 12000
D12: այդ թվում՝
B13: 1240 | D13: Ակադեմիական քաղաքի ստեղծում | E13: =E14 -> 12000
C14: 12001 | D14: «Ակադեմիական քաղաք» ծրագրի շրջանակներում գույքերի օտարման գործընթացների ապահովում | E14: ='Հավելված N 1'!I16 -> 12000

Sheet Հավելված N 7
K1: Հավելված N 7
K2: ՀՀ կառավարության 2025 թվականի
K3: ______________ ի ___Ն որոշման
B6: ՀԱՅԱՍՏԱՆԻ ՀԱՆՐԱՊԵՏՈՒԹՅԱՆ ԿԱՌԱՎԱՐՈՒԹՅԱՆ 2024 ԹՎԱԿԱՆԻ ԴԵԿՏԵՄԲԵՐԻ 27-Ի N 2060-Ն ՈՐՈՇՄԱՆ N 9 ՀԱՎԵԼՎԱԾՈՒՄ ԿԱՏԱՐՎՈՂ ՓՈՓՈԽՈՒԹՅՈՒՆՆԵՐԸ ԵՎ ԼՐԱՑՈՒՄՆԵՐԸ
B8: ԲԳԿ | C8: Ծրագիր | E8: Միջոցառում | I8: Իրականացնողը/ ակտիվն օգտագործողը/ շահառուի ընտրության չափորոշիչը | J8: Արդյունքային չափորոշիչը | K8: Ցուցանիշների փոփոխությունը (ավելացումները նշված են դրական նշանով, իսկ նվազեցումները՝ փակագծերում)
C9: Դասիչը | D9: Անվանումը | E9: Դասիչը | F9: Անվանումը | G9: Նկարագրությունը | H9: Տեսակը | K9: Ինն ամիս | L9: Տարի
B10: ԸՆԴԱՄԵՆԸ | K10: =K12+K22 -> 0 | L10: =+L12 -> 0
B11: այդ թվում՝
B12: ՀՀ կրթության, գիտության, մշակույթի և սպորտի նախարարություն | K12: =K13 -> 0 | L12: =L13 -> 0
C13: 1240 | D13: Ակադեմիական քաղաքի ստեղծում | K13: =K14+K18 -> 0 | L13: =L14+L18 -> 0
E14: 1240 - 12001 | F14: «Ակադեմիական քաղաք» ծրագրի շրջանակներում գույքերի օտարման գործընթացների ապահովում | K14: ='Հավելված N 1'!H16 -> 12000 | L14: ='Հավելված N 1'!I16 -> 12000
G15: «Ակադեմիական քաղաք» ծրագրի շրջանակներում գույքերի օտարման գործընթացների իրականացում
H16: Տրանսֆերտների տրամադրում
I17: Ծառայությունը մատուցողի անվանումը` Մասնագիտացված կազմակերպություն
E18: 1240 - 32001 | F18: Ակադեմիական քաղաքի նախագծման, կառուցման և բովանդակային գործընթացների ապահովում | K18: ='Հավելված N 1'!H17 -> -12000 | L18: ='Հավելված N 1'!I17 -> -12000
G19: Չորս ակադեմիական կլաստերներից բաղկացած քաղաքի համապատասխան ենթակառուցվածքների ապահովման նպատակով նախագծանախահաշվային փաստաթղթերի կազմում և շինարարական աշխատանքների իրականացում
H20: Այլ պետական կազմակերպությունների կողմից օգտագործվող ոչ ֆինանսական ակտիվների հետ գործառնություններ
I21: Ակտիվն օգտագործող կազմակերպության անվանումը` «Գնումների մասին» ՀՀ օրենքի համաձայն ընտրված կազմակերպություններ, մրցույթով ընտրված կազմակերպություններ, մասնագիտացված կազմակերպություններ
B22: ՀՀ կառավարություն | K22: =K23 -> 0 | L22: =L23 -> 0
C23: 1139 | D23: ՀՀ կառավարության պահուստային ֆոնդ | K23: =K24+K28 -> 0 | L23: =L24+L28 -> 0
E24: 1139 - 11001 | F24: ՀՀ կառավարության պահուստային ֆոնդ | K24: ='Հավելված N 1'!H20 -> 12000 | L24: ='Հավելված N 1'!I20 -> 12000
G25: ՀՀ պետական բյուջեում նախատեսված ելքերի լրացուցիչ ֆինանսավորման, պետական բյուջեում չկանխատեսված ելքերի, ինչպես նաև բյուջետային երաշխիքների ապահովման ելքերի ֆինանսավորման ապահովում
H26: Ծառայությունների մատուցում
I27: Ծառայությունը մատուցողի անվանումը` ՀՀ կառավարություն
E28: 1139 - 11001 | F28: ՀՀ կառավարության պահուստային ֆոնդ | K28: ='Հավելված N 1'!H21 -> -12000 | L28: ='Հավելված N 1'!I21 -> -12000
G29: ՀՀ պետական բյուջեում նախատեսված ելքերի լրացուցիչ ֆինանսավորման, պետական բյուջեում չկանխատեսված ելքերի, ինչպես նաև բյուջետային երաշխիքների ապահովման ելքերի ֆինանսավորման ապահովում
H30: Ծառայությունների մատուցում
I31: Ծառայությունը մատուցողի անվանումը` ՀՀ կառավարություն

Sheet Հավելված N 8
K1: Հավելված N 8
K2: ՀՀ կառավարության 2025 թվականի
K3: ______________ ի ___Ն որոշման
B6: ՀԱՅԱՍՏԱՆԻ ՀԱՆՐԱՊԵՏՈՒԹՅԱՆ ԿԱՌԱՎԱՐՈՒԹՅԱՆ 2024 ԹՎԱԿԱՆԻ ԴԵԿՏԵՄԲԵՐԻ 27-Ի N 2060-Ն ՈՐՈՇՄԱՆ N 9.1 ՀԱՎԵԼՎԱԾՈՒՄ ԿԱՏԱՐՎՈՂ ՓՈՓՈԽՈՒԹՅՈՒՆՆԵՐԸ ԵՎ ԼՐԱՑՈՒՄՆԵՐԸ
B9: ԲՍԿ | C9: Ծրագիր | E9: Միջոցառում | I9: Իրականացնողը/ ակտիվն օգտագործողը/ շահառուի ընտրության չափորոշիչը | J9: Արդյունքային չափորոշիչը | K9: Ցուցանիշների փոփոխությունը (ավելացումները նշված են դրական նշանով, իսկ նվազեցումները՝ փակագծերում)
C10: Դասիչը | D10: Անվանումը | E10: Դասիչը | F10: Անվանումը | G10: Նկարագրությունը | H10: Տեսակը | K10: Ինն ամիս | L10: Տարի
B11: ԸՆԴԱՄԵՆԸ | K11: =K13+K19 -> 0 | L11: =L13+L19 -> 0
B12: այդ թվում՝
B13: ՀՀ տարածքային կառավարման և ենթակառուցվածքների նախարարություն | K13: =K14 -> 12000 | L13: =L14 -> 12000
C14: 1240 | D14: Ակադեմիական քաղաքի ստեղծում | K14: =K15 -> 12000 | L14: =L15 -> 12000
E15: 1240 - 12001 | F15: «Ակադեմիական քաղաք» ծրագրի շրջանակներում գույքերի օտարման գործընթացների ապահովում | K15: ='Հավելված N 1'!H16 -> 12000 | L15: ='Հավելված N 1'!I16 -> 12000
G16: «Ակադեմիական քաղաք» ծրագրի շրջանակներում գույքերի օտարման գործընթացների իրականացում
H17: Տրանսֆերտների տրամադրում
I18: Ծառայությունը մատուցողի անվանումը` Մասնագիտացված կազմակերպություն
B19: ՀՀ կրթության, գիտության, մշակույթի և սպորտի նախարարության բարձրագույն կրթության և գիտության կոմիտե | K19: =K20 -> -12000 | L19: =L20 -> -12000
C20: 1240 | D20: Ակադեմիական քաղաքի ստեղծում | K20: =K21 -> -12000 | L20: =L21 -> -12000
E21: 1240 - 32001 | F21: Ակադեմիական քաղաքի նախագծման, կառուցման և բովանդակային գործընթացների ապահովում | K21: ='Հավելված N 1'!H17 -> -12000 | L21: ='Հավելված N 1'!I17 -> -12000
G22: Չորս ակադեմիական կլաստերներից բաղկացած քաղաքի համապատասխան ենթակառուցվածքների ապահովման նպատակով նախագծանախահաշվային փաստաթղթերի կազմում և շինարարական աշխատանքների իրականացում
H23: Այլ պետական կազմակերպությունների կողմից օգտագործվող ոչ ֆինանսական ակտիվների հետ գործառնություններ
I24: Ակտիվն օգտագործող կազմակերպության անվանումը` «Գնումների մասին» ՀՀ օրենքի համաձայն ընտրված կազմակերպություններ, մրցույթով ընտրված կազմակերպություններ, մասնագիտացված կազմակերպություններ
B25: ՀՀ կառավարություն | K25: =K26 -> 0 | L25: =L26 -> 0
C26: 1139 | D26: ՀՀ կառավարության պահուստային ֆոնդ | K26: =K27+K31 -> 0 | L26: =L27+L31 -> 0
E27: 1139 - 11001 | F27: ՀՀ կառավարության պահուստային ֆոնդ | K27: ='Հավելված N 1'!H20 -> 12000 | L27: ='Հավելված N 1'!I20 -> 12000
G28: ՀՀ պետական բյուջեում նախատեսված ելքերի լրացուցիչ ֆինանսավորման, պետական բյուջեում չկանխատեսված ելքերի, ինչպես նաև բյուջետային երաշխիքների ապահովման ելքերի ֆինանսավորման ապահովում
H29: Ծառայությունների մատուցում
I30: Ծառայությունը մատուցողի անվանումը` ՀՀ կառավարություն
E31: 1139 - 11001 | F31: ՀՀ կառավարության պահուստային ֆոնդ | K31: ='Հավելված N 1'!H21 -> -12000 | L31: ='Հավելված N 1'!I21 -> -12000
G32: ՀՀ պետական բյուջեում նախատեսված ելքերի լրացուցիչ ֆինանսավորման, պետական բյուջեում չկանխատեսված ելքերի, ինչպես նաև բյուջետային երաշխիքների ապահովման ելքերի ֆինանսավորման ապահովում
H33: Ծառայությունների մատուցում
I34: Ծառայությունը մատուցողի անվանումը` ՀՀ կառավարություն

Sheet Հավելված N 9
G2: Հավելված N 9
G3: ՀՀ կառավարության 2025 թվականի
G4: ______________ ի ___Ն որոշման
A7: ՀԱՅԱՍՏԱՆԻ ՀԱՆՐԱՊԵՏՈՒԹՅԱՆ ԿԱՌԱՎԱՐՈՒԹՅԱՆ 2024 ԹՎԱԿԱՆԻ ԴԵԿՏԵՄԲԵՐԻ 27-Ի N 2060-Ն N 10 ՀԱՎԵԼՎԱԾՈՒՄ ԿԱՏԱՐՎՈՂ ՓՈՓՈԽՈՒԹՅՈՒՆՆԵՐԸ
A11: Կոդը | B11: Անվանումը | E11: Գնման ձևը | F11: Չափման միավորը | G11: Ցուցանիշների փոփոխությունը (նվազեցումները նշված են փակագծերում)
G12: Միավորի գինը | H12: Քանակը | I12: Գումարը (հազար դրամ)
A13: ՀՀ կրթության, գիտության, մշակույթի և սպորտի նախարարության բարձրագույն կրթության և գիտության կոմիտե | I13: =+I14 -> -12000
A14: Բաժին N 01 | B14: Խումբ N 04 | C14: Դաս N 01 | D14: Ընդհանուր բնույթի հետազոտական աշխատանք | I14: =+I15 -> -12000
A15: 1240 32001 | B15: Ակադեմիական քաղաքի նախագծման, կառուցման և բովանդակային գործընթացների ապահովում | I15: =I16 -> -12000
B16: ՄԱՍ III. ԾԱՌԱՅՈՒԹՅՈՒՆՆԵՐ | I16: =I17 -> -12000
A17: 71241200-2 | B17: նախագծերի պատրաստում, ծախսերի գնահատում | E17: ՄԱ | F17: դրամ | I17: ='Հավելված N 1'!I17 -> -12000
