Workbook

Sheet 1..
J1: Հավելված N 1
A2: ՀԱՅԱUՏԱՆԻ ՀԱՆՐԱՊԵՏՈՒԹՅԱՆ ԿԱՌԱՎԱՐՈՒԹՅԱՆ 2018 ԹՎԱԿԱՆԻ ԴԵԿՏԵՄԲԵՐԻ 27-Ի N 1515-Ն ՈՐՈՇՄԱՆ N 3 ՀԱՎԵԼՎԱԾՈՒՄ ԿԱՏԱՐՎՈՂ ՓՈՓՈԽՈՒԹՅՈՒՆԸ
J3: հազար դրամներով
A4: Գործառական դասիչը | D4: Ծրագրային դասիչը | F4: Բյուջետային ծախսերի գործառական դասակարգման բաժինների, խմբերի և դասերի, բյուջետային ծրագրերի միջոցառումների, բյուջետային հատկացումների գլխավոր կարգադրիչների անվանումները | G4: Ցուցանիշների փոփոխություն (ծախսերի ավելացումը ներկայացված է դրական նշանով)
A5: Բաժին | B5: Խումբ | C5: Դաս | D5: Ծրագիր | E5: Միջոցա ռում
G6: Առաջին եռամսյակ | H6: Առաջին կիսամյակ | I6: Ինն ամիս | J6: Տարի
F7: ԸՆԴԱՄԵՆԸ ԾԱԽՍԵՐ | G7: =G9 -> #N/A | H7: =H9 -> #N/A | I7: =I9 -> #N/A | J7: =J9 -> #N/A
F8: այդ թվում`
A9: 03 | F9: ՀԱՍԱՐԱԿԱԿԱՆ ԿԱՐԳ, ԱՆՎՏԱՆԳՈՒԹՅՈՒՆ ԵՎ ԴԱՏԱԿԱՆ ԳՈՐԾՈՒՆԵՈՒԹՅՈՒՆ | G9: =G11 -> #N/A | H9: =H11 -> #N/A | I9: =I11 -> #N/A | J9: =J11 -> #N/A
F10: այդ թվում`
B11: 01 | F11: Հասարակական կարգ և անվտանգություն | G11: =G13 -> #N/A | H11: =H13 -> #N/A | I11: =I13 -> #N/A | J11: =J13 -> #N/A
F12: այդ թվում`
C13: 01 | F13: ՀՀ ոստիկանություն | G13: =ROUND(SUM(G15:G16),5) -> #N/A | H13: =ROUND(SUM(H15:H16),5) -> #N/A | I13: =ROUND(SUM(I15:I16),5) -> #N/A | J13: =ROUND(SUM(J15:J16),5) -> #N/A
F14: այդ թվում`
D15: 9009 | E15: 11001 | F15: Ճանապարհային երթևեկության անվտանգության ապահովում և ճանապարհատրանսպորտային պատահարների կանխարգելում | G15: =+VLOOKUP(E15,'N1'!B:C,3,FALSE) -> #N/A | H15: =+VLOOKUP(E15,'N1'!B:C,4,FALSE) -> #N/A | I15: =+VLOOKUP(E15,'N1'!B:C,5,FALSE) -> #N/A | J15: =+VLOOKUP(E15,'N1'!B:C,6,FALSE) -> #N/A
D16: 9009 | E16: 31001 | F16: ՀՀ ոստիկանության «Ճանապարհային ոստիկանությունե ծառայության կարիքի բավարարում | G16: =+VLOOKUP(E16,'N1'!B:C,3,FALSE) -> #N/A | H16: =+VLOOKUP(E16,'N1'!B:C,4,FALSE) -> #N/A | I16: =+VLOOKUP(E16,'N1'!B:C,5,FALSE) -> #N/A | J16: =+VLOOKUP(E16,'N1'!B:C,6,FALSE) -> #N/A
A18: 6 և 7 շիթերը միավորել և մեկ միասնական հավելված սարքել, և հավելվածի վերնագրում ավելացնել N 3 և N 4 հավելվածներում նախատեսվող փոփոխություններ անվանումները

Sheet N1
G1: Հավելված N 1
G2: ՀՀ կառավարության 2025 թվականի ______ թիվ________Ն որոշման
A3: «ՀԱՅԱUՏԱՆԻ ՀԱՆՐԱՊԵՏՈՒԹՅԱՆ 2025 ԹՎԱԿԱՆԻ ՊԵՏԱԿԱՆ ԲՅՈՒՋԵԻ ՄԱUԻՆ» OՐԵՆՔԻ N 1 ՀԱՎԵԼՎԱԾԻ N 2 ԱՂՅՈՒՍԱԿՈՒՄ ԿԱՏԱՐՎՈՂ ՎԵՐԱԲԱՇԽՈՒՄԸ ԵՎ ՀԱՅԱUՏԱՆԻ ՀԱՆՐԱՊԵՏՈՒԹՅԱՆ ԿԱՌԱՎԱՐՈՒԹՅԱՆ 2024 ԹՎԱԿԱՆԻ ԴԵԿՏԵՄԲԵՐԻ 27-Ի N 2060-Ն ՈՐՈՇՄԱՆ N 5 ՀԱՎԵԼՎԱԾԻ N 1 ԱՂՅՈՒՍԱԿՈՒՄ ԿԱՏԱՐՎՈՂ ՓՈՓՈԽՈՒԹՅՈՒՆՆԵՐԸ
G4: հազար դրամներով
A5: ԲԳԿ | B5: Ծրագրային դասիչը | D5: ԲԳԿ/Ծրագրի /միջոցառման անվանումը | E5: Ծրագրի նպատակը/Միջոցառման նկարագրությունը | F5: Վերջնական արդյունքի նկարագրությունը/Միջոցառման տեսակը | G5: Ցուցանիշների փոփոխություն (ավելացումները նշված են դրական նշանով, իսկ նվազեցումները՝ փակագծերում)
G6: Ինն ամիս | H6: Տարի
B7: Ծրագիր | C7: Միջոցառում
A8: Ընդամենը | G8: =+G9 -> 0 | H8: =+H9 -> 0
A9: ՀՀ Ներքին գործերի նախարարություն | G9: =G10+G14 -> 0 | H9: =H10+H14 -> 0
B10: 1234 | D10: Ներքին գործերի նախարարության ոլորտի քաղաքակնության մշակում, կառավարում կենտրոնացված միջոցառումների մոնիթորինգ և վերահսկողություն | E10: Ներքին գործերի համակարգի՝ ոստիկանության, փրկարար ծառայության և քաղաքացիական ծառայության կազմակերպաիրավական կատարելագործում դրանց գործունեության նկատմամբ հասարակիական կարծիքի բարելավում և վստահության բարձրացում | F10: Արդի ամրտահրավերներին դիմակայող պետական և հասրակական պահանջարկը բավարարող թափանցիկ, բարեվարք հաշվետվողական գործունեության ապահովում | G10: =G11+G12+G13 -> 167208.32 | H10: =H11+H12+H13 -> 167208.32
C11: 1234-11009 | D11: Հասարակական կարգի պահպանություն | E11: Հասարակական կարգի պահպանություն և հասարակական անվտանգության ապահովում | F11: Ծառայությունների մատուցում | G11: ='2'!G19 -> -6854.72 | H11: ='2'!H19 -> -6854.72
C12: 1234 - 31001 | D12: ՀՀ ՆԳՆ տրանսպորտային միջոցներով ապահովվածության բարելավում | E12: ՀՀ ՆԳՆ կարիքների համար տրանսպորտային միջոցներով ապահովում | F12: Պետական մարմինների կողմից օգտագործվող ոչ ֆինանսական ակտիվների հետ գործառնություններ | G12: ='2'!G28 -> 476000 | H12: ='2'!H28 -> 476000
C13: 1234 - 31003 | D13: ՀՀ ՆԳՆ կարիքի բավարարում | E13: ՀՀ ոստիկանության նյութատեխնիկական բազայով ապահովում | F13: Պետական մարմինների կողմից օգտագործվող ոչ ֆինանսական ակտիվների հետ գործառնություններ | G13: ='2'!G37 -> -301936.96 | H13: ='2'!H37 -> -301936.96
B14: 1090 | D14: Փրկարարական ծառայություններ | E14: Արտակարգ իրավիճակների արդյունավետ արձագանք | F14: Արտակարգ իրավիճակների հնարավոր դեպքերի կանխում, դրանց ժամանակին արձագանքում, հետևանքների նվազեցում և բնակչության պաշտպանություն | G14: =+G15+G16 -> -167208.32 | H14: =+H15+H16 -> -167208.32
C15: 1090 - 31002 | D15: ՆԳՆ փրկարար ծառայության հրշեջ-փրկարարական գույքի բարելավմանե ներդրումային ծրագրի իրականացում | E15: ՀՀ ՆԳՆ փրկարար ծառայության հրշեջ փրկարարական գույքի բարելավման ծրագիր շրջանակներում Արմավիրի, Կոտայքի,Արարատի և Արագածոտնի մարզերում հրդեհներին, արտակարգ դեպքերին և պատահարներին արագ արձագանքելու համար փրկարարական, հրդեհաշիջման մեքենաների ձեռքերում: | F15: Պետական մարմինների կողմից օգտագործվող ոչ ֆինանսական ակտիվների հետ գործառնություններ | G15: ='2'!G54 -> -167208.32 | H15: ='2'!H54 -> -167208.32

Sheet 2
G1: Հավելված N 2
G2: ՀՀ կառավարության 2025 թվականի ______ թիվ________Ն որոշման
A3: ՀԱՅԱUՏԱՆԻ ՀԱՆՐԱՊԵՏՈՒԹՅԱՆ ԿԱՌԱՎԱՐՈՒԹՅԱՆ 2024 ԹՎԱԿԱՆԻ ԴԵԿՏԵՄԲԵՐԻ 27-Ի N 2060-Ն ՈՐՈՇՄԱՆ N 3 և N 4 ՀԱՎԵԼՎԱԾՆԵՐՈՒՄ ԿԱՏԱՐՎՈՂ ՓՈՓՈԽՈՒԹՅՈՒՆՆԵՐԸ
G4: հազար դրամներով
A5: Գործառնական դասիչը | D5: Ծրագրային դասիչը | F5: Բյուջետային հատկացումների գլխավոր կարգադրիչների, ծրագրերի, միջոցառումների և միջոցառումները կատարող պետական մարմինների, ինչպես նաև բյուջետային ծախսերի գործառնական դասակարգման հոդվածների անվանումները | G5: Ցուցանիշների փոփոխություն (ավելացումները նշված են դրական նշանով, իսկ նվազեցումները՝ փակագծերում)
A6: Բաժին | B6: Խումբ | C6: Դաս | D6: Ծրագիր | E6: Միջոցառում | G6: Ինն ամիս | H6: Տարի
F7: ԸՆԴԱՄԵՆԸ | G7: =+G9 -> 0 | H7: =+H9 -> 0
F8: այդ թվում`
A9: 03 | F9: ՀԱՍԱՐԱԿԱԿԱՆ ԿԱՐԳ, ԱՆՎՏԱՆԳՈՒԹՅՈՒՆ ԵՎ ԴԱՏԱԿԱՆ ԳՈՐԾՈՒՆԵՈՒԹՅՈՒՆ | G9: =G11+G46 -> 0 | H9: =+H11+H46 -> 0
F10: այդ թվում`
B11: 01 | F11: Հասարակական կարգ և անվտանգություն | G11: =+G13 -> 167208.32 | H11: =+H13 -> 167208.32
F12: այդ թվում`
C13: 01 | F13: Ոստիկանություն | G13: =+G17 -> 167208.32 | H13: =+H17 -> 167208.32
F14: այդ թվում`
F15: ՀՀ Ներքին գործերի նախարարություն | G15: =+G17 -> 167208.32 | H15: =+H17 -> 167208.32
F16: այդ թվում`
D17: 1234 | F17: Ներքին գործերի նախարարության ոլորտի քաղաքականության մշակում, կառավարում, կենտրոնացված միջոցառումներ, մոնիտորինգ և վերահսկողություն | G17: =+G28+G37+G19 -> 167208.32 | H17: =+H28+H37+H19 -> 167208.32
F18: այդ թվում`
E19: 11009 | F19: Հասարակական կարգի պահպանություն | G19: =+G21 -> -6854.72 | H19: =+H21 -> -6854.72
F20: այդ թվում` ըստ կատարողների
F21: ՀՀ ներքին գործերի նախարարություն | G21: =+G23 -> -6854.72 | H21: =+H23 -> -6854.72
F22: այդ թվում` բյուջետային ծախսերի տնտեսագիտական դասակարգման հոդվածներ
F23: ԸՆԴԱՄԵՆԸ ԾԱԽՍԵՐ | G23: =+G24 -> -6854.72 | H23: =+H24 -> -6854.72
F24: ԸՆԹԱՑԻԿ ԾԱԽՍԵՐ | G24: =+G25 -> -6854.72 | H24: =+H25 -> -6854.72
F25: ԾԱՌԱՅՈՒԹՅՈՒՆՆԵՐԻ ԵՎ ԱՊՐԱՆՔՆԵՐԻ ՁԵՌՔԲԵՐՈՒՄ | G25: =+G26 -> -6854.72 | H25: =+H26 -> -6854.72
F26: Պայմանագրային այլ ծառայությունների ձեռքբերում | G26: =+G27 -> -6854.72 | H26: =+H27 -> -6854.72
F27: - Հատուկ նպատակային այլ նյութեր | G27: -6854.72 | H27: -6854.72
E28: 31001 | F28: ՀՀ ՆԳՆ տրանսպորտային միջոցներով ապահովվածության բարելավում | G28: =+G30 -> 476000 | H28: =+H30 -> 476000
F29: այդ թվում` ըստ կատարողների
F30: ՀՀ ներքին գործերի նախարարություն | G30: =+G32 -> 476000 | H30: =+H32 -> 476000
F31: այդ թվում` բյուջետային ծախսերի տնտեսագիտական դասակարգման հոդվածներ
F32: ԸՆԴԱՄԵՆԸ ԾԱԽՍԵՐ | G32: =+G33 -> 476000 | H32: =+H33 -> 476000
F33: ՈՉ ՖԻՆԱՆՍԱԿԱՆ ԱԿՏԻՎՆԵՐԻ ԳԾՈՎ ԾԱԽՍԵՐ | G33: =+G34 -> 476000 | H33: =+H34 -> 476000
F34: ՀԻՄՆԱԿԱՆ ՄԻՋՈՑՆԵՐ | G34: =+G35 -> 476000 | H34: =+H35 -> 476000
F35: ՄԵՔԵՆԱՆԵՐ ԵՎ ՍԱՐՔԱՎՈՐՈՒՄՆԵՐ | G35: =+G36 -> 476000 | H35: =+H36 -> 476000
F36: - Տրանսպորտային սարքավորումներ | G36: =476000 -> 476000 | H36: =476000 -> 476000
E37: 31003 | F37: ՀՀ ՆԳՆ կարիքի բավարարում | G37: =+G39 -> -301936.96 | H37: =+H39 -> -301936.96
F38: այդ թվում` ըստ կատարողների
F39: ՀՀ ներքին գործերի նախարարություն | G39: =+G41 -> -301936.96 | H39: =+H41 -> -301936.96
F40: այդ թվում` բյուջետային ծախսերի տնտեսագիտական դասակարգման հոդվածներ
...

Sheet 3
A1: Հավելված N 3
G2: ՀՀ կառավարության 2025 թվականի ______ թիվ________Ն որոշման
A5: «ՀԱՅԱUՏԱՆԻ ՀԱՆՐԱՊԵՏՈՒԹՅԱՆ 2025 ԹՎԱԿԱՆԻ ՊԵՏԱԿԱՆ ԲՅՈՒՋԵԻ ՄԱUԻՆ» OՐԵՆՔԻ N 1 ՀԱՎԵԼՎԱԾԻ N3 ԱՂՅՈՒՍԱԿՈՒՄ ԿԱՏԱՐՎՈՂ ՓՈՓՈԽՈՒԹՅՈՒՆՆԵՐԸ
G6: հազար դրամներով
A7: Ծրագրային դասիչը | C7: Բյուջետային գլխավոր կարգադրիչների, ծրագրերի, միջոցառումների և ուղղությունների անվանումները | D7: Ցուցանիշների փոփոխություն (ավելացումները նշված են դրական նշանով, իսկ նվազեցումները՝ փակագծերում)
A8: Ծրագիր | B8: Միջոցա ռում | D8: Ընդամենը | E8: Կառուցման աշխատանքներ | F8: Վերակառուցման, վերանորոգման և վերականգնման աշխատանքներ | G8: Նախագծահետազոտական, գեոդեզիաքարտեզագրական աշխատանքներ | H8: Ոչ ֆինանսական այլ ակտիվների ձեռքբերում
C9: ԸՆԴԱՄԵՆԸ | D9: =H9 -> 6854.72 | E9: =+E14 -> 0 | F9: =+F14 -> 0 | G9: =+G14 -> 0 | H9: =H12+H13+H14 -> 6854.72
C10: ՀՀ ՆԵՐՔԻՆ ԳՈՐԾԵՐԻ ՆԱԽԱՐԱՐՈՒԹՅՈՒՆ | D10: =+D12+D13+D14 -> 6854.72 | E10: =+E12+E13+E14 -> 0 | F10: =+F12+F13+F14 -> 0 | G10: =+G12+G13+G14 -> 0 | H10: =+H12+H13+H14 -> 6854.72
C11: այդ թվում՝
A12: 1234 | B12: 31001 | C12: ՀՀ ՆԳՆ տրանսպորտային միջոցներով ապահովվածության բարելավում | D12: =+E12+F12+G12+H12 -> 476000 | E12: 0 | F12: 0 | G12: 0 | H12: ='N1'!H12 -> 476000
A13: 1234 | B13: 31003 | C13: ՀՀ ՆԳՆ կարիքի բավարարում | D13: =+E13+F13+G13+H13 -> -301936.96 | E13: 0 | F13: 0 | G13: 0 | H13: ='N1'!H13 -> -301936.96
A14: 1090 | B14: 31002 | C14: ՆԳՆ փրկարար ծառայության հրշեջ-փրկարարական գույքի բարելավմանե ներդրումային ծրագրի իրականացում | D14: =+E14+F14+G14+H14 -> -167208.32 | E14: 0 | F14: 0 | G14: 0 | H14: ='N1'!H15 -> -167208.32

Sheet 4
D1: Հավելված N 4
D2: ՀՀ կառավարության 2025 թվականի _________ թիվ________Ն որոշման
A4: ՀԱՅԱUՏԱՆԻ ՀԱՆՐԱՊԵՏՈՒԹՅԱՆ ԿԱՌԱՎԱՐՈՒԹՅԱՆ 2024 ԹՎԱԿԱՆԻ ԴԵԿՏԵՄԲԵՐԻ 27-Ի N 2060-Ն ՈՐՈՇՄԱՆ N 5 ՀԱՎԵԼՎԱԾԻ N 2 ԱՂՅՈՒՍԱԿՈՒՄ ԿԱՏԱՐՎՈՂ ՓՈՓՈԽՈՒԹՅՈՒՆՆԵՐԸ
D5: հազար դրամներով
A6: Ծրագրային դասիչը | C6: Բյուջետային գլխավոր կարգադրիչների, ծրագրերի,միջոցառումների, միջոցառումները կատարող պետական մարմինների և ուղղությունների անվանումները անվանումները | D6: Ցուցանիշների փոփոխություն (ավելացումները նշված են դրական նշանով, իսկ նվազեցումները՝ փակագծերում)
A7: Ծրագիր | B7: Միջոցա ռում
D8: Ինն ամիս | E8: Տարի
C9: ԸՆԴԱՄԵՆԸ | D9: =D12+D15+D18 -> 6854.72 | E9: =E12+E15+E18 -> 6854.72
C10: ՀՀ ներքին գործերի նախարարություն | D10: =+D9 -> 6854.72 | E10: =+E9 -> 6854.72
C11: այդ թվում՝
A12: 1234 | B12: 31001 | C12: ՀՀ ՆԳՆ տրանսպորտային միջոցներով ապահովվածության բարելավում | D12: =D14 -> 476000 | E12: =E14 -> 476000
C13: այդ թվում` ըստ կատարողների
C14: ՀՀ ներքին գործերի նախարարություն | D14: ='N1'!G12 -> 476000 | E14: ='N1'!H12 -> 476000
A15: 1234 | B15: 31003 | C15: ՀՀ ՆԳՆ կարիքի բավարարում | D15: =+D17 -> -301936.96 | E15: =+E17 -> -301936.96
C16: այդ թվում` ըստ կատարողների
C17: ՀՀ ներքին գործերի նախարարություն | D17: ='N1'!G13 -> -301936.96 | E17: ='N1'!H13 -> -301936.96
A18: 1090 | B18: 31002 | C18: ՆԳՆ փրկարար ծառայության հրշեջ-փրկարարական գույքի բարելավմանե ներդրումային ծրագրի իրականացում | D18: =+D20 -> -167208.32 | E18: =E20 -> -167208.32
C19: այդ թվում` ըստ կատարողների
C20: ՀՀ ներքին գործերի նախարարություն | D20: ='N1'!G14 -> -167208.32 | E20: ='N1'!H14 -> -167208.32

Sheet 5
K2: Հավելված N 5
J3: ՀՀ կառավարության 2025 թվականի ______ թիվ________Ն որոշման
A4: ՀԱՅԱUՏԱՆԻ ՀԱՆՐԱՊԵՏՈՒԹՅԱՆ ԿԱՌԱՎԱՐՈՒԹՅԱՆ 2024 ԹՎԱԿԱՆԻ ԴԵԿՏԵՄԲԵՐԻ 27-Ի N 2060-Ն ՈՐՈՇՄԱՆ N 9 ՀԱՎԵԼՎԱԾՈՒՄ ԿԱՏԱՐՎՈՂ ՓՈՓՈԽՈՒԹՅՈՒՆՆԵՐԸ
J5: հազար դրամներով
A6: ԲԳԿ | B6: Ծրագիր | D6: Միջոցառում | H6: Իրականացնողը/ ակտիվն օգտագործողը/ շահառուի ընտրության չափորոշիչը | I6: Արդյունքային չափորոշիչը | J6: Ցուցանիշների փոփոխություն (ավելացումները նշված են դրական նշանով, իսկ նվազեցումները՝ փակագծերում)
B7: Դասիչը | C7: Անվանումը | D7: Դասիչը | E7: Անվա-նումը | F7: Նկարագրու-թյունը | G7: Տեսակը | J7: Ինն ամիս | K7: Տարի
A8: Ընդամենը | J8: =+J10+J29 -> 0 | K8: =K10+K29 -> 0
A9: ՀՀ ներքին գործերի նախարարություն | J9: =J10+J29 -> 0 | K9: =K10+K29 -> 0
B10: 1234 | C10: Ներքին գործերի նախարարության ոլորտի քաղաքականության մշակում, կառավարում, կենտրոնացված միջոցառումներ, մոնիտորինգ և վերահսկողություն | J10: =J17+J23+J12 -> 167208.32 | K10: =K17+K23+K12 -> 167208.32
D12: 1234- 11009 | E12: Հասարակական կարգի պահպանություն | J12: =K12 -> -6854.72 | K12: ='N1'!H11 -> -6854.72
F13: Հասարակական կարգի պահպանություն և հասարակական անվտանգության ապահովում
G14: Ծառայությունների մատուցում
H15: Ծառայությունը մատուցողի անվանումը` ՀՀ ՆԳՆ ոստիկանության զորքեր
D17: 1234- 31001 | E17: ՀՀ ՆԳՆ տրանսպորտային միջոցներով ապահովվածության բարելավում | J17: =K17 -> 476000 | K17: ='N1'!H12 -> 476000
F18: ՀՀ ՆԳՆ կարիքների համար տրանսպորտային միջոցներով ապահովում
G19: Պետական մարմինների կողմից օգտագործվող ոչ ֆինանսական ակտիվների հետ գործառնություններ
H20: Ակտիվն օգտագործող կազմակերպության անվանումը` ՀՀ ներքին գործերի նախարարություն
I21: Ավտոմեքենաներ, քանակ | J21: 0 | K21: =-1-2+2 -> -1
D23: 1234- 31003 | E23: ՀՀ ՆԳՆ կարիքի բավարարում | J23: ='N1'!G13 -> -301936.96 | K23: ='N1'!H13 -> -301936.96
F24: ՀՀ ոստիկանության նյութատեխնիկական բազայով ապահովում
G25: Պետական մարմինների կողմից օգտագործվող ոչ ֆինանսական ակտիվների հետ գործառնություններ
H26: Ակտիվն օգտագործող կազմակերպության անվանումը` ՀՀ ՆԳՆ
I27: Այլ սարքեր, սարքավորումներ, հատ | J27: 0 | K27: =-79-5 -> -84
B29: 1090 | C29: Փրկարարական ծառայություններ | J29: =J30 -> -167208.32 | K29: =K30 -> -167208.32
D30: 1090- 31002 | E30: ՆԳՆ փրկարար ծառայության հրշեջ-փրկարարական գույքի բարելավմանե ներդրումային ծրագրի իրականացում | J30: ='N1'!G14 -> -167208.32 | K30: ='N1'!H14 -> -167208.32
F31: ՀՀ ՆԳՆ փրկարար ծառայության հրշեջ փրկարարական գույքի բարելավման ծրագիր շրջանակներում Արմավիրի, Կոտայքի,Արարատի և Արագածոտնի մարզերում հրդեհներին, արտակարգ դեպքերին և պատահարներին արագ արձագանքելու համար փրկարարական, հրդեհաշիջման մեքենաների ձեռքերում:
G32: Պետական մարմինների կողմից օգտագործվող ոչ ֆինանսական ակտիվների հետ գործառնություններ
H33: Ակտիվն օգտագործող կազմակերպության անվանումը` ՀՀ ՆԳՆ փրկարար ծառայություն

Sheet 6
K2: Հավելված N 6
J3: ՀՀ կառավարության 2025 թվականի ______ թիվ________Ն որոշման
A4: ՀԱՅԱUՏԱՆԻ ՀԱՆՐԱՊԵՏՈՒԹՅԱՆ ԿԱՌԱՎԱՐՈՒԹՅԱՆ 2024 ԹՎԱԿԱՆԻ ԴԵԿՏԵՄԲԵՐԻ 27-Ի N 2060-Ն ՈՐՈՇՄԱՆ N 9.1 ՀԱՎԵԼՎԱԾՈՒՄ ԿԱՏԱՐՎՈՂ ՓՈՓՈԽՈՒԹՅՈՒՆՆԵՐԸ
J5: հազար դրամներով
A6: ԲՍԿ | B6: Ծրագիր | D6: Միջոցառում | H6: Իրականացնողը/ ակտիվն օգտագործողը/ շահառուի ընտրության չափորոշիչը | I6: Արդյունքային չափորոշիչը | J6: Ցուցանիշների փոփոխություն (ավելացումները նշված են դրական նշանով, իսկ նվազեցումները՝ փակագծերում)
B7: Դասիչը | C7: Անվանումը | D7: Դասիչը | E7: Անվա-նումը | F7: Նկարագրու-թյունը | G7: Տեսակը | J7: Ինն ամիս | K7: Տարի
A8: Ընդամենը | J8: =+J10+J29 -> 0 | K8: =+K10+K29 -> 0
A9: ՀՀ ներքին գործերի նախարարություն | J9: =J10+J29 -> 0 | K9: =K10+K29 -> 0
B10: 1234 | C10: Ներքին գործերի նախարարության ոլորտի քաղաքականության մշակում, կառավարում, կենտրոնացված միջոցառումներ, մոնիտորինգ և վերահսկողություն | J10: =J17+J23+J12 -> 167208.32 | K10: =K17+K23+K12 -> 167208.32
D12: 1234- 11009 | E12: Հասարակական կարգի պահպանություն | J12: =K12 -> -6854.72 | K12: ='N1'!H11 -> -6854.72
F13: Հասարակական կարգի պահպանություն և հասարակական անվտանգության ապահովում
G14: Ծառայությունների մատուցում
H15: Ծառայությունը մատուցողի անվանումը` ՀՀ ՆԳՆ ոստիկանության զորքեր
D17: 1234- 31001 | E17: ՀՀ ՆԳՆ տրանսպորտային միջոցներով ապահովվածության բարելավում | J17: =K17 -> 476000 | K17: ='N1'!H12 -> 476000
F18: ՀՀ ՆԳՆ կարիքների համար տրանսպորտային միջոցներով ապահովում
G19: Պետական մարմինների կողմից օգտագործվող ոչ ֆինանսական ակտիվների հետ գործառնություններ
H20: Ակտիվն օգտագործող կազմակերպության անվանումը` ՀՀ ՆԳՆ
I21: Ավտոմեքենաներ, քանակ | K21: =-1-2+2 -> -1
D23: 1234- 31003 | E23: ՀՀ ՆԳՆ կարիքի բավարարում | J23: ='N1'!G13 -> -301936.96 | K23: ='N1'!H13 -> -301936.96
F24: ՀՀ ՆԳՆ նյութատեխնիկական բազայով ապահովում
G25: Պետական մարմինների կողմից օգտագործվող ոչ ֆինանսական ակտիվների հետ գործառնություններ
H26: Ակտիվն օգտագործող կազմակերպության անվանումը` ՀՀ ներքին գործերի նախարարություն
I27: Այլ սարքեր, սարքավորումներ, հատ | K27: =-79-5 -> -84
B29: 1090 | C29: Փրկարարական ծառայություններ | J29: =J30 -> -167208.32 | K29: =K30 -> -167208.32
D30: 1090- 31002 | E30: ՆԳՆ փրկարար ծառայության հրշեջ-փրկարարական գույքի բարելավմանե ներդրումային ծրագրի իրականացում | J30: ='N1'!G14 -> -167208.32 | K30: ='N1'!H14 -> -167208.32
F31: ՀՀ ՆԳՆ փրկարար ծառայության հրշեջ փրկարարական գույքի բարելավման ծրագիր շրջանակներում Արմավիրի, Կոտայքի,Արարատի և Արագածոտնի մարզերում հրդեհներին, արտակարգ դեպքերին և պատահարներին արագ արձագանքելու համար փրկարարական, հրդեհաշիջման մեքենաների ձեռքերում:
G32: Պետական մարմինների կողմից օգտագործվող ոչ ֆինանսական ակտիվների հետ գործառնություններ
H33: Ակտիվն օգտագործող կազմակերպության անվանումը` ՀՀ ՆԳՆ

Sheet 45
F2: Հավելված N 4
F3: Աղյուսակ 2
A4: ՀՀ ԿԱՌԱՎԱՐՈՒԹՅԱՆ 2019 ԹՎԱԿԱՆԻ ԴԵԿՏԵՄԲԵՐԻ 26-Ի N 1919-Ն ՈՐՈՇՄԱՆ N 9 ՀԱՎԵԼՎԱԾԻ N 9.1.33 ԱՂՅՈՒՍԱԿԻ ՑՈՒՑԱՆԻՇՆԵՐՈՒՄ ԿԱՏԱՐՎՈՂ ՓՈՓՈԽՈՒԹՅՈՒՆՆԵՐԸ ԵՎ ԼՐԱՑՈՒՄՆԵՐԸ
A5: ՀՀ Ոստիկանություն
A6: ՄԱՍ 1. ՊԵՏԱԿԱՆ ՄԱՐՄՆԻ ԳԾՈՎ ԱՐԴՅՈՒՆՔԱՅԻՆ (ԿԱՏԱՐՈՂԱԿԱՆ) ՑՈՒՑԱՆԻՇՆԵՐԸ
A8: Ծրագրի դասիչը | B8: Ծրագրի անվանումը
A9: 1014 | B9: =+'N1'!#REF! -> #REF!
A11: Ծրագրի միջոցառումները
A13: Ծրագրի դասիչը` | B13: 1014 | C13: Ցուցանիշների փոփոխությունները (ավելացումները նշված են դրական նշանով, իսկ նվազեցումները՝ փակագծերում )
A14: Միջոցառման դասիչը` | B14: 11001 | C14: եռամսյակ | D14: Առաջին կիսամյակ | E14: ինն ամիս | F14: տարի
A15: Միջոցառման անվանումը` | B15: =+'N1'!#REF! -> #REF!
A16: Նկարագրությունը` | B16: =+'N1'!#REF! -> #REF!
A17: Միջոցառման տեսակը` | B17: =+'N1'!#REF! -> #REF!
A18: Միջոցառումն իրականացնողի անվանումը` | B18: ՀՀ ոստիկանության Երևանի և մարզային վարչություններ, ՀՀ ոստիկանության զորքեր
A19: Արդյունքի չափորոշիչներ
A21: Միջոցառման վրա կատարվող ծախսը (հազար դրամ) | C21: 0 | D21: =+'5'!#REF! -> #REF! | E21: =+'5'!#REF! -> #REF! | F21: =+'5'!#REF! -> #REF!
A23: Ծրագրի դասիչը | B23: Ծրագրի անվանումը
A24: 1158 | B24: =+'N1'!#REF! -> #REF!
A26: Ծրագրի միջոցառումները
A28: Ծրագրի դասիչը` | B28: 1158 | C28: Ցուցանիշների փոփոխությունները (ավելացումները նշված են դրական նշանով, իսկ նվազեցումները՝ փակագծերում )
A29: Միջոցառման դասիչը` | B29: 11001 | C29: եռամսյակ | D29: Առաջին կիսամյակ | E29: ինն ամիս | F29: տարի
A30: Միջոցառման անվանումը` | B30: =+'N1'!#REF! -> #REF!
A31: Նկարագրությունը` | B31: =+'N1'!#REF! -> #REF!
A32: Միջոցառման տեսակը` | B32: =+'N1'!#REF! -> #REF!
A33: Միջոցառումն իրականացնողի անվանումը` | B33: Հայաստանի Հանրապետության ոստիկանություն, ՀՀ ոստիկանության կազմակերպված հանցագործության դեմ պայքարի գլխավոր վարչություն
A34: Արդյունքի չափորոշիչներ
A36: Միջոցառման վրա կատարվող ծախսը (հազար դրամ) | C36: 0 | D36: =+'5'!#REF! -> #REF! | E36: =+'5'!#REF! -> #REF! | F36: =+'5'!#REF! -> #REF!
A37: Ծրագրի դասիչը` | B37: 1158 | C37: Ցուցանիշների փոփոխությունները (ավելացումները նշված են դրական նշանով, իսկ նվազեցումները՝ փակագծերում )
A38: Միջոցառման դասիչը` | B38: 31001 | C38: եռամսյակ | D38: Առաջին կիսամյակ | E38: ինն ամիս | F38: տարի
A39: Միջոցառման անվանումը` | B39: =+'N1'!#REF! -> #REF!
A40: Նկարագրությունը` | B40: =+'N1'!#REF! -> #REF!
A41: Միջոցառման տեսակը` | B41: =+'N1'!#REF! -> #REF!
A42: Միջոցառումն իրականացնողի անվանումը` | B42: =+B33 -> Հայաստանի Հանրապետության ոստիկանություն, ՀՀ ոստիկանության կազմակերպված հանցագործության դեմ պայքարի գլխավոր վարչություն
A43: Արդյունքի չափորոշիչներ
A44: Վարչական սարքավորումների քանակ, հատ | C44: -
A45: Միջոցառման վրա կատարվող ծախսը (հազար դրամ) | C45: 0 | D45: =+'5'!#REF! -> #REF! | E45: =+'5'!#REF! -> #REF! | F45: =+'5'!#REF! -> #REF!
A47: Ծրագրի դասիչը | B47: Ծրագրի անվանումը
A48: 1175 | B48: =+'N1'!#REF! -> #REF!
A50: Ծրագրի միջոցառումները
A52: Ծրագրի դասիչը` | B52: 1175 | C52: Ցուցանիշների փոփոխությունները (ավելացումները նշված են դրական նշանով, իսկ նվազեցումները՝ փակագծերում )
...

Sheet 4.3
F2: Հավելված N 4
F3: Աղյուսակ 2
A4: ՀՀ ԿԱՌԱՎԱՐՈՒԹՅԱՆ 2019 ԹՎԱԿԱՆԻ ԴԵԿՏԵՄԲԵՐԻ 26-Ի N 1919-Ն ՈՐՈՇՄԱՆ N 9 ՀԱՎԵԼՎԱԾԻ N 9.1.33 ԱՂՅՈՒՍԱԿԻ ՑՈՒՑԱՆԻՇՆԵՐՈՒՄ ԿԱՏԱՐՎՈՂ ՓՈՓՈԽՈՒԹՅՈՒՆՆԵՐԸ ԵՎ ԼՐԱՑՈՒՄՆԵՐԸ
A5: ՀՀ Ոստիկանություն
A6: ՄԱՍ 1. ՊԵՏԱԿԱՆ ՄԱՐՄՆԻ ԳԾՈՎ ԱՐԴՅՈՒՆՔԱՅԻՆ (ԿԱՏԱՐՈՂԱԿԱՆ) ՑՈՒՑԱՆԻՇՆԵՐԸ
A8: Ծրագրի դասիչը | B8: Ծրագրի անվանումը
A9: 1175 | B9: Ճանապարհային երթևեկության անվտանգության ապահովում
A11: Ծրագրի միջոցառումները
A13: Ծրագրի դասիչը` | B13: 1175 | C13: Ցուցանիշների փոփոխությունները (ավելացումները նշված են դրական նշանով, իսկ նվազեցումները՝ փակագծերում )
A14: Միջոցառման դասիչը` | B14: 31001 | C14: եռամսյակ | D14: Առաջին կիսամյակ | E14: ինն ամիս | F14: տարի
A15: Միջոցառման անվանումը` | B15: ՀՀ ոստիկանության <<Ճանապարհային ոստիկանություն>> ծառայության կարիքի բավարարում
A16: Նկարագրությունը` | B16: ՀՀ ոստիկանության ճանապարհային ոստիկանության և այլ ստորաբաժանումների նյութատեխնիկական բազայով ապահովում
A17: Միջոցառման տեսակը` | B17: Պետական մարմինների կողմից օգտագործվող ոչ ֆինանսական ակտիվների հետ գործառնություններ
A18: Միջոցառումն իրականացնողի անվանումը` | B18: ՀՀ ճանապարհային ոստիկանություն
A19: Արդյունքի չափորոշիչներ
A21: Այլ սարքավորումների քանակ, հատ | C21: 0 | D21: -4 | E21: -9 | F21: -20
A22: Միջոցառման վրա կատարվող ծախսը (հազար դրամ) | C22: =+'N1'!#REF! -> #REF! | D22: =+'N1'!#REF! -> #REF! | E22: =+'N1'!#REF! -> #REF! | F22: =+'N1'!#REF! -> #REF!
A24: Ծրագրի դասիչը` | B24: 1175 | C24: Ցուցանիշների փոփոխությունները (ավելացումները նշված են դրական նշանով, իսկ նվազեցումները՝ փակագծերում )
A25: Միջոցառման դասիչը` | B25: 31002 | C25: Առաջին եռամսյակ | D25: Առաջին կիսամյակ | E25: Ինն ամիս | F25: Տարի
A26: Միջոցառման անվանումը` | B26: ՀՀ ոստիկանության <<Ճանապարհային ոստիկանություն>> ծառայության շենքային պայմանների բարելավում
A27: Նկարագրությունը` | B27: ՀՀ ոստիկանության ճանապարհային ոստիկանության և այլ ստորաբաժանումների շենքերի հիմնանորոգում, շինարարություն, շենքերի և նախագծահետազոտական աշխատանքների ձեռքբերում
A28: Միջոցառման տեսակը` | B28: Պետական մարմինների կողմից օգտագործվող ոչ ֆինանսական ակտիվների հետ գործառնություններ
A29: Միջոցառումն իրականացնողի անվանումը՝ | B29: ՀՀ ճանապարհային ոստիկանություն
A30: Արդյունքի չափորոշիչներ
A31: Նախագծահետազոտական փաստաթղթերի թիվը, հատ | C31: 0 | D31: 1 | E31: 1 | F31: 1
A32: Միջոցառման վրա կատարվող ծախսը (հազար դրամ) | C32: =+'N1'!#REF! -> #REF! | D32: =+'N1'!#REF! -> #REF! | E32: =+'N1'!#REF! -> #REF! | F32: =+'N1'!#REF! -> #REF!

Sheet 7
G1: Հավելված N 7
F2: ՀՀ կառավարության 2025 թվականի ______ թիվ________Ն որոշման
A3: ՀՀ ԿԱՌԱՎԱՐՈՒԹՅԱՆ 2024 ԹՎԱԿԱՆԻ ԴԵԿՏԵՄԲԵՐԻ 27-Ի N 2060-Ն ՈՐՈՇՄԱՆ N 10 ՀԱՎԵԼՎԱԾՈՒՄ ԿԱՏԱՐՎՈՂ ՓՈՓՈԽՈՒԹՅՈՒՆՆԵՐԸ ԵՎ ԼՐԱՑՈՒՄՆԵՐԸ
A5: Կոդը | B5: Անվանումը | C5: Գնման ձևը | D5: Չափման միավորը | E5: Միավորի գինը | F5: Ցուցանիշների փոփոխություն (ավելացումները նշված են դրական նշանով, իսկ նվազեցումները՝ փակագծերում)
F6: Քանակը | G6: Գումարը (հազար դրամով)
B7: ՀՀ ներքին գործերի նախարարություն | G7: =G8+G15 -> -402408.32
A8: Բաժին N 03 | B8: Խումբ N 01 | C8: Դաս N 01 | E8: Ոստիկանություն | G8: =G9 -> -235200
A9: 1234 31003 | B9: ՀՀ ՆԳՆ կարիքի բավարարում | G9: =+G10 -> -235200
B10: ՄԱՍ I. Ա Պ Ր Ա Ն Ք Ն Ե Ր | G10: =G11 -> -235200
A11: 35231100/2 | B11: Ձեռնաշղթաներ | C11: ԲՄ | D11: հատ | E11: 2800000 | F11: =-79-5 -> -84 | G11: =+F11*E11/1000 -> -235200
G12: =+F12*E12/1000 -> 0
G13: =+F13*E13/1000 -> 0
A15: Բաժին N 03 | B15: Խումբ N 02 | C15: Դաս N 01 | E15: Ոստիկանություն | G15: =G16 -> -167208.32
A16: 1090 31002 | B16: ՆԳՆ փրկարար ծառայության հրշեջ-փրկարարական գույքի բարելավմանե ներդրումային ծրագրի իրականացում | G16: =G18+G19 -> -167208.32
B17: ՄԱՍ I. Ա Պ Ր Ա Ն Ք Ն Ե Ր | G17: =G18+G19 -> -167208.32
A18: 34111200/8 | B18: փրկարարական մեքենաներ | C18: ԲՄ | D18: հատ | G18: -44442
A19: 34111200/6 | B19: փրկարարական մեքենաներ | C19: ԲՄ | D19: հատ | G19: -122766.32
G20: =+F20*E20/1000 -> 0
G21: =+F21*E21/1000 -> 0

Sheet N5․1
G1: գաղտնի
G2: Հավելված N 5․1
F3: ՀՀ կառավարության 2023 թվականի ______ թիվ________Ն որոշման
A4: ՀՀ ԿԱՌԱՎԱՐՈՒԹՅԱՆ 2022 ԹՎԱԿԱՆԻ ԴԵԿՏԵՄԲԵՐԻ 29-Ի N 2111-Ն ՈՐՈՇՄԱՆ N 10 ՀԱՎԵԼՎԱԾՈՒՄ ԿԱՏԱՐՎՈՂ ՓՈՓՈԽՈՒԹՅՈՒՆՆԵՐԸ ԵՎ ԼՐԱՑՈՒՄՆԵՐԸ
A6: Կոդը | B6: Անվանումը | C6: Գնման ձևը | D6: Չափման միավորը | E6: Միավորի գինը (դրամ) | F6: Քանակը | G6: Գումարը (հազար դրամով)
B7: ՀՀ Ոստիկանություն | G7: =+G12+G10 -> -109300 | I7: =+G7+'7'!G7 -> -511708.32
A8: Բաժին N 03 | B8: Խումբ N 01 | C8: Դաս N 01 | E8: Ոստիկանություն
A9: 1158 11010 | B9: Հասարակական կարգի պահպանություն, անվտանգության ապահովում և հանցագործությունների դեմ պայքար
B10: ՄԱՍ III. ԾԱՌԱՅՈՒԹՅՈՒՆՆԵՐ | G10: =+G11 -> 145000 | H10: 4236 | I10: ճաշարան Ոզ
A11: 55511200/501 | B11: ճաշարանների կառավարման ծառայություններ | C11: ՓՆՄ | D11: դրամ | E11: 145000000 | F11: 1 | G11: =+F11*E11/1000 -> 145000
A12: 1158 31001 | B12: ՀՀ ոստիկանության կարիքի բավարարում | G12: =+G13+G15 -> -254300
B13: ՄԱՍ I. Ա Պ Ր Ա Ն Ք Ն Ե Ր | G13: =+G14 -> -54300
A14: 32321200/1 | B14: տեսահսկողության համակարգ | C14: ՄԱ | D14: հատ | E14: 1086000 | F14: -50 | G14: =+F14*E14/1000 -> -54300 | H14: 5122 | I14: քրեական
B15: ՄԱՍ II. ԱՇԽԱՏԱՆՔՆԵՐ | G15: =+G16 -> -200000
A16: 45221142/501 | B16: ընդհանուր շինարարական աշխատանքներ | C16: ՓՆՄ | D16: դրամ | E16: 200000000 | F16: -1 | G16: =+F16*E16/1000 -> -200000 | H16: 5112 | I16: մագմա

Sheet 6 զուտ պահուստի շարժ
J1: Հավելված 6
A2: ՀԱՅԱՍՏԱՆԻ ՀԱՆՐԱՊԵՏՈՒԹՅԱՆ ԿԱՌԱՎԱՐՈՒԹՅԱՆ 2019 ԹՎԱԿԱՆԻ ԴԵԿՏԵՄԲԵՐԻ 26-Ի N 1919-Ն ՈՐՈՇՄԱՆ N 12 ՀԱՎԵԼՎԱԾՈՎ ՀԱՍՏԱՏՎԱԾ ԿԱՐԳԻ 8-ՐԴ ԿԵՏԻ ՀԱՄԱՁԱՅՆ ՀՀ ԿԱՌԱՎԱՐՈՒԹՅԱՆ ՊԱՀՈՒՍՏԱՅԻՆ ՖՈՆԴԻՑ ՀԱՏԿԱՑՈՒՄՆԵՐ
J3: հազար դրամներով
A4: Գործառնական դասիչը | D4: Ծրագրային դասիչը | F4: Բյուջետային հատկացումների գլխավոր կարգադրիչների, ծրագրերի, միջոցառումների և միջոցառումները կատարող պետական մարմինների, ինչպես նաև բյուջետային ծախսերի տնտեսագիտական դասակարգման հոդվածների անվանումները | G4: Ցուցանիշների փոփոխությունը (ավելացումները նշված են դրական նշանով)
A5: Բաժին | B5: Խումբ | C5: Դաս | D5: Ծրագիր | E5: Միջոցառում | G5: Առաջին եռամսյակ | H5: Առաջին կիսամյակ | I5: Ինն ամիս | J5: Տարի
F6: ԸՆԴԱՄԵՆԸ | G6: 0 | H6: =H8 -> #REF! | I6: =I8 -> #REF! | J6: =J8 -> #REF!
F7: այդ թվում`
A8: 03 | F8: ՀԱՍԱՐԱԿԱԿԱՆ ԿԱՐԳ, ԱՆՎՏԱՆԳՈՒԹՅՈՒՆ ԵՎ ԴԱՏԱԿԱՆ ԳՈՐԾՈՒՆԵՈՒԹՅՈՒՆ | G8: 0 | H8: =H10 -> #REF! | I8: =I10 -> #REF! | J8: =J10 -> #REF!
F9: այդ թվում`
B10: 01 | F10: Հասարակական կարգ և անվտանգություն | G10: 0 | H10: =H12 -> #REF! | I10: =I12 -> #REF! | J10: =J12 -> #REF!
F11: այդ թվում`
C12: 01 | F12: Ոստիկանություն | G12: 0 | H12: =+H16+H30+H57 -> #REF! | I12: =+I16+I30+I57 -> #REF! | J12: =+J16+J30+J57 -> #REF!
F13: այդ թվում`
F14: ՀՀ ոստիկանություն | G14: 0 | H14: =+H12 -> #REF! | I14: =+I12 -> #REF! | J14: =+J12 -> #REF!
F15: այդ թվում`
D16: 1014 | F16: Հասարակական անվտանգության ապահովում | G16: =+G18 -> 0 | H16: =+H18 -> 200809 | I16: =+I18 -> 295809 | J16: =+J18 -> 445809
F17: այդ թվում`
E18: 11001 | F18: Հասարակական կարգի պահպանություն, անվտանգության ապահովում և հանցագործությունների դեմ պայքար | G18: =+G20 -> 0 | H18: =+H20 -> 200809 | I18: =+I20 -> 295809 | J18: =+J20 -> 445809
F19: այդ թվում` ըստ կատարողների
F20: ՀՀ ոստիկանություն | G20: =+G22 -> 0 | H20: =+H22 -> 200809 | I20: =+I22 -> 295809 | J20: =+J22 -> 445809
F21: այդ թվում` բյուջետային ծախսերի տնտեսագիտական դասակարգման հոդվածներ
F22: ԸՆԴԱՄԵՆԸ ԾԱԽՍԵՐ | G22: =+G23 -> 0 | H22: =+H23 -> 200809 | I22: =+I23 -> 295809 | J22: =+J23 -> 445809
F23: ԸՆԹԱՑԻԿ ԾԱԽՍԵՐ | G23: =+G24+G27 -> 0 | H23: =+H24+H27 -> 200809 | I23: =+I24+I27 -> 295809 | J23: =+J24+J27 -> 445809
F24: ԱՇԽԱՏԱՏԱՆՔԻ ՎԱՐՁԱՏՐՈՒԹՅՈՒՆ | G24: =+G25 -> 0 | H24: =+H25 -> 125809 | I24: =+I25 -> 195809 | J24: =+J25 -> 295809
F25: Դրամով վճարվող աշխատավարձեր և հավելավճարներ | G25: =+G26 -> 0 | H25: =+H26-4191 -> 125809 | I25: =+I26-4191 -> 195809 | J25: =+J26 -> 295809
E26: 4115 | F26: - Այլ վարձատրություններ | G26: 0 | H26: 130000 | I26: 200000 | J26: =300000-4379+188 -> 295809
F27: ՍՈՑԻԱԼԱԿԱՆ ՆՊԱՍՏՆԵՐ ԵՎ ԿԵՆՍԱԹՈՇԱԿՆԵՐ | G27: =+G28 -> 0 | H27: =+H28 -> 75000 | I27: =+I28 -> 100000 | J27: =+J28 -> 150000
F28: Սոցիալական օգնության դրամական արտահայտությամբ նպաստներ (բյուջեից) | G28: =+G29 -> 0 | H28: =+H29 -> 75000 | I28: =+I29 -> 100000 | J28: =+J29 -> 150000
E29: 4729 | F29: - Այլ նպաստներ բյուջեից | G29: 0 | H29: 75000 | I29: 100000 | J29: 150000
D30: 1158 | F30: Ոստիկանության ոլորտի քաղաքականության մշակում, կառավարում, կենտրոնացված միջոցառումներ, մոնիտորինգ և վերահսկողություն | G30: =+G32+G47 -> 0 | H30: =+H32+H47 -> #REF! | I30: =+I32+I47 -> #REF! | J30: =+J32+J47 -> #REF!
F31: այդ թվում`
E32: 11001 | F32: Ոստիկանության ոլորտի քաղաքականության մշակում, կառավարում, կենտրոնացված միջոցառումների, մոնիտորինգի և վերահսկողության իրականացում | G32: =+G36 -> 0 | H32: =+H36 -> #REF! | I32: =+I36 -> #REF! | J32: =+J36 -> #REF!
F33: այդ թվում` ըստ կատարողների
F34: ՀՀ ոստիկանություն | G34: =+G36 -> 0 | H34: =+H36 -> #REF! | I34: =+I36 -> #REF! | J34: =+J36 -> #REF!
F35: այդ թվում` բյուջետային ծախսերի տնտեսագիտական դասակարգման հոդվածներ
F36: ԸՆԴԱՄԵՆԸ ԾԱԽՍԵՐ | G36: =+G37 -> 0 | H36: =+H37 -> #REF! | I36: =+I37 -> #REF! | J36: =+J37 -> #REF!
F37: ԸՆԹԱՑԻԿ ԾԱԽՍԵՐ | G37: =+G38 -> 0 | H37: =+H38 -> #REF! | I37: =+I38 -> #REF! | J37: =+J38 -> #REF!
F38: ԾԱՌԱՅՈՒԹՅՈՒՆՆԵՐԻ ԵՎ ԱՊՐԱՆՔՆԵՐԻ ՁԵՌՔԲԵՐՈՒՄ | G38: =+G39+G41+G45 -> 0 | H38: =+H39+H41+H45 -> #REF! | I38: =+I39+I41+I45 -> #REF! | J38: =+J39+J41+J45 -> #REF!
F39: Շարունակական ծախսեր | H39: =+H40 -> 0 | I39: =+I40 -> #REF! | J39: =+J40 -> #REF!
E40: 4216 | F40: - Գույքի և սարքավորումների վարձակալություն | H40: 0 | I40: =+J40*0.7 -> #REF! | J40: =+'7'!#REF! -> #REF!
...

Sheet Sheet1
B4: 4239 | C4: մասնագիտական ծառ | F4: 50111180-504 | G4: 9920700
G5: =544215+9920.7 -> 554135.7
C8: 2020-ոս/վառ-17
B10: 4239 | F10: 45231213-502 | G10: 6783.4
F11: 34921140-502 | G11: 8200
F12: 50231300-504 | G12: 2739
