Workbook

Sheet 1
H1: Հավելված N 1
E2: ՀՀ կառավարության 2025 թվականի
E3: -----------------ի N -----------Ն որոշման
A5: «ՀԱՅԱՍՏԱՆԻ ՀԱՆՐԱՊԵՏՈՒԹՅԱՆ 2025 ԹՎԱԿԱՆԻ ՊԵՏԱԿԱՆ ԲՅՈՒՋԵԻ ՄԱՍԻՆ» ՕՐԵՆՔԻ N 1 ՀԱՎԵԼՎԱԾԻ N 2 ԱՂՅՈՒՍԱԿՈՒՄ ԿԱՏԱՐՎՈՂ ՎԵՐԱԲԱՇԽՈՒՄԸ ԵՎ ԼՐԱՑՈՒՄԸ, ՀԱՅԱՍՏԱՆԻ ՀԱՆՐԱՊԵՏՈՒԹՅԱՆ ԿԱՌԱՎԱՐՈՒԹՅԱՆ 2024 ԹՎԱԿԱՆԻ ԴԵԿՏԵՄԲԵՐԻ 27-Ի N 2060-Ն ՈՐՈՇՄԱՆ N 5 ՀԱՎԵԼՎԱԾԻ N 1 ԱՂՅՈՒՍԱԿՈՒՄ ԿԱՏԱՐՎՈՂ ՓՈՓՈԽՈՒԹՅՈՒՆՆԵՐԸ ԵՎ ԼՐԱՑՈՒՄՆԵՐԸ
G6: հազար դրամներով
A7: ԲԳԿ | B7: Ծրագրային դասիչը | D7: ԲԳԿ/Ծրագրի /միջոցառման անվանումը | E7: Ծրագրի նպատակը/Միջոցառման նկարագրույունը | F7: Վերջնական արդյունքի նկարագրությունը/Միջոցառման տեսակը | G7: Ցուցանիշների փոփոխությունները ավելացումները նշված են դրական նշանով, իսկ նվազեցումները՝ փակագծերում
B8: Ծրագիր | C8: Միջոցառում | G8: Ինն ամիս | H8: Տարի
A9: ԸՆԴԱՄԵՆԸ | G9: =G10+G15 -> 0 | H9: =H10+H15 -> 0
A10: ՀՀ աշխատանքի և սոցիալական հարցերի նախարարություն | G10: =G11+G13 -> 0 | H10: =H11+H13 -> 0
B11: 1205 | D11: Սոցիալական ապահովություն | E11: Սոցիալական ապահովության իրավունքի իրականացման ապահովում | F11: Սոցիալական ապահովության իրավունքի իրականացում | G11: =G12 -> 190739.34 | H11: =H12 -> 190739.34
C12: 1205 - 12037 | D12: 2023 թվականի սեպտեմբեր ամսին կանխիկ եղանակով վճարման ենթակա եղած՝ ԼՂ զինվորական կենսաթոշակների, պարգևավճարների գումարների հատկացում | E12: 2023 թվականի սեպտեմբեր ամսին կանխիկ եղանակով վճարման ենթակա եղած՝ ԼՂ զինվորական կենսաթոշակների, պարգևավճարների գումարների վճարում | F12: Տրանսֆերտների տրամադրում | G12: 190739.34 | H12: 190739.34
B13: 1102 | D13: Կենսաթոշակային ապահովություն | E13: Կենսաթոշակի իրավունքի իրացում | F13: Կենսաթոշակների նշանակման և վճարման գործընթացի ապահովում | G13: =G14 -> -190739.34 | H13: =H14 -> -190739.34
C14: 1102 - 12003 | D14: Աշխատանքային կենսաթոշակներ | E14: Աշխատանքային կենսաթոշակների (տարիքային, հաշմանդամության, արտոնյալ պայմաններով, երկարամյա ծառայության, մասնակի, կերակրողին կորցնելու դեպքում կենսաթոշակների) տրամադրում | F14: Տրանսֆերտների տրամադրում | G14: -190739.34 | H14: -190739.34
A15: ՀՀ կառավարություն | G15: =G16 -> 0 | H15: =H16 -> 0
B16: 1139 | D16: ՀՀ կառավարության պահուստային ֆոնդ | E16: Պետական բյուջեում չկանխատեսված, ինչպես նաեւ բյուջետային երաշխիքների ապահովման ծախսերի ֆինանսավորման ապահովում | F16: Պահուստային ֆոնդի կառավարման արդյունավետության և թափանցիկության ապահովում | G16: =G17+G18 -> 0 | H16: =H17+H18 -> 0
C17: 1139 - 11001 | D17: ՀՀ կառավարության պահուստային ֆոնդ | E17: ՀՀ պետական բյուջեում նախատեսված ելքերի լրացուցիչ ֆինանսավորման, պետական բյուջեում չկանխատեսված ելքերի, ինչպես նաև բյուջետային երաշխիքների ապահովման ելքերի ֆինանսավորման ապահովում | F17: Ծառայությունների մատուցում | G17: 190739.34 | H17: 190739.34
C18: 1139 - 11001 | D18: ՀՀ կառավարության պահուստային ֆոնդ | E18: ՀՀ պետական բյուջեում նախատեսված ելքերի լրացուցիչ ֆինանսավորման, պետական բյուջեում չկանխատեսված ելքերի, ինչպես նաև բյուջետային երաշխիքների ապահովման ելքերի ֆինանսավորման ապահովում | F18: Ծառայությունների մատուցում | G18: -190739.34 | H18: -190739.34

Sheet 2
H1: Հավելված N 2
F2: ՀՀ կառավարության 2025 թվականի
F3: -----------------ի N -----------Ն որոշման
A5: ՀԱՅԱՍՏԱՆԻ ՀԱՆՐԱՊԵՏՈՒԹՅԱՆ ԿԱՌԱՎԱՐՈՒԹՅԱՆ 2024 ԹՎԱԿԱՆԻ ԴԵԿՏԵՄԲԵՐԻ 27-Ի N 2060-Ն ՈՐՈՇՄԱՆ N N 3 ԵՎ 4 ՀԱՎԵԼՎԱԾՆԵՐՈՒՄ ԿԱՏԱՐՎՈՂ ՓՈՓՈԽՈՒԹՅՈՒՆՆԵՐԸ ԵՎ ԼՐԱՑՈՒՄՆԵՐԸ
G6: հազար դրամներով
A7: Գործառական դասիչը | D7: Ծրագրային դասիչը | F7: Բյուջետային ծախսերի գործառական դասակարգման բաժինների, խմբերի և դասերի, բյուջետային ծրագրերի միջոցառումների, բյուջետային հատկացումների գլխավոր կարգադրիչների անվանումները | G7: Ցուցանիշների փոփոխությունները ավելացումները նշված են դրական նշանով, իսկ նվազեցումները՝ փակագծերում
A8: Բաժինը | B8: Խումբը | C8: Դասը | D8: Ծրագիր | E8: Միջոցառում | G8: Ինն ամիս | H8: Տարի
F9: ԸՆԴԱՄԵՆԸ ԾԱԽՍԵՐ | G9: =G11+G43 -> 0 | H9: =H11+H43 -> 0
F10: այդ թվում`
F11: ՀՀ աշխատանքի և սոցիալական հարցերի նախարարություն | G11: =G13 -> 0 | H11: =H13 -> 0
F12: այդ թվում՝
A13: 10 | F13: ՍՈՑԻԱԼԱԿԱՆ ՊԱՇՏՊԱՆՈՒԹՅՈՒՆ | G13: =G15 -> 0 | H13: =H15 -> 0
F14: այդ թվում՝
B15: 02 | F15: Ծերություն | G15: =G17 -> 0 | H15: =H17 -> 0
F16: այդ թվում՝
C17: 01 | F17: Ծերություն | G17: =G19 -> 0 | H17: =H19 -> 0
F18: այդ թվում՝
F19: ՀՀ աշխատանքի և սոցիալական հարցերի նախարարություն | G19: =G21+G32 -> 0 | H19: =H21+H32 -> 0
F20: այդ թվում՝
D21: 1205 | F21: ='1'!D11 -> Սոցիալական ապահովություն | G21: =G23 -> 190739.34 | H21: =H23 -> 190739.34
F22: այդ թվում`
E23: 12037 | F23: ='1'!D12 -> 2023 թվականի սեպտեմբեր ամսին կանխիկ եղանակով վճարման ենթակա եղած՝ ԼՂ զինվորական կենսաթոշակների, պարգևավճարների գումարների հատկացում | G23: =G25 -> 190739.34 | H23: =H25 -> 190739.34
F24: այդ թվում` ըստ կատարողների
F25: ՀՀ աշխատանքի և սոցիալական հարցերի նախարարության միասնական սոցիալական ծառայություն | G25: =G27 -> 190739.34 | H25: =H27 -> 190739.34
F26: այդ թվում` բյուջետային ծախսերի տնտեսագիտական դասակարգման հոդվածներ
F27: ԸՆԴԱՄԵՆԸ ԾԱԽՍԵՐ | G27: =G28 -> 190739.34 | H27: =H28 -> 190739.34
F28: ԸՆԹԱՑԻԿ ԾԱԽՍԵՐ | G28: =G29 -> 190739.34 | H28: =H29 -> 190739.34
F29: ՍՈՑԻԱԼԱԿԱՆ ՆՊԱՍՏՆԵՐ ԵՎ ԿԵՆՍԱԹՈՇԱԿՆԵՐ | G29: =G30 -> 190739.34 | H29: =H30 -> 190739.34
F30: Սոցիալական օգնության դրամական արտահայտությամբ նպաստներ (բյուջեից) | G30: =G31 -> 190739.34 | H30: =H31 -> 190739.34
F31: - Այլ նպաստներ բյուջեից | G31: ='1'!G12 -> 190739.34 | H31: ='1'!H12 -> 190739.34
D32: ='1'!B13 -> 1102 | F32: ='1'!D13 -> Կենսաթոշակային ապահովություն | G32: =G34 -> -190739.34 | H32: =H34 -> -190739.34
F33: այդ թվում`
E34: 12003 | F34: ='1'!D14 -> Աշխատանքային կենսաթոշակներ | G34: =G36 -> -190739.34 | H34: =H36 -> -190739.34
F35: այդ թվում` ըստ կատարողների
F36: ՀՀ աշխատանքի և սոցիալական հարցերի նախարարության միասնական սոցիալական ծառայություն | G36: =G38 -> -190739.34 | H36: =H38 -> -190739.34
F37: այդ թվում` բյուջետային ծախսերի տնտեսագիտական դասակարգման հոդվածներ
F38: ԸՆԴԱՄԵՆԸ ԾԱԽՍԵՐ | G38: =G39 -> -190739.34 | H38: =H39 -> -190739.34
F39: ԸՆԹԱՑԻԿ ԾԱԽՍԵՐ | G39: =G40 -> -190739.34 | H39: =H40 -> -190739.34
F40: ՍՈՑԻԱԼԱԿԱՆ ՆՊԱՍՏՆԵՐ ԵՎ ԿԵՆՍԱԹՈՇԱԿՆԵՐ | G40: =G41 -> -190739.34 | H40: =H41 -> -190739.34
F41: Կենսաթոշակներ | G41: =G42 -> -190739.34 | H41: =H42 -> -190739.34
...

Sheet 3
K1: Հավելված N 3
K2: ՀՀ կառավարության 2025 թվականի
K3: -----------------ի N -----------Ն որոշման
A6: ՀԱՅԱՍՏԱՆԻ ՀԱՆՐԱՊԵՏՈՒԹՅԱՆ ԿԱՌԱՎԱՐՈՒԹՅԱՆ 2024 ԹՎԱԿԱՆԻ ԴԵԿՏԵՄԲԵՐԻ 27-Ի N 2060-Ն ՈՐՈՇՄԱՆ N 9 ՀԱՎԵԼՎԱԾՈՒՄ ԿԱՏԱՐՎՈՂ ՓՈՓՈԽՈՒԹՅՈՒՆՆԵՐԸ ԵՎ ԼՐԱՑՈՒՄՆԵՐԸ
J8: հազար դրամներով
A9: ԲԳԿ | B9: Ծրագիր | D9: Միջոցառում | H9: Իրականացնողը/ ակտիվն օգտագործողը/ շահառուի ընտրության չափորոշիչը | I9: Արդյունքային չափորոշիչը | J9: Ցուցանիշների փոփոխությունները ավելացումները նշված են դրական նշանով, իսկ նվազեցումները՝ փակագծերում
B10: Դասիչը | C10: Անվանումը | D10: Դասիչը | E10: Անվանումը | F10: Նկարագրու-թյունը | G10: Տեսակը | J10: Ինն ամիս | K10: Տարի
A11: ԸՆԴԱՄԵՆԸ | J11: =J12+J26 -> 0 | K11: =K12+K26 -> 0
A12: ՀՀ աշխատանքի և սոցիալական հարցերի նախարարություն | J12: =J13+J19 -> 0 | K12: =K13+K19 -> 0
B13: ='1'!B11 -> 1205 | C13: ='1'!D11 -> Սոցիալական ապահովություն | J13: =J14 -> 190739.34 | K13: =K14 -> 190739.34
D14: ='1'!C12 -> 1205 - 12037 | E14: ='1'!D12 -> 2023 թվականի սեպտեմբեր ամսին կանխիկ եղանակով վճարման ենթակա եղած՝ ԼՂ զինվորական կենսաթոշակների, պարգևավճարների գումարների հատկացում | J14: ='1'!G11 -> 190739.34 | K14: ='1'!H11 -> 190739.34
F15: ='1'!E12 -> 2023 թվականի սեպտեմբեր ամսին կանխիկ եղանակով վճարման ենթակա եղած՝ ԼՂ զինվորական կենսաթոշակների, պարգևավճարների գումարների վճարում
G16: ='1'!F12 -> Տրանսֆերտների տրամադրում
H17: Շահառուների ընտրության չափորոշիչները` որոշումով հաստատված` 2023 թվականի սեպտեմբեր ամսին կանխիկ եղանակով վճարման ենթակա եղած՝ ԼՂ զինվորական կենսաթոշակներ, պարգևավճարներ չստացած անձինք
I18: Նպաստ ստացողների թիվ, մարդ | K18: 2342
B19: ='2'!D32 -> 1102 | C19: ='1'!D13 -> Կենսաթոշակային ապահովություն | J19: =J20 -> -190739.34 | K19: =K20 -> -190739.34
D20: ='1'!C14 -> 1102 - 12003 | E20: ='1'!D14 -> Աշխատանքային կենսաթոշակներ | J20: ='1'!G14 -> -190739.34 | K20: ='1'!H14 -> -190739.34
F21: Աշխատանքային կենսաթոշակների (տարիքային, հաշմանդամության, արտոնյալ պայմաններով, երկարամյա ծառայության, մասնակի, կերակրողին կորցնելու դեպքում կենսաթոշակների) տրամադրում
G22: Տրանսֆերտների տրամադրում
H23: Շահառուների ընտրության չափորոշիչները` Տարիքային աշխատանքային` առնվազն 10 տարվա աշխատանքային ստաժ, հաշմանդամության աշխատանքային` ըստ սանդղակի աշխատանքային ստաժ, արտոնյալ, մասնակի երկարամյա ծառայության` պահանջվող մասնագիտությամբ աշխատանքային ստաժ
I24: Կենսաթոշակառուների միջին թիվ, մարդ այդ թվում | K24: -330
A26: ՀՀ կառավարություն | J26: =J27+J32 -> 0 | K26: =K27+K32 -> 0
B27: 1139 | C27: ՀՀ կառավարության պահուստային ֆոնդ | J27: =J28 -> 190739.34 | K27: =K28 -> 190739.34
D28: 1139 - 11001 | E28: ՀՀ կառավարության պահուստային ֆոնդ | J28: ='1'!G17 -> 190739.34 | K28: ='1'!H17 -> 190739.34
F29: ՀՀ պետական բյուջեում նախատեսված ելքերի լրացուցիչ ֆինանսավորման, պետական բյուջեում չկանխատեսված ելքերի, ինչպես նաև բյուջետային երաշխիքների ապահովման ելքերի ֆինանսավորման ապահովում
G30: Ծառայությունների մատուցում
H31: Ծառայությունը մատուցողի անվանումը` ՀՀ կառավարություն
B32: 1139 | C32: ՀՀ կառավարության պահուստային ֆոնդ | J32: =J33 -> -190739.34 | K32: =K33 -> -190739.34
D33: 1139 - 11001 | E33: ՀՀ կառավարության պահուստային ֆոնդ | J33: ='1'!G18 -> -190739.34 | K33: ='1'!H18 -> -190739.34
F34: ՀՀ պետական բյուջեում նախատեսված ելքերի լրացուցիչ ֆինանսավորման, պետական բյուջեում չկանխատեսված ելքերի, ինչպես նաև բյուջետային երաշխիքների ապահովման ելքերի ֆինանսավորման ապահովում
G35: Ծառայությունների մատուցում
H36: Ծառայությունը մատուցողի անվանումը` ՀՀ կառավարություն

Sheet 4
K1: Հավելված N 4
K2: ՀՀ կառավարության 2025 թվականի
K3: -----------------ի N -----------Ն որոշման
A6: ՀԱՅԱՍՏԱՆԻ ՀԱՆՐԱՊԵՏՈՒԹՅԱՆ ԿԱՌԱՎԱՐՈՒԹՅԱՆ 2024 ԹՎԱԿԱՆԻ ԴԵԿՏԵՄԲԵՐԻ 27-Ի N 2060-Ն ՈՐՈՇՄԱՆ N 9.1 ՀԱՎԵԼՎԱԾՈՒՄ ԿԱՏԱՐՎՈՂ ՓՈՓՈԽՈՒԹՅՈՒՆՆԵՐԸ ԵՎ ԼՐԱՑՈՒՄՆԵՐԸ
J8: հազար դրամներով
A9: ԲՍԿ | B9: Ծրագիր | D9: Միջոցառում | H9: Իրականացնողը/ ակտիվն օգտագործողը/ շահառուի ընտրության չափորոշիչը | I9: Արդյունքային չափորոշիչը | J9: Ցուցանիշների փոփոխությունները ավելացումները նշված են դրական նշանով, իսկ նվազեցումները՝ փակագծերում
B10: Դասիչը | C10: Անվանումը | D10: Դասիչը | E10: Անվանումը | F10: Նկարագրությունը | G10: Տեսակը | J10: Ինն ամիս | K10: Տարի
A11: ԸՆԴԱՄԵՆԸ | J11: =J12+J26 -> 0 | K11: =K12+K26 -> 0
A12: ՀՀ աշխատանքի և սոցիալական հարցերի նախարարության միասնական սոցիալական ծառայություն | J12: =J13+J19 -> 0 | K12: =K13+K19 -> 0
B13: ='3'!B13 -> 1205 | C13: ='3'!C13:I13 -> Սոցիալական ապահովություն | J13: =J14 -> 190739.34 | K13: =K14 -> 190739.34
D14: ='3'!D14 -> 1205 - 12037 | E14: ='3'!E14:I14 -> 2023 թվականի սեպտեմբեր ամսին կանխիկ եղանակով վճարման ենթակա եղած՝ ԼՂ զինվորական կենսաթոշակների, պարգևավճարների գումարների հատկացում | J14: ='1'!G11 -> 190739.34 | K14: ='1'!H11 -> 190739.34
F15: ='3'!F15:K15 -> 2023 թվականի սեպտեմբեր ամսին կանխիկ եղանակով վճարման ենթակա եղած՝ ԼՂ զինվորական կենսաթոշակների, պարգևավճարների գումարների վճարում
G16: ='3'!G16:K16 -> Տրանսֆերտների տրամադրում
H17: ='3'!H17:K17 -> Շահառուների ընտրության չափորոշիչները` որոշումով հաստատված` 2023 թվականի սեպտեմբեր ամսին կանխիկ եղանակով վճարման ենթակա եղած՝ ԼՂ զինվորական կենսաթոշակներ, պարգևավճարներ չստացած անձինք
I18: ='3'!I18 -> Նպաստ ստացողների թիվ, մարդ | K18: ='3'!K18 -> 2342
B19: ='2'!D32 -> 1102 | C19: ='1'!D13 -> Կենսաթոշակային ապահովություն | J19: =J20 -> -190739.34 | K19: =K20 -> -190739.34
D20: ='1'!C14 -> 1102 - 12003 | E20: ='1'!D14 -> Աշխատանքային կենսաթոշակներ | J20: ='1'!G14 -> -190739.34 | K20: ='1'!H14 -> -190739.34
F21: Աշխատանքային կենսաթոշակների (տարիքային, հաշմանդամության, արտոնյալ պայմաններով, երկարամյա ծառայության, մասնակի, կերակրողին կորցնելու դեպքում կենսաթոշակների) տրամադրում
G22: Տրանսֆերտների տրամադրում
H23: Շահառուների ընտրության չափորոշիչները` Տարիքային աշխատանքային` առնվազն 10 տարվա աշխատանքային ստաժ, հաշմանդամության աշխատանքային` ըստ սանդղակի աշխատանքային ստաժ, արտոնյալ, մասնակի երկարամյա ծառայության` պահանջվող մասնագիտությամբ աշխատանքային ստաժ
I24: Կենսաթոշակառուների միջին թիվ, մարդ այդ թվում | K24: ='3'!K24 -> -330
A26: ՀՀ կառավարություն | J26: =J27+J32 -> 0 | K26: =K27+K32 -> 0
B27: 1139 | C27: ՀՀ կառավարության պահուստային ֆոնդ | J27: =J28 -> 190739.34 | K27: =K28 -> 190739.34
D28: 1139 - 11001 | E28: ՀՀ կառավարության պահուստային ֆոնդ | J28: ='3'!J28 -> 190739.34 | K28: ='3'!K28 -> 190739.34
F29: ՀՀ պետական բյուջեում նախատեսված ելքերի լրացուցիչ ֆինանսավորման, պետական բյուջեում չկանխատեսված ելքերի, ինչպես նաև բյուջետային երաշխիքների ապահովման ելքերի ֆինանսավորման ապահովում
G30: Ծառայությունների մատուցում
H31: Ծառայությունը մատուցողի անվանումը` ՀՀ կառավարություն
B32: 1139 | C32: ՀՀ կառավարության պահուստային ֆոնդ | J32: =J33 -> -190739.34 | K32: =K33 -> -190739.34
D33: 1139 - 11001 | E33: ՀՀ կառավարության պահուստային ֆոնդ | J33: ='3'!J33 -> -190739.34 | K33: ='3'!K33 -> -190739.34
F34: ՀՀ պետական բյուջեում նախատեսված ելքերի լրացուցիչ ֆինանսավորման, պետական բյուջեում չկանխատեսված ելքերի, ինչպես նաև բյուջետային երաշխիքների ապահովման ելքերի ֆինանսավորման ապահովում
G35: Ծառայությունների մատուցում
H36: Ծառայությունը մատուցողի անվանումը` ՀՀ կառավարություն
