Workbook

Sheet 1
C1: Հավելված N 1
C2: ՀՀ կառավարության 2025 թվականի
C3: ______________ ի ___Ն որոշման
B5: «ՀԱՅԱՍՏԱՆԻ ՀԱՆՐԱՊԵՏՈՒԹՅԱՆ 2025 ԹՎԱԿԱՆԻ ՊԵՏԱԿԱՆ ԲՅՈՒՋԵԻ ՄԱՍԻՆ» ՕՐԵՆՔԻ 2-ՐԴ ՀՈԴՎԱԾԻ ԱՂՅՈՒՍԱԿՈՒՄ ԿԱՏԱՐՎՈՂ ԼՐԱՑՈՒՄԸ
C6: հազար դրամներով
C7: Ցուցանիշների փոփոխությունը (գումարների ավելացումը նշված են դրական նշանով)
B8: 1. Եկամուտների գծով | C8: 0
B9: 2. Ծախսերի գծով | C9: =C10 -> 1790710.7
B10: 3. Դեֆիցիտը (պակասուրդը) | C10: ='5'!I10 -> 1790710.7
B13: ՀԱՅԱՍՏԱՆԻ ՀԱՆՐԱՊԵՏՈՒԹՅԱՆ ՎԱՐՉԱՊԵՏԻ ԱՇԽԱՏԱԿԱԶՄԻ ՂԵԿԱՎԱՐ՝ | C13: Ա.ՀԱՐՈՒԹՅՈՒՆՅԱՆ

Sheet 2.
D1: Հավելված N 2
D2: ՀՀ կառավարության 2025 թվականի
D3: ______________ ի ___Ն որոշման
B5: ՀԱՅԱՍՏԱՆԻ ՀԱՆՐԱՊԵՏՈՒԹՅԱՆ ԿԱՌԱՎԱՐՈՒԹՅԱՆ 2024 ԹՎԱԿԱՆԻ ԴԵԿՏԵՄԲԵՐԻ 27-Ի N 2060-Ն ՈՐՈՇՄԱՆ N 1 ՀԱՎԵԼՎԱԾԻ N 1 ԱՂՅՈՒՍԱԿՈՒՄ ԿԱՏԱՐՎՈՂ ԼՐԱՑՈՒՄԸ
C7: հազար դրամներով
B8: Պետական բյուջեի դեֆիցիտի ֆինանսավորման աղբյուրներն ու դրանց տարրերի անվանումները | C8: Ցուցանիշների փոփոխությունը (ավելացումները նշված են դրական նշանով)
C9: Ինն ամիս | D9: Տարի
B10: ԸՆԴԱՄԵՆԸ | C10: =C12 -> 1790710.7 | D10: =D12 -> 1790710.7
B11: այդ թվում՝
B12: Ա. Ներքին աղբյուրներ-ընդամենը | C12: =C14 -> 1790710.7 | D12: =D14 -> 1790710.7
B13: այդ թվում՝
B14: 2. Ֆինանսական զուտ ակտիվներ | C14: =+C16 -> 1790710.7 | D14: =+D16 -> 1790710.7
B15: այդ թվում՝
B16: 2.3. Ելքերի ֆինանսավորմանն ուղղվող պետական բյուջեի տարեսկզբի ազատ մնացորդի միջոցներ | C16: ='5'!H10 -> 1790710.7 | D16: =C16 -> 1790710.7
B19: ՀԱՅԱՍՏԱՆԻ ՀԱՆՐԱՊԵՏՈՒԹՅԱՆ ՎԱՐՉԱՊԵՏԻ ԱՇԽԱՏԱԿԱԶՄԻ ՂԵԿԱՎԱՐ՝ | C19: Ա.ՀԱՐՈՒԹՅՈՒՆՅԱՆ

Sheet 3
A1: Հավելված N 3
A2: ՀՀ կառավարության 2025 թվականի
A3: ______________ ի ___Ն որոշման
B5: ՀԱՅԱՍՏԱՆԻ ՀԱՆՐԱՊԵՏՈՒԹՅԱՆ 2025 ԹՎԱԿԱՆԻ ՊԵՏԱԿԱՆ ԲՅՈՒՋԵԻ ՄԱՍԻՆ» ՕՐԵՆՔԻ N 1 ՀԱՎԵԼՎԱԾԻ N 2 ԱՂՅՈՒՍԱԿՈՒՄ ԿԱՏԱՐՎՈՂ ՎԵՐԱԲԱՇԽՈՒՄԸ ԵՎ ՀԱՅԱՍՏԱՆԻ ՀԱՆՐԱՊԵՏՈՒԹՅԱՆ ԿԱՌԱՎԱՐՈՒԹՅԱՆ 2024 ԹՎԱԿԱՆԻ ԴԵԿՏԵՄԲԵՐԻ 27-Ի N 2060-Ն ՈՐՈՇՄԱՆ N 5 ՀԱՎԵԼՎԱԾԻ N 1 ԱՂՅՈՒՍԱԿՈՒՄ ԿԱՏԱՐՎՈՂ ՓՈՓՈԽՈՒԹՅՈՒՆՆԵՐԸ ԵՎ ԼՐԱՑՈՒՄՆԵՐԸ
H7: հազար դրամներով
B8: ԲԳԿ | C8: Ծրագրային դասիչը | E8: ԲԳԿ/Ծրագրի /միջոցառման անվանումը | F8: Ծրագրի նպատակը/Միջոցառման նկարագրությունը | G8: Վերջնական արդյունքի նկարագրությունը/Միջոցառման տեսակը | H8: Ցուցանիշների փոփոխությունը (ավելացումները նշված են դրական նշանով, իսկ նվազեցումները` փակագծերում)
C9: Ծրագիր | D9: Միջոցառում | H9: Ինն ամիս | I9: Տարի
B10: ԸՆԴԱՄԵՆԸ | H10: =H11 -> 1790710.7 | I10: =I11 -> 1790710.7
B11: ՀՀ տարածքային կառավարման և ենթակառուցվածքների նախարարություն | H11: =H12+H18 -> 1790710.7 | I11: =I12 -> 1790710.7
C12: 1049 | E12: Ճանապարհային ցանցի բարելավում | F12: Ճանապարհային ցանցի բարելավում և անվտանգ երթևեկության ապահովում | G12: Ճանապարհների ծածկի որակի և փոխադրումների արդյունավետության բարելավում, ճանապարհների վիճակով պայմանավորված պատահարների նվազում | H12: =H13+H14+H15+H16+H17 -> 2362249.4 | I12: =I13+I14+I15+I16+I17 -> 1790710.7
D13: 1049 - 11001 | E13: Միջպետական և հանրապետական նշանակության ավտոճանապարհների պահպանման և անվտանգ երթևեկության ծառայություններ | F13: Հողային պաստառի, երթևեկելի մասի, արհեստական կառույցների և կահավորման տարրերի նորմատիվ մակարդակում պահպանում և շահագործում | G13: Ծառայությունների մատուցում | H13: ='7'!D11 -> -768431.2 | I13: ='7'!E11 -> -968944.8
D14: 1049 - 11003 | E14: Հայաստանի Հանրապետությունում հսկիչ սարքերի (թվային տախոգրաֆի) համակարգի կարգավորում | F14: Հայաստանի Հանրապետությունում հսկիչ սարքերի (թվային տախոգրաֆի) համակարգի անընդհատ և անխափան աշխատանքի ապահովման նպատակով տախոնետ կապի ապահովում | G14: Ծառայությունների մատուցում | H14: ='5'!H51 -> -47665.1 | I14: ='5'!I51 -> 0
D15: 1049 - 21001 | E15: Պետական նշանակության ավտոճանապարհների հիմնանորոգում | F15: Միջպետական, հանրապետական և մարզային նշանակության ավտոճոնապարհների քայքայված ծածկի վերանորոգում, մաշված ծածկի փոխարինում | G15: Հանրության կողմից անմիջականորեն օգտագործվող ակտիվների հետ կապված միջոցառումներ | H15: ='5'!H60 -> 1202364.1 | I15: ='5'!I60 -> 2320336.6
D16: 1049 - 21020 | E16: Պետական նշանակության ավտոճանապարհների միջին նորոգում | F16: Միջպետական, հանրապետական և մարզային նշանակության ավտոճանապարհների պատվածքի մաշված վերին շերտի վերականգնում և շինարարական նորմերով նախատեսված սկզբնական որակական ցուցանիշների ապահովում | G16: Հանրության կողմից անմիջականորեն օգտագործվող ակտիվների հետ կապված միջոցառումներ | H16: ='5'!H95 -> 2182681.6 | I16: ='5'!I95 -> 439318.9
D17: 1049 - 21023 | E17: ՀՀ ընդհանուր օգտագործման ավտամոբիլային ճանապարհների վթարավտանգ հատվածների վերացում | F17: ՀՀ ընդհանուր օգտագործման ավտամոբիլային ճանապարհների վթարավտանգ հատվածների վերացում | G17: Հանրության կողմից անմիջականորեն օգտագործվող ակտիվների հետ կապված միջոցառումներ | H17: ='5'!H111 -> -206700 | I17: ='5'!I111 -> 0
C18: 1212 | E18: Տարածքային զարգացում | F18: Տարածքային համաչափ զարգացման խթանում | G18: ՀՀ համայնքների կառավարման արդյունավետության բարձրացում և տնտեսական գործունեության խթանում | H18: =H19 -> -571538.7 | I18: =I19 -> 0
D19: 1212 - 12026 | E19: Ազդակիր բնակավայրերի և համայնքների բյուջեներին հատկացվող համայնքային մասհանումներ | F19: Օրենսդրությամբ նախատեսված՛ հաշվետու տարում ռոյալթի վճարողի կողմից օրենքով սահմանված չափով և կարգով պետական բյուջե վճարված ռոյալթիի չափի երկու տոկոսից փոխհատուցումներ տեղական ինքնակառավարման մարմիններին | G19: Տրանսֆերտների տրամադրում | H19: ='5'!H23 -> -571538.7 | I19: ='5'!I23 -> 0
D22: ՀԱՅԱՍՏԱՆԻ ՀԱՆՐԱՊԵՏՈՒԹՅԱՆ ՎԱՐՉԱՊԵՏԻ ԱՇԽԱՏԱԿԱԶՄԻ ՂԵԿԱՎԱՐ՝ | F22: Ա.ՀԱՐՈՒԹՅՈՒՆՅԱՆ

Sheet 4
I1: Հավելված N 4
I2: ՀՀ կառավարության 2025 թվականի
I3: ______________ ի ___Ն որոշման
B5: «ՀԱՅԱՍՏԱՆԻ ՀԱՆՐԱՊԵՏՈՒԹՅԱՆ 2025 ԹՎԱԿԱՆԻ ՊԵՏԱԿԱՆ ԲՅՈՒՋԵԻ ՄԱՍԻՆ» ՕՐԵՆՔԻ N 1 ՀԱՎԵԼՎԱԾԻ N 3 ԱՂՅՈՒՍԱԿՈՒՄ ԿԱՏԱՐՎՈՂ ՓՈՓՈԽՈՒԹՅՈՒՆՆԵՐԸ ԵՎ ԼՐԱՑՈՒՄՆԵՐԸ
H6: հազար դրամներով
B7: Ծրագրային դասիչ | D7: Բյուջետային գլխավոր կարգադրիչների, ծրագրերի, միջոցառումների և ուղղությունների անվանումները | E7: Ցուցանիշների փոփոխությունը (ավելացումները նշված են դրական նշանով, իսկ նվազեցումները` փակագծերում)
E8: Ընդամենը, | F8: այդ թվում՝
B9: Ծրագիր | C9: Միջոցառում | F9: Կառուցման աշխատանքներ | G9: Վերակառուցման, վերանորոգման և վերականգնման աշխատանքներ | H9: Նախագծահե- տազոտական, գեոդեզիա- քարտեզագրական աշխատանքներ | I9: Ոչ ֆինանսական այլ ակտիվների ձեռքբերում
D10: ԸՆԴԱՄԵՆԸ | E10: =+F10+G10+H10+I10 -> 2759655.5 | F10: =+F12 -> 725404.8 | G10: =+G12 -> 2000239.7 | H10: =+H12 -> 34011 | I10: =+I12 -> 0
D11: այդ թվում՝
D12: ՀՀ ՏԱՐԱԾՔԱՅԻՆ ԿԱՌԱՎԱՐՄԱՆ ԵՎ ԵՆԹԱԿԱՌՈՒՑՎԱԾՔՆԵՐԻ ՆԱԽԱՐԱՐՈՒԹՅՈՒՆ | E12: =+F12+G12+H12+I12 -> 2759655.5 | F12: =F14+F48+F52+F53 -> 725404.8 | G12: =G14+G48+G52+G53 -> 2000239.7 | H12: =H14+H48+H52+H53 -> 34011 | I12: =I14+I48+I52+I53 -> 0
D13: այդ թվում`
B14: 1049 | C14: 21001 | D14: Պետական նշանակության ավտոճանապարհների հիմնանորոգում | E14: =+F14+G14+H14+I14 -> 2320336.6 | F14: =+F16+F30+F24+F47 -> 725404.8 | G14: =+G16+G30+G24+G47 -> 1560920.8 | H14: =+H16+H30+H24+H47 -> 34011 | I14: =+I16+I30+I24+I47 -> 0
D15: այդ թվում`
C16: 1 | D16: Միջպետական նշանակության ավտոճանապարհներ, այդ թվում | E16: =+F16+G16+H16+I16 -> -632316.3 | F16: =SUM(F17:F23) -> 0 | G16: =SUM(G17:G23) -> -666327.3 | H16: =SUM(H17:H23) -> 34011 | I16: =SUM(I17:I23) -> 0
D17: Մ-2, Երևան-Երասխ-Նորավան- Տաթև-Կապան-Մեղրի-ՀՀ սահման (նախկին՝ Մ-2 ,Երևան-Երասխ-Գորիս-Մեղրի-ՀՀ սահման) միջպետական նշանակության ավտոճանապարհի կմ47+475-կմ53+150 հատվածի հիմնանորոգում | E17: =F17+G17+H17+I17 -> -543871 | G17: ='6'!F20 -> -543871 | H17: 0
D18: Մ-2, Երևան-Երասխ-Նորավան- Տաթև-Կապան-Մեղրի-ՀՀ սահման (նախկին՝ Մ-2 ,Երևան-Երասխ-Գորիս-Մեղրի-ՀՀ սահման) միջպետական նշանակության ավտոճանապարհի կմ91+600 - կմ98+000 հատվածի հիմնանորոգում | E18: =F18+G18+H18+I18 -> -371158.5 | G18: ='6'!F21 -> -371158.5
D19: Մ-2, Երևան-Երասխ-Նորավան- Տաթև-Կապան-Մեղրի-ՀՀ սահման (նախկին՝ Մ-2 ,Երևան-Երասխ-Գորիս-Մեղրի-ՀՀ սահման) միջպետական նշանակության ավտոճանապարհի կմ181+250 - կմ181+750 հատվածի վերակառուցում | E19: =F19+G19+H19+I19 -> -13043.2 | G19: ='6'!F22 -> -13043.2
D20: Մ-3, ՀՀ սահման (Մարգարա) – Վանաձոր – Տաշիր – ՀՀ սահման միջպետական նշանակության ավտոճանապարհի Ռյա Թազա բնակավայրով անցնող հատվածում ջրահեռացման կարգավորում | E20: =F20+G20+H20+I20 -> 411 | H20: 411
D21: Մ-4, Երևան-Սևան-Իջևան-ՀՀ սահման միջպետական նշանակության ավտոճանապարհի կմ91+176-կմ96+176 հատվածի հիմնանորոգում և ոլորանների պարամետրերի բարելավում | E21: =F21+G21+H21+I21 -> 66908.5 | G21: 66908.5
D22: Մ-4, Երևան-Սևան-Իջևան-ՀՀսահման միջպետական նշանակության ավտոճանապարհի Երևան - Դիլիջան հատվածում լուսավորության համակարգի կառուցում | E22: =F22+G22+H22+I22 -> 33600 | H22: 33600
D23: Մ-7, /Մ-3/ - Սպիտակ – Գյումրի - ՀՀ սահման միջպետական նշանակության ավտոճանապարհի կմ47+100-կմ48+000 հատվածի հիմնանորոգում | E23: =F23+G23+H23+I23 -> 194836.9 | G23: ='6'!F26 -> 194836.9
C24: 2 | D24: Հանրապետական նշանակության ավտոճանապարհներ, այդ թվում | E24: =+F24+G24+H24+I24 -> 932620.1 | F24: =SUM(F25:F29) -> 0 | G24: =SUM(G25:G29) -> 932620.1 | H24: =SUM(H25:H29) -> 0 | I24: =SUM(I25:I29) -> 0
D25: Հ-10. /Հ-8/ (Ոսկետափ) - Վեդի - Լանջառ - /Մ-2/ հանրապետական նշանակության ավտոճանապարհի կմ5+450 - կմ9+250 հատվածի հիմնանորոգում | E25: =F25+G25+H25+I25 -> 406923.4 | G25: ='6'!F28 -> 406923.4
D26: Հ-15, /Մ-5/(Նորապատ) -Արգավանդ –/Մ-3/ (Վարդանաշեն) հանրապետական նշանակության ավտոճանապարհի կմ3+000 - կմ13+000 հատվածի հիմնանորոգում | E26: =F26+G26+H26+I26 -> 1596837.6 | G26: ='6'!F29 -> 1596837.6
D27: Հ-15, /Մ-5/(Նորապատ) -Արգավանդ –/Մ-3/ (Վարդանաշեն) հանրապետական նշանակության ավտոճանապարհի կմ13+000 - կմ20+000 հատվածի հիմնանորոգում | E27: =F27+G27+H27+I27 -> -462784.9 | G27: ='6'!F30 -> -462784.9
D28: Հ-21, /Հ-75/ - Հոռոմ-Արթիկ-Ալագյազ հանրապետական նշանակության ավտոճանապարհի կմ32+700 - կմ41+000 հատվածի հիմնանորոգում | E28: =F28+G28+H28+I28 -> -443045.5 | G28: ='6'!F31 -> -443045.5
D29: Հ-22, /Մ-6/ - Դսեղ – /Հ-70/ հանրապետական նշանակության ավտոճանապարհի կմ 8+000-կմ 13+900 հատվածի հիմնանորոգում | E29: =F29+G29+H29+I29 -> -165310.5 | G29: ='6'!F32 -> -165310.5
C30: 3 | D30: Մարզային նշանակության ավտոճանապարհներ, այդ թվում | E30: =+F30+G30+H30+I30 -> 6014669.7 | F30: =SUM(F31:F46) -> 725404.8 | G30: =SUM(G31:G46) -> 5289264.9 | H30: =SUM(H31:H46) -> 0 | I30: =SUM(I31:I46) -> 0
D31: Տ-1-25,/Մ-3/(Աշտարակ)–Փարպի-Ղազարավան տեղական նշանակության ավտոճանապարհի կմ0+000-կմ4+000 և կմ6+000-կմ13+500 հատվածների հիմնանորոգում | E31: =F31+G31+H31+I31 -> -728416.1 | G31: ='6'!F34 -> -728416.1
D32: Տ-1-33,Կոշ(Տ-1-8)-Վերին Սասունիկ-Լեռնարոտ տեղական նշանակության ավտոճանապարհի կմ0+000-կմ9+500 հատվածի հիմնանորոգում | E32: =F32+G32+H32+I32 -> -726043.4 | G32: ='6'!F35 -> -726043.4
D33: Տ-3-14/Մ-5/-Մրգաշատ-Ալաշկերտ-գ․Արմավիր (Տ-3-16) տեղական նշնակության ավտոճանապարհի կմ6+200 - կմ7+400 հատվածի հիմնանորոգում | E33: =F33+G33+H33+I33 -> -96770.2 | G33: ='6'!F36 -> -96770.2
D34: Տ-3-19, Արևիկ(Տ-3-50)-/Հ-15/(Տանձուտ) ավտոճանապարհի կմ0+000 - կմ3+400 հատվածի հիմնանորոգում | E34: =F34+G34+H34+I34 -> -163591.6 | G34: ='6'!F37 -> -163591.6
D35: Տ-3-29, /Մ-5/(Զվարթնոց թաղամաս)-/Հ-13/ 4,4կմ ընդհանուր երկարության կմ0+000-կմ4+400 հատվածի հիմնանորոգում | E35: =F35+G35+H35+I35 -> -245059.2 | G35: ='6'!F38 -> -245059.2
D36: Տ-4-63, /Հ-7/ - Ջիլ մարզային նշանակության ավտոճանապարհի և նորակառույց դպրոց տանող ճանապարհահատվածի հիմնանորոգում | E36: =F36+G36+H36+I36 -> 407336.4 | G36: ='6'!F39 -> 407336.4
D37: ՀՀ Գեղարքունիքի Մարտունի քաղաքի Մյասնիկյան, Գևորգ Զիրոյան և Սայաթ Նովա խաչմերուկից մինչև Ն. Գետաշեն բնակավայրի թիվ 2 միջնակարգ դպրոցի խաչմերուկ ավտոճանապարհի հիմնանորոգում | E37: =F37+G37+H37+I37 -> 748883.6 | G37: ='6'!F40 -> 748883.6
D38: ՀՀ Գեղարքունիքի մարզի Գավառ համայնքի գյուղ Բերդկունքի կենտրոնական փողոցի մի հատվածի ասֆալտապատում | E38: =F38+G38+H38+I38 -> 78824.7 | G38: ='6'!F41 -> 78824.7
D39: Տ-5-51, /Մ-3/ - Միխայելովկա - /Մ-3/ կմ0+000 – կմ2+000 մարզային նշանակության ավտոճանապարհի հիմնանորոգում | E39: =F39+G39+H39+I39 -> 420915 | G39: ='6'!F42 -> 420915
D40: Տ-5-96, /Մ-3/ – (Տաշիր) – Մեծավան – Ձյունաշող (Տ-5-27) կմ0+000 – կմ8+500 ավտոճանապարհի հիմնանորոգում | E40: =F40+G40+H40+I40 -> 529026.4 | G40: ='6'!F43 -> 529026.4
D41: ՀՀ Լոռու մարզի Վանաձոր քաղաքի Վարդանանց փողոցի հիմնանորոգում | E41: =F41+G41+H41+I41 -> 736625.8 | G41: ='6'!F44 -> 736625.8
...

Sheet 5
I1: Հավելված N 5
I2: ՀՀ կառավարության 2025 թվականի
I3: ______________ ի ___Ն որոշման
B5: ՀԱՅԱՍՏԱՆԻ ՀԱՆՐԱՊԵՏՈՒԹՅԱՆ ԿԱՌԱՎԱՐՈՒԹՅԱՆ 2024 ԹՎԱԿԱՆԻ ԴԵԿՏԵՄԲԵՐԻ 27-Ի N 2060-Ն ՈՐՈՇՄԱՆ NN 3 ԵՎ 4 ՀԱՎԵԼՎԱԾՆԵՐՈՒՄ ԿԱՏԱՐՎՈՂ ՓՈՓՈԽՈՒԹՅՈՒՆՆԵՐԸ ԵՎ ԼՐԱՑՈՒՄՆԵՐԸ
B8: Գործառական դասիչը | E8: Ծրագրային դասիչը | G8: Բյուջետային հատկացումների գլխավոր կարգադրիչների, ծրագրերի, միջոցառումների և միջոցառումները կատարող պետական մարմինների անվանումները | H8: Ցուցանիշների փոփոխությունը (ավելացումները նշված են դրական նշանով, իսկ նվազեցումները` փակագծերում)
B9: Բաժին | C9: Խումբ | D9: Դաս | E9: Ծրագիր | F9: Միջոցառում | H9: Ինն ամիս | I9: Տարի
G10: ԸՆԴԱՄԵՆԸ | H10: =H12 -> 1790710.7 | I10: =I12 -> 1790710.7
G11: այդ թվում`
G12: ՀՀ տարածքային կառավարման և ենթակառուցվածքների նախարարություն | H12: =H32+H14 -> 1790710.7 | I12: =I32+I14 -> 1790710.7
G13: այդ թվում`
B14: 01 | G14: ԸՆԴՀԱՆՈՒՐ ԲՆՈՒՅԹԻ ՀԱՆՐԱՅԻՆ ԾԱՌԱՅՈՒԹՅՈՒՆՆԵՐ | H14: =H16 -> -571538.7 | I14: =I16 -> 0
G15: այդ թվում`
C16: 08 | G16: Կառավարության տարբեր մակարդակների միջև իրականացվող ընդհանուր բնույթի տրանսֆերտներ | H16: =H18 -> -571538.7 | I16: =I18 -> 0
G17: այդ թվում`
D18: 01 | G18: Կառավարության տարբեր մակարդակների միջև իրականացվող ընդհանուր բնույթի տրանսֆերտներ | H18: =+H21 -> -571538.7 | I18: =+I21 -> 0
G19: այդ թվում`
G20: ՀՀ տարածքային կառավարման և ենթակառուցվածքների նախարարություն | H20: =H21 -> -571538.7 | I20: =I21 -> 0
E21: 1212 | G21: Տարածքային զարգացում | H21: =H23 -> -571538.7 | I21: =I133+I152+I168 -> 0
G22: այդ թվում`
F23: 12026 | G23: Ազդակիր բնակավայրերի և համայնքների բյուջեներին հատկացվող համայնքային մասհանումներ | H23: =H25 -> -571538.7 | I23: =I25 -> 0
G24: այդ թվում` ըստ կատարողների
G25: ՀՀ կառավարություն | H25: =H27 -> -571538.7 | I25: =I27 -> 0
G26: այդ թվում` բյուջետային ծախսերի տնտեսագիտական դասակարգման հոդվածներ
G27: ԸՆԴԱՄԵՆԸ ԾԱԽՍԵՐ | H27: =H28 -> -571538.7 | I27: =I28 -> 0
G28: ԸՆԹԱՑԻԿ ԾԱԽՍԵՐ | H28: =H29 -> -571538.7 | I28: =I29 -> 0
G29: ԴՐԱՄԱՇՆՈՐՀՆԵՐ | H29: =H30 -> -571538.7 | I29: =I30 -> 0
G30: Կապիտալ դրամաշնորհներ պետական հատվածի այլ մակարդակներին | H30: =H31 -> -571538.7 | I30: =I31 -> 0
G31: - Կապիտալ սուբվենցիաներ համայնքներին | H31: -571538.7 | I31: ='7'!E100 -> 0
B32: 04 | G32: ՏՆՏԵՍԱԿԱՆ ՀԱՐԱԲԵՐՈՒԹՅՈՒՆՆԵՐ | H32: =H34 -> 2362249.4 | I32: =I34 -> 1790710.7
G33: այդ թվում`
C34: 05 | G34: ՏՐԱՆՍՊՈՐՏ | H34: =H36 -> 2362249.4 | I34: =I36 -> 1790710.7
G35: այդ թվում`
D36: 01 | G36: Ճանապարհային տրանսպորտ | H36: =+H40 -> 2362249.4 | I36: =+I40 -> 1790710.7
G37: այդ թվում`
G38: ՀՀ տարածքային կառավարման և ենթակառուցվածքների նախարարություն | H38: =H40 -> 2362249.4 | I38: =I40 -> 1790710.7
G39: այդ թվում`
E40: 1049 | G40: Ճանապարհային ցանցի բարելավում | H40: =H42+H51+H60+H79+H95+H111 -> 2362249.4 | I40: =I42+I51+I60+I79+I95+I111 -> 1790710.7
G41: այդ թվում`
F42: 11001 | G42: Միջպետական և հանրապետական նշանակության ավտոճանապարհների պահպանման և անվտանգ երթևեկության ծառայություններ | H42: =H44 -> -768431.2 | I42: =I44 -> -968944.8
G43: այդ թվում` ըստ կատարողների
...

Sheet 6
F1: Հավելված N 6
F2: ՀՀ կառավարության 2025 թվականի
F3: ______________ ի ___Ն որոշման
A5: ՀԱՅԱՍՏԱՆԻ ՀԱՆՐԱՊԵՏՈՒԹՅԱՆ ԿԱՌԱՎԱՐՈՒԹՅԱՆ 2024 ԹՎԱԿԱՆԻ ԴԵԿՏԵՄԲԵՐԻ 27-Ի N 2060-Ն ՈՐՈՇՄԱՆ N 5 ՀԱՎԵԼՎԱԾԻ N 2 ԱՂՅՈՒՍԱԿՈՒՄ ԿԱՏԱՐՎՈՂ ՓՈՓՈԽՈՒԹՅՈՒՆՆԵՐԸ ԵՎ ԼՐԱՑՈՒՄՆԵՐԸ
E7: հազար դրամներով
B8: Ծրագրային դասիչը | D8: Հատկացումների տրամադրման նպատակները և բյուջետային գլխավոր կարգադրիչների, ծրագրերի, միջոցառումների և կատարող պետական մարմնի անվանումները | E8: Ցուցանիշների փոփոխությունը (ավելացումները նշված են դրական նշանով, իսկ նվազեցումները` փակագծերում)
B9: Ծրագիր | C9: Միջոցառում | E9: Ինն ամիս | F9: Տարի
D10: ԸՆԴԱՄԵՆԸ | E10: =E12 -> 3178345.7 | F10: =F12 -> 2759655.5
D11: այդ թվում՝
D12: ՀՀ ՏԱՐԱԾՔԱՅԻՆ ԿԱՌԱՎԱՐՄԱՆ ԵՎ ԵՆԹԱԿԱՌՈՒՑՎԱԾՔՆԵՐԻ ՆԱԽԱՐԱՐՈՒԹՅՈՒՆ | E12: =E14+E50+E56+E73 -> 3178345.7 | F12: =F14+F50+F56 -> 2759655.5
D13: այդ թվում`
B14: 1049 | C14: 21001 | D14: Պետական նշանակության ավտոճանապարհների հիմնանորոգում | E14: =E16+E17 -> 1202364.1 | F14: =F16+F17 -> 2320336.6
D15: այդ թվում` ըստ կատարողների
D16: ՀՀ կառավարություն | E16: =-987084.6 -> -987084.6 | F16: =-3994636.9 -> -3994636.9
D17: ՀՀ տարածքային կառավարման և ենթակառուցվածքների նախարարություն | E17: =E19+E27+E33 -> 2189448.7 | F17: =F19+F27+F33 -> 6314973.5
D18: այդ թվում՝ ըստ ուղղությունների
C19: 1 | D19: ='[1]1'!C16 -> Միջպետական նշանակության ավտոճանապարհներ, այդ թվում | E19: =SUM(E20:E26) -> -370815.1 | F19: =SUM(F20:F26) -> -632316.3
D20: ='4'!D17 -> Մ-2, Երևան-Երասխ-Նորավան- Տաթև-Կապան-Մեղրի-ՀՀ սահման (նախկին՝ Մ-2 ,Երևան-Երասխ-Գորիս-Մեղրի-ՀՀ սահման) միջպետական նշանակության ավտոճանապարհի կմ47+475-կմ53+150 հատվածի հիմնանորոգում | E20: -326322.6 | F20: -543871
D21: ='4'!D18 -> Մ-2, Երևան-Երասխ-Նորավան- Տաթև-Կապան-Մեղրի-ՀՀ սահման (նախկին՝ Մ-2 ,Երևան-Երասխ-Գորիս-Մեղրի-ՀՀ սահման) միջպետական նշանակության ավտոճանապարհի կմ91+600 - կմ98+000 հատվածի հիմնանորոգում | E21: =-220888.4 -> -220888.4 | F21: -371158.5
D22: ='4'!D19 -> Մ-2, Երևան-Երասխ-Նորավան- Տաթև-Կապան-Մեղրի-ՀՀ սահման (նախկին՝ Մ-2 ,Երևան-Երասխ-Գորիս-Մեղրի-ՀՀ սահման) միջպետական նշանակության ավտոճանապարհի կմ181+250 - կմ181+750 հատվածի վերակառուցում | E22: -7825.8 | F22: -13043.2
D23: ='4'!D20 -> Մ-3, ՀՀ սահման (Մարգարա) – Վանաձոր – Տաշիր – ՀՀ սահման միջպետական նշանակության ավտոճանապարհի Ռյա Թազա բնակավայրով անցնող հատվածում ջրահեռացման կարգավորում | E23: 411 | F23: 411
D24: ='4'!D21 -> Մ-4, Երևան-Սևան-Իջևան-ՀՀ սահման միջպետական նշանակության ավտոճանապարհի կմ91+176-կմ96+176 հատվածի հիմնանորոգում և ոլորանների պարամետրերի բարելավում | E24: ='4'!G21 -> 66908.5 | F24: =E24 -> 66908.5
D25: ='4'!D22 -> Մ-4, Երևան-Սևան-Իջևան-ՀՀսահման միջպետական նշանակության ավտոճանապարհի Երևան - Դիլիջան հատվածում լուսավորության համակարգի կառուցում | F25: 33600
D26: ='4'!D23 -> Մ-7, /Մ-3/ - Սպիտակ – Գյումրի - ՀՀ սահման միջպետական նշանակության ավտոճանապարհի կմ47+100-կմ48+000 հատվածի հիմնանորոգում | E26: 116902.2 | F26: 194836.9
C27: 2 | D27: ='[1]1'!C26 -> Հանրապետական նշանակության ավտոճանապարհներ, այդ թվում | E27: =SUM(E28:E32) -> 239390.9 | F27: =SUM(F28:F32) -> 932620.1
D28: ='4'!D25 -> Հ-10. /Հ-8/ (Ոսկետափ) - Վեդի - Լանջառ - /Մ-2/ հանրապետական նշանակության ավտոճանապարհի կմ5+450 - կմ9+250 հատվածի հիմնանորոգում | E28: 244154.1 | F28: 406923.4
D29: ='4'!D26 -> Հ-15, /Մ-5/(Նորապատ) -Արգավանդ –/Մ-3/ (Վարդանաշեն) հանրապետական նշանակության ավտոճանապարհի կմ3+000 - կմ13+000 հատվածի հիմնանորոգում | E29: 638735.1 | F29: 1596837.6
D30: ='4'!D27 -> Հ-15, /Մ-5/(Նորապատ) -Արգավանդ –/Մ-3/ (Վարդանաշեն) հանրապետական նշանակության ավտոճանապարհի կմ13+000 - կմ20+000 հատվածի հիմնանորոգում | E30: -277671 | F30: -462784.9
D31: ='4'!D28 -> Հ-21, /Հ-75/ - Հոռոմ-Արթիկ-Ալագյազ հանրապետական նշանակության ավտոճանապարհի կմ32+700 - կմ41+000 հատվածի հիմնանորոգում | E31: -265827.3 | F31: -443045.5
D32: ='4'!D29 -> Հ-22, /Մ-6/ - Դսեղ – /Հ-70/ հանրապետական նշանակության ավտոճանապարհի կմ 8+000-կմ 13+900 հատվածի հիմնանորոգում | E32: -100000 | F32: -165310.5
C33: 3 | D33: Մարզային նշանակության ավտոճանապարհներ, այդ թվում | E33: =SUM(E34:E49) -> 2320872.9 | F33: =SUM(F34:F49) -> 6014669.7
D34: ='4'!D31 -> Տ-1-25,/Մ-3/(Աշտարակ)–Փարպի-Ղազարավան տեղական նշանակության ավտոճանապարհի կմ0+000-կմ4+000 և կմ6+000-կմ13+500 հատվածների հիմնանորոգում | E34: -438009.6 | F34: -728416.1
D35: ='4'!D32 -> Տ-1-33,Կոշ(Տ-1-8)-Վերին Սասունիկ-Լեռնարոտ տեղական նշանակության ավտոճանապարհի կմ0+000-կմ9+500 հատվածի հիմնանորոգում | E35: -436496 | F35: -726043.4
D36: ='4'!D33 -> Տ-3-14/Մ-5/-Մրգաշատ-Ալաշկերտ-գ․Արմավիր (Տ-3-16) տեղական նշնակության ավտոճանապարհի կմ6+200 - կմ7+400 հատվածի հիմնանորոգում | E36: -58062.1 | F36: -96770.2
D37: ='4'!D34 -> Տ-3-19, Արևիկ(Տ-3-50)-/Հ-15/(Տանձուտ) ավտոճանապարհի կմ0+000 - կմ3+400 հատվածի հիմնանորոգում | E37: -98155 | F37: -163591.6
D38: ='4'!D35 -> Տ-3-29, /Մ-5/(Զվարթնոց թաղամաս)-/Հ-13/ 4,4կմ ընդհանուր երկարության կմ0+000-կմ4+400 հատվածի հիմնանորոգում | E38: -147035.6 | F38: -245059.2
D39: ='4'!D36 -> Տ-4-63, /Հ-7/ - Ջիլ մարզային նշանակության ավտոճանապարհի և նորակառույց դպրոց տանող ճանապարհահատվածի հիմնանորոգում | E39: 203668.2 | F39: 407336.4
D40: ='4'!D37 -> ՀՀ Գեղարքունիքի Մարտունի քաղաքի Մյասնիկյան, Գևորգ Զիրոյան և Սայաթ Նովա խաչմերուկից մինչև Ն. Գետաշեն բնակավայրի թիվ 2 միջնակարգ դպրոցի խաչմերուկ ավտոճանապարհի հիմնանորոգում | E40: 374441.8 | F40: 748883.6
D41: ='4'!D38 -> ՀՀ Գեղարքունիքի մարզի Գավառ համայնքի գյուղ Բերդկունքի կենտրոնական փողոցի մի հատվածի ասֆալտապատում | E41: 39412.4 | F41: 78824.7
D42: ='4'!D39 -> Տ-5-51, /Մ-3/ - Միխայելովկա - /Մ-3/ կմ0+000 – կմ2+000 մարզային նշանակության ավտոճանապարհի հիմնանորոգում | E42: 210457.5 | F42: 420915
...

Sheet 7
E1: Հավելված N 7
B2: ՀՀ կառավարության 2025 թվականի
B3: ______________ ի ___Ն որոշման
A5: «ՀԱՅԱՍՏԱՆԻ ՀԱՆՐԱՊԵՏՈՒԹՅԱՆ 2025 ԹՎԱԿԱՆԻ ՊԵՏԱԿԱՆ ԲՅՈՒՋԵԻ ՄԱՍԻՆ» ՕՐԵՆՔԻ N 1 ՀԱՎԵԼՎԱԾԻ N 6 ԱՂՅՈՒՍԱԿՈՒՄ ԵՎ ՀԱՅԱՍՏԱՆԻ ՀԱՆՐԱՊԵՏՈՒԹՅԱՆ ԿԱՌԱՎԱՐՈՒԹՅԱՆ 2024 ԹՎԱԿԱՆԻ ԴԵԿՏԵՄԲԵՐԻ 27-Ի N 2060-Ն ՈՐՈՇՄԱՆ N 5 ՀԱՎԵԼՎԱԾԻ N 5 ԱՂՅՈՒՍԱԿՈՒՄ ԿԱՏԱՐՎՈՂ ՓՈՓՈԽՈՒԹՅՈՒՆԸ
E7: հազար դրամ
A8: Ծրագրային դասիչը | C8: Բյուջետային ծրագրերի, միջոցառումների և աշխատանքների անվանումները | D8: Ցուցանիշների փոփոխությունը ( նվազեցումները` նշված են փակագծերում)
A9: Ծրագիր | B9: Միջոցառում | D9: Ինն ամիս | E9: Տարի
A10: 1049 | C10: Ճանապարհային ցանցի բարելավում
B11: 11001 | C11: Միջպետական և հանրապետական նշանակության ավտոճանապարհների պահպանման և անվտանգ երթևեկության ծառայություններ¸ այդ թվում՝ | D11: =D12 -> -768431.2 | E11: =E12 -> -968944.8
C12: 1. Ավտոճանապարհների ձմեռային և ընթացիկ պահպանում, այդ թվում` | D12: =D13 -> -768431.2 | E12: =E13 -> -968944.8
C13: 1.1 Միջպետական և հանրապետական նշանակության ավտոճանապարհների ձմեռային և ընթացիկ պահպանում | D13: -768431.2 | E13: -968944.8
A16: ՀԱՅԱՍՏԱՆԻ ՀԱՆՐԱՊԵՏՈՒԹՅԱՆ
A17: ՎԱՐՉԱՊԵՏԻ ԱՇԽԱՏԱԿԱԶՄԻ
B18: ՂԵԿԱՎԱՐ ՝ Ա. ՀԱՐՈՒԹՅՈՒՆՅԱՆ

Sheet 8
F1: Հավելված N 8
F2: ՀՀ կառավարության 2025 թվականի
F3: ______________ ի ___Ն որոշման
B5: «ՀԱՅԱՍՏԱՆԻ ՀԱՆՐԱՊԵՏՈՒԹՅԱՆ 2025 ԹՎԱԿԱՆԻ ՊԵՏԱԿԱՆ ԲՅՈՒՋԵԻ ՄԱՍԻՆ» ՕՐԵՆՔԻ N 1 ՀԱՎԵԼՎԱԾԻ N 7 ԱՂՅՈՒՍԱԿՈՒՄ ԵՎ ՀԱՅԱՍՏԱՆԻ ՀԱՆՐԱՊԵՏՈՒԹՅԱՆ ԿԱՌԱՎԱՐՈՒԹՅԱՆ 2024 ԹՎԱԿԱՆԻ ԴԵԿՏԵՄԲԵՐԻ 27-Ի N 2060-Ն ՈՐՈՇՄԱՆ N 5 ՀԱՎԵԼՎԱԾԻ N 6 ԱՂՅՈՒՍԱԿՈՒՄ ԿԱՏԱՐՎՈՂ ՓՈՓՈԽՈՒԹՅՈՒՆԸ
F6: հազար դրամներով
B7: Ծրագրային դասիչը | D7: Հատկացումների տրամադրման նպատակները և բյուջետային գլխավոր կարգադրիչների, ծրագրերի, միջոցառումների և կատարող պետական մարմնի անվանումները | E7: Ցուցանիշների փոփոխությունը (նվազեցումները նշված են փակագծերում)
B8: Ծրագիր | C8: Միջոցառում | E8: Ինն ամիս | F8: Տարի
B9: ԸՆԴԱՄԵՆԸ | E9: =E11 -> -571538.7 | F9: =F11 -> 0
B10: այդ թվում
D11: Կապիտալ սուբվենցիաներ համայնքներին | E11: =E13 -> -571538.7 | F11: =F13 -> 0
D12: այդ թվում`
D13: ՀՀ տարածքային կառավարման և ենթակառուցվածքների նախարարություն | E13: =E15 -> -571538.7 | F13: =F15 -> 0
D14: այդ թվում`
B15: 1212 | D15: Տարածքային զարգացում | E15: =E17 -> -571538.7 | F15: =F17 -> 0
D16: այդ թվում`
C17: 12026 | D17: Ազդակիր բնակավայրերի և համայնքների բյուջեներին հատկացվող համայնքային մասհանումներ | E17: =E19 -> -571538.7 | F17: =F19 -> 0
D18: այդ թվում` ըստ կատարողների
D19: ՀՀ կառավարություն | E19: ='5'!H25 -> -571538.7 | F19: ='5'!I25 -> 0
D22: ՀԱՅԱՍՏԱՆԻ ՀԱՆՐԱՊԵՏՈՒԹՅԱՆ ՎԱՐՉԱՊԵՏԻ ԱՇԽԱՏԱԿԱԶՄԻ ՂԵԿԱՎԱՐ՝ | F22: Ա.ՀԱՐՈՒԹՅՈՒՆՅԱՆ

Sheet 9
K1: Հավելված N 9
L2: ՀՀ կառավարության 2025 թվականի
L3: ______________ ի ___Ն որոշման
B5: ՀԱՅԱՍՏԱՆԻ ՀԱՆՐԱՊԵՏՈՒԹՅԱՆ ԿԱՌԱՎԱՐՈՒԹՅԱՆ 2024 ԹՎԱԿԱՆԻ ԴԵԿՏԵՄԲԵՐԻ 27-Ի № 2060-Ն ՈՐՈՇՄԱՆ № 9 ՀԱՎԵԼՎԱԾԻ ԱՂՅՈՒՍԱԿՆԵՐՈՒՄ ԿԱՏԱՐՎՈՂ ՓՈՓՈԽՈՒԹՅՈՒՆԸ ԵՎ ԼՐԱՑՈՒՄՆԵՐԸ
B8: ԲԳԿ | C8: Ծրագիր | E8: Միջոցառում | I8: Իրականացնողը/ ակտիվն օգտագործողը/ շահառուի ընտրության չափորոշիչը | J8: Արդյունքային չափորոշիչը | K8: Ցուցանիշների փոփոխությունը (ավելացումները նշված են դրական նշանով
C9: Դասիչը | D9: Անվանումը | E9: Դասիչը | F9: Անվանումը | G9: Նկարագրությունը | H9: Տեսակը | K9: Ինն ամիս | L9: Տարի
B10: ԸՆԴԱՄԵՆԸ | K10: =K11 -> 1790710.7 | L10: =L11 -> 1790710.7
B11: ՀՀ տարածքային կառավարման և ենթակառուցվածքների նախարարություն | K11: =K12+K41 -> 1790710.7 | L11: =L12+L41 -> 1790710.7
C12: 1049 | D12: Ճանապարհային ցանցի բարելավում | K12: =K13+K20+K24+K32+K37 -> 2362249.4 | L12: =L13+L20+L24+L32+L37 -> 1790710.7
E13: 1049 - 11001 | F13: Միջպետական և հանրապետական նշանակության ավտոճանապարհների պահպանման և անվտանգ երթևեկության ծառայություններ | K13: ='3'!H13 -> -768431.2 | L13: ='3'!I13 -> -968944.8
G14: Հողային պաստառի, երթևեկելի մասի, արհեստական կառույցների և կահավորման տարրերի նորմատիվ մակարդակում պահպանում և շահագործում
H15: Ծառայությունների մատուցում
I16: Ծառայությունը մատուցողի անվանումը` ՀՀ տարածքային կառավարման և ենթակառուցվածքների նախարարություն, մրցութային կարգով ընտրված կազմակերպություններ
J17: Ամառային պահպանման ենթակա ավտոճանապարհների ընդհանուր երկարությունը (ոչ կուտակային ցուցանիշ), կիլոմետր | L17: -78.96
J18: Ձմեռային պահպանման ենթակա ավտոճանապարհների ընդհանուր երկարությունը (ոչ կուտակային ցուցանիշ), կիլոմետր | L18: -127.34
J19: Մետաղական արգելափակոցների պահպանման և վնասված հատվածների վերականգնման ընդհանուր երկարությունը (ոչ կուտակային ցուցանիշ), կիլոմետր, | L19: -180.3
E20: 1049 - 11003 | F20: Հայաստանի Հանրապետությունում հսկիչ սարքերի (թվային տախոգրաֆի) համակարգի կարգավորում | K20: ='3'!H14 -> -47665.1 | L20: ='3'!I14 -> 0
G21: Հայաստանի Հանրապետությունում հսկիչ սարքերի (թվային տախոգրաֆի) համակարգի անընդհատ և անխափան աշխատանքի ապահովման նպատակով տախոնետ կապի ապահովում
H22: Ծառայությունների մատուցում
I23: Ծառայությունը մատուցողի անվանումը` Մրցութային ընտրակարգով հաղթող ճանաչված ընկերություն
E24: 1049 - 21001 | F24: Պետական նշանակության ավտոճանապարհների հիմնանորոգում | K24: ='3'!H15 -> 1202364.1 | L24: ='3'!I15 -> 2320336.6
G25: Միջպետական, հանրապետական և մարզային նշանակության ավտոճոնապարհների քայքայված ծածկի վերանորոգում, մաշված ծածկի փոխարինում
H26: Հանրության կողմից անմիջականորեն օգտագործվող ակտիվների հետ կապված միջոցառումներ
I27: Միջոցառումն իրականացնողի անվանումը` Մասնագիտացված միավոր
J28: Պետական նշանակության ավտոճանապարհներ, կիլոմետր | L28: 6.4
J29: Միջպետական նշանակության ավտոճանապարհներ, կիլոմետր | L29: 0.9
J30: Հանրապետական նշանակության ավտոճանապարհներ, կիլոմետր | L30: 11.5
J31: Մարզային նշանակության ավտոճանապարհներ, կիլոմետր | L31: 42
E32: 1049 - 21020 | F32: Պետական նշանակության ավտոճանապարհների միջին նորոգում | K32: ='3'!H16 -> 2182681.6 | L32: ='3'!I16 -> 439318.9
G33: Միջպետական, հանրապետական և մարզային նշանակության ավտոճանապարհների պատվածքի մաշված վերին շերտի վերականգնում և շինարարական նորմերով նախատեսված սկզբնական որակական ցուցանիշների ապահովում
H34: Հանրության կողմից անմիջականորեն օգտագործվող ակտիվների հետ կապված միջոցառումներ
I35: Միջոցառումն իրականացնողի անվանումը` ՀՀ տարածքային կառավարման և ենթակառուցվածքների նախարարություն, մրցութային կարգով ընտրված կազմակերպություններ
J36: Միջին նորոգման ենթակա ճանապարհների երկարությունը, կիլոմետր | L36: ='10'!L62+'10'!L40 -> 9.2
E37: 1049 - 21023 | F37: ՀՀ ընդհանուր օգտագործման ավտամոբիլային ճանապարհների վթարավտանգ հատվածների վերացում | K37: ='3'!H17 -> -206700 | L37: ='3'!I17 -> 0
G38: ՀՀ ընդհանուր օգտագործման ավտամոբիլային ճանապարհների վթարավտանգ հատվածների վերացում
H39: Հանրության կողմից անմիջականորեն օգտագործվող ակտիվների հետ կապված միջոցառումներ
I40: Միջոցառումն իրականացնողի անվանումը` Մասնագիտացված միավոր
C41: 1212 | D41: Տարածքային զարգացում | K41: =K42 -> -571538.7 | L41: =L42 -> 0
E42: 1212-12026 | F42: Ազդակիր բնակավայրերի և համայնքների բյուջեներին հատկացվող համայնքային մասհանումներ | K42: ='3'!H19 -> -571538.7 | L42: ='3'!I19 -> 0
G43: Օրենսդրությամբ նախատեսված՛ հաշվետու տարում ռոյալթի վճարողի կողմից օրենքով սահմանված չափով և կարգով պետական բյուջե վճարված ռոյալթիի չափի երկու տոկոսից փոխհատուցումներ տեղական ինքնակառավարման մարմիններին
...

Sheet 10
K1: Հավելված N 10
L2: ՀՀ կառավարության 2025 թվականի
L3: ______________ ի ___Ն որոշման
B5: ՀԱՅԱՍՏԱՆԻ ՀԱՆՐԱՊԵՏՈՒԹՅԱՆ ԿԱՌԱՎԱՐՈՒԹՅԱՆ 2024 ԹՎԱԿԱՆԻ ԴԵԿՏԵՄԲԵՐԻ 27-Ի № 2060-Ն ՈՐՈՇՄԱՆ № 9.1 ՀԱՎԵԼՎԱԾԻ ԱՂՅՈՒՍԱԿՆԵՐՈՒՄ ԿԱՏԱՐՎՈՂ ՓՈՓՈԽՈՒԹՅՈՒՆՆԵՐԸ ԵՎ ԼՐԱՑՈՒՄՆԵՐԸ
B7: ԲՍԿ | C7: Ծրագիր | E7: Միջոցառում | I7: Իրականացնողը/ ակտիվն օգտագործողը/ շահառուի ընտրության չափորոշիչը | J7: Արդյունքային չափորոշիչը | K7: Ցուցանիշների փոփոխությունը (ավելացումները նշված են դրական նշանով, իսկ նվազեցումները` փակագծերում)
C8: Դասիչը | D8: Անվանումը | E8: Դասիչը | F8: Անվանումը | G8: Նկարագրությունը | H8: Տեսակը | K8: Ինն ամիս | L8: Տարի
B9: ԸՆԴԱՄԵՆԸ | K9: =K10+K46 -> 1790710.7 | L9: =L10+L46 -> 1790710.7
B10: ՀՀ տարածքային կառավարման և ենթակառուցվածքների նախարարություն | K10: =K11 -> 3791402.7 | L10: =L11 -> 8614137.3
C11: 1049 | D11: Ճանապարհային ցանցի բարելավում | K11: =K12+K19+K23+K31+K36+K42 -> 3791402.7 | L11: =L12+L19+L23+L31+L36+L42 -> 8614137.3
E12: 1049 - 11001 | F12: Միջպետական և հանրապետական նշանակության ավտոճանապարհների պահպանման և անվտանգ երթևեկության ծառայություններ | K12: ='5'!H44 -> -768431.2 | L12: ='5'!I44 -> -968944.8
G13: Հողային պաստառի, երթևեկելի մասի, արհեստական կառույցների և կահավորման տարրերի նորմատիվ մակարդակում պահպանում և շահագործում
H14: Ծառայությունների մատուցում
I15: Ծառայությունը մատուցողի անվանումը` ՀՀ տարածքային կառավարման և ենթակառուցվածքների նախարարություն, մրցութային կարգով ընտրված կազմակերպություններ
J16: Ամառային պահպանման ենթակա ավտոճանապարհների ընդհանուր երկարությունը (ոչ կուտակային ցուցանիշ), կիլոմետր | L16: -78.96
J17: Ձմեռային պահպանման ենթակա ավտոճանապարհների ընդհանուր երկարությունը (ոչ կուտակային ցուցանիշ), կիլոմետր | L17: -127.34
J18: Մետաղական արգելափակոցների պահպանման և վնասված հատվածների վերականգնման ընդհանուր երկարությունը (ոչ կուտակային ցուցանիշ), կիլոմետր, | L18: -180.3
E19: 1049 - 11003 | F19: Հայաստանի Հանրապետությունում հսկիչ սարքերի (թվային տախոգրաֆի) համակարգի կարգավորում | K19: ='5'!H53 -> -47665.1 | L19: ='5'!I53 -> 0
G20: Հայաստանի Հանրապետությունում հսկիչ սարքերի (թվային տախոգրաֆի) համակարգի անընդհատ և անխափան աշխատանքի ապահովման նպատակով տախոնետ կապի ապահովում
H21: Ծառայությունների մատուցում
I22: Ծառայությունը մատուցողի անվանումը` Մրցութային ընտրակարգով հաղթող ճանաչված ընկերություն
E23: 1049 - 21001 | F23: Պետական նշանակության ավտոճանապարհների հիմնանորոգում | K23: ='5'!H69 -> 2189448.7 | L23: ='5'!I69 -> 6314973.5
G24: Միջպետական, հանրապետական և մարզային նշանակության ավտոճոնապարհների քայքայված ծածկի վերանորոգում, մաշված ծածկի փոխարինում
H25: Հանրության կողմից անմիջականորեն օգտագործվող ակտիվների հետ կապված միջոցառումներ
I26: Միջոցառումն իրականացնողի անվանումը` Մասնագիտացված միավոր
J27: Պետական նշանակության ավտոճանապարհներ, կիլոմետր | L27: =L28+L29+L30 -> 54.4
J28: Միջպետական նշանակության ավտոճանապարհներ, կիլոմետր | L28: ='9'!L29 -> 0.9
J29: Հանրապետական նշանակության ավտոճանապարհներ, կիլոմետր | L29: ='9'!L30 -> 11.5
J30: Մարզային նշանակության ավտոճանապարհներ, կիլոմետր | L30: ='9'!L31 -> 42
E31: 1049 - 21002 | F31: Տրանսպորտային օբյեկտների հիմնանորոգում | K31: ='5'!H88 -> 62068.7 | L31: ='5'!I88 -> 62068.7
G32: Ավտոմոբիլային ճանապարհների վրա գտնվող կամուրջների հիմնանորոգում
H33: Հանրության կողմից անմիջականորեն օգտագործվող ակտիվների հետ կապված միջոցառումներ
I34: Միջոցառումն իրականացնողի անվանումը` Մասնագիտացված միավոր
J35: Հիմնանորոգվող տրանսպորտային օբյեկտների թիվը, այդ թվում | L35: 1
E36: 1049 - 21020 | F36: Պետական նշանակության ավտոճանապարհների միջին նորոգում | K36: ='5'!H104 -> 2562681.6 | L36: ='5'!I104 -> 3206039.9
G37: Միջպետական, հանրապետական և մարզային նշանակության ավտոճանապարհների պատվածքի մաշված վերին շերտի վերականգնում և շինարարական նորմերով նախատեսված սկզբնական որակական ցուցանիշների ապահովում
H38: Հանրության կողմից անմիջականորեն օգտագործվող ակտիվների հետ կապված միջոցառումներ
I39: Միջոցառումն իրականացնողի անվանումը` ՀՀ տարածքային կառավարման և ենթակառուցվածքների նախարարություն, մրցութային կարգով ընտրված կազմակերպություններ
J40: Միջին նորոգման ենթակա ճանապարհների երկարությունը, կիլոմետր | L40: 60.9
J41: Աշխատանքների ավարտվածության աստիճան, % | L41: 94
E42: 1049 - 21023 | F42: ՀՀ ընդհանուր օգտագործման ավտամոբիլային ճանապարհների վթարավտանգ հատվածների վերացում | K42: ='5'!H113 -> -206700 | L42: ='5'!I113 -> 0
...

Sheet 11
H1: Հավելված N 11
H2: ՀՀ կառավարության 2025 թվականի
H3: ______________ ի ___Ն որոշման
B5: ՀԱՅԱՍՏԱՆԻ ՀԱՆՐԱՊԵՏՈՒԹՅԱՆ ԿԱՌԱՎԱՐՈՒԹՅԱՆ 2024 ԹՎԱԿԱՆԻ ԴԵԿՏԵՄԲԵՐԻ 27-Ի N 2060-Ն ՈՐՈՇՄԱՆ N 10 ՀԱՎԵԼՎԱԾՈՒՄ ԿԱՏԱՐՎՈՂ ՓՈՓՈԽՈՒԹՅՈՒՆՆԵՐԸ ԵՎ ԼՐԱՑՈՒՄՆԵՐԸ
B7: Կոդը | C7: Անվանումը | D7: Գնման ձևը | E7: Չափման միավորը | F7: Միավորի գինը | G7: Ցուցանիշների փոփոխությունը (ավելացումները նշված են դրական նշանով)
G8: Քանակը | H8: Գումարը (հազար դրամով)
B9: ՀՀ տարածքային կառավարման և ենթակառուցվածքների նախարարություն | H9: =+H10 -> 8498041.1
B10: Բաժին N 04 | C10: Խումբ N 05 | D10: Դաս N 01 | E10: Ճանապարհային տրանսպորտ | H10: =+H11+H22+H90+H96 -> 8498041.1
B11: 1049 11001 | C11: Միջպետական և հանրապետական նշանակության ավտոճանապարհների պահպանման և անվտանգ երթևեկության ծառայություններ | H11: =H12 -> -968944.78
C12: ՄԱՍ II. ԱՇԽԱՏԱՆՔՆԵՐ | H12: =H13+H14+H15+H16+H17+H18+H19+H20+H21 -> -968944.78
B13: 45231176/1 | C13: ճանապարհների պահպանման աշխատանքներ | D13: ԲՄ | E13: դրամ | G13: 1 | H13: -845513.6
B14: 45231176/36 | C14: ճանապարհների պահպանման աշխատանքներ | D14: ԲՄ | E14: դրամ | G14: 1 | H14: -19472.259
B15: 45231176/45 | C15: ճանապարհների պահպանման աշխատանքներ | D15: ՀԲՄ | E15: դրամ | G15: 1 | H15: -16668.985
B16: 45231176/33 | C16: ճանապարհների պահպանման աշխատանքներ | D16: ԲՄ | E16: դրամ | G16: 1 | H16: -11506.89
B17: 45231176/37 | C17: ճանապարհների պահպանման աշխատանքներ | D17: ՀԲՄ | E17: դրամ | G17: 1 | H17: -9403.369
B18: 45231176/30 | C18: ճանապարհների պահպանման աշխատանքներ | D18: ՀԲՄ | E18: դրամ | G18: 1 | H18: -22654.266
B19: 45231176/25 | C19: ճանապարհների պահպանման աշխատանքներ | D19: ՀԲՄ | E19: դրամ | G19: 1 | H19: -21615.181
B20: 45231176/48 | C20: ճանապարհների պահպանման աշխատանքներ | D20: ՀԲՄ | E20: դրամ | G20: 1 | H20: -15091.88
B21: 45231176/23 | C21: ճանապարհների պահպանման աշխատանքներ | D21: ԲՄ | E21: դրամ | G21: 1 | H21: -7018.35
B22: 1049 21001 | C22: Պետական նշանակության ավտոճանապարհների հիմնանորոգում | H22: =+H23+H48 -> 6198877.4
B23: ՄԱՍ II. ԱՇԽԱՏԱՆՔՆԵՐ | H23: =SUM(H24:H47) -> 6109659.9
B24: 45231177/1 | C24: ճանապարհների վերանորոգման աշխատանքներ | D24: ԲՄ | E24: դրամ | H24: -534317.2
B25: 45231177/2 | C25: ճանապարհների վերանորոգման աշխատանքներ | D25: ԲՄ | E25: դրամ | H25: -362050
B26: 45231177/3 | C26: ճանապարհների վերանորոգման աշխատանքներ | D26: ԲՄ | E26: դրամ | H26: -11363.8
B27: 45231177/523 | C27: ճանապարհների վերանորոգման աշխատանքներ | D27: ԲՄ | E27: դրամ | F27: 192000000 | G27: 1 | H27: =+G27*F27/1000 -> 192000
B28: 45231177/541 | C28: ճանապարհների վերանորոգման աշխատանքներ | D28: ԲՄ | E28: դրամ | F28: 402640100 | G28: 1 | H28: =+G28*F28/1000 -> 402640.1
B29: 45231177/529 | C29: ճանապարհների վերանորոգման աշխատանքներ | D29: ԲՄ | E29: դրամ | F29: 1575000000 | G29: 1 | H29: =+G29*F29/1000 -> 1575000
B30: 45231177/4 | C30: ճանապարհների վերանորոգման աշխատանքներ | D30: ԲՄ | E30: դրամ | H30: -451136.4
B31: 45231177/5 | C31: ճանապարհների վերանորոգման աշխատանքներ | D31: ԲՄ | E31: դրամ | H31: -431115.4
B32: 45231177/623 | C32: ճանապարհների վերանորոգման աշխատանքներ | D32: ԲՄ | E32: դրամ | H32: -160000
B33: 45231177/9 | C33: ճանապարհների վերանորոգման աշխատանքներ | D33: ԲՄ | E33: դրամ | H33: -714402.3
B34: 45231177/10 | C34: ճանապարհների վերանորոգման աշխատանքներ | D34: ԲՄ | E34: դրամ | H34: -712834.9
B35: 45231177/11 | C35: ճանապարհների վերանորոգման աշխատանքներ | D35: ԲՄ | E35: դրամ | H35: -94602.16
B36: 45231177/12 | C36: ճանապարհների վերանորոգման աշխատանքներ | D36: ԲՄ | E36: դրամ | H36: -159833.6
B37: 45231177/13 | C37: ճանապարհների վերանորոգման աշխատանքներ | D37: ԲՄ | E37: դրամ | H37: -239049.5
B38: 45231177/542 | C38: ճանապարհների վերանորոգման աշխատանքներ | D38: ԲՄ | E38: դրամ | F38: 398880000 | G38: 1 | H38: =+G38*F38/1000 -> 398880
B39: 45231177/543 | C39: ճանապարհների վերանորոգման աշխատանքներ | D39: ԲՄ | E39: դրամ | F39: 737700000 | G39: 1 | H39: =+G39*F39/1000 -> 737700
B40: 45231177/544 | C40: ճանապարհների վերանորոգման աշխատանքներ | D40: ԲՄ | E40: դրամ | F40: 77506480 | G40: 1 | H40: =+G40*F40/1000 -> 77506.48
B41: 45231177/525 | C41: ճանապարհների վերանորոգման աշխատանքներ | D41: ԲՄ | E41: դրամ | F41: 415080000 | G41: 1 | H41: =+G41*F41/1000 -> 415080
B42: 45231177/524 | C42: ճանապարհների վերանորոգման աշխատանքներ | D42: ԲՄ | E42: դրամ | F42: 522619100 | G42: 1 | H42: =+G42*F42/1000 -> 522619.1
...
