Workbook

Sheet 1
C1: Հավելված N 1
C2: ՀՀ կառավարության 2025 թվականի
C3: ______________ ի ___Ն որոշման
B5: «ՀԱՅԱՍՏԱՆԻ ՀԱՆՐԱՊԵՏՈՒԹՅԱՆ 2025 ԹՎԱԿԱՆԻ ՊԵՏԱԿԱՆ ԲՅՈՒՋԵԻ ՄԱՍԻՆ» ՕՐԵՆՔԻ 2-ՐԴ ՀՈԴՎԱԾԻ ԱՂՅՈՒՍԱԿՈՒՄ ԿԱՏԱՐՎՈՂ ԼՐԱՑՈՒՄԸ
C6: հազար դրամներով
C7: Ցուցանիշների փոփոխությունը (գումարների ավելացումը նշված են դրական նշանով)
B8: 1. Եկամուտների գծով | C8: 0
B9: 2. Ծախսերի գծով | C9: =C10 -> 1790710.7
B10: 3. Դեֆիցիտը (պակասուրդը) | C10: ='5'!I10 -> 1790710.7
B13: ՀԱՅԱՍՏԱՆԻ ՀԱՆՐԱՊԵՏՈՒԹՅԱՆ ՎԱՐՉԱՊԵՏԻ ԱՇԽԱՏԱԿԱԶՄԻ ՂԵԿԱՎԱՐ՝ | C13: Ա.ՀԱՐՈՒԹՅՈՒՆՅԱՆ

Sheet 2.
D1: Հավելված N 2
D2: ՀՀ կառավարության 2025 թվականի
D3: ______________ ի ___Ն որոշման
B5: ՀԱՅԱՍՏԱՆԻ ՀԱՆՐԱՊԵՏՈՒԹՅԱՆ ԿԱՌԱՎԱՐՈՒԹՅԱՆ 2024 ԹՎԱԿԱՆԻ ԴԵԿՏԵՄԲԵՐԻ 27-Ի N 2060-Ն ՈՐՈՇՄԱՆ N 1 ՀԱՎԵԼՎԱԾԻ N 1 ԱՂՅՈՒՍԱԿՈՒՄ ԿԱՏԱՐՎՈՂ ԼՐԱՑՈՒՄԸ
C7: հազար դրամներով
B8: Պետական բյուջեի դեֆիցիտի ֆինանսավորման աղբյուրներն ու դրանց տարրերի անվանումները | C8: Ցուցանիշների փոփոխությունը (ավելացումները նշված են դրական նշանով)
C9: Ինն ամիս | D9: Տարի
B10: ԸՆԴԱՄԵՆԸ | C10: =C12 -> 1790710.7 | D10: =D12 -> 1790710.7
B11: այդ թվում՝
B12: Ա. Ներքին աղբյուրներ-ընդամենը | C12: =C14 -> 1790710.7 | D12: =D14 -> 1790710.7
B13: այդ թվում՝
B14: 2. Ֆինանսական զուտ ակտիվներ | C14: =+C16 -> 1790710.7 | D14: =+D16 -> 1790710.7
B15: այդ թվում՝
B16: 2.3. Ելքերի ֆինանսավորմանն ուղղվող պետական բյուջեի տարեսկզբի ազատ մնացորդի միջոցներ | C16: ='5'!H10 -> 1790710.7 | D16: =C16 -> 1790710.7
B19: ՀԱՅԱՍՏԱՆԻ ՀԱՆՐԱՊԵՏՈՒԹՅԱՆ ՎԱՐՉԱՊԵՏԻ ԱՇԽԱՏԱԿԱԶՄԻ ՂԵԿԱՎԱՐ՝ | C19: Ա.ՀԱՐՈՒԹՅՈՒՆՅԱՆ

Sheet 3
A1: Հավելված N 3
A2: ՀՀ կառավարության 2025 թվականի
A3: ______________ ի ___Ն որոշման
B5: ՀԱՅԱՍՏԱՆԻ ՀԱՆՐԱՊԵՏՈՒԹՅԱՆ 2025 ԹՎԱԿԱՆԻ ՊԵՏԱԿԱՆ ԲՅՈՒՋԵԻ ՄԱՍԻՆ» ՕՐԵՆՔԻ N 1 ՀԱՎԵԼՎԱԾԻ N 2 ԱՂՅՈՒՍԱԿՈՒՄ ԿԱՏԱՐՎՈՂ ՎԵՐԱԲԱՇԽՈՒՄԸ ԵՎ ՀԱՅԱՍՏԱՆԻ ՀԱՆՐԱՊԵՏՈՒԹՅԱՆ ԿԱՌԱՎԱՐՈՒԹՅԱՆ 2024 ԹՎԱԿԱՆԻ ԴԵԿՏԵՄԲԵՐԻ 27-Ի N 2060-Ն ՈՐՈՇՄԱՆ N 5 ՀԱՎԵԼՎԱԾԻ N 1 ԱՂՅՈՒՍԱԿՈՒՄ ԿԱՏԱՐՎՈՂ ՓՈՓՈԽՈՒԹՅՈՒՆՆԵՐԸ ԵՎ ԼՐԱՑՈՒՄՆԵՐԸ
H7: հազար դրամներով
B8: ԲԳԿ | C8: Ծրագրային դասիչը | E8: ԲԳԿ/Ծրագրի /միջոցառման անվանումը | F8: Ծրագրի նպատակը/Միջոցառման նկարագրությունը | G8: Վերջնական արդյունքի նկարագրությունը/Միջոցառման տեսակը | H8: Ցուցանիշների փոփոխությունը (ավելացումները նշված են դրական նշանով, իսկ նվազեցումները` փակագծերում)
C9: Ծրագիր | D9: Միջոցառում | H9: Ինն ամիս | I9: Տարի
B10: ԸՆԴԱՄԵՆԸ | H10: =H11 -> 1790710.7 | I10: =I11 -> 1790710.7
B11: ՀՀ տարածքային կառավարման և ենթակառուցվածքների նախարարություն | H11: =H12+H18 -> 1790710.7 | I11: =I12 -> 1790710.7
C12: 1049 | E12: Ճանապարհային ցանցի բարելավում | F12: Ճանապարհային ցանցի բարելավում և անվտանգ երթևեկության ապահովում | G12: Ճանապարհների ծածկի որակի և փոխադրումների արդյունավետության բարելավում, ճանապարհների վիճակով պայմանավորված պատահարների նվազում | H12: =H13+H14+H15+H16+H17 -> 2362249.4 | I12: =I13+I14+I15+I16+I17 -> 1790710.7
D13: 1049 - 11001 | E13: Միջպետական և հանրապետական նշանակության ավտոճանապարհների պահպանման և անվտանգ երթևեկության ծառայություններ | F13: Հողային պաստառի, երթևեկելի մասի, արհեստական կառույցների և կահավորման տարրերի նորմատիվ մակարդակում պահպանում և շահագործում | G13: Ծառայությունների մատուցում | H13: ='7'!D11 -> -768431.2 | I13: ='7'!E11 -> -968944.8
D14: 1049 - 11003 | E14: Հայաստանի Հանրապետությունում հսկիչ սարքերի (թվային տախոգրաֆի) համակարգի կարգավորում | F14: Հայաստանի Հանրապետությունում հսկիչ սարքերի (թվային տախոգրաֆի) համակարգի անընդհատ և անխափան աշխատանքի ապահովման նպատակով տախոնետ կապի ապահովում | G14: Ծառայությունների մատուցում | H14: ='5'!H51 -> -47665.1 | I14: ='5'!I51 -> 0
D15: 1049 - 21001 | E15: Պետական նշանակության ավտոճանապարհների հիմնանորոգում | F15: Միջպետական, հանրապետական և մարզային նշանակության ավտոճոնապարհների քայքայված ծածկի վերանորոգում, մաշված ծածկի փոխարինում | G15: Հանրության կողմից անմիջականորեն օգտագործվող ակտիվների հետ կապված միջոցառումներ | H15: ='5'!H60 -> 1202364.1 | I15: ='5'!I60 -> 2320336.6
D16: 1049 - 21020 | E16: Պետական նշանակության ավտոճանապարհների միջին նորոգում | F16: Միջպետական, հանրապետական և մարզային նշանակության ավտոճանապարհների պատվածքի մաշված վերին շերտի վերականգնում և շինարարական նորմերով նախատեսված սկզբնական որակական ցուցանիշների ապահովում | G16: Հանրության կողմից անմիջականորեն օգտագործվող ակտիվների հետ կապված միջոցառումներ | H16: ='5'!H95 -> 2182681.6 | I16: ='5'!I95 -> 439318.9
D17: 1049 - 21023 | E17: ՀՀ ընդհանուր օգտագործման ավտամոբիլային ճանապարհների վթարավտանգ հատվածների վերացում | F17: ՀՀ ընդհանուր օգտագործման ավտամոբիլային ճանապարհների վթարավտանգ հատվածների վերացում | G17: Հանրության կողմից անմիջականորեն օգտագործվող ակտիվների հետ կապված միջոցառումներ | H17: ='5'!H111 -> -206700 | I17: ='5'!I111 -> 0
C18: 1212 | E18: Տարածքային զարգացում | F18: Տարածքային համաչափ զարգացման խթանում | G18: ՀՀ համայնքների կառավարման արդյունավետության բարձրացում և տնտեսական գործունեության խթանում | H18: =H19 -> -571538.7 | I18: =I19 -> 0
D19: 1212 - 12026 | E19: Ազդակիր բնակավայրերի և համայնքների բյուջեներին հատկացվող համայնքային մասհանումներ | F19: Օրենսդրությամբ նախատեսված՛ հաշվետու տարում ռոյալթի վճարողի կողմից օրենքով սահմանված չափով և կարգով պետական բյուջե վճարված ռոյալթիի չափի երկու տոկոսից փոխհատուցումներ տեղական ինքնակառավարման մարմիններին | G19: Տրանսֆերտների տրամադրում | H19: ='5'!H23 -> -571538.7 | I19: ='5'!I23 -> 0
D22: ՀԱՅԱՍՏԱՆԻ ՀԱՆՐԱՊԵՏՈՒԹՅԱՆ ՎԱՐՉԱՊԵՏԻ ԱՇԽԱՏԱԿԱԶՄԻ ՂԵԿԱՎԱՐ՝ | F22: Ա.ՀԱՐՈՒԹՅՈՒՆՅԱՆ

Sheet 4
I1: Հավելված N 4
I2: ՀՀ կառավարության 2025 թվականի
I3: ______________ ի ___Ն որոշման
B5: «ՀԱՅԱՍՏԱՆԻ ՀԱՆՐԱՊԵՏՈՒԹՅԱՆ 2025 ԹՎԱԿԱՆԻ ՊԵՏԱԿԱՆ ԲՅՈՒՋԵԻ ՄԱՍԻՆ» ՕՐԵՆՔԻ N 1 ՀԱՎԵԼՎԱԾԻ N 3 ԱՂՅՈՒՍԱԿՈՒՄ ԿԱՏԱՐՎՈՂ ՓՈՓՈԽՈՒԹՅՈՒՆՆԵՐԸ ԵՎ ԼՐԱՑՈՒՄՆԵՐԸ
H6: հազար դրամներով
B7: Ծրագրային դասիչ | D7: Բյուջետային գլխավոր կարգադրիչների, ծրագրերի, միջոցառումների և ուղղությունների անվանումները | E7: Ցուցանիշների փոփոխությունը (ավելացումները նշված են դրական նշանով, իսկ նվազեցումները` փակագծերում)
E8: Ընդամենը, | F8: այդ թվում՝
B9: Ծրագիր | C9: Միջոցառում | F9: Կառուցման աշխատանքներ | G9: Վերակառուցման, վերանորոգման և վերականգնման աշխատանքներ | H9: Նախագծահե- տազոտական, գեոդեզիա- քարտեզագրական աշխատանքներ | I9: Ոչ ֆինանսական այլ ակտիվների ձեռքբերում
D10: ԸՆԴԱՄԵՆԸ | E10: =+F10+G10+H10+I10 -> 2759655.5 | F10: =+F12 -> 725404.8 | G10: =+G12 -> 2000239.7 | H10: =+H12 -> 34011 | I10: =+I12 -> 0
D11: այդ թվում՝
D12: ՀՀ ՏԱՐԱԾՔԱՅԻՆ ԿԱՌԱՎԱՐՄԱՆ ԵՎ ԵՆԹԱԿԱՌՈՒՑՎԱԾՔՆԵՐԻ ՆԱԽԱՐԱՐՈՒԹՅՈՒՆ | E12: =+F12+G12+H12+I12 -> 2759655.5 | F12: =F14+F48+F52+F53 -> 725404.8 | G12: =G14+G48+G52+G53 -> 2000239.7 | H12: =H14+H48+H52+H53 -> 34011 | I12: =I14+I48+I52+I53 -> 0
D13: այդ թվում`
B14: 1049 | C14: 21001 | D14: Պետական նշանակության ավտոճանապարհների հիմնանորոգում | E14: =+F14+G14+H14+I14 -> 2320336.6 | F14: =+F16+F30+F24+F47 -> 725404.8 | G14: =+G16+G30+G24+G47 -> 1560920.8 | H14: =+H16+H30+H24+H47 -> 34011 | I14: =+I16+I30+I24+I47 -> 0
D15: այդ թվում`
C16: 1 | D16: Միջպետական նշանակության ավտոճանապարհներ, այդ թվում | E16: =+F16+G16+H16+I16 -> -632316.3 | F16: =SUM(F17:F23) -> 0 | G16: =SUM(G17:G23) -> -666327.3 | H16: =SUM(H17:H23) -> 34011 | I16: =SUM(I17:I23) -> 0
D17: Մ-2, Երևան-Երասխ-Նորավան- Տաթև-Կապան-Մեղրի-ՀՀ սահման (նախկին՝ Մ-2 ,Երևան-Երասխ-Գորիս-Մեղրի-ՀՀ սահման) միջպետական նշանակության ավտոճանապարհի կմ47+475-կմ53+150 հատվածի հիմնանորոգում | E17: =F17+G17+H17+I17 -> -543871 | G17: ='6'!F20 -> -543871 | H17: 0
D18: Մ-2, Երևան-Երասխ-Նորավան- Տաթև-Կապան-Մեղրի-ՀՀ սահման (նախկին՝ Մ-2 ,Երևան-Երասխ-Գորիս-Մեղրի-ՀՀ սահման) միջպետական նշանակության ավտոճանապարհի կմ91+600 - կմ98+000 հատվածի հիմնանորոգում | E18: =F18+G18+H18+I18 -> -371158.5 | G18: ='6'!F21 -> -371158.5
D19: Մ-2, Երևան-Երասխ-Նորավան- Տաթև-Կապան-Մեղրի-ՀՀ սահման (նախկին՝ Մ-2 ,Երևան-Երասխ-Գորիս-Մեղրի-ՀՀ սահման) միջպետական նշանակության ավտոճանապարհի կմ181+250 - կմ181+750 հատվածի վերակառուցում | E19: =F19+G19+H19+I19 -> -13043.2 | G19: ='6'!F22 -> -13043.2
D20: Մ-3, ՀՀ սահման (Մարգարա) – Վանաձոր – Տաշիր – ՀՀ սահման միջպետական նշանակության ավտոճանապարհի Ռյա Թազա բնակավայրով անցնող հատվածում ջրահեռացման կարգավորում | E20: =F20+G20+H20+I20 -> 411 | H20: 411
D21: Մ-4, Երևան-Սևան-Իջևան-ՀՀ սահման միջպետական նշանակության ավտոճանապարհի կմ91+176-կմ96+176 հատվածի հիմնանորոգում և ոլորանների պարամետրերի բարելավում | E21: =F21+G21+H21+I21 -> 66908.5 | G21: 66908.5
D22: Մ-4, Երևան-Սևան-Իջևան-ՀՀսահման միջպետական նշանակության ավտոճանապարհի Երևան - Դիլիջան հատվածում լուսավորության համակարգի կառուցում | E22: =F22+G22+H22+I22 -> 33600 | H22: 33600
D23: Մ-7, /Մ-3/ - Սպիտակ – Գյումրի - ՀՀ սահման միջպետական նշանակության ավտոճանապարհի կմ47+100-կմ48+000 հատվածի հիմնանորոգում | E23: =F23+G23+H23+I23 -> 194836.9 | G23: ='6'!F26 -> 194836.9
C24: 2 | D24: Հանրապետական նշանակության ավտոճանապարհներ, այդ թվում | E24: =+F24+G24+H24+I24 -> 932620.1 | F24: =SUM(F25:F29) -> 0 | G24: =SUM(G25:G29) -> 932620.1 | H24: =SUM(H25:H29) -> 0 | I24: =SUM(I25:I29) -> 0
D25: Հ-10. /Հ-8/ (Ոսկետափ) - Վեդի - Լանջառ - /Մ-2/ հանրապետական նշանակության ավտոճանապարհի կմ5+450 - կմ9+250 հատվածի հիմնանորոգում | E25: =F25+G25+H25+I25 -> 406923.4 | G25: ='6'!F28 -> 406923.4
D26: Հ-15, /Մ-5/(Նորապատ) -Արգավանդ –/Մ-3/ (Վարդանաշեն) հանրապետական նշանակության ավտոճանապարհի կմ3+000 - կմ13+000 հատվածի հիմնանորոգում | E26: =F26+G26+H26+I26 -> 1596837.6 | G26: ='6'!F29 -> 1596837.6
D27: Հ-15, /Մ-5/(Նորապատ) -Արգավանդ –/Մ-3/ (Վարդանաշեն) հանրապետական նշանակության ավտոճանապարհի կմ13+000 - կմ20+000 հատվածի հիմնանորոգում | E27: =F27+G27+H27+I27 -> -462784.9 | G27: ='6'!F30 -> -462784.9
D28: Հ-21, /Հ-75/ - Հոռոմ-Արթիկ-Ալագյազ հանրապետական նշանակության ավտոճանապարհի կմ32+700 - կմ41+000 հատվածի հիմնանորոգում | E28: =F28+G28+H28+I28 -> -443045.5 | G28: ='6'!F31 -> -443045.5
D29: Հ-22, /Մ-6/ - Դսեղ – /Հ-70/ հանրապետական նշանակության ավտոճանապարհի կմ 8+000-կմ 13+900 հատվածի հիմնանորոգում | E29: =F29+G29+H29+I29 -> -165310.5 | G29: ='6'!F32 -> -165310.5
C30: 3 | D30: Մարզային նշանակության ավտոճանապարհներ, այդ թվում | E30: =+F30+G30+H30+I30 -> 6014669.7 | F30: =SUM(F31:F46) -> 725404.8 | G30: =SUM(G31:G46) -> 5289264.9 | H30: =SUM(H31:H46) -> 0 | I30: =SUM(I31:I46) -> 0
D31: Տ-1-25,/Մ-3/(Աշտարակ)–Փարպի-Ղազարավան տեղական նշանակության ավտոճանապարհի կմ0+000-կմ4+000 և կմ6+000-կմ13+500 հատվածների հիմնանորոգում | E31: =F31+G31+H31+I31 -> -728416.1 | G31: ='6'!F34 -> -728416.1
D32: Տ-1-33,Կոշ(Տ-1-8)-Վերին Սասունիկ-Լեռնարոտ տեղական նշանակության ավտոճանապարհի կմ0+000-կմ9+500 հատվածի հիմնանորոգում | E32: =F32+G32+H32+I32 -> -726043.4 | G32: ='6'!F35 -> -726043.4
D33: Տ-3-14/Մ-5/-Մրգաշատ-Ալաշկերտ-գ․Արմավիր (Տ-3-16) տեղական նշնակության ավտոճանապարհի կմ6+200 - կմ7+400 հատվածի հիմնանորոգում | E33: =F33+G33+H33+I33 -> -96770.2 | G33: ='6'!F36 -> -96770.2
D34: Տ-3-19, Արևիկ(Տ-3-50)-/Հ-15/(Տանձուտ) ավտոճանապարհի կմ0+000 - կմ3+400 հատվածի հիմնանորոգում | E34: =F34+G34+H34+I34 -> -163591.6 | G34: ='6'!F37 -> -163591.6
D35: Տ-3-29, /Մ-5/(Զվարթնոց թաղամաս)-/Հ-13/ 4,4կմ ընդհանուր երկարության կմ0+000-կմ4+400 հատվածի հիմնանորոգում | E35: =F35+G35+H35+I35 -> -245059.2 | G35: ='6'!F38 -> -245059.2
D36: Տ-4-63, /Հ-7/ - Ջիլ մարզային նշանակության ավտոճանապարհի և նորակառույց դպրոց տանող ճանապարհահատվածի հիմնանորոգում | E36: =F36+G36+H36+I36 -> 407336.4 | G36: ='6'!F39 -> 407336.4
D37: ՀՀ Գեղարքունիքի Մարտունի քաղաքի Մյասնիկյան, Գևորգ Զիրոյան և Սայաթ Նովա խաչմերուկից մինչև Ն. Գետաշեն բնակավայրի թիվ 2 միջնակարգ դպրոցի խաչմերուկ ավտոճանապարհի հիմնանորոգում | E37: =F37+G37+H37+I37 -> 748883.6 | G37: ='6'!F40 -> 748883.6
D38: ՀՀ Գեղարքունիքի մարզի Գավառ համայնքի գյուղ Բերդկունքի կենտրոնական փողոցի մի հատվածի ասֆալտապատում | E38: =F38+G38+H38+I38 -> 78824.7 | G38: ='6'!F41 -> 78824.7
D39: Տ-5-51, /Մ-3/ - Միխայելովկա - /Մ-3/ կմ0+000 – կմ2+000 մարզային նշանակության ավտոճանապարհի հիմնանորոգում | E39: =F39+G39+H39+I39 -> 420915 | G39: ='6'!F42 -> 420915
D40: Տ-5-96, /Մ-3/ – (Տաշիր) – Մեծավան – Ձյունաշող (Տ-5-27) կմ0+000 – կմ8+500 ավտոճանապարհի հիմնանորոգում | E40: =F40+G40+H40+I40 -> 529026.4 | G40: ='6'!F43 -> 529026.4
D41: ՀՀ Լոռու մարզի Վանաձոր քաղաքի Վարդանանց փողոցի հիմնանորոգում | E41: =F41+G41+H41+I41 -> 736625.8 | G41: ='6'!F44 -> 736625.8
D42: Տ-7-48, Գյումրի(Տ-7-58)-Արևիկ-Այգեբաց-Վարդաքար- /Հ-21/ մարզային նշանակության ավտոճանապարհի կմ0+000-կմ10+440 հատվածի հիմնանորոգում | E42: =F42+G42+H42+I42 -> 2004899.3 | G42: ='6'!F45 -> 2004899.3
... D44: Տ-8-42,/Հ-45/ (Սիսիան) – Աշոտավան – Թասիկ - Արևիս տեղական նշանակության ավտոճանապարհի կմ0+000-կմ10+000 հատվածի հիմնանորոգում | E44: =F44+G44+H44+I44 -> 1368067.5 | G44: ='6'!F47 -> 1368067.5
D45: Տ-8-51, /Մ-2/ -Անգեղակոթ- (Շաղատ) – Մուցք տեղական նշանակության ավտոճանապարհի (նախկին՝ Մ-13, /Մ-2/ - Անգեղակոթ - ՀՀ սահման միջպետական նշանակության ավտոճանապարհ) կմ0+000-կմ8+000 հատվածի հիմնանորոգում | E45: =F45+G45+H45+I45 -> 56522.8 | G45: 56522.8
D46: /Տ-1-21/ (Եղիպատրուշ բնակավայր) ճանապարհից դեպի «Մայլեռ» լեռնային հանգստավայր տանող 3 կմ երկարությամբ և 8 մետր լայնությամբ երթևեկելի մասով ասֆալտապատ ավտոճանապարհի կառուցում | E46: =F46+G46+H46+I46 -> 725404.8 | F46: ='6'!F49 -> 725404.8
D47: Չբաշխված | E47: =F47+G47+H47+I47 -> -3994636.9 | G47: ='6'!F16 -> -3994636.9
B48: 1049 | C48: 21002 | D48: Տրանսպորտային օբյեկտների հիմնանորոգում | E48: =+F48+G48+H48+I48 -> 0 | F48: =SUM(F50:F51) -> 0 | G48: =SUM(G50:G51) -> 0 | H48: =SUM(H50:H51) -> 0 | I48: =SUM(I50:I51) -> 0
D49: այդ թվում`
D50: Մ-6,Վանաձոր (Մ-3 հատման կետ) – Ալավերդի - ՀՀ սահման (Բագրատաշեն) միջպետական նշանակության ավտոճանապարհի 43-րդ կմ-ում փլուզված ստորին հենապատի վերակառուցում | E50: =F50+G50+H50+I50 -> 62068.7 | F50: 0 | G50: ='6'!F55 -> 62068.7
D51: Չբաշխված | E51: =F51+G51+H51+I51 -> -62068.7 | G51: ='6'!F52 -> -62068.7
B52: 1049 | C52: 21020 | D52: Պետական նշանակության ավտոճանապարհների միջին նորոգում | E52: =+F52+G52+H52+I52 -> -2766721 | F52: 0 | G52: ='6'!F58 -> -2766721 | H52: 0 | I52: 0
B53: 1049 | C53: 21020 | D53: Պետական նշանակության ավտոճանապարհների միջին նորոգում | E53: =+F53+G53+H53+I53 -> 3206039.9 | F53: =F55+F61+F65 -> 0 | G53: =G55+G61+G65 -> 3206039.9 | H53: =H55+H61+H65 -> 0 | I53: =I55+I61+I65 -> 0
D54: այդ թվում`
C55: 1 | D55: Միջպետական նշանակության ավտոճանապարհներ, այդ թվում | E55: =+F55+G55+H55+I55 -> 1931481.5 | F55: =SUM(F56:F60) -> 0 | G55: =SUM(G56:G60) -> 1931481.5 | H55: =SUM(H56:H60) -> 0 | I55: =SUM(I56:I60) -> 0
D56: Մ-1, Մոտեցում Գյումրու օդանավակայանին կմ0+040- կմ2+000 (աջ և ձախ գոտիներ) հատվածի միջին նորոգում | E56: =F56+G56+H56+I56 -> 276000 | G56: ='6'!F62 -> 276000
D57: Մ-1, Երևան -Գյումրի - ՀՀ սահման (Բավրա) միջպետական նշանակության ավտոճանապարհի կմ171+700 - կմ172+980 հատվածի միջին նորոգում | E57: =F57+G57+H57+I57 -> 79900 | G57: ='6'!F63 -> 79900
D58: Մ-4, Երևան-Սևան-Իջևան-ՀՀ սահման (աջ գոտի) միջպետական նշանակության ավտոճանապարհի կմ36+000-կմ51+200 հատվածի միջին նորոգում | E58: =F58+G58+H58+I58 -> 792000 | G58: ='6'!F64 -> 792000
D59: Մ-4, Երևան-Սևան-Իջևան-ՀՀ սահման (աջ գոտի) միջպետական նշանակության ավտոճանապարհի կմ51+200-կմ64+174 հատվածի միջին նորոգում | E59: =F59+G59+H59+I59 -> 681000 | G59: ='6'!F65 -> 681000
D60: Մ-4, Երևան- Սևան - Իջևան - ՀՀ սահման միջպետական նշանակության ավտոճանապարհի կմ80+702-կմ83+145 հատվածի միջին նորոգում և կմ83+145 - կմ84+372 հատվածի գծանշում | E60: =F60+G60+H60+I60 -> 102581.5 | G60: ='6'!F66 -> 102581.5
C61: 2 | D61: Հանրապետական նշանակության ավտոճանապարհներ, այդ թվում | E61: =+F61+G61+H61+I61 -> 1060123.2 | F61: =SUM(F62:F64) -> 0 | G61: =SUM(G62:G64) -> 1060123.2 | H61: =SUM(H62:H64) -> 0 | I61: =SUM(I62:I64) -> 0
D62: Հ-7,/Մ-4/ -Շորժա-Վարդենիս-/Մ-10/ հանրապետական նշանակության ավտոճանապարհի կմ78+100-կմ97+032 հատվածի միջին նորոգում | E62: =F62+G62+H62+I62 -> 889800 | G62: ='6'!F68 -> 889800
D63: Հ-58, /Մ-4/ Ոսկեպար-Նոյեմբերյան -/Մ-6/ հանրապետական նշանակության ավտոճանապարհի կմ24+810-կմ29+000 հատվածի միջին նորոգում | E63: =F63+G63+H63+I63 -> 107407.4 | G63: ='6'!F69 -> 107407.4
D64: Հ-75, /Հ-62/ -Իսահակյան -/Մ-7/(Գյումրի) կմ60+ 200 - կմ67 + 330 և կմ70+ 800 - կմ73 + 593 հատվածների միջին նորոգում | E64: =F64+G64+H64+I64 -> 62915.8 | G64: ='6'!F70 -> 62915.8
C65: 3 | D65: Մարզային նշանակության ավտոճանապարհներ, այդ թվում | E65: =+F65+G65+H65+I65 -> 214435.2 | F65: =F66 -> 0 | G65: =G66 -> 214435.2 | H65: =H66 -> 0 | I65: =I66 -> 0
D66: Տ-3-48 /Մ-5/ (Սարդարապատ) - Այգեվան - Լենուղի - /Մ-5/ մարզային (տեղական) նշանակության ավտոճանապարհի կմ0+000-կմ6+200 հատվածի միջին նորոգում | E66: =F66+G66+H66+I66 -> 214435.2 | G66: ='6'!F72 -> 214435.2
D71: ՀԱՅԱՍՏԱՆԻ ՀԱՆՐԱՊԵՏՈՒԹՅԱՆ ՎԱՐՉԱՊԵՏԻ ԱՇԽԱՏԱԿԱԶՄԻ ՂԵԿԱՎԱՐ՝ | G71: Ա.ՀԱՐՈՒԹՅՈՒՆՅԱՆ

Sheet 5
I1: Հավելված N 5
I2: ՀՀ կառավարության 2025 թվականի
I3: ______________ ի ___Ն որոշման
B5: ՀԱՅԱՍՏԱՆԻ ՀԱՆՐԱՊԵՏՈՒԹՅԱՆ ԿԱՌԱՎԱՐՈՒԹՅԱՆ 2024 ԹՎԱԿԱՆԻ ԴԵԿՏԵՄԲԵՐԻ 27-Ի N 2060-Ն ՈՐՈՇՄԱՆ NN 3 ԵՎ 4 ՀԱՎԵԼՎԱԾՆԵՐՈՒՄ ԿԱՏԱՐՎՈՂ ՓՈՓՈԽՈՒԹՅՈՒՆՆԵՐԸ ԵՎ ԼՐԱՑՈՒՄՆԵՐԸ
B8: Գործառական դասիչը | E8: Ծրագրային դասիչը | G8: Բյուջետային հատկացումների գլխավոր կարգադրիչների, ծրագրերի, միջոցառումների և միջոցառումները կատարող պետական մարմինների անվանումները | H8: Ցուցանիշների փոփոխությունը (ավելացումները նշված են դրական նշանով, իսկ նվազեցումները` փակագծերում)
B9: Բաժին | C9: Խումբ | D9: Դաս | E9: Ծրագիր | F9: Միջոցառում | H9: Ինն ամիս | I9: Տարի
G10: ԸՆԴԱՄԵՆԸ | H10: =H12 -> 1790710.7 | I10: =I12 -> 1790710.7
G11: այդ թվում`
G12: ՀՀ տարածքային կառավարման և ենթակառուցվածքների նախարարություն | H12: =H32+H14 -> 1790710.7 | I12: =I32+I14 -> 1790710.7
G13: այդ թվում`
B14: 01 | G14: ԸՆԴՀԱՆՈՒՐ ԲՆՈՒՅԹԻ ՀԱՆՐԱՅԻՆ ԾԱՌԱՅՈՒԹՅՈՒՆՆԵՐ | H14: =H16 -> -571538.7 | I14: =I16 -> 0
G15: այդ թվում`
C16: 08 | G16: Կառավարության տարբեր մակարդակների միջև իրականացվող ընդհանուր բնույթի տրանսֆերտներ | H16: =H18 -> -571538.7 | I16: =I18 -> 0
G17: այդ թվում`
D18: 01 | G18: Կառավարության տարբեր մակարդակների միջև իրականացվող ընդհանուր բնույթի տրանսֆերտներ | H18: =+H21 -> -571538.7 | I18: =+I21 -> 0
G19: այդ թվում`
G20: ՀՀ տարածքային կառավարման և ենթակառուցվածքների նախարարություն | H20: =H21 -> -571538.7 | I20: =I21 -> 0
E21: 1212 | G21: Տարածքային զարգացում | H21: =H23 -> -571538.7 | I21: =I133+I152+I168 -> 0
G22: այդ թվում`
F23: 12026 | G23: Ազդակիր բնակավայրերի և համայնքների բյուջեներին հատկացվող համայնքային մասհանումներ | H23: =H25 -> -571538.7 | I23: =I25 -> 0
G24: այդ թվում` ըստ կատարողների
G25: ՀՀ կառավարություն | H25: =H27 -> -571538.7 | I25: =I27 -> 0
G26: այդ թվում` բյուջետային ծախսերի տնտեսագիտական դասակարգման հոդվածներ
G27: ԸՆԴԱՄԵՆԸ ԾԱԽՍԵՐ | H27: =H28 -> -571538.7 | I27: =I28 -> 0
G28: ԸՆԹԱՑԻԿ ԾԱԽՍԵՐ | H28: =H29 -> -571538.7 | I28: =I29 -> 0
G29: ԴՐԱՄԱՇՆՈՐՀՆԵՐ | H29: =H30 -> -571538.7 | I29: =I30 -> 0
G30: Կապիտալ դրամաշնորհներ պետական հատվածի այլ մակարդակներին | H30: =H31 -> -571538.7 | I30: =I31 -> 0
G31: - Կապիտալ սուբվենցիաներ համայնքներին | H31: -571538.7 | I31: ='7'!E100 -> 0
B32: 04 | G32: ՏՆՏԵՍԱԿԱՆ ՀԱՐԱԲԵՐՈՒԹՅՈՒՆՆԵՐ | H32: =H34 -> 2362249.4 | I32: =I34 -> 1790710.7
G33: այդ թվում`
C34: 05 | G34: ՏՐԱՆՍՊՈՐՏ | H34: =H36 -> 2362249.4 | I34: =I36 -> 1790710.7
G35: այդ թվում`
D36: 01 | G36: Ճանապարհային տրանսպորտ | H36: =+H40 -> 2362249.4 | I36: =+I40 -> 1790710.7
G37: այդ թվում`
G38: ՀՀ տարածքային կառավարման և ենթակառուցվածքների նախարարություն | H38: =H40 -> 2362249.4 | I38: =I40 -> 1790710.7
G39: այդ թվում`
E40: 1049 | G40: Ճանապարհային ցանցի բարելավում | H40: =H42+H51+H60+H79+H95+H111 -> 2362249.4 | I40: =I42+I51+I60+I79+I95+I111 -> 1790710.7
G41: այդ թվում`
F42: 11001 | G42: Միջպետական և հանրապետական նշանակության ավտոճանապարհների պահպանման և անվտանգ երթևեկության ծառայություններ | H42: =H44 -> -768431.2 | I42: =I44 -> -968944.8
G43: այդ թվում` ըստ կատարողների
G44: ՀՀ տարածքային կառավարման և ենթակառուցվածքների նախարարություն | H44: =H46 -> -768431.2 | I44: =I46 -> -968944.8
G45: այդ թվում` բյուջետային ծախսերի տնտեսագիտական դասակարգման հոդվածներ
G46: ԸՆԴԱՄԵՆԸ ԾԱԽՍԵՐ | H46: =H47 -> -768431.2 | I46: =I47 -> -968944.8
G47: ԸՆԹԱՑԻԿ ԾԱԽՍԵՐ | H47: =H48 -> -768431.2 | I47: =I48 -> -968944.8
G48: ԾԱՌԱՅՈՒԹՅՈՒՆՆԵՐԻ ԵՎ ԱՊՐԱՆՔՆԵՐԻ ՁԵՌՔԲԵՐՈՒՄ | H48: =H49 -> -768431.2 | I48: =I49 -> -968944.8
G49: Ընթացիկ նորոգում և պահպանում (ծառայություններ և նյութեր) | H49: =H50 -> -768431.2 | I49: =I50 -> -968944.8
G50: - Շենքերի և կառույցների ընթացիկ նորոգում և պահպանում | H50: ='7'!D11 -> -768431.2 | I50: ='7'!E11 -> -968944.8
F51: 11003 | G51: Հայաստանի Հանրապետությունում հսկիչ սարքերի (թվային տախոգրաֆի) համակարգի կարգավորում | H51: =H53 -> -47665.1 | I51: =I53 -> 0
G52: այդ թվում` ըստ կատարողների
G53: ՀՀ տարածքային կառավարման և ենթակառուցվածքների նախարարություն | H53: =H55 -> -47665.1 | I53: =I55 -> 0
G54: այդ թվում` բյուջետային ծախսերի տնտեսագիտական դասակարգման հոդվածներ
G55: ԸՆԴԱՄԵՆԸ ԾԱԽՍԵՐ | H55: =H56 -> -47665.1 | I55: =I56 -> 0
G56: ԸՆԹԱՑԻԿ ԾԱԽՍԵՐ | H56: =H57 -> -47665.1 | I56: =I57 -> 0
G57: ԾԱՌԱՅՈՒԹՅՈՒՆՆԵՐԻ ԵՎ ԱՊՐԱՆՔՆԵՐԻ ՁԵՌՔԲԵՐՈՒՄ | H57: =H58 -> -47665.1 | I57: =I58 -> 0
G58: Ընթացիկ նորոգում և պահպանում (ծառայություններ և նյութեր) | H58: =H59 -> -47665.1 | I58: =I59 -> 0
G59: - Մեքենաների և սարքավորումների ընթացիկ նորոգում և պահպանում | H59: -47665.1 | I59: ='7'!E20 -> 0
F60: 21001 | G60: Պետական նշանակության ավտոճանապարհների հիմնանորոգում | H60: =H62+H69 -> 1202364.1 | I60: =I62+I69 -> 2320336.6
G61: այդ թվում` ըստ կատարողների
G62: ՀՀ կառավարություն | H62: =H64 -> -987084.6 | I62: =I64 -> -3994636.9
G63: այդ թվում` բյուջետային ծախսերի տնտեսագիտական դասակարգման հոդվածներ
G64: ԸՆԴԱՄԵՆԸ ԾԱԽՍԵՐ | H64: =H65 -> -987084.6 | I64: =I65 -> -3994636.9
G65: ՈՉ ՖԻՆԱՆՍԱԿԱՆ ԱԿՏԻՎՆԵՐԻ ԳԾՈՎ ԾԱԽՍԵՐ | H65: =H66 -> -987084.6 | I65: =I66 -> -3994636.9
G66: ՀԻՄՆԱԿԱՆ ՄԻՋՈՑՆԵՐ | H66: =H67 -> -987084.6 | I66: =I67 -> -3994636.9
G67: ՇԵՆՔԵՐ ԵՎ ՇԻՆՈՒԹՅՈՒՆՆԵՐ | H67: =H68 -> -987084.6 | I67: =I68 -> -3994636.9
G68: - Շենքերի և շինությունների կապիտալ վերանորոգում | H68: ='6'!E16 -> -987084.6 | I68: ='6'!F16 -> -3994636.9
G69: ՀՀ տարածքային կառավարման և ենթակառուցվածքների նախարարություն | H69: =H71 -> 2189448.7 | I69: =I71 -> 6314973.5
G70: այդ թվում`բյուջետային ծախսերի տնտեսագիտական դասակարգման հոդվածներ
G71: ԸՆԴԱՄԵՆԸ ԾԱԽՍԵՐ | H71: =H72 -> 2189448.7 | I71: =I72 -> 6314973.5
G72: ՈՉ ՖԻՆԱՆՍԱԿԱՆ ԱԿՏԻՎՆԵՐԻ ԳԾՈՎ ԾԱԽՍԵՐ | H72: =H73 -> 2189448.7 | I72: =I73 -> 6314973.5
G73: ՀԻՄՆԱԿԱՆ ՄԻՋՈՑՆԵՐ | H73: =H74+H77 -> 2189448.7 | I73: =I74+I77 -> 6314973.5
G74: ՇԵՆՔԵՐ ԵՎ ՇԻՆՈՒԹՅՈՒՆՆԵՐ | H74: =+H75+H76 -> 2189037.7 | I74: =I75+I76 -> 6280962.5
G75: - Շենքերի և շինությունների շինարարություն | H75: ='6'!E49 -> 362702.4 | I75: ='6'!F49 -> 725404.8
G76: - Շենքերի և շինությունների կապիտալ վերանորոգում | H76: ='6'!E17-'5'!H77-H75 -> 1826335.3 | I76: ='6'!F17-'5'!I77-I75 -> 5555557.7
G77: ԱՅԼ ՀԻՄՆԱԿԱՆ ՄԻՋՈՑՆԵՐ | H77: =H78 -> 411 | I77: =I78 -> 34011
G78: - Նախագծահետազոտական ծախսեր | H78: ='6'!E23+'6'!E25 -> 411 | I78: ='6'!F23+'6'!F25 -> 34011
F79: 21002 | G79: Տրանսպորտային օբյեկտների հիմնանորոգում | H79: =H81+H88 -> 0 | I79: =I81+I88 -> 0
G80: այդ թվում` ըստ կատարողների
G81: ՀՀ կառավարություն | H81: =H83 -> -62068.7 | I81: =I83 -> -62068.7
G82: այդ թվում` բյուջետային ծախսերի տնտեսագիտական դասակարգման հոդվածներ
G83: ԸՆԴԱՄԵՆԸ ԾԱԽՍԵՐ | H83: =H84 -> -62068.7 | I83: =I84 -> -62068.7
G84: ՈՉ ՖԻՆԱՆՍԱԿԱՆ ԱԿՏԻՎՆԵՐԻ ԳԾՈՎ ԾԱԽՍԵՐ | H84: =H85 -> -62068.7 | I84: =I85 -> -62068.7
G85: ՀԻՄՆԱԿԱՆ ՄԻՋՈՑՆԵՐ | H85: =H86 -> -62068.7 | I85: =I86 -> -62068.7
G86: ՇԵՆՔԵՐ ԵՎ ՇԻՆՈՒԹՅՈՒՆՆԵՐ | H86: =H87 -> -62068.7 | I86: =I87 -> -62068.7
G87: - Շենքերի և շինությունների կապիտալ վերանորոգում | H87: ='6'!E52 -> -62068.7 | I87: ='6'!F52 -> -62068.7
G88: ՀՀ տարածքային կառավարման և ենթակառուցվածքների նախարարություն | H88: =H90 -> 62068.7 | I88: =I90 -> 62068.7
G89: այդ թվում`բյուջետային ծախսերի տնտեսագիտական դասակարգման հոդվածներ
G90: ԸՆԴԱՄԵՆԸ ԾԱԽՍԵՐ | H90: =H91 -> 62068.7 | I90: =I91 -> 62068.7
G91: ՈՉ ՖԻՆԱՆՍԱԿԱՆ ԱԿՏԻՎՆԵՐԻ ԳԾՈՎ ԾԱԽՍԵՐ | H91: =H92 -> 62068.7 | I91: =I92 -> 62068.7
G92: ՀԻՄՆԱԿԱՆ ՄԻՋՈՑՆԵՐ | H92: =H93 -> 62068.7 | I92: =I93 -> 62068.7
G93: ՇԵՆՔԵՐ ԵՎ ՇԻՆՈՒԹՅՈՒՆՆԵՐ | H93: =H94 -> 62068.7 | I93: =I94 -> 62068.7
G94: - Շենքերի և շինությունների կապիտալ վերանորոգում | H94: ='6'!E53 -> 62068.7 | I94: ='6'!F53 -> 62068.7
F95: 21020 | G95: Պետական նշանակության ավտոճանապարհների միջին նորոգում | H95: =H97+H104 -> 2182681.6 | I95: =I97+I104 -> 439318.9
G96: այդ թվում` ըստ կատարողների
G97: ՀՀ կառավարություն | H97: =H99 -> -380000 | I97: =I99 -> -2766721
G98: այդ թվում` բյուջետային ծախսերի տնտեսագիտական դասակարգման հոդվածներ
G99: ԸՆԴԱՄԵՆԸ ԾԱԽՍԵՐ | H99: =H100 -> -380000 | I99: =I100 -> -2766721
G100: ՈՉ ՖԻՆԱՆՍԱԿԱՆ ԱԿՏԻՎՆԵՐԻ ԳԾՈՎ ԾԱԽՍԵՐ | H100: =H101 -> -380000 | I100: =I101 -> -2766721
G101: ՀԻՄՆԱԿԱՆ ՄԻՋՈՑՆԵՐ | H101: =H102 -> -380000 | I101: =I102 -> -2766721
G102: ՇԵՆՔԵՐ ԵՎ ՇԻՆՈՒԹՅՈՒՆՆԵՐ | H102: =H103 -> -380000 | I102: =I103 -> -2766721
G103: - Շենքերի և շինությունների կապիտալ վերանորոգում | H103: ='6'!E58 -> -380000 | I103: ='6'!F58 -> -2766721
...

Sheet 6
F1: Հավելված N 6
F2: ՀՀ կառավարության 2025 թվականի
F3: ______________ ի ___Ն որոշման
A5: ՀԱՅԱՍՏԱՆԻ ՀԱՆՐԱՊԵՏՈՒԹՅԱՆ ԿԱՌԱՎԱՐՈՒԹՅԱՆ 2024 ԹՎԱԿԱՆԻ ԴԵԿՏԵՄԲԵՐԻ 27-Ի N 2060-Ն ՈՐՈՇՄԱՆ N 5 ՀԱՎԵԼՎԱԾԻ N 2 ԱՂՅՈՒՍԱԿՈՒՄ ԿԱՏԱՐՎՈՂ ՓՈՓՈԽՈՒԹՅՈՒՆՆԵՐԸ ԵՎ ԼՐԱՑՈՒՄՆԵՐԸ
E7: հազար դրամներով
B8: Ծրագրային դասիչը | D8: Հատկացումների տրամադրման նպատակները և բյուջետային գլխավոր կարգադրիչների, ծրագրերի, միջոցառումների և կատարող պետական մարմնի անվանումները | E8: Ցուցանիշների փոփոխությունը (ավելացումները նշված են դրական նշանով, իսկ նվազեցումները` փակագծերում)
B9: Ծրագիր | C9: Միջոցառում | E9: Ինն ամիս | F9: Տարի
D10: ԸՆԴԱՄԵՆԸ | E10: =E12 -> 3178345.7 | F10: =F12 -> 2759655.5
D11: այդ թվում՝
D12: ՀՀ ՏԱՐԱԾՔԱՅԻՆ ԿԱՌԱՎԱՐՄԱՆ ԵՎ ԵՆԹԱԿԱՌՈՒՑՎԱԾՔՆԵՐԻ ՆԱԽԱՐԱՐՈՒԹՅՈՒՆ | E12: =E14+E50+E56+E73 -> 3178345.7 | F12: =F14+F50+F56 -> 2759655.5
D13: այդ թվում`
B14: 1049 | C14: 21001 | D14: Պետական նշանակության ավտոճանապարհների հիմնանորոգում | E14: =E16+E17 -> 1202364.1 | F14: =F16+F17 -> 2320336.6
D15: այդ թվում` ըստ կատարողների
D16: ՀՀ կառավարություն | E16: =-987084.6 -> -987084.6 | F16: =-3994636.9 -> -3994636.9
D17: ՀՀ տարածքային կառավարման և ենթակառուցվածքների նախարարություն | E17: =E19+E27+E33 -> 2189448.7 | F17: =F19+F27+F33 -> 6314973.5
D18: այդ թվում՝ ըստ ուղղությունների
C19: 1 | D19: ='[1]1'!C16 -> Միջպետական նշանակության ավտոճանապարհներ, այդ թվում | E19: =SUM(E20:E26) -> -370815.1 | F19: =SUM(F20:F26) -> -632316.3
D20: ='4'!D17 -> Մ-2, Երևան-Երասխ-Նորավան- Տաթև-Կապան-Մեղրի-ՀՀ սահման (նախկին՝ Մ-2 ,Երևան-Երասխ-Գորիս-Մեղրի-ՀՀ սահման) միջպետական նշանակության ավտոճանապարհի կմ47+475-կմ53+150 հատվածի հիմնանորոգում | E20: -326322.6 | F20: -543871
D21: ='4'!D18 -> Մ-2, Երևան-Երասխ-Նորավան- Տաթև-Կապան-Մեղրի-ՀՀ սահման (նախկին՝ Մ-2 ,Երևան-Երասխ-Գորիս-Մեղրի-ՀՀ սահման) միջպետական նշանակության ավտոճանապարհի կմ91+600 - կմ98+000 հատվածի հիմնանորոգում | E21: =-220888.4 -> -220888.4 | F21: -371158.5
D22: ='4'!D19 -> Մ-2, Երևան-Երասխ-Նորավան- Տաթև-Կապան-Մեղրի-ՀՀ սահման (նախկին՝ Մ-2 ,Երևան-Երասխ-Գորիս-Մեղրի-ՀՀ սահման) միջպետական նշանակության ավտոճանապարհի կմ181+250 - կմ181+750 հատվածի վերակառուցում | E22: -7825.8 | F22: -13043.2
D23: ='4'!D20 -> Մ-3, ՀՀ սահման (Մարգարա) – Վանաձոր – Տաշիր – ՀՀ սահման միջպետական նշանակության ավտոճանապարհի Ռյա Թազա բնակավայրով անցնող հատվածում ջրահեռացման կարգավորում | E23: 411 | F23: 411
D24: ='4'!D21 -> Մ-4, Երևան-Սևան-Իջևան-ՀՀ սահման միջպետական նշանակության ավտոճանապարհի կմ91+176-կմ96+176 հատվածի հիմնանորոգում և ոլորանների պարամետրերի բարելավում | E24: ='4'!G21 -> 66908.5 | F24: =E24 -> 66908.5
D25: ='4'!D22 -> Մ-4, Երևան-Սևան-Իջևան-ՀՀսահման միջպետական նշանակության ավտոճանապարհի Երևան - Դիլիջան հատվածում լուսավորության համակարգի կառուցում | F25: 33600
D26: ='4'!D23 -> Մ-7, /Մ-3/ - Սպիտակ – Գյումրի - ՀՀ սահման միջպետական նշանակության ավտոճանապարհի կմ47+100-կմ48+000 հատվածի հիմնանորոգում | E26: 116902.2 | F26: 194836.9
C27: 2 | D27: ='[1]1'!C26 -> Հանրապետական նշանակության ավտոճանապարհներ, այդ թվում | E27: =SUM(E28:E32) -> 239390.9 | F27: =SUM(F28:F32) -> 932620.1
D28: ='4'!D25 -> Հ-10. /Հ-8/ (Ոսկետափ) - Վեդի - Լանջառ - /Մ-2/ հանրապետական նշանակության ավտոճանապարհի կմ5+450 - կմ9+250 հատվածի հիմնանորոգում | E28: 244154.1 | F28: 406923.4
D29: ='4'!D26 -> Հ-15, /Մ-5/(Նորապատ) -Արգավանդ –/Մ-3/ (Վարդանաշեն) հանրապետական նշանակության ավտոճանապարհի կմ3+000 - կմ13+000 հատվածի հիմնանորոգում | E29: 638735.1 | F29: 1596837.6
D30: ='4'!D27 -> Հ-15, /Մ-5/(Նորապատ) -Արգավանդ –/Մ-3/ (Վարդանաշեն) հանրապետական նշանակության ավտոճանապարհի կմ13+000 - կմ20+000 հատվածի հիմնանորոգում | E30: -277671 | F30: -462784.9
D31: ='4'!D28 -> Հ-21, /Հ-75/ - Հոռոմ-Արթիկ-Ալագյազ հանրապետական նշանակության ավտոճանապարհի կմ32+700 - կմ41+000 հատվածի հիմնանորոգում | E31: -265827.3 | F31: -443045.5
D32: ='4'!D29 -> Հ-22, /Մ-6/ - Դսեղ – /Հ-70/ հանրապետական նշանակության ավտոճանապարհի կմ 8+000-կմ 13+900 հատվածի հիմնանորոգում | E32: -100000 | F32: -165310.5
C33: 3 | D33: Մարզային նշանակության ավտոճանապարհներ, այդ թվում | E33: =SUM(E34:E49) -> 2320872.9 | F33: =SUM(F34:F49) -> 6014669.7
D34: ='4'!D31 -> Տ-1-25,/Մ-3/(Աշտարակ)–Փարպի-Ղազարավան տեղական նշանակության ավտոճանապարհի կմ0+000-կմ4+000 և կմ6+000-կմ13+500 հատվածների հիմնանորոգում | E34: -438009.6 | F34: -728416.1
D35: ='4'!D32 -> Տ-1-33,Կոշ(Տ-1-8)-Վերին Սասունիկ-Լեռնարոտ տեղական նշանակության ավտոճանապարհի կմ0+000-կմ9+500 հատվածի հիմնանորոգում | E35: -436496 | F35: -726043.4
D36: ='4'!D33 -> Տ-3-14/Մ-5/-Մրգաշատ-Ալաշկերտ-գ․Արմավիր (Տ-3-16) տեղական նշնակության ավտոճանապարհի կմ6+200 - կմ7+400 հատվածի հիմնանորոգում | E36: -58062.1 | F36: -96770.2
D37: ='4'!D34 -> Տ-3-19, Արևիկ(Տ-3-50)-/Հ-15/(Տանձուտ) ավտոճանապարհի կմ0+000 - կմ3+400 հատվածի հիմնանորոգում | E37: -98155 | F37: -163591.6
D38: ='4'!D35 -> Տ-3-29, /Մ-5/(Զվարթնոց թաղամաս)-/Հ-13/ 4,4կմ ընդհանուր երկարության կմ0+000-կմ4+400 հատվածի հիմնանորոգում | E38: -147035.6 | F38: -245059.2
D39: ='4'!D36 -> Տ-4-63, /Հ-7/ - Ջիլ մարզային նշանակության ավտոճանապարհի և նորակառույց դպրոց տանող ճանապարհահատվածի հիմնանորոգում | E39: 203668.2 | F39: 407336.4
D40: ='4'!D37 -> ՀՀ Գեղարքունիքի Մարտունի քաղաքի Մյասնիկյան, Գևորգ Զիրոյան և Սայաթ Նովա խաչմերուկից մինչև Ն. Գետաշեն բնակավայրի թիվ 2 միջնակարգ դպրոցի խաչմերուկ ավտոճանապարհի հիմնանորոգում | E40: 374441.8 | F40: 748883.6
D41: ='4'!D38 -> ՀՀ Գեղարքունիքի մարզի Գավառ համայնքի գյուղ Բերդկունքի կենտրոնական փողոցի մի հատվածի ասֆալտապատում | E41: 39412.4 | F41: 78824.7
D42: ='4'!D39 -> Տ-5-51, /Մ-3/ - Միխայելովկա - /Մ-3/ կմ0+000 – կմ2+000 մարզային նշանակության ավտոճանապարհի հիմնանորոգում | E42: 210457.5 | F42: 420915
D43: ='4'!D40 -> Տ-5-96, /Մ-3/ – (Տաշիր) – Մեծավան – Ձյունաշող (Տ-5-27) կմ0+000 – կմ8+500 ավտոճանապարհի հիմնանորոգում | E43: 264513.2 | F43: 529026.4
D44: ='4'!D41 -> ՀՀ Լոռու մարզի Վանաձոր քաղաքի Վարդանանց փողոցի հիմնանորոգում | E44: 368312.9 | F44: 736625.8
D45: ='4'!D42 -> Տ-7-48, Գյումրի(Տ-7-58)-Արևիկ-Այգեբաց-Վարդաքար- /Հ-21/ մարզային նշանակության ավտոճանապարհի կմ0+000-կմ10+440 հատվածի հիմնանորոգում | E45: 801959.8 | F45: 2004899.3
... D47: ='4'!D44 -> Տ-8-42,/Հ-45/ (Սիսիան) – Աշոտավան – Թասիկ - Արևիս տեղական նշանակության ավտոճանապարհի կմ0+000-կմ10+000 հատվածի հիմնանորոգում | E47: 547227 | F47: 1368067.5
D48: ='4'!D45 -> Տ-8-51, /Մ-2/ -Անգեղակոթ- (Շաղատ) – Մուցք տեղական նշանակության ավտոճանապարհի (նախկին՝ Մ-13, /Մ-2/ - Անգեղակոթ - ՀՀ սահման միջպետական նշանակության ավտոճանապարհ) կմ0+000-կմ8+000 հատվածի հիմնանորոգում | E48: ='4'!G45 -> 56522.8 | F48: =E48 -> 56522.8
D49: /Տ-1-21/ (Եղիպատրուշ բնակավայր) ճանապարհից դեպի «Մայլեռ» լեռնային հանգստավայր տանող 3 կմ երկարությամբ և 8 մետր լայնությամբ երթևեկելի մասով ասֆալտապատ ավտոճանապարհի կառուցում | E49: 362702.4 | F49: 725404.8
B50: 1049 | C50: 21002 | D50: Տրանսպորտային օբյեկտների հիմնանորոգում | E50: =E53+E52 -> 0 | F50: =F53+F52 -> 0
D51: այդ թվում` ըստ կատարողների
D52: ՀՀ կառավարություն | E52: =-E53 -> -62068.7 | F52: =-F53 -> -62068.7
D53: ՀՀ տարածքային կառավարման և ենթակառուցվածքների նախարարություն | E53: =SUM(E55:E55) -> 62068.7 | F53: =SUM(F55:F55) -> 62068.7
D54: այդ թվում՝ ըստ ուղղությունների
D55: ='4'!D50 -> Մ-6,Վանաձոր (Մ-3 հատման կետ) – Ալավերդի - ՀՀ սահման (Բագրատաշեն) միջպետական նշանակության ավտոճանապարհի 43-րդ կմ-ում փլուզված ստորին հենապատի վերակառուցում | E55: =F55 -> 62068.7 | F55: 62068.7
B56: 1049 | C56: 21020 | D56: Պետական նշանակության ավտոճանապարհների միջին նորոգում | E56: =E58+E59 -> 2182681.6 | F56: =F58+F59 -> 439318.9
D57: այդ թվում` ըստ կատարողների
D58: ՀՀ կառավարություն | E58: =-380000 -> -380000 | F58: =-2766721 -> -2766721
D59: ՀՀ տարածքային կառավարման և ենթակառուցվածքների նախարարություն | E59: =E61+E67+E71 -> 2562681.6 | F59: =F61+F67+F71 -> 3206039.9
D60: այդ թվում՝ ըստ ուղղությունների
C61: 1 | D61: Միջպետական նշանակության ավտոճանապարհներ, այդ թվում | E61: =SUM(E62:E66) -> 1840240.8 | F61: =SUM(F62:F66) -> 1931481.5
D62: ='4'!D56 -> Մ-1, Մոտեցում Գյումրու օդանավակայանին կմ0+040- կմ2+000 (աջ և ձախ գոտիներ) հատվածի միջին նորոգում | E62: 276000 | F62: 276000
D63: ='4'!D57 -> Մ-1, Երևան -Գյումրի - ՀՀ սահման (Բավրա) միջպետական նշանակության ավտոճանապարհի կմ171+700 - կմ172+980 հատվածի միջին նորոգում | E63: 39950 | F63: 79900
D64: ='4'!D58 -> Մ-4, Երևան-Սևան-Իջևան-ՀՀ սահման (աջ գոտի) միջպետական նշանակության ավտոճանապարհի կմ36+000-կմ51+200 հատվածի միջին նորոգում | E64: 792000 | F64: 792000
D65: ='4'!D59 -> Մ-4, Երևան-Սևան-Իջևան-ՀՀ սահման (աջ գոտի) միջպետական նշանակության ավտոճանապարհի կմ51+200-կմ64+174 հատվածի միջին նորոգում | E65: 681000 | F65: 681000
D66: ='4'!D60 -> Մ-4, Երևան- Սևան - Իջևան - ՀՀ սահման միջպետական նշանակության ավտոճանապարհի կմ80+702-կմ83+145 հատվածի միջին նորոգում և կմ83+145 - կմ84+372 հատվածի գծանշում | E66: 51290.8 | F66: 102581.5
C67: 2 | D67: Հանրապետական նշանակության ավտոճանապարհներ, այդ թվում | E67: =SUM(E68:E70) -> 615223.2 | F67: =SUM(F68:F70) -> 1060123.2
D68: ='4'!D62 -> Հ-7,/Մ-4/ -Շորժա-Վարդենիս-/Մ-10/ հանրապետական նշանակության ավտոճանապարհի կմ78+100-կմ97+032 հատվածի միջին նորոգում | E68: 444900 | F68: 889800
D69: ='4'!D63 -> Հ-58, /Մ-4/ Ոսկեպար-Նոյեմբերյան -/Մ-6/ հանրապետական նշանակության ավտոճանապարհի կմ24+810-կմ29+000 հատվածի միջին նորոգում | E69: 107407.4 | F69: 107407.4
D70: ='4'!D64 -> Հ-75, /Հ-62/ -Իսահակյան -/Մ-7/(Գյումրի) կմ60+ 200 - կմ67 + 330 և կմ70+ 800 - կմ73 + 593 հատվածների միջին նորոգում | E70: 62915.8 | F70: 62915.8
C71: 3 | D71: Մարզային նշանակության ավտոճանապարհներ, այդ թվում | E71: =SUM(E72:E72) -> 107217.6 | F71: =SUM(F72:F72) -> 214435.2
D72: ='4'!D66 -> Տ-3-48 /Մ-5/ (Սարդարապատ) - Այգեվան - Լենուղի - /Մ-5/ մարզային (տեղական) նշանակության ավտոճանապարհի կմ0+000-կմ6+200 հատվածի միջին նորոգում | E72: 107217.6 | F72: 214435.2
B73: 1049 | C73: 21023 | D73: ='5'!G111 -> ՀՀ ընդհանուր օգտագործման ավտամոբիլային ճանապարհների վթարավտանգ հատվածների վերացում | E73: =E75 -> -206700 | F73: =F75 -> 0
D74: այդ թվում` ըստ կատարողների
D75: ՀՀ տարածքային կառավարման և ենթակառուցվածքների նախարարություն | E75: ='5'!H111 -> -206700 | F75: 0
D78: ՀԱՅԱՍՏԱՆԻ ՀԱՆՐԱՊԵՏՈՒԹՅԱՆ ՎԱՐՉԱՊԵՏԻ ԱՇԽԱՏԱԿԱԶՄԻ ՂԵԿԱՎԱՐ՝ | F78: Ա.ՀԱՐՈՒԹՅՈՒՆՅԱՆ

Sheet 7
E1: Հավելված N 7
B2: ՀՀ կառավարության 2025 թվականի
B3: ______________ ի ___Ն որոշման
A5: «ՀԱՅԱՍՏԱՆԻ ՀԱՆՐԱՊԵՏՈՒԹՅԱՆ 2025 ԹՎԱԿԱՆԻ ՊԵՏԱԿԱՆ ԲՅՈՒՋԵԻ ՄԱՍԻՆ» ՕՐԵՆՔԻ N 1 ՀԱՎԵԼՎԱԾԻ N 6 ԱՂՅՈՒՍԱԿՈՒՄ ԵՎ ՀԱՅԱՍՏԱՆԻ ՀԱՆՐԱՊԵՏՈՒԹՅԱՆ ԿԱՌԱՎԱՐՈՒԹՅԱՆ 2024 ԹՎԱԿԱՆԻ ԴԵԿՏԵՄԲԵՐԻ 27-Ի N 2060-Ն ՈՐՈՇՄԱՆ N 5 ՀԱՎԵԼՎԱԾԻ N 5 ԱՂՅՈՒՍԱԿՈՒՄ ԿԱՏԱՐՎՈՂ ՓՈՓՈԽՈՒԹՅՈՒՆԸ
E7: հազար դրամ
A8: Ծրագրային դասիչը | C8: Բյուջետային ծրագրերի, միջոցառումների և աշխատանքների անվանումները | D8: Ցուցանիշների փոփոխությունը ( նվազեցումները` նշված են փակագծերում)
A9: Ծրագիր | B9: Միջոցառում | D9: Ինն ամիս | E9: Տարի
A10: 1049 | C10: Ճանապարհային ցանցի բարելավում
B11: 11001 | C11: Միջպետական և հանրապետական նշանակության ավտոճանապարհների պահպանման և անվտանգ երթևեկության ծառայություններ¸ այդ թվում՝ | D11: =D12 -> -768431.2 | E11: =E12 -> -968944.8
C12: 1. Ավտոճանապարհների ձմեռային և ընթացիկ պահպանում, այդ թվում` | D12: =D13 -> -768431.2 | E12: =E13 -> -968944.8
C13: 1.1 Միջպետական և հանրապետական նշանակության ավտոճանապարհների ձմեռային և ընթացիկ պահպանում | D13: -768431.2 | E13: -968944.8
A16: ՀԱՅԱՍՏԱՆԻ ՀԱՆՐԱՊԵՏՈՒԹՅԱՆ
A17: ՎԱՐՉԱՊԵՏԻ ԱՇԽԱՏԱԿԱԶՄԻ
B18: ՂԵԿԱՎԱՐ ՝ Ա. ՀԱՐՈՒԹՅՈՒՆՅԱՆ

Sheet 8
F1: Հավելված N 8
F2: ՀՀ կառավարության 2025 թվականի
F3: ______________ ի ___Ն որոշման
B5: «ՀԱՅԱՍՏԱՆԻ ՀԱՆՐԱՊԵՏՈՒԹՅԱՆ 2025 ԹՎԱԿԱՆԻ ՊԵՏԱԿԱՆ ԲՅՈՒՋԵԻ ՄԱՍԻՆ» ՕՐԵՆՔԻ N 1 ՀԱՎԵԼՎԱԾԻ N 7 ԱՂՅՈՒՍԱԿՈՒՄ ԵՎ ՀԱՅԱՍՏԱՆԻ ՀԱՆՐԱՊԵՏՈՒԹՅԱՆ ԿԱՌԱՎԱՐՈՒԹՅԱՆ 2024 ԹՎԱԿԱՆԻ ԴԵԿՏԵՄԲԵՐԻ 27-Ի N 2060-Ն ՈՐՈՇՄԱՆ N 5 ՀԱՎԵԼՎԱԾԻ N 6 ԱՂՅՈՒՍԱԿՈՒՄ ԿԱՏԱՐՎՈՂ ՓՈՓՈԽՈՒԹՅՈՒՆԸ
F6: հազար դրամներով
B7: Ծրագրային դասիչը | D7: Հատկացումների տրամադրման նպատակները և բյուջետային գլխավոր կարգադրիչների, ծրագրերի, միջոցառումների և կատարող պետական մարմնի անվանումները | E7: Ցուցանիշների փոփոխությունը (նվազեցումները նշված են փակագծերում)
B8: Ծրագիր | C8: Միջոցառում | E8: Ինն ամիս | F8: Տարի
B9: ԸՆԴԱՄԵՆԸ | E9: =E11 -> -571538.7 | F9: =F11 -> 0
B10: այդ թվում
D11: Կապիտալ սուբվենցիաներ համայնքներին | E11: =E13 -> -571538.7 | F11: =F13 -> 0
D12: այդ թվում`
D13: ՀՀ տարածքային կառավարման և ենթակառուցվածքների նախարարություն | E13: =E15 -> -571538.7 | F13: =F15 -> 0
D14: այդ թվում`
B15: 1212 | D15: Տարածքային զարգացում | E15: =E17 -> -571538.7 | F15: =F17 -> 0
D16: այդ թվում`
C17: 12026 | D17: Ազդակիր բնակավայրերի և համայնքների բյուջեներին հատկացվող համայնքային մասհանումներ | E17: =E19 -> -571538.7 | F17: =F19 -> 0
D18: այդ թվում` ըստ կատարողների
D19: ՀՀ կառավարություն | E19: ='5'!H25 -> -571538.7 | F19: ='5'!I25 -> 0
D22: ՀԱՅԱՍՏԱՆԻ ՀԱՆՐԱՊԵՏՈՒԹՅԱՆ ՎԱՐՉԱՊԵՏԻ ԱՇԽԱՏԱԿԱԶՄԻ ՂԵԿԱՎԱՐ՝ | F22: Ա.ՀԱՐՈՒԹՅՈՒՆՅԱՆ

Sheet 9
K1: Հավելված N 9
L2: ՀՀ կառավարության 2025 թվականի
L3: ______________ ի ___Ն որոշման
B5: ՀԱՅԱՍՏԱՆԻ ՀԱՆՐԱՊԵՏՈՒԹՅԱՆ ԿԱՌԱՎԱՐՈՒԹՅԱՆ 2024 ԹՎԱԿԱՆԻ ԴԵԿՏԵՄԲԵՐԻ 27-Ի № 2060-Ն ՈՐՈՇՄԱՆ № 9 ՀԱՎԵԼՎԱԾԻ ԱՂՅՈՒՍԱԿՆԵՐՈՒՄ ԿԱՏԱՐՎՈՂ ՓՈՓՈԽՈՒԹՅՈՒՆԸ ԵՎ ԼՐԱՑՈՒՄՆԵՐԸ
B8: ԲԳԿ | C8: Ծրագիր | E8: Միջոցառում | I8: Իրականացնողը/ ակտիվն օգտագործողը/ շահառուի ընտրության չափորոշիչը | J8: Արդյունքային չափորոշիչը | K8: Ցուցանիշների փոփոխությունը (ավելացումները նշված են դրական նշանով
C9: Դասիչը | D9: Անվանումը | E9: Դասիչը | F9: Անվանումը | G9: Նկարագրությունը | H9: Տեսակը | K9: Ինն ամիս | L9: Տարի
B10: ԸՆԴԱՄԵՆԸ | K10: =K11 -> 1790710.7 | L10: =L11 -> 1790710.7
B11: ՀՀ տարածքային կառավարման և ենթակառուցվածքների նախարարություն | K11: =K12+K41 -> 1790710.7 | L11: =L12+L41 -> 1790710.7
C12: 1049 | D12: Ճանապարհային ցանցի բարելավում | K12: =K13+K20+K24+K32+K37 -> 2362249.4 | L12: =L13+L20+L24+L32+L37 -> 1790710.7
E13: 1049 - 11001 | F13: Միջպետական և հանրապետական նշանակության ավտոճանապարհների պահպանման և անվտանգ երթևեկության ծառայություններ | K13: ='3'!H13 -> -768431.2 | L13: ='3'!I13 -> -968944.8
G14: Հողային պաստառի, երթևեկելի մասի, արհեստական կառույցների և կահավորման տարրերի նորմատիվ մակարդակում պահպանում և շահագործում
H15: Ծառայությունների մատուցում
I16: Ծառայությունը մատուցողի անվանումը` ՀՀ տարածքային կառավարման և ենթակառուցվածքների նախարարություն, մրցութային կարգով ընտրված կազմակերպություններ
J17: Ամառային պահպանման ենթակա ավտոճանապարհների ընդհանուր երկարությունը (ոչ կուտակային ցուցանիշ), կիլոմետր | L17: -78.96
J18: Ձմեռային պահպանման ենթակա ավտոճանապարհների ընդհանուր երկարությունը (ոչ կուտակային ցուցանիշ), կիլոմետր | L18: -127.34
J19: Մետաղական արգելափակոցների պահպանման և վնասված հատվածների վերականգնման ընդհանուր երկարությունը (ոչ կուտակային ցուցանիշ), կիլոմետր, | L19: -180.3
E20: 1049 - 11003 | F20: Հայաստանի Հանրապետությունում հսկիչ սարքերի (թվային տախոգրաֆի) համակարգի կարգավորում | K20: ='3'!H14 -> -47665.1 | L20: ='3'!I14 -> 0
G21: Հայաստանի Հանրապետությունում հսկիչ սարքերի (թվային տախոգրաֆի) համակարգի անընդհատ և անխափան աշխատանքի ապահովման նպատակով տախոնետ կապի ապահովում
H22: Ծառայությունների մատուցում
I23: Ծառայությունը մատուցողի անվանումը` Մրցութային ընտրակարգով հաղթող ճանաչված ընկերություն
E24: 1049 - 21001 | F24: Պետական նշանակության ավտոճանապարհների հիմնանորոգում | K24: ='3'!H15 -> 1202364.1 | L24: ='3'!I15 -> 2320336.6
G25: Միջպետական, հանրապետական և մարզային նշանակության ավտոճոնապարհների քայքայված ծածկի վերանորոգում, մաշված ծածկի փոխարինում
H26: Հանրության կողմից անմիջականորեն օգտագործվող ակտիվների հետ կապված միջոցառումներ
I27: Միջոցառումն իրականացնողի անվանումը` Մասնագիտացված միավոր
J28: Պետական նշանակության ավտոճանապարհներ, կիլոմետր | L28: 6.4
J29: Միջպետական նշանակության ավտոճանապարհներ, կիլոմետր | L29: 0.9
J30: Հանրապետական նշանակության ավտոճանապարհներ, կիլոմետր | L30: 11.5
J31: Մարզային նշանակության ավտոճանապարհներ, կիլոմետր | L31: 42
E32: 1049 - 21020 | F32: Պետական նշանակության ավտոճանապարհների միջին նորոգում | K32: ='3'!H16 -> 2182681.6 | L32: ='3'!I16 -> 439318.9
G33: Միջպետական, հանրապետական և մարզային նշանակության ավտոճանապարհների պատվածքի մաշված վերին շերտի վերականգնում և շինարարական նորմերով նախատեսված սկզբնական որակական ցուցանիշների ապահովում
H34: Հանրության կողմից անմիջականորեն օգտագործվող ակտիվների հետ կապված միջոցառումներ
I35: Միջոցառումն իրականացնողի անվանումը` ՀՀ տարածքային կառավարման և ենթակառուցվածքների նախարարություն, մրցութային կարգով ընտրված կազմակերպություններ
J36: Միջին նորոգման ենթակա ճանապարհների երկարությունը, կիլոմետր | L36: ='10'!L62+'10'!L40 -> 9.2
E37: 1049 - 21023 | F37: ՀՀ ընդհանուր օգտագործման ավտամոբիլային ճանապարհների վթարավտանգ հատվածների վերացում | K37: ='3'!H17 -> -206700 | L37: ='3'!I17 -> 0
G38: ՀՀ ընդհանուր օգտագործման ավտամոբիլային ճանապարհների վթարավտանգ հատվածների վերացում
H39: Հանրության կողմից անմիջականորեն օգտագործվող ակտիվների հետ կապված միջոցառումներ
I40: Միջոցառումն իրականացնողի անվանումը` Մասնագիտացված միավոր
C41: 1212 | D41: Տարածքային զարգացում | K41: =K42 -> -571538.7 | L41: =L42 -> 0
E42: 1212-12026 | F42: Ազդակիր բնակավայրերի և համայնքների բյուջեներին հատկացվող համայնքային մասհանումներ | K42: ='3'!H19 -> -571538.7 | L42: ='3'!I19 -> 0
G43: Օրենսդրությամբ նախատեսված՛ հաշվետու տարում ռոյալթի վճարողի կողմից օրենքով սահմանված չափով և կարգով պետական բյուջե վճարված ռոյալթիի չափի երկու տոկոսից փոխհատուցումներ տեղական ինքնակառավարման մարմիններին
H44: Տրանսֆերտների տրամադրում
I45: Շահառուների ընտրության չափորոշիչները` ՀՀ բյուջետային համակարգի մասին օրենք
D48: ՀԱՅԱՍՏԱՆԻ ՀԱՆՐԱՊԵՏՈՒԹՅԱՆ
D49: ՎԱՐՉԱՊԵՏԻ ԱՇԽԱՏԱԿԱԶՄԻ
E50: ՂԵԿԱՎԱՐ ՝ Ա. ՀԱՐՈՒԹՅՈՒՆՅԱՆ

Sheet 10
K1: Հավելված N 10
L2: ՀՀ կառավարության 2025 թվականի
L3: ______________ ի ___Ն որոշման
B5: ՀԱՅԱՍՏԱՆԻ ՀԱՆՐԱՊԵՏՈՒԹՅԱՆ ԿԱՌԱՎԱՐՈՒԹՅԱՆ 2024 ԹՎԱԿԱՆԻ ԴԵԿՏԵՄԲԵՐԻ 27-Ի № 2060-Ն ՈՐՈՇՄԱՆ № 9.1 ՀԱՎԵԼՎԱԾԻ ԱՂՅՈՒՍԱԿՆԵՐՈՒՄ ԿԱՏԱՐՎՈՂ ՓՈՓՈԽՈՒԹՅՈՒՆՆԵՐԸ ԵՎ ԼՐԱՑՈՒՄՆԵՐԸ
B7: ԲՍԿ | C7: Ծրագիր | E7: Միջոցառում | I7: Իրականացնողը/ ակտիվն օգտագործողը/ շահառուի ընտրության չափորոշիչը | J7: Արդյունքային չափորոշիչը | K7: Ցուցանիշների փոփոխությունը (ավելացումները նշված են դրական նշանով, իսկ նվազեցումները` փակագծերում)
C8: Դասիչը | D8: Անվանումը | E8: Դասիչը | F8: Անվանումը | G8: Նկարագրությունը | H8: Տեսակը | K8: Ինն ամիս | L8: Տարի
B9: ԸՆԴԱՄԵՆԸ | K9: =K10+K46 -> 1790710.7 | L9: =L10+L46 -> 1790710.7
B10: ՀՀ տարածքային կառավարման և ենթակառուցվածքների նախարարություն | K10: =K11 -> 3791402.7 | L10: =L11 -> 8614137.3
C11: 1049 | D11: Ճանապարհային ցանցի բարելավում | K11: =K12+K19+K23+K31+K36+K42 -> 3791402.7 | L11: =L12+L19+L23+L31+L36+L42 -> 8614137.3
E12: 1049 - 11001 | F12: Միջպետական և հանրապետական նշանակության ավտոճանապարհների պահպանման և անվտանգ երթևեկության ծառայություններ | K12: ='5'!H44 -> -768431.2 | L12: ='5'!I44 -> -968944.8
G13: Հողային պաստառի, երթևեկելի մասի, արհեստական կառույցների և կահավորման տարրերի նորմատիվ մակարդակում պահպանում և շահագործում
H14: Ծառայությունների մատուցում
I15: Ծառայությունը մատուցողի անվանումը` ՀՀ տարածքային կառավարման և ենթակառուցվածքների նախարարություն, մրցութային կարգով ընտրված կազմակերպություններ
J16: Ամառային պահպանման ենթակա ավտոճանապարհների ընդհանուր երկարությունը (ոչ կուտակային ցուցանիշ), կիլոմետր | L16: -78.96
J17: Ձմեռային պահպանման ենթակա ավտոճանապարհների ընդհանուր երկարությունը (ոչ կուտակային ցուցանիշ), կիլոմետր | L17: -127.34
J18: Մետաղական արգելափակոցների պահպանման և վնասված հատվածների վերականգնման ընդհանուր երկարությունը (ոչ կուտակային ցուցանիշ), կիլոմետր, | L18: -180.3
E19: 1049 - 11003 | F19: Հայաստանի Հանրապետությունում հսկիչ սարքերի (թվային տախոգրաֆի) համակարգի կարգավորում | K19: ='5'!H53 -> -47665.1 | L19: ='5'!I53 -> 0
G20: Հայաստանի Հանրապետությունում հսկիչ սարքերի (թվային տախոգրաֆի) համակարգի անընդհատ և անխափան աշխատանքի ապահովման նպատակով տախոնետ կապի ապահովում
H21: Ծառայությունների մատուցում
I22: Ծառայությունը մատուցողի անվանումը` Մրցութային ընտրակարգով հաղթող ճանաչված ընկերություն
E23: 1049 - 21001 | F23: Պետական նշանակության ավտոճանապարհների հիմնանորոգում | K23: ='5'!H69 -> 2189448.7 | L23: ='5'!I69 -> 6314973.5
G24: Միջպետական, հանրապետական և մարզային նշանակության ավտոճոնապարհների քայքայված ծածկի վերանորոգում, մաշված ծածկի փոխարինում
H25: Հանրության կողմից անմիջականորեն օգտագործվող ակտիվների հետ կապված միջոցառումներ
I26: Միջոցառումն իրականացնողի անվանումը` Մասնագիտացված միավոր
J27: Պետական նշանակության ավտոճանապարհներ, կիլոմետր | L27: =L28+L29+L30 -> 54.4
J28: Միջպետական նշանակության ավտոճանապարհներ, կիլոմետր | L28: ='9'!L29 -> 0.9
J29: Հանրապետական նշանակության ավտոճանապարհներ, կիլոմետր | L29: ='9'!L30 -> 11.5
J30: Մարզային նշանակության ավտոճանապարհներ, կիլոմետր | L30: ='9'!L31 -> 42
E31: 1049 - 21002 | F31: Տրանսպորտային օբյեկտների հիմնանորոգում | K31: ='5'!H88 -> 62068.7 | L31: ='5'!I88 -> 62068.7
G32: Ավտոմոբիլային ճանապարհների վրա գտնվող կամուրջների հիմնանորոգում
H33: Հանրության կողմից անմիջականորեն օգտագործվող ակտիվների հետ կապված միջոցառումներ
I34: Միջոցառումն իրականացնողի անվանումը` Մասնագիտացված միավոր
J35: Հիմնանորոգվող տրանսպորտային օբյեկտների թիվը, այդ թվում | L35: 1
E36: 1049 - 21020 | F36: Պետական նշանակության ավտոճանապարհների միջին նորոգում | K36: ='5'!H104 -> 2562681.6 | L36: ='5'!I104 -> 3206039.9
G37: Միջպետական, հանրապետական և մարզային նշանակության ավտոճանապարհների պատվածքի մաշված վերին շերտի վերականգնում և շինարարական նորմերով նախատեսված սկզբնական որակական ցուցանիշների ապահովում
H38: Հանրության կողմից անմիջականորեն օգտագործվող ակտիվների հետ կապված միջոցառումներ
I39: Միջոցառումն իրականացնողի անվանումը` ՀՀ տարածքային կառավարման և ենթակառուցվածքների նախարարություն, մրցութային կարգով ընտրված կազմակերպություններ
J40: Միջին նորոգման ենթակա ճանապարհների երկարությունը, կիլոմետր | L40: 60.9
J41: Աշխատանքների ավարտվածության աստիճան, % | L41: 94
E42: 1049 - 21023 | F42: ՀՀ ընդհանուր օգտագործման ավտամոբիլային ճանապարհների վթարավտանգ հատվածների վերացում | K42: ='5'!H113 -> -206700 | L42: ='5'!I113 -> 0
G43: ՀՀ ընդհանուր օգտագործման ավտամոբիլային ճանապարհների վթարավտանգ հատվածների վերացում
H44: Հանրության կողմից անմիջականորեն օգտագործվող ակտիվների հետ կապված միջոցառումներ
I45: Միջոցառումն իրականացնողի անվանումը` Մասնագիտացված միավոր
B46: ՀՀ կառավարություն | K46: =K47+K64 -> -2000692 | L46: =L47+L64 -> -6823426.6
C47: 1049 | D47: Ճանապարհային ցանցի բարելավում | K47: =K48+K53+K58 -> -1429153.3 | L47: =L48+L53+L58 -> -6823426.6
E48: 1049 - 21001 | F48: Պետական նշանակության ավտոճանապարհների հիմնանորոգում | K48: ='6'!E16 -> -987084.6 | L48: ='6'!F16 -> -3994636.9
G49: Միջպետական, հանրապետական և մարզային նշանակության ավտոճոնապարհների քայքայված ծածկի վերանորոգում, մաշված ծածկի փոխարինում
H50: Հանրության կողմից անմիջականորեն օգտագործվող ակտիվների հետ կապված միջոցառումներ
I51: Միջոցառումն իրականացնողի անվանումը` Մասնագիտացված միավոր
J52: Պետական նշանակության ավտոճանապարհներ, կիլոմետր | L52: -48
E53: 1049 - 21002 | F53: Տրանսպորտային օբյեկտների հիմնանորոգում | K53: ='6'!E52 -> -62068.7 | L53: ='6'!F52 -> -62068.7
G54: Ավտոմոբիլային ճանապարհների վրա գտնվող կամուրջների հիմնանորոգում
H55: Հանրության կողմից անմիջականորեն օգտագործվող ակտիվների հետ կապված միջոցառումներ
I56: Միջոցառումն իրականացնողի անվանումը` Մասնագիտացված միավոր
J57: Հիմնանորոգվող տրանսպորտային օբյեկտների թիվը, այդ թվում | L57: -1
E58: 1049 - 21020 | F58: Պետական նշանակության ավտոճանապարհների միջին նորոգում | K58: ='6'!E58 -> -380000 | L58: ='6'!F58 -> -2766721
G59: Միջպետական, հանրապետական և մարզային նշանակության ավտոճանապարհների պատվածքի մաշված վերին շերտի վերականգնում և շինարարական նորմերով նախատեսված սկզբնական որակական ցուցանիշների ապահովում
H60: Հանրության կողմից անմիջականորեն օգտագործվող ակտիվների հետ կապված միջոցառումներ
I61: Միջոցառումն իրականացնողի անվանումը` ՀՀ տարածքային կառավարման և ենթակառուցվածքների նախարարություն, մրցութային կարգով ընտրված կազմակերպություններ
J62: Միջին նորոգման ենթակա ճանապարհների երկարությունը, կիլոմետր | L62: -51.7
J63: Աշխատանքների ավարտվածության աստիճան, % | L63: -94
C64: 1212 | D64: Տարածքային զարգացում | K64: =K65 -> -571538.7 | L64: =L65 -> 0
E65: 1212-12026 | F65: Ազդակիր բնակավայրերի և համայնքների բյուջեներին հատկացվող համայնքային մասհանումներ | K65: ='5'!H25 -> -571538.7 | L65: ='5'!I25 -> 0
G66: Օրենսդրությամբ նախատեսված՛ հաշվետու տարում ռոյալթի վճարողի կողմից օրենքով սահմանված չափով և կարգով պետական բյուջե վճարված ռոյալթիի չափի երկու տոկոսից փոխհատուցումներ տեղական ինքնակառավարման մարմիններին
H67: Տրանսֆերտների տրամադրում
I68: Շահառուների ընտրության չափորոշիչները` ՀՀ բյուջետային համակարգի մասին օրենք
D71: ՀԱՅԱՍՏԱՆԻ ՀԱՆՐԱՊԵՏՈՒԹՅԱՆ
D72: ՎԱՐՉԱՊԵՏԻ ԱՇԽԱՏԱԿԱԶՄԻ
E73: ՂԵԿԱՎԱՐ ՝ Ա. ՀԱՐՈՒԹՅՈՒՆՅԱՆ

Sheet 11
H1: Հավելված N 11
H2: ՀՀ կառավարության 2025 թվականի
H3: ______________ ի ___Ն որոշման
B5: ՀԱՅԱՍՏԱՆԻ ՀԱՆՐԱՊԵՏՈՒԹՅԱՆ ԿԱՌԱՎԱՐՈՒԹՅԱՆ 2024 ԹՎԱԿԱՆԻ ԴԵԿՏԵՄԲԵՐԻ 27-Ի N 2060-Ն ՈՐՈՇՄԱՆ N 10 ՀԱՎԵԼՎԱԾՈՒՄ ԿԱՏԱՐՎՈՂ ՓՈՓՈԽՈՒԹՅՈՒՆՆԵՐԸ ԵՎ ԼՐԱՑՈՒՄՆԵՐԸ
B7: Կոդը | C7: Անվանումը | D7: Գնման ձևը | E7: Չափման միավորը | F7: Միավորի գինը | G7: Ցուցանիշների փոփոխությունը (ավելացումները նշված են դրական նշանով)
G8: Քանակը | H8: Գումարը (հազար դրամով)
B9: ՀՀ տարածքային կառավարման և ենթակառուցվածքների նախարարություն | H9: =+H10 -> 8498041.1
B10: Բաժին N 04 | C10: Խումբ N 05 | D10: Դաս N 01 | E10: Ճանապարհային տրանսպորտ | H10: =+H11+H22+H90+H96 -> 8498041.1
B11: 1049 11001 | C11: Միջպետական և հանրապետական նշանակության ավտոճանապարհների պահպանման և անվտանգ երթևեկության ծառայություններ | H11: =H12 -> -968944.78
C12: ՄԱՍ II. ԱՇԽԱՏԱՆՔՆԵՐ | H12: =H13+H14+H15+H16+H17+H18+H19+H20+H21 -> -968944.78
B13: 45231176/1 | C13: ճանապարհների պահպանման աշխատանքներ | D13: ԲՄ | E13: դրամ | G13: 1 | H13: -845513.6
B14: 45231176/36 | C14: ճանապարհների պահպանման աշխատանքներ | D14: ԲՄ | E14: դրամ | G14: 1 | H14: -19472.259
B15: 45231176/45 | C15: ճանապարհների պահպանման աշխատանքներ | D15: ՀԲՄ | E15: դրամ | G15: 1 | H15: -16668.985
B16: 45231176/33 | C16: ճանապարհների պահպանման աշխատանքներ | D16: ԲՄ | E16: դրամ | G16: 1 | H16: -11506.89
B17: 45231176/37 | C17: ճանապարհների պահպանման աշխատանքներ | D17: ՀԲՄ | E17: դրամ | G17: 1 | H17: -9403.369
B18: 45231176/30 | C18: ճանապարհների պահպանման աշխատանքներ | D18: ՀԲՄ | E18: դրամ | G18: 1 | H18: -22654.266
B19: 45231176/25 | C19: ճանապարհների պահպանման աշխատանքներ | D19: ՀԲՄ | E19: դրամ | G19: 1 | H19: -21615.181
B20: 45231176/48 | C20: ճանապարհների պահպանման աշխատանքներ | D20: ՀԲՄ | E20: դրամ | G20: 1 | H20: -15091.88
B21: 45231176/23 | C21: ճանապարհների պահպանման աշխատանքներ | D21: ԲՄ | E21: դրամ | G21: 1 | H21: -7018.35
B22: 1049 21001 | C22: Պետական նշանակության ավտոճանապարհների հիմնանորոգում | H22: =+H23+H48 -> 6198877.4
B23: ՄԱՍ II. ԱՇԽԱՏԱՆՔՆԵՐ | H23: =SUM(H24:H47) -> 6109659.9
B24: 45231177/1 | C24: ճանապարհների վերանորոգման աշխատանքներ | D24: ԲՄ | E24: դրամ | H24: -534317.2
B25: 45231177/2 | C25: ճանապարհների վերանորոգման աշխատանքներ | D25: ԲՄ | E25: դրամ | H25: -362050
B26: 45231177/3 | C26: ճանապարհների վերանորոգման աշխատանքներ | D26: ԲՄ | E26: դրամ | H26: -11363.8
B27: 45231177/523 | C27: ճանապարհների վերանորոգման աշխատանքներ | D27: ԲՄ | E27: դրամ | F27: 192000000 | G27: 1 | H27: =+G27*F27/1000 -> 192000
B28: 45231177/541 | C28: ճանապարհների վերանորոգման աշխատանքներ | D28: ԲՄ | E28: դրամ | F28: 402640100 | G28: 1 | H28: =+G28*F28/1000 -> 402640.1
B29: 45231177/529 | C29: ճանապարհների վերանորոգման աշխատանքներ | D29: ԲՄ | E29: դրամ | F29: 1575000000 | G29: 1 | H29: =+G29*F29/1000 -> 1575000
B30: 45231177/4 | C30: ճանապարհների վերանորոգման աշխատանքներ | D30: ԲՄ | E30: դրամ | H30: -451136.4
B31: 45231177/5 | C31: ճանապարհների վերանորոգման աշխատանքներ | D31: ԲՄ | E31: դրամ | H31: -431115.4
B32: 45231177/623 | C32: ճանապարհների վերանորոգման աշխատանքներ | D32: ԲՄ | E32: դրամ | H32: -160000
B33: 45231177/9 | C33: ճանապարհների վերանորոգման աշխատանքներ | D33: ԲՄ | E33: դրամ | H33: -714402.3
B34: 45231177/10 | C34: ճանապարհների վերանորոգման աշխատանքներ | D34: ԲՄ | E34: դրամ | H34: -712834.9
B35: 45231177/11 | C35: ճանապարհների վերանորոգման աշխատանքներ | D35: ԲՄ | E35: դրամ | H35: -94602.16
B36: 45231177/12 | C36: ճանապարհների վերանորոգման աշխատանքներ | D36: ԲՄ | E36: դրամ | H36: -159833.6
B37: 45231177/13 | C37: ճանապարհների վերանորոգման աշխատանքներ | D37: ԲՄ | E37: դրամ | H37: -239049.5
B38: 45231177/542 | C38: ճանապարհների վերանորոգման աշխատանքներ | D38: ԲՄ | E38: դրամ | F38: 398880000 | G38: 1 | H38: =+G38*F38/1000 -> 398880
B39: 45231177/543 | C39: ճանապարհների վերանորոգման աշխատանքներ | D39: ԲՄ | E39: դրամ | F39: 737700000 | G39: 1 | H39: =+G39*F39/1000 -> 737700
B40: 45231177/544 | C40: ճանապարհների վերանորոգման աշխատանքներ | D40: ԲՄ | E40: դրամ | F40: 77506480 | G40: 1 | H40: =+G40*F40/1000 -> 77506.48
B41: 45231177/525 | C41: ճանապարհների վերանորոգման աշխատանքներ | D41: ԲՄ | E41: դրամ | F41: 415080000 | G41: 1 | H41: =+G41*F41/1000 -> 415080
B42: 45231177/524 | C42: ճանապարհների վերանորոգման աշխատանքներ | D42: ԲՄ | E42: դրամ | F42: 522619100 | G42: 1 | H42: =+G42*F42/1000 -> 522619.1
B43: 45231177/538 | C43: ճանապարհների վերանորոգման աշխատանքներ | D43: ԲՄ | E43: դրամ | F43: 728640000 | G43: 1 | H43: =+G43*F43/1000 -> 728640
B44: 45231177/545 | C44: ճանապարհների վերանորոգման աշխատանքներ | D44: ԲՄ | E44: դրամ | F44: 1979869080 | G44: 1 | H44: =+G44*F44/1000 -> 1979869.1
B45: 45231177/539 | C45: ճանապարհների վերանորոգման աշխատանքներ | D45: ԲՄ | E45: դրամ | F45: 888000000 | G45: 1 | H45: =+G45*F45/1000 -> 888000
B46: 45231177/531 | C46: ճանապարհների վերանորոգման աշխատանքներ | D46: ԲՄ | E46: դրամ | F46: 1347600000 | G46: 1 | H46: =+G46*F46/1000 -> 1347600
B47: 45231162/ | C47: ճանապարհների կառուցման աշխատանքներ | D47: ԲՄ | E47: դրամ | F47: 714830380 | G47: 1 | H47: =+G47*F47/1000 -> 714830.38
B48: ՄԱՍ III. ԾԱՌԱՅՈՒԹՅՈՒՆՆԵՐ | H48: =SUM(H49:H89) -> 89217.478
B49: 71351540/1 | C49: տեխնիկական հսկողության ծառայություններ | D49: ԲՄ | E49: դրամ | H49: -9553.8
B50: 71351540/2 | C50: տեխնիկական հսկողության ծառայություններ | D50: ԲՄ | E50: դրամ | H50: -9108.6
B51: 71351540/3 | C51: տեխնիկական հսկողության ծառայություններ | D51: ԲՄ | E51: դրամ | H51: -1679.4
B52: 71351540/523 | C52: տեխնիկական հսկողության ծառայություններ | D52: ԲՄ | E52: դրամ | F52: 1495000 | G52: 1 | H52: =+G52*F52/1000 -> 1495
B53: 71351540/ | C53: տեխնիկական հսկողության ծառայություններ | D53: ՀԲՄ | E53: դրամ | F53: 1243813 | G53: 1 | H53: =+G53*F53/1000 -> 1243.813
B54: 71351540/535 | C54: տեխնիկական հսկողության ծառայություններ | D54: ԲՄ | E54: դրամ | F54: 1581392 | G54: 1 | H54: =+G54*F54/1000 -> 1581.392
B55: 71351540/529 | C55: տեխնիկական հսկողության ծառայություններ | D55: ԲՄ | E55: դրամ | F55: 8700000 | G55: 1 | H55: =+G55*F55/1000 -> 8700
B56: 71351540/4 | C56: տեխնիկական հսկողության ծառայություններ | D56: ԲՄ | E56: դրամ | H56: -11648.5
B57: 71351540/5 | C57: տեխնիկական հսկողության ծառայություններ | D57: ԲՄ | E57: դրամ | H57: -11930.1
B58: 71351540/624 | C58: տեխնիկական հսկողության ծառայություններ | D58: ԲՄ | E58: դրամ | H58: -5310.5
B59: 71351540/9 | C59: տեխնիկական հսկողության ծառայություններ | D59: ԲՄ | E59: դրամ | H59: -14013.828
B60: 71351540/10 | C60: տեխնիկական հսկողության ծառայություններ | D60: ԲՄ | E60: դրամ | H60: -13208.595
B61: 71351540/11 | C61: տեխնիկական հսկողության ծառայություններ | D61: ԲՄ | E61: դրամ | H61: -2168.04
B62: 71351540/12 | C62: տեխնիկական հսկողության ծառայություններ | D62: ԲՄ | E62: դրամ | H62: -3758
B63: 71351540/13 | C63: տեխնիկական հսկողության ծառայություններ | D63: ԲՄ | E63: դրամ | H63: -6009.7
B64: 71351540/536 | C64: տեխնիկական հսկողության ծառայություններ | D64: ԲՄ | E64: դրամ | F64: 4998000 | G64: 1 | H64: =+G64*F64/1000 -> 4998
B65: 71351540/537 | C65: տեխնիկական հսկողության ծառայություններ | D65: ԲՄ | E65: դրամ | F65: 5292000 | G65: 1 | H65: =+G65*F65/1000 -> 5292
B66: 71351540/538 | C66: տեխնիկական հսկողության ծառայություններ | D66: ԲՄ | E66: դրամ | F66: 660000 | G66: 1 | H66: =+G66*F66/1000 -> 660
B67: 71351540/525 | C67: տեխնիկական հսկողության ծառայություններ | D67: ԲՄ | E67: դրամ | F67: 3000000 | G67: 1 | H67: =+G67*F67/1000 -> 3000
B68: 71351540/524 | C68: տեխնիկական հսկողության ծառայություններ | D68: ԲՄ | E68: դրամ | F68: 2438660 | G68: 1 | H68: =+G68*F68/1000 -> 2438.66
B69: 71351540/533 | C69: տեխնիկական հսկողության ծառայություններ | D69: ՀԲՄ | E69: դրամ | F69: 2700000 | G69: 1 | H69: =+G69*F69/1000 -> 2700
B70: 71351540/540 | C70: տեխնիկական հսկողության ծառայություններ | D70: ԲՄ | E70: դրամ | F70: 8750000 | G70: 1 | H70: =+G70*F70/1000 -> 8750
B71: 71351540/534 | C71: տեխնիկական հսկողության ծառայություններ | D71: ԲՄ | E71: դրամ | F71: 3489000 | G71: 1 | H71: =+G71*F71/1000 -> 3489
B72: 71351540/531 | C72: տեխնիկական հսկողության ծառայություններ | D72: ԲՄ | E72: դրամ | F72: 8820000 | G72: 1 | H72: =+G72*F72/1000 -> 8820
B73: 71351540/ | C73: տեխնիկական հսկողության ծառայություններ | D73: ԲՄ | E73: դրամ | F73: 4940000 | G73: 1 | H73: =+G73*F73/1000 -> 4940
B74: 98111140/ | C74: հեղինակային հսկողության ծառայություններ | D74: ՄԱ | E74: դրամ | F74: 1341891 | G74: 1 | H74: =+G74*F74/1000 -> 1341.891
B75: 98111140/ | C75: հեղինակային հսկողության ծառայություններ | D75: ՄԱ | E75: դրամ | F75: 6092089 | G75: 1 | H75: =+G75*F75/1000 -> 6092.089
... B89: 71241200/ | C89: նախագծերի պատրաստում, ծախսերի գնահատում | D89: ՀԲՄ | E89: դրամ | F89: 33600000 | G89: 1 | H89: =+G89*F89/1000 -> 33600
B90: 1049 21002 | C90: Տրանսպորտային օբյեկտների հիմնանորոգում | H90: =H91+H93 -> 62068.68
B91: ՄԱՍ II ԱՇԽԱՏԱՆՔՆԵՐ | H91: =SUM(H92:H92) -> 60654.493
B92: 45451810 | C92: փլուզված հողային պաստառի շեպի և/կամ փլուզված հենապատի վերականգնման աշխատանքներ | D92: ՀՄԱ | E92: դրամ | F92: 60654493 | G92: 1 | H92: =+G92*F92/1000 -> 60654.493
B93: ՄԱՍ III. ԾԱՌԱՅՈՒԹՅՈՒՆՆԵՐ | H93: =SUM(H94:H95) -> 1414.187
B94: 71351540/ | C94: տեխնիկական հսկողության ծառայություններ | D94: ՀՄԱ | E94: դրամ | F94: 1060640 | G94: 1 | H94: =+G94*F94/1000 -> 1060.64
B95: 98111140/ | C95: հեղինակային հսկողության ծառայություններ | D95: ՄԱ | E95: դրամ | F95: 353547 | G95: 1 | H95: =+G95*F95/1000 -> 353.547
B96: 1049 21020 | C96: Պետական նշանակության ավտոճանապարհների միջին նորոգում | H96: =SUM(H98:H106) -> 3206039.8
B97: ՄԱՍ II ԱՇԽԱՏԱՆՔՆԵՐ | H97: =SUM(H98:H106) -> 3206039.8
B98: 45231177/548 | C98: ճանապարհների վերանորոգման աշխատանքներ | D98: ՀԲՄ | E98: դրամ | F98: 792000000 | G98: 1 | H98: =+G98*F98/1000 -> 792000
B99: 45231177/547 | C99: ճանապարհների վերանորոգման աշխատանքներ | D99: ՀԲՄ | E99: դրամ | F99: 681000000 | G99: 1 | H99: =+G99*F99/1000 -> 681000
B100: 45231177/551 | C100: ճանապարհների վերանորոգման աշխատանքներ | D100: ՀԲՄ | E100: դրամ | F100: 276000000 | G100: 1 | H100: =+G100*F100/1000 -> 276000
B101: 45231177/552 | C101: ճանապարհների վերանորոգման աշխատանքներ | D101: ՀԲՄ | E101: դրամ | F101: 79900000 | G101: 1 | H101: =+G101*F101/1000 -> 79900
B102: 45231177/560 | C102: ճանապարհների վերանորոգման աշխատանքներ | D102: ՀԲՄ | E102: դրամ | F102: 889800000 | G102: 1 | H102: =+G102*F102/1000 -> 889800
B103: 45231177/562 | C103: ճանապարհների վերանորոգման աշխատանքներ | D103: ՀԲՄ | E103: դրամ | F103: 214435200 | G103: 1 | H103: =+G103*F103/1000 -> 214435.2
B104: 45231177/566 | C104: ճանապարհների վերանորոգման աշխատանքներ | D104: ՀԲՄ | E104: դրամ | F104: 102581520 | G104: 1 | H104: =+G104*F104/1000 -> 102581.52
B105: 45231177/ | C105: ճանապարհների վերանորոգման աշխատանքներ | D105: ՀԲՄ | E105: դրամ | F105: 62915732 | G105: 1 | H105: =+G105*F105/1000 -> 62915.732
B106: 45231177/ | C106: ճանապարհների վերանորոգման աշխատանքներ | D106: ՀԲՄ | E106: դրամ | F106: 107407351 | G106: 1 | H106: =+G106*F106/1000 -> 107407.35
B108: ՀԱՅԱՍՏԱՆԻ ՀԱՆՐԱՊԵՏՈՒԹՅԱՆ
B109: ՎԱՐՉԱՊԵՏԻ ԱՇԽԱՏԱԿԱԶՄԻ
C110: ՂԵԿԱՎԱՐ ՝ Ա. ՀԱՐՈՒԹՅՈՒՆՅԱՆ
