Workbook

Sheet 1
H1: Հավելված № 1
H2: ՀՀ կառավարության 2025 թվականի ----------
H3: № ---------- որոշման
A6: ՀԱՅԱՍՏԱՆԻ ՀԱՆՐԱՊԵՏՈՒԹՅԱՆ 2025 ԹՎԱԿԱՆԻ ՊԵՏԱԿԱՆ ԲՅՈՒՋԵԻ ՄԱՍԻՆ ՕՐԵՆՔԻ N 1 ՀԱՎԵԼՎԱԾԻ N 3 ԱՂՅՈՒՍԱԿՈՒՄ ԿԱՏԱՐՎՈՂ ՓՈՓՈԽՈՒԹՅՈՒՆԸ ԵՎ ԼՐԱՑՈՒՄԸ
G7: հազար դրամ
A8: Ծրագրային դասիչը | C8: Բյուջետային գլխավոր կարգադրիչների, ծրագրերի և միջոցառումների և ուղղությունների անվանումները | D8: Ընդամենը | E8: Ցուցանիշների փոփոխությունը (ավելացումները նշված են դրական նշանով, իսկ նվազեցումները՝ փակագծերում)
E9: այդ թվում
A10: Ծրագիր | B10: Միջոցառում | E10: Կառուցման աշխատանքներ | F10: Վերակառուցման, վերանորոգման և վերականգնման աշխատանքներ | G10: Նախագծահե- տազոտական, գեոդեզիա- քարտեզագրա- կան աշխա- տանքներ | H10: Ոչ ֆինանսական այլ ակտիվների ձեռքբերում
C11: Ընդամենը | D11: =+D13 -> 0 | E11: =+E13 -> -42930 | F11: =+F13 -> 0 | G11: =+G13 -> 42930 | H11: =+H13 -> 0
C12: այդ թվում`
C13: ՀՀ քաղաքաշինության կոմիտե | D13: =SUM(E13:H13) -> 0 | E13: =+E15 -> -42930 | F13: =+F15 -> 0 | G13: =+G15 -> 42930 | H13: =+H15 -> 0
C14: այդ թվում`
A15: 1103 | B15: 21001 | C15: Քաղաքաշինության բնագավառում պետական ծրագրերի իրականացման ապահովում | D15: =+E15+F15+G15+H15 -> 0 | E15: =+E17+E18 -> -42930 | F15: =+F17+F18 -> 0 | G15: =+G17+G18 -> 42930 | H15: =+H17+H18 -> 0
C16: այդ թվում՝
C17: ՀՀ Լոռու մարզի Ստեփանավան համայնքի Աշոտաբերդ թաղամասի կառուցապատման աշխատանքներ | D17: =+E17+F17+G17+H17 -> -42930 | E17: =+(-42930) -> -42930
C18: ««Սևան» ազգային պարկի» Լճաշեն-Սևանի թերակղզի հատվածի գոտևորման նախագծի և քաղաքաշինական կանոնադրության և «Հարսնաքար» հագստի գոտուց մինչև Սևանի թերակղզի հատվածի՝ 2․8 կմ երկարությամբ և 6․5 մ լայնությամբ 1902․0-1902․5 նիշով ճեմուղու նախագծի մշակման նախագծային աշխատանքներ | D18: =+E18+F18+G18+H18 -> 42930 | G18: =21875+7700+7500+5000+500+1000-645 -> 42930

Sheet 2
E1: Հավելված № 2
C2: ՀՀ կառավարության 2025 թվականի
C3: ______________ ի ___Ն որոշման
A5: ՀԱՅԱՍՏԱՆԻ ՀԱՆՐԱՊԵՏՈՒԹՅԱՆ ԿԱՌԱՎԱՐՈՒԹՅԱՆ 2024 ԹՎԱԿԱՆԻ ԴԵԿՏԵՄԲԵՐԻ 27-Ի N 2060-Ն ՈՐՈՇՄԱՆ N5 ՀԱՎԵԼՎԱԾԻ N2 ԱՂՅՈՒՍԱԿՈՒՄ ԿԱՏԱՐՎՈՂ ՓՈՓՈԽՈՒԹՅՈՒՆԸ ԵՎ ԼՐԱՑՈՒՄԸ
E7: հազար դրամ
A8: Ծրագրային դասիչ | C8: Բյուջետային գլխավոր կարգադրիչների, ծրագրերի, միջոցառումների, միջոցառումները կատարող պետական մարմինների և ուղղությունների անվանումները | D8: Ցուցանիշների փոփոխությունը (ավելացումները նշված են դրական նշանով,իսկ նվազեցումները՝ փակագծերում)
A9: Ծրագիր | B9: Միջոցառում | D9: Ինն ամիս | E9: Տարի
C10: ԸՆԴԱՄԵՆԸ | D10: =+D11 -> 0 | E10: =+E11 -> 0
C11: ՀՀ ՔԱՂԱՔԱՇԻՆՈՒԹՅԱՆ ԿՈՄԻՏԵ | D11: =+D13 -> 0 | E11: =+E13 -> 0
C12: այդ թվում`
A13: 1103 | B13: 21001 | C13: Քաղաքաշինության բնագավառում պետական ծրագրերի իրականացման ապահովում | D13: =+D15 -> 0 | E13: =+E15 -> 0
C14: այդ թվում` ըստ կատարողների
C15: ՀՀ քաղաքաշինության կոմիտե | D15: =+D17+D18 -> 0 | E15: =+E17+E18 -> 0
C16: այդ թվում՝ ըստ ուղղությունների
C17: ՀՀ Լոռու մարզի Ստեփանավան համայնքի Աշոտաբերդ թաղամասի կառուցապատման աշխատանքներ | D17: =+'1'!E17 -> -42930 | E17: =+'1'!E17 -> -42930
C18: ««Սևան» ազգային պարկի» Լճաշեն-Սևանի թերակղզի հատվածի գոտևորման նախագծի և քաղաքաշինական կանոնադրության և «Հարսնաքար» հագստի գոտուց մինչև Սևանի թերակղզի հատվածի՝ 2․8 կմ երկարությամբ և 6․5 մ լայնությամբ 1902․0-1902․5 նիշով ճեմուղու նախագծի մշակման նախագծային աշխատանքներ | D18: =+'1'!G18 -> 42930 | E18: =+'1'!G18 -> 42930

Sheet 3
G1: Հավելված N3
G2: ՀՀ կառավարության 2025 թվականի
G3: ___________ ___-ի N _______ որոշման
A6: ՀԱՅԱՍՏԱՆԻ ՀԱՆՐԱՊԵՏՈՒԹՅԱՆ ԿԱՌԱՎԱՐՈՒԹՅԱՆ 2024 ԹՎԱԿԱՆԻ ԴԵԿՏԵՄԲԵՐԻ 27-Ի N 2060-Ն ՈՐՈՇՄԱՆ N 3 և N 4 ՀԱՎԵԼՎԱԾՆԵՐՈՒՄ ԿԱՏԱՐՎՈՂ ՓՈՓՈԽՈՒԹՅՈՒՆԸ ԵՎ ԼՐԱՑՈՒՄԸ
G8: հազար դրամ
A9: Գործառական դասիչը | D9: Ծրագրային դասիչը | F9: Բյուջետային ծախսերի գործառական դասակարգման բաժինների, խմբերի և դասերի, բյուջետային ծրագրերի, միջոցառումների բյուջետային հատկացումների գլխավոր կարգադրիչների անվանումները | G9: Ցուցանիշների փոփոխությունը (ավելացումները նշված են դրական նշանով, իսկ նվազեցումները՝ փակագծերում)
A10: Բաժին | B10: Խումբ | C10: Դաս | D10: Ծրագիր | E10: Միջոցառում | G10: Ինն ամիս | H10: Տարի
F11: ԸՆԴԱՄԵՆԸ | G11: =+G13 -> 0 | H11: =+H13 -> 0
F12: այդ թվում`
A13: 06 | F13: ԲՆԱԿԱՐԱՆԱՅԻՆ ՇԻՆԱՐԱՐՈՒԹՅՈՒՆ ԵՎ ԿՈՄՈՒՆԱԼ ԾԱՌԱՅՈՒԹՅՈՒՆՆԵՐ | G13: =+G15 -> 0 | H13: =+H15 -> 0
F14: այդ թվում`
B15: 01 | F15: Բնակարանային շինարարություն | G15: =+G17 -> 0 | H15: =+H17 -> 0
F16: այդ թվում`
C17: 01 | F17: Բնակարանային շինարարություն | G17: =+G21 -> 0 | H17: =+H21 -> 0
F18: այդ թվում`
F19: ՀՀ քաղաքաշինության կոմիտե | G19: =+G23 -> 0 | H19: =+H23 -> 0
F20: այդ թվում`
D21: 1103 | F21: Քաղաքաշինության և ճարտարապետության բնագավառում պետական քաղաքականության իրականացում և կանոնակարգում | G21: =+G23 -> 0 | H21: =+H23 -> 0
F22: այդ թվում`
E23: 21001 | F23: Քաղաքաշինության բնագավառում պետական ծրագրերի իրականացման ապահովում | G23: =+G25 -> 0 | H23: =+H25 -> 0
F24: այդ թվում` ըստ կատարողների
F25: ՀՀ քաղաքաշինության կոմիտե | G25: =+G27 -> 0 | H25: =+H27 -> 0
F26: այդ թվում` բյուջետային ծախսերի տնտեսագիտական դասակարգման հոդվածներ
F27: ԸՆԴԱՄԵՆԸ ԾԱԽՍԵՐ | G27: =+G28 -> 0 | H27: =+H28 -> 0
F28: ՈՉ ՖԻՆԱՆՍԱԿԱՆ ԱԿՏԻՎՆԵՐԻ ԳԾՈՎ ԾԱԽՍԵՐ | G28: =+G29 -> 0 | H28: =+H29 -> 0
F29: ՀԻՄՆԱԿԱՆ ՄԻՋՈՑՆԵՐ | G29: =+G30+G32 -> 0 | H29: =+H30+H32 -> 0
F30: ՇԵՆՔԵՐ ԵՎ ՇԻՆՈՒԹՅՈՒՆՆԵՐ | G30: =+G31 -> -42930 | H30: =+H31 -> -42930
F31: - Շենքերի և շինությունների շինարարություն | G31: =+'2'!D17 -> -42930 | H31: =+'2'!E17 -> -42930
F32: ԱՅԼ ՀԻՄՆԱԿԱՆ ՄԻՋՈՑՆԵՐ | G32: =+G33 -> 42930 | H32: =+H33 -> 42930
F33: - Նախագծահետազոտական ծախսեր | G33: =+'2'!D18 -> 42930 | H33: =+'2'!E18 -> 42930

Sheet 4
K1: Հավելված N 4
K2: ՀՀ կառավարության 2025թվականի
K3: ___________ ___-ի N _______ որոշման
A8: ՀԱՅԱՍՏԱՆԻ ՀԱՆՐԱՊԵՏՈՒԹՅԱՆ ԿԱՌԱՎԱՐՈՒԹՅԱՆ 2024 ԹՎԱԿԱՆԻ ԴԵԿՏԵՄԲԵՐԻ 27-Ի ԹԻՎ 2060-Ն ՈՐՈՇՄԱՆ N 9 ՀԱՎԵԼՎԱԾՈՒՄ ԿԱՏԱՐՎՈՂ ՓՈՓՈԽՈՒԹՅՈՒՆԸ ԵՎ ԼՐԱՑՈՒՄԸ
K11: հազար դրամներով
A12: ԲԳԿ | B12: Ծրագիր | D12: Միջոցառում | H12: Իրականացնողը/ ակտիվն օգտագործողը/ շահառուի ընտրության չափորոշիչը | I12: Արդյունքային չափորոշիչը | J12: Ցուցանիշների փոփոխությունը(ավելացումները նշված են դրական նշանով,իսկ նվազեցումները՝ փակագծերում)
B13: Դասիչը | C13: Անվա-նումը | D13: Դասիչը | E13: Անվա-նումը | F13: Նկարագրու-թյունը | G13: Տեսակը | J13: Ինն ամիս | K13: Տարի
A14: ԸՆԴԱՄԵՆԸ | J14: =+J15 -> 0 | K14: =+K15 -> 0
A15: =+'1'!C13 -> ՀՀ քաղաքաշինության կոմիտե | J15: =+J16 -> 0 | K15: =+K16 -> 0
B16: 1103 | C16: Քաղաքաշինության և ճարտարապետության բնագավառում պետական քաղաքականության իրականացում և կանոնակարգում | J16: =+J17 -> 0 | K16: =+K17 -> 0
D17: 1103 - 21001 | E17: Քաղաքաշինության բնագավառում պետական ծրագրերի իրականացման ապահովում | J17: =+'2'!D13 -> 0 | K17: =+'2'!E13 -> 0
F18: Նախագծանախահաշվային փաստաթղթերի, ինչպես նաեւ հիմնանորոգման, վերակառուցման, կառուցման աշխատանքների ձեռքբերում
G19: Հանրության կողմից անմիջականորեն օգտագործվող ակտիվների հետ կապված միջոցառումներ
H20: Միջոցառումն իրականացնողի անվանումը` ՀՀ քաղաքաշինության կոմիտե
I21: Նախագծի քանակ, հատ | K21: 1

Sheet 5
K1: Հավելված N 5
K2: ՀՀ կառավարության 2025թվականի
K3: ___________ ___-ի N _______ որոշման
A6: ՀԱՅԱՍՏԱՆԻ ՀԱՆՐԱՊԵՏՈՒԹՅԱՆ ԿԱՌԱՎԱՐՈՒԹՅԱՆ 2024 ԹՎԱԿԱՆԻ ԴԵԿՏԵՄԲԵՐԻ 27-Ի ԹԻՎ 2060-Ն ՈՐՈՇՄԱՆ N 9.1 ՀԱՎԵԼՎԱԾՈՒՄ ԿԱՏԱՐՎՈՂ ՓՈՓՈԽՈՒԹՅՈՒՆԸ ԵՎ ԼՐԱՑՈՒՄԸ
K10: հազար դրամներով
A11: ԲՍԿ | B11: Ծրագիր | D11: Միջոցառում | H11: Իրականացնողը/ ակտիվն օգտագործողը/ շահառուի ընտրության չափորոշիչը | I11: Արդյունքային չափորոշիչը | J11: Ցուցանիշների փոփոխությունը(ավելացումները նշված են դրական նշանով,իսկ նվազեցումները՝ փակագծերում)
B12: Դասիչը | C12: Անվանումը | D12: Դասիչը | E12: Անվանումը | F12: Նկարագրությունը | G12: Տեսակը | J12: Ինն ամիս | K12: Տարի
A13: ԸՆԴԱՄԵՆԸ | J13: =+J14 -> 0 | K13: =+K14 -> 0
A14: ՀՀ քաղաքաշինության կոմիտե | J14: =+J15 -> 0 | K14: =+K15 -> 0
B15: 1103 | C15: Քաղաքաշինության և ճարտարապետության բնագավառում պետական քաղաքականության իրականացում և կանոնակարգում | J15: =+J16 -> 0 | K15: =+K16 -> 0
D16: 1103 - 21001 | E16: Քաղաքաշինության բնագավառում պետական ծրագրերի իրականացման ապահովում | J16: =+'4'!J17 -> 0 | K16: =+'4'!K17 -> 0
F17: Նախագծանախահաշվային փաստաթղթերի, ինչպես նաեւ հիմնանորոգման, վերակառուցման, կառուցման աշխատանքների ձեռքբերում
G18: Հանրության կողմից անմիջականորեն օգտագործվող ակտիվների հետ կապված միջոցառումներ
H19: Միջոցառումն իրականացնողի անվանումը` ՀՀ քաղաքաշինության կոմիտե
I20: Նախագծի քանակ, հատ | K20: 1

Sheet 6
E1: Հավելված № 6
E2: ՀՀ կառավարության
E3: 2025 թվականի __________ N -Ն որոշման
A5: ՀԱՅԱՍՏԱՆԻ ՀԱՆՐԱՊԵՏՈՒԹՅԱՆ ԿԱՌԱՎԱՐՈՒԹՅԱՆ 2024 ԹՎԱԿԱՆԻ ԴԵԿՏԵՄԲԵՐԻ 27-Ի N 2060-Ն ՈՐՈՇՄԱՆ N 10 ՀԱՎԵԼՎԱԾԻ ՑՈՒՑԱՆԻՇՆԵՐՈՒՄ ԿԱՏԱՐՎՈՂ ԼՐԱՑՈՒՄԸ
A7: Կոդը | B7: Անվանումը | C7: Գնման ձևը | D7: Չափի միավորը | E7: միավորի գինը | F7: Ցուցանիշների փոփոխությունը (ավելացումները նշված են դրական նշանով)
F8: քանակը | G8: գումարը (հազար դրամով)
A9: 1 | B9: 2 | C9: 3 | D9: 4 | E9: 5 | F9: 6 | G9: 7
A10: ՀՀ քաղաքաշինության կոմիտե | G10: =+G11 -> 0
A11: Բաժին N 06 | B11: Խումբ N 01 | C11: Դաս N 01 | D11: Բնակարանային շինարարություն | G11: =+G12 -> 0
A12: 1103 21001 | B12: Քաղաքաշինության բնագավառում պետական ծրագրերի իրականացման ապահովում | G12: =+G13+G15 -> 0
B13: ՄԱՍ II. ԱՇԽԱՏԱՆՔՆԵՐ | G13: =+G14 -> -42930
A14: 45221142-1 | B14: ընդհանուր շինարարական աշխատանքներ | C14: ԲՄ | D14: դրամ | G14: =+'2'!E17 -> -42930
B15: ՄԱՍ III. ԾԱՌԱՅՈՒԹՅՈՒՆՆԵՐ | G15: =+G16+G17 -> 42930
A16: 71241200 | B16: նախագծերի պատրաստում, ծախսերի գնահատում | C16: ԳՀ | D16: դրամ | E16: =21875000+7700000+7500000+5000000+500000-645000 -> 41930000 | F16: 1 | G16: =E16*F16/1000 -> 41930
A17: 50531140 | B17: փորձաքննության ծառայություններ | C17: ՀՄԱ | D17: դրամ | E17: 1000000 | F17: 1 | G17: =+E17/1000 -> 1000
