Workbook
Name _tab10: #REF!
Name _tab10: #REF!
Name _tab10: #REF!
Name _tab10: #REF!
Name _tab10: #REF!
Name _tab10: #REF!
Name _tab10: #REF!
Name _tab11: #REF!
Name _tab11: #REF!
Name _tab11: #REF!
Name _tab11: #REF!
Name _tab12: #REF!
Name _tab12: #REF!
Name _tab12: #REF!
Name _tab12: #REF!
Name _tab13: #REF!
Name _tab13: #REF!
Name _tab13: #REF!
Name _tab13: #REF!
Name _tab14: #REF!
Name _tab14: #REF!
Name _tab14: #REF!
Name _tab14: #REF!
Name _tab15: #REF!
Name _tab15: #REF!
Name _tab15: #REF!
Name _tab15: #REF!
Name _tab16: #REF!
Name _tab16: #REF!
Name _tab16: #REF!
Name _tab16: #REF!
Name _tab17: #REF!
Name _tab17: #REF!
Name _tab17: #REF!
Name _tab17: #REF!
Name _tab18: #REF!
Name _tab18: #REF!
Name _tab18: #REF!
Name _tab18: #REF!
Name _tab19: #REF!
Name _tab19: #REF!
Name _tab19: #REF!
Name _tab19: #REF!
Name _tab20: #REF!
Name _tab20: #REF!
Name _tab20: #REF!
Name _tab20: #REF!
Name _tab21: #REF!
Name _tab21: #REF!
Name _tab21: #REF!
Name _tab21: #REF!
Name _tab22: #REF!
Name _tab22: #REF!
Name _tab22: #REF!
Name _tab22: #REF!
Name _tab22222: #REF!
Name _tab22222: #REF!
Name _tab22222: #REF!
Name _tab23: #REF!
Name _tab23: #REF!

Sheet 1
B1: Հավելված № 1
B2: ՀՀ կառավարության 2025 թվականի
B3: __________ «____» -ի
B4: N_____ -Ն որոշման
B5: «ՀԱՅԱՍՏԱՆԻ ՀԱՆՐԱՊԵՏՈՒԹՅԱՆ 2025 ԹՎԱԿԱՆԻ ՊԵՏԱԿԱՆ ԲՅՈՒՋԵԻ ՄԱՍԻՆ» ՕՐԵՆՔԻ N 2 ՀՈԴՎԱԾԻ ԱՂՅՈՒՍԱԿՈՒՄ ԿԱՏԱՐՎՈՂ ՓՈՓՈԽՈՒԹՅՈՒՆՆԵՐԸ
C6: (հազար դրամներով)
B7: 1. Եկամուտների գծով
B8: 2. Ծախսերի գծով | C8: =+C9 -> -41285.7
B9: 3. Դեֆիցիտը (պակասուրդը) | C9: -41285.7

Sheet 2
B1: Հավելված № 2
B2: ՀՀ կառավարության 2025 թվականի
B3: __________ «____» -ի
B4: N_____ -Ն որոշման
B5: «ՀԱՅԱՍՏԱՆԻ ՀԱՆՐԱՊԵՏՈՒԹՅԱՆ 2025 ԹՎԱԿԱՆԻ ՊԵՏԱԿԱՆ ԲՅՈՒՋԵԻ ՄԱՍԻՆ» ՀԱՅԱՍՏԱՆԻ ՀԱՆՐԱՊԵՏՈՒԹՅԱՆ ՕՐԵՆՔԻ 3-ՐԴ ՀՈԴՎԱԾԻ ԱՂՅՈՒՍԱԿՈՒՄ, N 3 ՀԱՎԵԼՎԱԾԻ N 1 ԱՂՅՈՒՍԱԿՈՒՄ ԵՎ ՀԱՅԱՍՏԱՆԻ ՀԱՆՐԱՊԵՏՈՒԹՅԱՆ ԿԱՌԱՎԱՐՈՒԹՅԱՆ 2024 ԹՎԱԿԱՆԻ ԴԵԿՏԵՄԲԵՐԻ 27-Ի N 2060-Ն ՈՐՈՇՄԱՆ N 1 ՀԱՎԵԼՎԱԾԻ N 1 ԱՂՅՈՒՍԱԿՈՒՄ ԿԱՏԱՐՎՈՂ ՓՈՓՈԽՈՒԹՅՈՒՆՆԵՐԸ ԵՎ ԼՐԱՑՈՒՄՆԵՐԸ
B6: (հազար դրամներով)
B7: Պետական բյուջեի դեֆիցիտի ֆինանսավորման աղբյուրներն ու դրանց տարրերի անվանումները | C7: Ցուցանիշների փոփոխությունները (նվազեցումները նշված են փակագծերում)
C8: Ինն ամիս | D8: Տարի
B9: ԸՆԴԱՄԵՆԸ | C9: =C11 -> -41285.7 | D9: =D11 -> -41285.7
B10: այդ թվում`
B11: Ա.Ներքին աղբյուրներ-ընդամենը | C11: =C13 -> -41285.7 | D11: =D13 -> -41285.7
B12: այդ թվում`
B13: 2.Ֆինանսական զուտ ակտիվներ | C13: =C16 -> -41285.7 | D13: =D16 -> -41285.7
B14: այդ թվում`
B15: 2.2 Բաժնետոմսերի և կապիտալում այլ մասնակցության ձեռքբերում | C15: =C16 -> -41285.7 | D15: =D16 -> -41285.7
B16: ՀՀ առողջապահության նախարարություն | C16: =+C18 -> -41285.7 | D16: =+D18 -> -41285.7
B17: որից`
B18: ««Յոլյան» արյունաբանության և ուռուցքաբանության կենտրոն» ՓԲԸ-ում տնտեսական երկարաժամկետ զարգացմանն ուղղված միջոցառում | C18: =+D18 -> -41285.7 | D18: =+'1'!C9 -> -41285.7
B21: ՀԱՅԱՍՏԱՆԻ ՀԱՆՐԱՊԵՏՈՒԹՅԱՆ
B22: ՎԱՐՉԱՊԵՏԻ ԱՇԽԱՏԱԿԱԶՄԻ
B23: ՂԵԿԱՎԱՐ

Sheet 3
B1: Հավելված № 3
B2: ՀՀ կառավարության 2025 թվականի
B3: __________ «____» -ի
B4: N_____ -Ն որոշման
B5: «ՀԱՅԱՍՏԱՆԻ ՀԱՆՐԱՊԵՏՈՒԹՅԱՆ 2025 ԹՎԱԿԱՆԻ ՊԵՏԱԿԱՆ ԲՅՈՒՋԵԻ ՄԱՍԻՆ» ՀԱՅԱՍՏԱՆԻ ՀԱՆՐԱՊԵՏՈՒԹՅԱՆ ՕՐԵՆՔԻ N 3 ՀԱՎԵԼՎԱԾԻ N 1.1 ԱՂՅՈՒՍԱԿՈՒՄ ԵՎ ՀԱՅԱՍՏԱՆԻ ՀԱՆՐԱՊԵՏՈՒԹՅԱՆ ԿԱՌԱՎԱՐՈՒԹՅԱՆ 2024 ԹՎԱԿԱՆԻ ԴԵԿՏԵՄԲԵՐԻ 27-Ի N 2060-Ն ՈՐՈՇՄԱՆ N 1 ՀԱՎԵԼՎԱԾԻ N 2 ԱՂՅՈՒՍԱԿՈՒՄ ԿԱՏԱՐՎՈՂ ՓՈՓՈԽՈՒԹՅՈՒՆՆԵՐԸ ԵՎ ԼՐԱՑՈՒՄՆԵՐԸ
B6: (հազար դրամներով)
B7: ԲԳԿ | C7: Ծրագրային դասիչը | E7: ԲԳԿ/Ծրագրի /միջոցառման անվանումը | F7: Ծրագրի նպատակը/Միջոցառման նկարագրույունը | G7: Վերջնական արդյունքի նկարագրությունը/Միջոցառման տեսակը | H7: Ցուցանիշների փոփոխությունները (ավելացումները նշված են դրական նշանով, իսկ նվազեցումները` փակագծերում)
C8: Ծրագիր | D8: Միջոցառում | H8: Ինն ամիս | I8: Տարի
B9: ԸՆԴԱՄԵՆԸ | H9: =+H11 -> 41285.7 | I9: =+I11 -> 41285.7
B10: ՀՀ առողջապահության նախարարություն
C11: 1126 | E11: Առողջապահության ոլորտում պետական քաղաքականության մշակում, ծրագրերի համակարգում և մոնիտորինգ | F11: Մարդու և հանրության առողջության պահպանում, բնակչության առողջության բարելավում, հիվանդությունների կանխարգելում, հաշմանդամության և մահացության ցուցանիշների նվազեցում | G11: Առողջապահության ոլորտում իրականացվող ծրագրերի ազդեցության և արդյունավետության բարելավում | H11: =+H12 -> 41285.7 | I11: =+I12 -> 41285.7
D12: 1126-44003 | E12: ««Յոլյան» արյունաբանության և ուռուցքաբանության կենտրոն» ՓԲԸ-ում տնտեսական երկարաժամկետ զարգացմանն ուղղված միջոցառում | F12: Ներդրումների խթանում | G12: Բաժնետոմսերի ձեռքբերում | H12: =+I12 -> 41285.7 | I12: =-+'1'!C9 -> 41285.7

Sheet 4
B1: Հավելված № 4
B2: ՀՀ կառավարության 2025 թվականի
B3: __________ «____» -ի
B4: N_____ -Ն որոշման
B5: ՀԱՅԱՍՏԱՆԻ ՀԱՆՐԱՊԵՏՈՒԹՅԱՆ ԿԱՌԱՎԱՐՈՒԹՅԱՆ 2024 ԹՎԱԿԱՆԻ ԴԵԿՏԵՄԲԵՐԻ 27-Ի № 2060-Ն ՈՐՈՇՄԱՆ № 1 ՀԱՎԵԼՎԱԾԻ № 5 ԱՂՅՈՒՍԱԿՈՒՄ ԿԱՏԱՐՎՈՂ ՓՈՓՈԽՈՒԹՅՈՒՆՆԵՐԸ ԵՎ ԼՐԱՑՈՒՄՆԵՐԸ
B6: (հազար դրամներով)
B7: ԲԳԿ | C7: Ծրագիր | E7: Միջոցառում | I7: Իրականացնողը/ ակտիվն օգտագործողը/ շահառուի ընտրության չափորոշիչը | J7: Արդյունքային չափորոշիչը | K7: Ցուցանիշների փոփոխությունները (ավելացումները նշված են դրական նշանով, իսկ նվազեցումները` փակագծերում)
C8: Դասիչը | D8: Անվանումը | E8: Դասիչը | F8: Անվանումը | G8: Նկարագրությունը | H8: Տեսակը | K8: Ինն ամիս | L8: Տարի
B9: ՀՀ առողջապահության նախարարություն | K9: =+K10 -> 41285.7 | L9: =+L10 -> 41285.7
C10: 1126 | D10: Առողջապահության ոլորտում պետական քաղաքականության մշակում, ծրագրերի համակարգում և մոնիտորինգ | K10: =+K11 -> 41285.7 | L10: =+L11 -> 41285.7
E11: 1126-44003 | F11: ««Յոլյան» արյունաբանության և ուռուցքաբանության կենտրոն» ՓԲԸ-ում տնտեսական երկարաժամկետ զարգացմանն ուղղված միջոցառում | K11: =+'3'!H12 -> 41285.7 | L11: =+'3'!I12 -> 41285.7
G12: Ներդրումների խթանում
H13: Բաժնետոմսերի ձեռքբերում
I14: ««Յոլյան» արյունաբանության և ուռուցքաբանության կենտրոն» ՓԲԸ
J15: Ներդրումային ֆոնդի ներդրումների քանակը (հատ) | L15: 1

Sheet 5
B1: Հավելված № 5
B2: ՀՀ կառավարության 2025 թվականի
B3: __________ «____» -ի
B4: N_____ -Ն որոշման
B6: «ՀԱՅԱՍՏԱՆԻ ՀԱՆՐԱՊԵՏՈՒԹՅԱՆ 2025 ԹՎԱԿԱՆԻ ՊԵՏԱԿԱՆ ԲՅՈՒՋԵԻ ՄԱՍԻՆ» ՀԱՅԱՍՏԱՆԻ ՀԱՆՐԱՊԵՏՈՒԹՅԱՆ ՕՐԵՆՔԻ № 1 ՀԱՎԵԼՎԱԾԻ № 3 ԱՂՅՈՒՍԱԿՈՒՄ ԿԱՏԱՐՎՈՂ ՓՈՓՈԽՈՒԹՅՈՒՆՆԵՐԸ
B7: (հազար դրամներով)
B8: Ծրագրային դասիչ | D8: Բյուջետային գլխավոր կարգադրիչների, ծրագրերի, միջոցառումների և ուղղությունների անվանումները | E8: Ցուցանիշների փոփոխությունները (ավելացումները նշված են դրական նշանով, իսկ նվազեցումները` փակագծերում)
E9: Ընդամենը | F9: այդ թվում
B10: Ծրագիր | C10: Միջոցառում | F10: Կառուցման աշխատանքներ | G10: Վերակառուցման, վերանորոգման և վերականգնման աշխատանքներ | H10: Նախագծահե- տազոտական, գեոդեզիա- քարտեզագրա- կան աշխա- տանքներ | I10: Ոչ ֆինանսական այլ ակտիվների ձեռքբերում
D11: ՀՀ ԱՌՈՂՋԱՊԱՀՈՒԹՅԱՆ ՆԱԽԱՐԱՐՈՒԹՅՈՒՆ | E11: =+E13+E14 -> -140213.4 | F11: =+F14+F13 -> 404788.8 | G11: =+G14+G13 -> -527539.5 | H11: =+H14+H13 -> -5000 | I11: =+I14+I13 -> -12462.7
D12: այդ թվում`
B13: 1126 | C13: 31002 | D13: Առողջապահական կազմակերպությունների վերազինում | E13: =+F13+G13+H13+I13 -> -12462.7 | F13: 0 | G13: 0 | H13: 0 | I13: =+'8'!F12 -> -12462.7
B14: 1126 | C14: 31003 | D14: Առողջապահական կազմակերպությունների կառուցում, վերակառուցում | E14: =+F14+G14+H14+I14 -> -127750.7 | F14: =+'7'!I53+'7'!I63 -> 404788.8 | G14: =+'7'!I54+'7'!I64 -> -527539.5 | H14: =+'7'!I56 -> -5000 | I14: 0

Sheet 6
B1: Հավելված № 6
B2: ՀՀ կառավարության 2025 թվականի
B3: __________ «____» -ի
B4: N_____ -Ն որոշման
B5: «ՀԱՅԱՍՏԱՆԻ ՀԱՆՐԱՊԵՏՈՒԹՅԱՆ 2025 ԹՎԱԿԱՆԻ ՊԵՏԱԿԱՆ ԲՅՈՒՋԵԻ ՄԱՍԻՆ» ՀԱՅԱՍՏԱՆԻ ՀԱՆՐԱՊԵՏՈՒԹՅԱՆ ՕՐԵՆՔԻ № 1 ՀԱՎԵԼՎԱԾԻ № 2 ԱՂՅՈՒՍԱԿՈՒՄ ԿԱՏԱՐՎՈՂ ՎԵՐԱԲԱՇԽՈՒՄԸ ԵՎ ՀԱՅԱՍՏԱՆԻ ՀԱՆՐԱՊԵՏՈՒԹՅԱՆ ԿԱՌԱՎԱՐՈՒԹՅԱՆ 2024 ԹՎԱԿԱՆԻ ԴԵԿՏԵՄԲԵՐԻ 27-Ի № 2060-Ն ՈՐՈՇՄԱՆ № 5 ՀԱՎԵԼՎԱԾԻ № 1 ԱՂՅՈՒՍԱԿՈՒՄ ԿԱՏԱՐՎՈՂ ՓՈՓՈԽՈՒԹՅՈՒՆՆԵՐԸ
B6: (հազար դրամներով)
B7: ԲԳԿ | C7: Ծրագրային դասիչը | E7: ԲԳԿ/Ծրագրի /միջոցառման անվանումը | F7: Ծրագրի նպատակը/Միջոցառման նկարագրությունը | G7: Վերջնական արդյունքի նկարագրությունը/Միջոցառման տեսակը | H7: Ցուցանիշների փոփոխությունները (ավելացումները նշված են դրական նշանով, իսկ նվազեցումները` փակագծերում)
C8: Ծրագիր | D8: Միջոցառում | H8: Ինն ամիս | I8: Տարի
B9: ՀՀ առողջապահության նախարարություն | H9: =+H10 -> -41285.7 | I9: =+I10 -> -41285.7
C10: 1126 | E10: Առողջապահության ոլորտում պետական քաղաքականության մշակում, ծրագրերի համակարգում և մոնիտորինգ | F10: Մարդու և հանրության առողջության պահպանում, բնակչության առողջության բարելավում, հիվանդությունների կանխարգելում, հաշմանդամության և մահացության ցուցանիշների նվազեցում | G10: Առողջապահության ոլորտում իրականացվող ծրագրերի ազդեցության և արդյունավետության բարելավում | H10: =+H11+H13+H12 -> -41285.7 | I10: =+I11+I13+I12 -> -41285.7
D11: 1126 - 12006 | E11: Առողջապահական համակարգի պետական առևտրային և ոչ առևտրային կազմակերպություններին ֆինանսական աջակցության հատկացում | F11: Առողջապահական կազմակերպությունների կառուցման,վերակառուցման և վերազինման գործընթացի բնականոնաշխատանքների իրականացման ապահովում | G11: Ծառայությունների մատուցում | H11: =+'7'!H28 -> 98927.7 | I11: =+'7'!I28 -> 98927.7
D12: 1126 - 31002 | E12: Առողջապահական կազմակերպությունների վերազինում | F12: Բնակչությանը որակյալ բժշկական օգնության և սպասարկման ծառայություններ մատուցելու նպատակով՛ առողջապահական կազմակերպությունների անհրաժեշտ սարքավորումներով վերազինում | G12: Պետական մարմինների կողմից օգտագործվող ոչ ֆինանսական ակտիվների հետ գործառնություններ | H12: =+'7'!H29 -> -37462.7 | I12: =+'7'!I29 -> -12462.7
D13: 1126 - 31003 | E13: Առողջապահական կազմակերպությունների կառուցում, վերակառուցում | F13: Բնակչությանը որակյալ բժշկական օգնության և սպասարկման ծառայություններ մատուցելու նպատակով առողջապահական կազմակերպությունների կառուցում, վերակառուցում | G13: Պետական մարմինների կողմից օգտագործվող ոչ ֆինանսական ակտիվների հետ գործառնություններ | H13: =+'7'!H45 -> -102750.7 | I13: =+'7'!I45 -> -127750.7

Sheet 7
B1: Հավելված № 7
B2: ՀՀ կառավարության 2025 թվականի
B3: __________ «____» -ի
B4: N_____ -Ն որոշման
B5: ՀԱՅԱՍՏԱՆԻ ՀԱՆՐԱՊԵՏՈՒԹՅԱՆ ԿԱՌԱՎԱՐՈՒԹՅԱՆ 2024 ԹՎԱԿԱՆԻ ԴԵԿՏԵՄԲԵՐԻ 27-Ի № 2060-Ն ՈՐՈՇՄԱՆ №№ 3 և 4 ՀԱՎԵԼՎԱԾՆԵՐՈՒՄ ԿԱՏԱՐՎՈՂ ՓՈՓՈԽՈՒԹՅՈՒՆՆԵՐԸ
B6: (հազար դրամներով)
B7: Գործառական դասիչը | E7: Ծրագրային դասիչը | G7: Բյուջետային հատկացումների գլխավոր կարգադրիչների, ծրագրերի, միջոցառումների և միջոցառումները կատարող պետական մարմինների անվանումները | H7: Ցուցանիշների փոփոխությունները (ավելացումները նշված են դրական նշանով, իսկ նվազեցումները` փակագծերում)
B8: բաժին | C8: խումբ | D8: դաս | E8: Ծրագիր | F8: Միջոցառում | H8: Ինն ամիս | I8: Տարի
B9: ԸՆԴԱՄԵՆԸ | H9: =+H10 -> -41285.7 | I9: =+I10 -> -41285.7
B10: 07 | G10: ԱՌՈՂՋԱՊԱՀՈՒԹՅՈՒՆ | H10: =+H12 -> -41285.7 | I10: =+I12 -> -41285.7
G11: այդ թվում՝
C12: 06 | G12: Առողջապահություն (այլ դասերին չպատկանող) | H12: =+H14 -> -41285.7 | I12: =+I14 -> -41285.7
G13: այդ թվում՝
D14: 02 | G14: Առողջապահություն (այլ դասերին չպատկանող) | H14: =+H18 -> -41285.7 | I14: =+I18 -> -41285.7
G15: այդ թվում՝
G16: ՀՀ առողջապահության նախարարություն | H16: =+H18 -> -41285.7 | I16: =+I18 -> -41285.7
G17: այդ թվում՝
E18: 1126 | G18: Առողջապահության ոլորտում պետական քաղաքականության մշակում, ծրագրերի համակարգում և մոնիտորինգ | H18: =+H20+H29+H45 -> -41285.7 | I18: =+I20+I29+I45 -> -41285.7
G19: այդ թվում՝
F20: 12006 | G20: Առողջապահական համակարգի պետական առևտրային և ոչ առևտրային կազմակերպություններին ֆինանսական աջակցության հատկացում | H20: =+H22 -> 98927.7 | I20: =+I22 -> 98927.7
G21: այդ թվում ըստ կատարողների
G22: ՀՀ առողջապահության նախարարություն | H22: =+H24 -> 98927.7 | I22: =+I24 -> 98927.7
G23: այդ թվում` բյուջետային ծախսերի տնտեսագիտական դասակարգման հոդվածներ
G24: ԸՆԴԱՄԵՆԸ ԾԱԽՍԵՐ | H24: =+H25 -> 98927.7 | I24: =+I25 -> 98927.7
G25: ԸՆԹԱՑԻԿ ԾԱԽՍԵՐ | H25: =+H26 -> 98927.7 | I25: =+I26 -> 98927.7
G26: ԴՐԱՄԱՇՆՈՐՀՆԵՐ | H26: =+H28 -> 98927.7 | I26: =+I28 -> 98927.7
G27: Ընթացիկ դրամաշնորհներ պետական հատվածի այլ մակարդակներին
G28: - Այլ ընթացիկ դրամաշնորհներ | H28: 98927.7 | I28: =+'9'!H10 -> 98927.7
F29: 31002 | G29: Առողջապահական կազմակերպությունների վերազինում | H29: =+H31+H38 -> -37462.7 | I29: =+I31+I38 -> -12462.7
G30: այդ թվում ըստ կատարողների
G31: ՀՀ առողջապահության նախարարություն | H31: =+H33 -> -25000 | I31: =+I33 -> 0
G32: այդ թվում` բյուջետային ծախսերի տնտեսագիտական դասակարգման հոդվածներ
G33: ԸՆԴԱՄԵՆԸ ԾԱԽՍԵՐ | H33: =H34 -> -25000 | I33: =I34 -> 0
G34: ՈՉ ՖԻՆԱՆՍԱԿԱՆ ԱԿՏԻՎՆԵՐԻ ԳԾՈՎ ԾԱԽՍԵՐ | H34: =H35 -> -25000 | I34: =I35 -> 0
G35: ՀԻՄՆԱԿԱՆ ՄԻՋՈՑՆԵՐ | H35: =H36 -> -25000 | I35: =I36 -> 0
G36: ՄԵՔԵՆԱՆԵՐ ԵՎ ՍԱՐՔԱՎՈՐՈՒՄՆԵՐ | H36: =+H37 -> -25000 | I36: =+I37 -> 0
G37: - Այլ մեքենաներ և սարքավորումներ | H37: =+'8'!E15 -> -25000 | I37: =+'8'!F15 -> 0
G38: ՀՀ կառավարություն | H38: =+H40 -> -12462.7 | I38: =+I40 -> -12462.7
G39: այդ թվում` բյուջետային ծախսերի տնտեսագիտական դասակարգման հոդվածներ
G40: ԸՆԴԱՄԵՆԸ ԾԱԽՍԵՐ | H40: =+H41 -> -12462.7 | I40: =+I41 -> -12462.7
...

Sheet 8
B1: Հավելված № 8
B2: ՀՀ կառավարության 2025 թվականի
B3: __________ «____» -ի
B4: N_____ -Ն որոշման
B6: ՀԱՅԱՍՏԱՆԻ ՀԱՆՐԱՊԵՏՈՒԹՅԱՆ ԿԱՌԱՎԱՐՈՒԹՅԱՆ 2024 ԹՎԱԿԱՆԻ ԴԵԿՏԵՄԲԵՐԻ 27-Ի № 2060-Ն ՈՐՈՇՄԱՆ № 5 ՀԱՎԵԼՎԱԾԻ № 2 ԱՂՅՈՒՍԱԿՈՒՄ ԿԱՏԱՐՎՈՂ ՓՈՓՈԽՈՒԹՅՈՒՆՆԵՐԸ
B7: (հազար դրամներով)
B8: Ծրագրային դասիչ | D8: Բյուջետային գլխավոր կարգադրիչների, ծրագրերի, միջոցառումների և ուղղությունների անվանումները | E8: Ցուցանիշների փոփոխությունները (ավելացումները նշված են դրական նշանով, իսկ նվազեցումները` փակագծերում)
B9: Ծրագիր | C9: Միջոցառում | E9: Ինն ամիս | F9: Տարի
B10: 1126 | D10: ՀՀ ԱՌՈՂՋԱՊԱՀՈՒԹՅԱՆ ՆԱԽԱՐԱՐՈՒԹՅՈՒՆ | E10: =+E12+E19 -> -140213.4 | F10: =+F12+F19 -> -140213.4
D11: այդ թվում`
C12: 31002 | D12: Առողջապահական կազմակերպությունների վերազինում | E12: =+E14+E16 -> -37462.7 | F12: =+F14+F16 -> -12462.7
D13: այդ թվում` ըստ կատարողների
D14: ՀՀ Արմավիրի մարզ | E14: =+E15 -> -25000 | F14: =+F15 -> 0
D15: ՀՀ ԱՆ «Հիվանդությունների վերահսկման և կանխարգելման ազգային կենտրոն» ՊՈԱԿ Արմավիրի մարզի մասնաճյուղ | E15: -25000 | F15: 0
D16: ՀՀ կառավարություն | E16: =+E18 -> -12462.7 | F16: =+F18 -> -12462.7
D17: այդ թվում` ըստ ուղղությունների
D18: Այլ առողջապահական կազմակերպությունների վերազինում | E18: -12462.7 | F18: -12462.7
C19: 31003 | D19: Առողջապահական կազմակերպությունների կառուցում, վերակառուցում | E19: =+E21+E33 -> -102750.7 | F19: =+F21+F33 -> -127750.7
D20: այդ թվում ըստ կատարողների
D21: ՀՀ Առողջապահության նախարարություն | E21: =E23+E25+E27+E30 -> -384561.5 | F21: =F23+F25+F27+F30 -> -404156
D22: այդ թվում ըստ ուղղությունների`
D23: Երևան քաղաք | E23: =+E24 -> -56817.1 | F23: =+F24 -> -76411.6
D24: ՀՀ ԱՆ «Հոգեկան առողջության պահպանման ազգային կենտրոն» ՓԲԸ | E24: -56817.1 | F24: -76411.6
D25: ՀՀ Լոռու մարզ | E25: =+E26 -> -5000 | F25: =+F26 -> -5000
D26: ՀՀ Լոռու մարզի «Սպիտակի բժշկական կենտրոն» ՓԲԸ | E26: -5000 | F26: -5000
D27: ՀՀ Սյունիքի մարզ | E27: =+E28+E29 -> -300000 | F27: =+F28+F29 -> -300000
D28: ՀՀ Սյունիքի մարզի «Կապանի բժշկական կենտրոն» ՓԲԸ պոլիկլինիկա | E28: -150000 | F28: -150000
D29: ՀՀ Սյունիքի մարզի «Գորիսի բժշկական կենտրոն» ՓԲԸ պոլիկլինիկա | E29: -150000 | F29: -150000
D30: ՀՀ Տավուշի մարզ | E30: =+E31 -> -22744.4 | F30: =+F31 -> -22744.4
D31: «Դատաբժշկական գիտագործնական կենտրոն» ՊՈԱԿ-ի Բերդի դիահերձարան | E31: -22744.4 | F31: -22744.4
D32: այդ թվում՝ ըստ կատարողների
D33: ՀՀ քաղաքաշինության կոմիտե | E33: =+E35+E37+E39+E41 -> 281810.8 | F33: =+F35+F37+F39+F41 -> 276405.3
D34: այդ թվում`ըստ ուղղությունների
D35: ՀՀ Արագածոտնի մարզ | E35: =+E36 -> -139932.9 | F35: =+F36 -> 0
D36: ՀՀ Արագածոտնի մարզի «Ծաղկահովիտի առողջության կենտրոն» ՓԲԸ | E36: -139932.9 | F36: 0
D37: ՀՀ Գեղարքունիքի մարզ | E37: =+E38 -> -40789.5 | F37: =+F38 -> -101127.9
D38: ՀՀ Գեղարքունիքի մարզի «Վարդենիսի բժշկական կենտրոն» ՓԲԸ | E38: -40789.5 | F38: -101127.9
D39: ՀՀ Կոտայքի մարզ | E39: =+E40 -> 497533.2 | F39: =+F40 -> 427533.2
D40: ՀՀ Կոտայքի մարզի Եղվարդի «Նաիրիի բժշկական կենտրոն» ՓԲԸ | E40: 497533.2 | F40: 427533.2
D41: ՀՀ Լոռու մարզ | E41: =+E42 -> -35000 | F41: =+F42 -> -50000
...

Sheet 9
B1: Հավելված № 9
B2: ՀՀ կառավարության 2025 թվականի
B3: __________ «____» -ի
B4: N_____ -Ն որոշման
B5: ՀԱՅԱՍՏԱՆԻ ՀԱՆՐԱՊԵՏՈՒԹՅԱՆ ԿԱՌԱՎԱՐՈՒԹՅԱՆ 2024 ԹՎԱԿԱՆԻ ԴԵԿՏԵՄԲԵՐԻ 27-Ի № 2060-Ն ՈՐՈՇՄԱՆ № 5 ՀԱՎԵԼՎԱԾԻ № 7 ԱՂՅՈՒՍԱԿՈՒՄ ԿԱՏԱՐՎՈՂ ՓՈՓՈԽՈՒԹՅՈՒՆՆԵՐԸ
B6: (հազար դրամներով)
B7: Ծրագրային դասիչ | D7: Բյուջետային հատկացումների գլխավոր կարգադրիչների, ծրագրերի, միջոցառումների, ծախսային ուղղությունների անվանումները | G7: Միջոցառումները կատարող պետական մարմինների և դրամաշնորհ ստացող տնտեսվարող սուբյեկտների անվանումները | H7: Տարի
B8: Ծրագիր | C8: Միջոցառում
B9: 1 | C9: 2 | D9: 3 | G9: 4 | H9: 5
B10: ՀՀ առողջապահության նախարարություն | H10: =+H11 -> 98927.7
B11: 1126 | C11: Առողջապահության ոլորտում պետական քաղաքականության մշակում, ծրագրերի համակարգում և մոնիտորինգ | H11: =+H12 -> 98927.7
C12: 12006 | D12: Առողջապահական համակարգի պետական առևտրային և ոչ առևտրային կազմակերպություններին ֆինանսական աջակցության հատկացում | G12: ՀՀ առողջապահության նախարարություն | H12: =SUM(H13:H19) -> 98927.7
G13: ՀՀ ԱՆ «Աշտարակի բժշկական կենտրոն» ՓԲԸ | H13: 51300
G14: ՀՀ ԱՆ «Վանաձորի բժշկական կենտրոն» ՓԲԸ | H14: 3275
G15: ՀՀ ԱՆ «Դատաբժշկական գիտագործնական կենտրոն» ՊՈԱԿ | H15: 5000
G16: «Գյումրու Էնրիկո Մատտեի անվան պոլիկլինիկա» ՓԲԸ | H16: 6590
G17: ՀՀ ԱՆ «Արարատի հիվանդանոց բժշկական կենտրոն» ՓԲԸ | H17: 15000
G18: «Մարալիկի առողջության կենտրոն» ՓԲԸ | H18: 5300
G19: ՀՀ ԱՆ «Քրեակատարողական բժշկության կենտրոն» ՊՈԱԿ | H19: 12462.7

Sheet 10
B1: Հավելված № 10
B2: ՀՀ կառավարության 2025 թվականի
B3: __________ «____» -ի
B4: N_____ -Ն որոշման
B5: ՀԱՅԱՍՏԱՆԻ ՀԱՆՐԱՊԵՏՈՒԹՅԱՆ ԿԱՌԱՎԱՐՈՒԹՅԱՆ 2024 ԹՎԱԿԱՆԻ ԴԵԿՏԵՄԲԵՐԻ 27-Ի № 2060-Ն ՈՐՈՇՄԱՆ № 9 ՀԱՎԵԼՎԱԾՈՒՄ ԿԱՏԱՐՎՈՂ ՓՈՓՈԽՈՒԹՅՈՒՆՆԵՐԸ
A6: (հազար դրամներով)
A7: ԲԳԿ | B7: Ծրագիր | D7: Միջոցառում | H7: Իրականացնողը/ ակտիվն օգտագործողը/ շահառուի ընտրության չափորոշիչը | I7: Արդյունքային չափորոշիչը | J7: Ցուցանիշների փոփոխությունները (ավելացումները նշված են դրական նշանով, իսկ նվազեցումները` փակագծերում)
B8: Դասիչը | C8: Անվանումը | D8: Դասիչը | E8: Անվանումը | F8: Նկարագրությունը | G8: Տեսակը | J8: Ինն ամիս | K8: Տարի
A9: ՀՀ առողջապահության նախարարություն | J9: =+J10 -> -41285.7 | K9: =+K10 -> -41285.7
B10: 1126 | C10: Առողջապահության ոլորտում պետական քաղաքականության մշակում, ծրագրերի համակարգում և մոնիտորինգ | J10: =+J11+J16+J21 -> -41285.7 | K10: =+K11+K16+K21 -> -41285.7
D11: 1126-12006 | E11: Առողջապահական համակարգի պետական առևտրային և ոչ առևտրային կազմակերպություններին ֆինանսական աջակցության հատկացում | J11: =+'6'!H11 -> 98927.7 | K11: =+'6'!I11 -> 98927.7
F12: Առողջապահական համակարգի պետական առևտրային և ոչ առևտրային կազմակերպություններին ֆինանսական աջակցության տրամադրում ընթացիկ գործունեության արդյունավետության բարձրացմանն ուղղված
G13: Տրանսֆերտի տրամադրում
H14: Առողջապահական կազմակերպություններ
I15: Ֆինանսական աջակցություն ստացող բժշկական հաստատությունների թիվ, հատ | K15: 7
D16: 1126 - 31002 | E16: Առողջապահական կազմակերպությունների վերազինում | J16: =+'6'!H12 -> -37462.7 | K16: =+'6'!I12 -> -12462.7
F17: Բնակչությանը որակյալ բժշկական օգնության և սպասարկման ծառայություններ մատուցելու նպատակով՛ առողջապահական կազմակերպությունների անհրաժեշտ սարքավորումներով վերազինում
G18: Պետական մարմինների կողմից օգտագործվող ոչ ֆինանսական ակտիվների հետ գործառնություններ
H19: Ակտիվն օգտագործող կազմակերպության անվանումը` Բժշկական կազմակերպություններ
I20: Վերազինվող բուժհաստատությունների քանակ
D21: 1126 - 31003 | E21: Առողջապահական կազմակերպությունների կառուցում, վերակառուցում | J21: =+'6'!H13 -> -102750.7 | K21: =+'6'!I13 -> -127750.7
F22: Բնակչությանը որակյալ բժշկական օգնության և սպասարկման ծառայություններ մատուցելու նպատակով առողջապահական կազմակերպությունների կառուցում, վերակառուցում
G23: Պետական մարմինների կողմից օգտագործվող ոչ ֆինանսական ակտիվների հետ գործառնություններ
H24: Ակտիվն օգտագործող կազմակերպության անվանումը` Բժշկական կազմակերպություններ
I25: Ընդամենը կառուցվող կազմակերպություններ, թիվ | K25: -4
I26: Նոր կառուցվող կազմակերպությունների թիվ, հատ | K26: -4
I27: Նախագծահետազոտական ծախսեր | K27: -1

Sheet 11
B1: Հավելված № 11
B2: ՀՀ կառավարության 2024 թվականի
B3: __________ «____» -ի
B4: N_____ -Ն որոշման
B5: ՀԱՅԱՍՏԱՆԻ ՀԱՆՐԱՊԵՏՈՒԹՅԱՆ ԿԱՌԱՎԱՐՈՒԹՅԱՆ 2024 ԹՎԱԿԱՆԻ ԴԵԿՏԵՄԲԵՐԻ 27-Ի № 2060-Ն ՈՐՈՇՄԱՆ № 9.1 ՀԱՎԵԼՎԱԾՈՒՄ ԿԱՏԱՐՎՈՂ ՓՈՓՈԽՈՒԹՅՈՒՆՆԵՐԸ
A6: (հազար դրամներով)
A7: ԲՍԿ | B7: Ծրագիր | D7: Միջոցառում | H7: Իրականացնողը/ ակտիվն օգտագործողը/ շահառուի ընտրության չափորոշիչը | I7: Արդյունքային չափորոշիչը | J7: Ցուցանիշների փոփոխությունները (ավելացումները նշված են դրական նշանով, իսկ նվազեցումները` փակագծերում)
B8: Դասիչը | C8: Անվանումը | D8: Դասիչը | E8: Անվանումը | F8: Նկարագրությունը | G8: Տեսակը | J8: Ինն ամիս | K8: Տարի
A9: Ընդամենը | J9: =+J10+J29+J35 -> -41285.7 | K9: =+K10+K29+K35 -> -41285.7
A10: ՀՀ առողջապահության նախարարություն | J10: =+J11 -> -310633.8 | K10: =+K11 -> -305228.3
B11: 1126 | C11: Առողջապահության ոլորտում պետական քաղաքականության մշակում, ծրագրերի համակարգում և մոնիտորինգ | J11: =+J12+J17+J22 -> -310633.8 | K11: =+K12+K17+K22 -> -305228.3
D12: 1126 - 12006 | E12: Առողջապահական համակարգի պետական առևտրային և ոչ առևտրային կազմակերպություններին ֆինանսական աջակցության հատկացում | J12: =+'6'!H11 -> 98927.7 | K12: =+'6'!I11 -> 98927.7
F13: Առողջապահական համակարգի պետական առևտրային և ոչ առևտրային կազմակերպություններին ֆինանսական աջակցության տրամադրում ընթացիկ գործունեության արդյունավետության բարձրացմանն ուղղված
G14: Տրանսֆերտի տրամադրում
H15: Առողջապահական կազմակերպություններ
H16: Ֆինանսական աջակցություն ստացող բժշկական հաստատությունների թիվ, հատ | K16: 7
D17: 1126 - 31002 | E17: Առողջապահական կազմակերպությունների վերազինում | J17: =+'7'!H31 -> -25000 | K17: =+'7'!I31 -> 0
F18: Բնակչությանը որակյալ բժշկական օգնության և սպասարկման ծառայություններ մատուցելու նպատակով՛ առողջապահական կազմակերպությունների անհրաժեշտ սարքավորումներով վերազինում
G19: Պետական մարմինների կողմից օգտագործվող ոչ ֆինանսական ակտիվների հետ գործառնություններ
H20: Ակտիվն օգտագործող կազմակերպության անվանումը` Բժշկական կազմակերպություններ
I21: Վերազինվող բուժհաստատությունների քանակ
D22: 1126 - 31003 | E22: Առողջապահական կազմակերպությունների կառուցում, վերակառուցում | J22: =+'7'!H47 -> -384561.5 | K22: =+'7'!I47 -> -404156
F23: Բնակչությանը որակյալ բժշկական օգնության և սպասարկման ծառայություններ մատուցելու նպատակով առողջապահական կազմակերպությունների կառուցում, վերակառուցում
G24: Պետական մարմինների կողմից օգտագործվող ոչ ֆինանսական ակտիվների հետ գործառնություններ
H25: Ակտիվն օգտագործող կազմակերպության անվանումը` Բժշկական կազմակերպություններ
I26: Ընդամենը կառուցվող կազմակերպություններ, թիվ | K26: -2
I27: Նոր կառուցվող կազմակերպությունների թիվ, հատ | K27: -2
I28: Նախագծահետազոտական ծախսեր | K28: -1
A29: ՀՀ կառավարություն | J29: =+J30 -> -12462.7 | K29: =+K30 -> -12462.7
B30: 1126 | C30: Առողջապահության ոլորտում պետական քաղաքականության մշակում, ծրագրերի համակարգում և մոնիտորինգ | J30: =+J31 -> -12462.7 | K30: =+K31 -> -12462.7
D31: 1126 - 31002 | E31: Առողջապահական կազմակերպությունների վերազինում | J31: =+'7'!H44 -> -12462.7 | K31: =+'7'!I44 -> -12462.7
F32: Բնակչությանը որակյալ բժշկական օգնության և սպասարկման ծառայություններ մատուցելու նպատակով՛ առողջապահական կազմակերպությունների անհրաժեշտ սարքավորումներով վերազինում
G33: Պետական մարմինների կողմից օգտագործվող ոչ ֆինանսական ակտիվների հետ գործառնություններ
H34: Ակտիվն օգտագործող կազմակերպության անվանումը` Բժշկական կազմակերպություններ
A35: ՀՀ քաղաքաշինության կոմիտե | J35: =+J36 -> 281810.8 | K35: =+K36 -> 276405.3
B36: 1126 | C36: Առողջապահության ոլորտում պետական քաղաքականության մշակում, ծրագրերի համակարգում և մոնիտորինգ | J36: =+J37 -> 281810.8 | K36: =+K37 -> 276405.3
D37: 1126 - 31003 | E37: Առողջապահական կազմակերպությունների կառուցում, վերակառուցում | J37: =+'7'!H57 -> 281810.8 | K37: =+'7'!I57 -> 276405.3
F38: Բնակչությանը որակյալ բժշկական օգնության և սպասարկման ծառայություններ մատուցելու նպատակով առողջապահական կազմակերպությունների կառուցում, վերակառուցում
G39: Պետական մարմինների կողմից օգտագործվող ոչ ֆինանսական ակտիվների հետ գործառնություններ
H40: Ակտիվն օգտագործող կազմակերպության անվանումը` Բժշկական կազմակերպություններ
...

Sheet 12
B1: Հավելված № 12
B2: ՀՀ կառավարության 2024 թվականի
B3: __________ «____» -ի
B4: N_____ -Ն որոշման
B5: ՀԱՅԱՍՏԱՆԻ ՀԱՆՐԱՊԵՏՈՒԹՅԱՆ ԿԱՌԱՎԱՐՈՒԹՅԱՆ 2024 ԹՎԱԿԱՆԻ ԴԵԿՏԵՄԲԵՐԻ 27-Ի № 2060-Ն ՈՐՈՇՄԱՆ № 10 ՀԱՎԵԼՎԱԾՈՒՄ ԿԱՏԱՐՎՈՂ ՓՈՓՈԽՈՒԹՅՈՒՆՆԵՐԸ ԵՎ ԼՐԱՑՈՒՄՆԵՐԸ
B6: Կոդը | C6: Անվանումը | F6: Գնման ձևը | G6: Չափման միավորը | H6: Միավորի գինը | I6: Քանակը | J6: Ցուցանիշների փոփոխությունները (ավելացումները նշված են դրական նշանով, իսկ նվազեցումները` փակագծերում)
J7: Գումարը (հազար դրամով)
B8: Ընդամենը | J8: =+J9+J18 -> -127750.7
B9: ՀՀ առողջապահության նախարարություն | J9: =+J10 -> -404156
B10: Բաժին 07 | C10: Խումբ 06 | D10: Դաս 02 | E10: Առողջապահություն (այլ դասերին չպատկանող) | J10: =+J11 -> -404156
B11: 1126 31003 | C11: Առողջապահական կազմակերպությունների կառուցում, վերակառուցում | J11: =+J12+J16 -> -404156
C12: ՄԱՍ II. ԱՇԽԱՏԱՆՔՆԵՐ | J12: =+J13+J14+J15 -> -399156
B13: 45451700-3 | C13: վերակառուցման աշխատանքներ | F13: ԲՄ | G13: դրամ | J13: =+'8'!F24 -> -76411.6
B14: 45451700-5 | C14: վերակառուցման աշխատանքներ | F14: ԲՄ | G14: դրամ | J14: -300000
B15: 45451700-2 | C15: վերակառուցման աշխատանքներ | F15: ԲՄ | G15: դրամ | J15: ='8'!F31 -> -22744.4
C16: ՄԱՍ III. ԾԱՌԱՅՈՒԹՅՈՒՆՆԵՐ | J16: =SUM(J17) -> -5000
B17: 71241200/9 | C17: նախագծերի պատրաստում, ծախսերի գնահատում | F17: ՄԱ | G17: դրամ | H17: 5000000 | I17: -1 | J17: =+H17*I17/1000 -> -5000
B18: ՀՀ քաղաքաշինության կոմիտե | J18: =+J19 -> 276405.3
B19: Բաժին 07 | C19: Խումբ 06 | D19: Դաս 02 | E19: Առողջապահություն (այլ դասերին չպատկանող) | J19: =+J20 -> 276405.3
B20: 1126 31003 | C20: Առողջապահական կազմակերպությունների կառուցում, վերակառուցում | J20: =+J21+J25 -> 276405.3
C21: ՄԱՍ II. ԱՇԽԱՏԱՆՔՆԵՐ | J21: =+J22+J24+J23 -> 267912.7
B22: 45211250/5 | C22: առողջապահության հետ կապված շենքերի կառուցման աշխատանքներ | F22: ԲՄ | G22: դրամ | J22: 410000
B23: 45211250/7 | C23: առողջապահության հետ կապված շենքերի կառուցման աշխատանքներ | F23: ԲՄ | G23: դրամ | H23: 48200000 | I23: -1 | J23: =+H23*I23/1000 -> -48200
B24: 45451700/1 | C24: վերակառուցման աշխատանքներ | F24: ԲՄ | G24: դրամ | H24: 93887300 | I24: -1 | J24: =+H24*I24/1000 -> -93887.3
C25: ՄԱՍ III. ԾԱՌԱՅՈՒԹՅՈՒՆՆԵՐ | J25: =SUM(J26:J31) -> 8492.6
B26: 71351540/5 | C26: տեխնիկական հսկողության ծառայություն | F26: ԳՀ | G26: դրամ | J26: 14342.3
B27: 71351540/8 | C27: տեխնիկական հսկողության ծառայություն | F27: ԳՀ | G27: դրամ | H27: 6033900 | I27: -1 | J27: =+H27*I27/1000 -> -6033.9
B28: 71351540/7 | C28: տեխնիկական հսկողության ծառայություն | F28: ԳՀ | G28: դրամ | H28: 1500000 | I28: -1 | J28: =+H28*I28/1000 -> -1500
B29: 98111140/5 | C29: հեղինակային հսկողության ծառայություն | F29: ՄԱ | G29: դրամ | J29: 3190.9
B30: 98111140/8 | C30: հեղինակային հսկողության ծառայություն | F30: ՄԱ | G30: դրամ | H30: 1206700 | I30: -1 | J30: =+H30*I30/1000 -> -1206.7
B31: 98111140/7 | C31: հեղինակային հսկողության ծառայություն | F31: ՄԱ | G31: դրամ | H31: 300000 | I31: -1 | J31: =+H31*I31/1000 -> -300
