Workbook

Sheet 1
H1: Հավելված N 1
E2: ՀՀ կառավարության 2025 թվականի
E3: -----------------ի N -----------Ն որոշման
A5: «ՀԱՅԱՍՏԱՆԻ ՀԱՆՐԱՊԵՏՈՒԹՅԱՆ 2025 ԹՎԱԿԱՆԻ ՊԵՏԱԿԱՆ ԲՅՈՒՋԵԻ ՄԱՍԻՆ» ՕՐԵՆՔԻ N 1 ՀԱՎԵԼՎԱԾԻ N 2 ԱՂՅՈՒՍԱԿՈՒՄ ԿԱՏԱՐՎՈՂ ՎԵՐԱԲԱՇԽՈՒՄԸ ԵՎ ԼՐԱՑՈՒՄԸ, ՀԱՅԱՍՏԱՆԻ ՀԱՆՐԱՊԵՏՈՒԹՅԱՆ ԿԱՌԱՎԱՐՈՒԹՅԱՆ 2024 ԹՎԱԿԱՆԻ ԴԵԿՏԵՄԲԵՐԻ 27-Ի N 2060-Ն ՈՐՈՇՄԱՆ N 5 ՀԱՎԵԼՎԱԾԻ N 1 ԱՂՅՈՒՍԱԿՈՒՄ ԿԱՏԱՐՎՈՂ ՓՈՓՈԽՈՒԹՅՈՒՆՆԵՐԸ ԵՎ ԼՐԱՑՈՒՄՆԵՐԸ
H6: հազար դրամներով
A7: ԲԳԿ | B7: Ծրագրային դասիչը | D7: ԲԳԿ/Ծրագրի /միջոցառման անվանումը | E7: Ծրագրի նպատակը/Միջոցառման նկարագրույունը | F7: Վերջնական արդյունքի նկարագրությունը/Միջոցառման տեսակը | G7: Ցուցանիշների փոփոխությունները ավելացումները նշված են դրական նշանով, իսկ նվազեցումները՝ փակագծերում
B8: Ծրագիր | C8: Միջոցառում | G8: Ինն ամիս | H8: Տարի
A9: ԸՆԴԱՄԵՆԸ | G9: 0 | H9: 0
A10: ՀՀ աշխատանքի և սոցիալական հարցերի նախարարություն | G10: 0 | H10: 0
B11: 1088 | D11: Զբաղվածության ծրագիր | E11: Բնակչության կայուն և ժամանակավոր զբաղվածության ապահովմանը միտված պայմանների ստեղծում | F11: Կայուն և ժամանակավոր զբաղվածների թվաքանակի աճ | G11: 0 | H11: 0
C12: 1088-12026 | D12: Անապահովության գնահատման համակարգով անապահով ճանաչված ընտանիքների աշխատունակ անձանց վարձատրվող հասարակական աշխատանքի դիմաց աջակցության տրամադրում | E12: Անապահովության գնահատման համակարգով անապահով ճանաչված ընտանիքների աշխատունակ անձանց եկամտով ապահովում, աշխատանքի շուկա մուտքի և զբաղվածության հասանելիության հնարավորությունների մեծացում, զբաղվածություն ունենալու նկատմամբ վերաբերմունքի փոփոխություն, համայնքային ենթակառուցվածքների զարգացում, սոցիալական լարվածության նվազեցում | F12: Տրանսֆերտների տրամադրում | G12: 128625 | H12: 128625
C13: 1088 - 12006 | D13: Սեզոնային զբաղվածության խթանման միջոցով գյուղացիական տնտեսությանն աջակցության տրամադրում | E13: Աշխատաշուկայում անմրցունակ` գյուղատնտեսական նշանակության հողի սեփականատեր, վարձակալ կամ անհատույց օգտագործող հանդիսացող անձանց ֆինանսական աջակցություն սեզոնային զբաղվածության ապահովման համար | F13: Տրանսֆերտների տրամադրում | G13: -128625 | H13: -128625
A14: ՀՀ կառավարություն | G14: =G15 -> 0 | H14: =H15 -> 0
B15: 1139 | D15: ՀՀ կառավարության պահուստային ֆոնդ | E15: Պետական բյուջեում չկանխատեսված, ինչպես նաեւ բյուջետային երաշխիքների ապահովման ծախսերի ֆինանսավորման ապահովում | F15: Պահուստային ֆոնդի կառավարման արդյունավետության և թափանցիկության ապահովում | G15: =G16+G17 -> 0 | H15: =H16+H17 -> 0
C16: 1139 - 11001 | D16: ՀՀ կառավարության պահուստային ֆոնդ | E16: ՀՀ պետական բյուջեում նախատեսված ելքերի լրացուցիչ ֆինանսավորման, պետական բյուջեում չկանխատեսված ելքերի, ինչպես նաև բյուջետային երաշխիքների ապահովման ելքերի ֆինանսավորման ապահովում | F16: Ծառայությունների մատուցում | G16: 128625 | H16: 128625
C17: 1139 - 11001 | D17: ՀՀ կառավարության պահուստային ֆոնդ | E17: ՀՀ պետական բյուջեում նախատեսված ելքերի լրացուցիչ ֆինանսավորման, պետական բյուջեում չկանխատեսված ելքերի, ինչպես նաև բյուջետային երաշխիքների ապահովման ելքերի ֆինանսավորման ապահովում | F17: Ծառայությունների մատուցում | G17: -128625 | H17: -128625

Sheet 2
H1: Հավելված N 2
F2: ՀՀ կառավարության 2025 թվականի
F3: -----------------ի N -----------Ն որոշման
A5: ՀԱՅԱՍՏԱՆԻ ՀԱՆՐԱՊԵՏՈՒԹՅԱՆ ԿԱՌԱՎԱՐՈՒԹՅԱՆ 2024 ԹՎԱԿԱՆԻ ԴԵԿՏԵՄԲԵՐԻ 27-Ի N 2060-Ն ՈՐՈՇՄԱՆ N N 3 ԵՎ 4 ՀԱՎԵԼՎԱԾՆԵՐՈՒՄ ԿԱՏԱՐՎՈՂ ՓՈՓՈԽՈՒԹՅՈՒՆՆԵՐԸ ԵՎ ԼՐԱՑՈՒՄՆԵՐԸ
G6: հազար դրամներով
A7: Գործառական դասիչը | D7: Ծրագրային դասիչը | F7: Բյուջետային ծախսերի գործառական դասակարգման բաժինների, խմբերի և դասերի, բյուջետային ծրագրերի միջոցառումների, բյուջետային հատկացումների գլխավոր կարգադրիչների անվանումները | G7: Ցուցանիշների փոփոխությունները ավելացումները նշված են դրական նշանով, իսկ նվազեցումները՝ փակագծերում
A8: Բաժինը | B8: Խումբը | C8: Դասը | D8: Ծրագիր | E8: Միջոցառում | G8: Ինն ամիս | H8: Տարի
F9: ԸՆԴԱՄԵՆԸ ԾԱԽՍԵՐ | G9: =G11 -> 0 | H9: =H11 -> 0
F10: այդ թվում`
F11: ՀՀ աշխատանքի և սոցիալական հարցերի նախարարություն | G11: =G13+G43 -> 0 | H11: =H13+H43 -> 0
F12: այդ թվում՝
A13: 10 | F13: ՍՈՑԻԱԼԱԿԱՆ ՊԱՇՏՊԱՆՈՒԹՅՈՒՆ | G13: =G15 -> 0 | H13: =H15 -> 0
F14: այդ թվում՝
B15: 05 | F15: Գործազրկություն | G15: =G17 -> 0 | H15: =H17 -> 0
F16: այդ թվում՝
C17: 01 | F17: Գործազրկություն | G17: =G19 -> 0 | H17: =H19 -> 0
F18: այդ թվում՝
F19: ՀՀ աշխատանքի և սոցիալական հարցերի նախարարություն | G19: =G21 -> 0 | H19: =H21 -> 0
F20: այդ թվում՝
D21: 1088 | F21: Զբաղվածության ծրագիր | G21: =G23+G32 -> 0 | H21: =H23+H32 -> 0
F22: այդ թվում՝
E23: 12026 | F23: ='1'!D12 -> Անապահովության գնահատման համակարգով անապահով ճանաչված ընտանիքների աշխատունակ անձանց վարձատրվող հասարակական աշխատանքի դիմաց աջակցության տրամադրում | G23: =G25 -> 128625 | H23: =H25 -> 128625
F24: այդ թվում՝ ըստ կատարողների
F25: ՀՀ աշխատանքի և սոցիալական հարցերի նախարարության միասնական սոցիալական ծառայություն | G25: =G27 -> 128625 | H25: =H27 -> 128625
F26: այդ թվում` բյուջետային ծախսերի տնտեսագիտական դասակարգման հոդվածներ
F27: ԸՆԴԱՄԵՆԸ ԾԱԽՍԵՐ | G27: =G28 -> 128625 | H27: =H28 -> 128625
F28: ԸՆԹԱՑԻԿ ԾԱԽՍԵՐ | G28: =G29 -> 128625 | H28: =H29 -> 128625
F29: ԴՐԱՄԱՇՆՈՐՀՆԵՐ | G29: =G30 -> 128625 | H29: =H30 -> 128625
F30: Ընթացիկ դրամաշնորհներ պետական հատվածի այլ մակարդակներին | G30: =G31 -> 128625 | H30: =H31 -> 128625
F31: - Այլ ընթացիկ դրամաշնորհներ | G31: ='1'!G12 -> 128625 | H31: ='1'!H12 -> 128625
E32: 12006 | F32: Սեզոնային զբաղվածության խթանման միջոցով գյուղացիական տնտեսությանն աջակցության տրամադրում | G32: =G34 -> -128625 | H32: =H34 -> -128625
F33: այդ թվում՝ ըստ կատարողների
F34: ՀՀ աշխատանքի և սոցիալական հարցերի նախարարության միասնական սոցիալական ծառայություն | G34: =G36 -> -128625 | H34: =H36 -> -128625
F35: այդ թվում` բյուջետային ծախսերի տնտեսագիտական դասակարգման հոդվածներ
F36: ԸՆԴԱՄԵՆԸ ԾԱԽՍԵՐ | G36: =G37 -> -128625 | H36: =H37 -> -128625
F37: ԸՆԹԱՑԻԿ ԾԱԽՍԵՐ | G37: =G38 -> -128625 | H37: =H38 -> -128625
F38: ՍՈՑԻԱԼԱԿԱՆ ՆՊԱՍՏՆԵՐ ԵՎ ԿԵՆՍԱԹՈՇԱԿՆԵՐ | G38: =G39 -> -128625 | H38: =H39 -> -128625
F39: Սոցիալական օգնության դրամական արտահայտությամբ նպաստներ (բյուջեից) | G39: =G40 -> -128625 | H39: =H40 -> -128625
F40: - Այլ նպաստներ բյուջեից | G40: ='1'!G13 -> -128625 | H40: ='1'!H13 -> -128625
F41: ՀՀ կառավարություն | G41: =G43 -> 0 | H41: =H43 -> 0
...

Sheet 3
H2: Հավելված N 3
H3: ՀՀ կառավարության 2025 թվականի
H4: -----------------ի N -----------Ն որոշման
B6: ՀԱՅԱՍՏԱՆԻ ՀԱՆՐԱՊԵՏՈՒԹՅԱՆ ԿԱՌԱՎԱՐՈՒԹՅԱՆ 2024 ԹՎԱԿԱՆԻ ԴԵԿՏԵՄԲԵՐԻ 27-Ի N 2060-Ն ՈՐՈՇՄԱՆ N 5 ՀԱՎԵԼՎԱԾԻ N 7 ԱՂՅՈՒՍԱԿՈՒՄ ԿԱՏԱՐՎՈՂ ԼՐԱՑՈՒՄԸ
H7: հազար դրամներով
B8: Ծրագրային դասիչ | D8: Բյուջետային գլխավոր կարգադրիչների, ծրագրերի, միջոցառումների, միջոցառումները կատարող պետական մարմինների և ուղղությունների անվանումները | G8: Միջոցառումները կատարող պետական մարմինների և դրամաշնորհ ստացող տնտեսավարող սուբյեկտների անվանումները | H8: Ցուցանիշների փոփոխությունները ավելացումները նշված են դրական նշանով, իսկ նվազեցումները՝ փակագծերում
B9: Ծրագիր | C9: Միջոցառում | H9: Տարի
B11: 1 | C11: 2 | D11: 3 | G11: 4 | H11: 5
B12: ՀՀ աշխատանքի և սոցիալական հարցերի նախարարություն | H12: =H13 -> 128625
B13: 1088 | C13: ='1'!D11 -> Զբաղվածության ծրագիր | H13: =H14 -> 128625
C14: ='1'!C12 -> 1088-12026 | D14: ='1'!D12 -> Անապահովության գնահատման համակարգով անապահով ճանաչված ընտանիքների աշխատունակ անձանց վարձատրվող հասարակական աշխատանքի դիմաց աջակցության տրամադրում | G14: ՀՀ աշխատանքի և սոցիալական հարցերի նախարարության միասնական սոցիալական ծառայություն | H14: =SUM(H15:H15) -> 128625
G15: Գործազուրկներին զբաղվածությունն ապահովող կազմակերպություններ | H15: ='1'!H12 -> 128625

Sheet 4
K1: Հավելված N 4
K2: ՀՀ կառավարության 2025 թվականի
K3: -----------------ի N -----------Ն որոշման
A6: ՀԱՅԱՍՏԱՆԻ ՀԱՆՐԱՊԵՏՈՒԹՅԱՆ ԿԱՌԱՎԱՐՈՒԹՅԱՆ 2024 ԹՎԱԿԱՆԻ ԴԵԿՏԵՄԲԵՐԻ 27-Ի N 2060-Ն ՈՐՈՇՄԱՆ N 9 ՀԱՎԵԼՎԱԾՈՒՄ ԿԱՏԱՐՎՈՂ ՓՈՓՈԽՈՒԹՅՈՒՆՆԵՐԸ ԵՎ ԼՐԱՑՈՒՄՆԵՐԸ
J7: հազար դրամներով
A8: ԲԳԿ | B8: Ծրագիր | D8: Միջոցառում | H8: Իրականացնողը/ ակտիվն օգտագործողը/ շահառուի ընտրության չափորոշիչը | I8: Արդյունքային չափորոշիչը | J8: Ցուցանիշների փոփոխությունները ավելացումները նշված են դրական նշանով, իսկ նվազեցումները՝ փակագծերում
B9: Դասիչը | C9: Անվա-նումը | D9: Դասիչը | E9: Անվա-նումը | F9: Նկարագրու-թյունը | G9: Տեսակը | J9: Ինն ամիս | K9: Տարի
A10: ԸՆԴԱՄԵՆԸ | J10: =J11+J27 -> 0 | K10: =K11+K27 -> 0
A11: ՀՀ աշխատանքի և սոցիալական հարցերի նախարարություն | J11: =J12 -> 0 | K11: =K12 -> 0
B12: 1088 | C12: Զբաղվածության ծրագիր | J12: =J13+J19 -> 0 | K12: =K13+K19 -> 0
D13: ='1'!C12 -> 1088-12026 | E13: ='1'!D12 -> Անապահովության գնահատման համակարգով անապահով ճանաչված ընտանիքների աշխատունակ անձանց վարձատրվող հասարակական աշխատանքի դիմաց աջակցության տրամադրում | J13: ='1'!G12 -> 128625 | K13: ='1'!H12 -> 128625
F14: ='1'!E12 -> Անապահովության գնահատման համակարգով անապահով ճանաչված ընտանիքների աշխատունակ անձանց եկամտով ապահովում, աշխատանքի շուկա մուտքի և զբաղվածության հասանելիության հնարավորությունների մեծացում, զբաղվածություն ունենալու նկատմամբ վերաբերմունքի փոփոխություն, համայնքային ենթակառուցվածքների զարգացում, սոցիալական լարվածության նվազեցում
G15: ='1'!F12 -> Տրանսֆերտների տրամադրում
H16: Շահառուների ընտրության չափորոշիչները` Գործազուրկ անձինք
I17: Միջոցառման մեջ ընդգրկված անձանց թիվ, մարդ | K17: 350
D19: 1088 - 12006 | E19: Սեզոնային զբաղվածության խթանման միջոցով գյուղացիական տնտեսությանն աջակցության տրամադրում | J19: ='1'!G13 -> -128625 | K19: ='1'!H13 -> -128625
F20: Աշխատաշուկայում անմրցունակ` գյուղատնտեսական նշանակության հողի սեփականատեր, վարձակալ կամ անհատույց օգտագործող հանդիսացող անձանց ֆինանսական աջակցություն սեզոնային զբաղվածության ապահովման համար
G21: Տրանսֆերտների տրամադրում
H22: Շահառուների ընտրության չափորոշիչները` ՀՀ լեռնային կամ բարձարլեռնային կամ սահմանամերձ գյուղական բնակավայրերի մինչև 3 հա գյուղատնտեսական նշանակության հողի սեփականատեր կամ վարձակալ կամ անհատույց օգտագործող հանդիսացող աշխատաշուկայում անմրցունակ անձինք և աշխատանք փնտրողներ
I23: Ծրագրերում ներառված անձանց թիվ, մարդ | K23: =K24+K25 -> -510
I24: կին | K24: -102
I25: տղամարդ | K25: -408
A27: ՀՀ կառավարություն | J27: =J28 -> 0 | K27: =K28 -> 0
B28: 1139 | C28: ՀՀ կառավարության պահուստային ֆոնդ | J28: =J29+J33 -> 0 | K28: =K29+K33 -> 0
D29: 1139 - 11001 | E29: ՀՀ կառավարության պահուստային ֆոնդ | J29: ='1'!G16 -> 128625 | K29: ='1'!H16 -> 128625
F30: ՀՀ պետական բյուջեում նախատեսված ելքերի լրացուցիչ ֆինանսավորման, պետական բյուջեում չկանխատեսված ելքերի, ինչպես նաև բյուջետային երաշխիքների ապահովման ելքերի ֆինանսավորման ապահովում
G31: Ծառայությունների մատուցում
H32: Ծառայությունը մատուցողի անվանումը` ՀՀ կառավարություն
D33: 1139 - 11001 | E33: ՀՀ կառավարության պահուստային ֆոնդ | J33: ='1'!G17 -> -128625 | K33: ='1'!H17 -> -128625
F34: ՀՀ պետական բյուջեում նախատեսված ելքերի լրացուցիչ ֆինանսավորման, պետական բյուջեում չկանխատեսված ելքերի, ինչպես նաև բյուջետային երաշխիքների ապահովման ելքերի ֆինանսավորման ապահովում
G35: Ծառայությունների մատուցում
H36: Ծառայությունը մատուցողի անվանումը` ՀՀ կառավարություն

Sheet 5
K1: Հավելված N 5
K2: ՀՀ կառավարության 2025 թվականի
K3: -----------------ի N -----------Ն որոշման
A6: ՀԱՅԱՍՏԱՆԻ ՀԱՆՐԱՊԵՏՈՒԹՅԱՆ ԿԱՌԱՎԱՐՈՒԹՅԱՆ 2024 ԹՎԱԿԱՆԻ ԴԵԿՏԵՄԲԵՐԻ 27-Ի N 2060-Ն ՈՐՈՇՄԱՆ N 9.1 ՀԱՎԵԼՎԱԾՈՒՄ ԿԱՏԱՐՎՈՂ ՓՈՓՈԽՈՒԹՅՈՒՆՆԵՐԸ ԵՎ ԼՐԱՑՈՒՄՆԵՐԸ
J7: հազար դրամներով
A8: ԲՍԿ | B8: Ծրագիր | D8: Միջոցառում | H8: Իրականացնողը/ ակտիվն օգտագործողը/ շահառուի ընտրության չափորոշիչը | I8: Արդյունքային չափորոշիչը | J8: Ցուցանիշների փոփոխությունները ավելացումները նշված են դրական նշանով, իսկ նվազեցումները՝ փակագծերում
B9: Դասիչը | C9: Անվա-նումը | D9: Դասիչը | E9: Անվա-նումը | F9: Նկարագրու-թյունը | G9: Տեսակը | J9: Ինն ամիս | K9: Տարի
A10: ԸՆԴԱՄԵՆԸ | J10: =J11+J28 -> 0 | K10: =K11+K28 -> 0
A11: ՀՀ աշխատանքի և սոցիալական հարցերի նախարարության միասնական սոցիալական ծառայություն | J11: =J12+J19 -> 0 | K11: =K12+K19 -> 0
B12: 1088 | C12: Զբաղվածության ծրագիր | J12: =J13+J20 -> 0 | K12: =K13+K20 -> 0
D13: ='4'!D13 -> 1088-12026 | E13: ='4'!E13:I13 -> Անապահովության գնահատման համակարգով անապահով ճանաչված ընտանիքների աշխատունակ անձանց վարձատրվող հասարակական աշխատանքի դիմաց աջակցության տրամադրում | J13: ='1'!G12 -> 128625 | K13: ='1'!H12 -> 128625
F14: ='4'!F14:K14 -> Անապահովության գնահատման համակարգով անապահով ճանաչված ընտանիքների աշխատունակ անձանց եկամտով ապահովում, աշխատանքի շուկա մուտքի և զբաղվածության հասանելիության հնարավորությունների մեծացում, զբաղվածություն ունենալու նկատմամբ վերաբերմունքի փոփոխություն, համայնքային ենթակառուցվածքների զարգացում, սոցիալական լարվածության նվազեցում
G15: ='4'!G15:K15 -> Տրանսֆերտների տրամադրում
H16: ='4'!H16:K16 -> Շահառուների ընտրության չափորոշիչները` Գործազուրկ անձինք
I17: ='4'!I17 -> Միջոցառման մեջ ընդգրկված անձանց թիվ, մարդ | J17: ='4'!J17 | K17: ='4'!K17 -> 350
D20: 1088 - 12006 | E20: Սեզոնային զբաղվածության խթանման միջոցով գյուղացիական տնտեսությանն աջակցության տրամադրում | J20: ='1'!G13 -> -128625 | K20: ='1'!H13 -> -128625
F21: Աշխատաշուկայում անմրցունակ` գյուղատնտեսական նշանակության հողի սեփականատեր, վարձակալ կամ անհատույց օգտագործող հանդիսացող անձանց ֆինանսական աջակցություն սեզոնային զբաղվածության ապահովման համար
G22: Տրանսֆերտների տրամադրում
H23: Շահառուների ընտրության չափորոշիչները` ՀՀ լեռնային կամ բարձարլեռնային կամ սահմանամերձ գյուղական բնակավայրերի մինչև 3 հա գյուղատնտեսական նշանակության հողի սեփականատեր կամ վարձակալ կամ անհատույց օգտագործող հանդիսացող աշխատաշուկայում անմրցունակ անձինք և աշխատանք փնտրողներ
I24: Ծրագրերում ներառված անձանց թիվ, մարդ | K24: ='4'!K23 -> -510
I25: կին | K25: ='4'!K24 -> -102
I26: տղամարդ | K26: ='4'!K25 -> -408
A28: ՀՀ կառավարություն | J28: =J29 -> 0 | K28: =K29 -> 0
B29: 1139 | C29: ՀՀ կառավարության պահուստային ֆոնդ | J29: =J30+J34 -> 0 | K29: =K30+K34 -> 0
D30: 1139 - 11001 | E30: ՀՀ կառավարության պահուստային ֆոնդ | J30: ='4'!J29 -> 128625 | K30: ='4'!K29 -> 128625
F31: ՀՀ պետական բյուջեում նախատեսված ելքերի լրացուցիչ ֆինանսավորման, պետական բյուջեում չկանխատեսված ելքերի, ինչպես նաև բյուջետային երաշխիքների ապահովման ելքերի ֆինանսավորման ապահովում
G32: Ծառայությունների մատուցում
H33: Ծառայությունը մատուցողի անվանումը` ՀՀ կառավարություն
D34: 1139 - 11001 | E34: ՀՀ կառավարության պահուստային ֆոնդ | J34: ='4'!J33 -> -128625 | K34: ='4'!K33 -> -128625
F35: ՀՀ պետական բյուջեում նախատեսված ելքերի լրացուցիչ ֆինանսավորման, պետական բյուջեում չկանխատեսված ելքերի, ինչպես նաև բյուջետային երաշխիքների ապահովման ելքերի ֆինանսավորման ապահովում
G36: Ծառայությունների մատուցում
H37: Ծառայությունը մատուցողի անվանումը` ՀՀ կառավարություն
