Workbook
Name _tab10: #REF!
Name _tab10: #REF!
Name _tab11: #REF!
Name _tab11: #REF!
Name _tab12: #REF!
Name _tab12: #REF!
Name _tab13: #REF!
Name _tab13: #REF!
Name _tab14: #REF!
Name _tab14: #REF!
Name _tab15: #REF!
Name _tab15: #REF!
Name _tab16: #REF!
Name _tab16: #REF!
Name _tab17: #REF!
Name _tab17: #REF!
Name _tab18: #REF!
Name _tab18: #REF!
Name _tab19: #REF!
Name _tab19: #REF!
Name _tab20: #REF!
Name _tab20: #REF!
Name _tab21: #REF!
Name _tab21: #REF!
Name _tab22: #REF!
Name _tab22: #REF!
Name _tab23: #REF!
Name _tab23: #REF!
Name _tab24: #REF!
Name _tab24: #REF!
Name _tab5: #REF!
Name _tab5: #REF!
Name _tab6: #REF!
Name _tab6: #REF!
Name _tab7: #REF!
Name _tab7: #REF!
Name _tab8: #REF!
Name _tab8: #REF!
Name _tab9: #REF!
Name _tab9: #REF!
Name AgencyCode: #REF!
Name AgencyName: #REF!
Name åû: #REF!
Name davit: #REF!
Name Functional1: #REF!
Name ggg: #REF!
Name mas: #REF!
Name mass: #REF!
Name PANature: #REF!
Name par_count: #REF!,#REF!,#REF!,#REF!,#REF!,#REF!,#REF!,#REF!,#REF!,#REF!,#REF!,#REF!,#REF!,#REF!,#REF!
Name par_count: #REF!,#REF!,#REF!,#REF!,#REF!,#REF!,#REF!,#REF!,#REF!,#REF!,#REF!,#REF!,#REF!,#REF!,#REF!
Name par_qual: #REF!,#REF!,#REF!,#REF!,#REF!
Name par_qual: #REF!,#REF!,#REF!,#REF!,#REF!
Name par_time: #REF!,#REF!,#REF!,#REF!
Name par_time: #REF!,#REF!,#REF!,#REF!
Name par2.12s: #REF!
Name par2.12s: #REF!
Name par2.4s: #REF!,#REF!,#REF!,#REF!,#REF!,#REF!,#REF!,#REF!,#REF!,#REF!,#REF!,#REF!,#REF!,#REF!,#REF!,#REF!
Name par2.4s: #REF!,#REF!,#REF!,#REF!,#REF!,#REF!,#REF!,#REF!,#REF!,#REF!,#REF!,#REF!,#REF!,#REF!,#REF!,#REF!
Name par2.5s: #REF!,#REF!

Sheet 1
H1: Հավելված N 1
F2: ՀՀ կառավարության 2025 թվականի
H3: N ------------ -Ն որոշման
B5: «ՀԱՅԱՍՏԱՆԻ ՀԱՆՐԱՊԵՏՈՒԹՅԱՆ 2025 ԹՎԱԿԱՆԻ ՊԵՏԱԿԱՆ ԲՅՈՒՋԵԻ ՄԱՍԻՆ» ՕՐԵՆՔԻ N 1 ՀԱՎԵԼՎԱԾԻ N 2 ԱՂՅՈՒՍԱԿՈՒՄ ԿԱՏԱՐՎՈՂ ՎԵՐԱԲԱՇԽՈՒՄԸ ԵՎ ՀԱՅԱՍՏԱՆԻ ՀԱՆՐԱՊԵՏՈՒԹՅԱՆ ԿԱՌԱՎԱՐՈՒԹՅԱՆ 2024 ԹՎԱԿԱՆԻ ԴԵԿՏԵՄԲԵՐԻ 27-Ի N 2060-Ն ՈՐՈՇՄԱՆ N 5 ՀԱՎԵԼՎԱԾԻ N 1 ԱՂՅՈՒՍԱԿՈՒՄ ԿԱՏԱՐՎՈՂ ՓՈՓՈԽՈՒԹՅՈՒՆԸ ԵՎ ԼՐԱՑՈՒՄԸ
G9: հազար դրամներով
A10: ԲԳԿ | B10: Ծրագրային դասիչը | D10: ԲԳԿ/Ծրագրի /միջոցառման անվանումը | E10: Ծրագրի նպատակը/Միջոցառման նկարագրությունը | F10: Վերջնական արդյունքի նկարագրությունը/Միջոցառման տեսակը | G10: Ցուցանիշների փոփոխությունը (ավելացումները նշված են դրական նշանով, իսկ նվազեցումները` փակագծերում)
B11: Ծրագիր | C11: Միջոցառում | G11: Ինն ամիս | H11: Տարի
A12: ԸՆԴԱՄԵՆԸ | G12: =G13+G22+G19 -> 0 | H12: =H13+H22+H19 -> 0
A13: ՀՀ տարածքային կառավարման և ենթակառուցվածքների նախարարություն | G13: =G16+G14 -> -1998 | H13: =H16+H14 -> -1998
B14: 1004 | D14: Ոռոգման համակարգի առողջացում | E14: Ոռոգման ծառայությունների հասանելիության և մատչելիության ապահովում | F14: Ոռոգման ջրի մատակարարման արդյունավետության և հասանելիության բարելավում, կորուստների կրճատում | G14: -26141.8 | H14: =H15 -> -26141.8
C15: 1004 - 31002 | D15: Ոռոգման համակարգերի հիմնանորոգում | E15: Ոռոգման համակարգերի հիմնանորոգում | F15: Պետական մարմինների կողմից օգտագործվող ոչ ֆինանսական ակտիվների հետ գործառնություններ | G15: -26141.8 | H15: =G15 -> -26141.8
B16: 1212 | D16: Տարածքային զարգացում | E16: Տարածքային համաչափ զարգացման խթանում | F16: ՀՀ համայնքների կառավարման արդյունավետության բարձրացում և տնտեսական գործունեության խթանում | G16: 24143.8 | H16: 24143.8
C17: 1212-12025 | D17: Մարզերում առաջնահերթ լուծում պահանջող հիմնախնդիրների լուծում | E17: Մարզերում առաջնահերթ լուծում պահանջող ծրագրերի իրականացում, որի արդյունքում լուծում կտրվի բնակչության և համայնքների սոցիալական նշանակություն ունեցող հիմնախնդիրներին | F17: Տրանսֆերտների տրամադրում | G17: ='2'!H23 -> 152216.5 | H17: ='2'!I23 -> 266341.4
C18: 1212 - 32001 | D18: ՀՀ մարզերում առաջնահերթ լուծում պահանջող անհետաձգելի ծրագրերի իրականացում | E18: ՀՀ մարզերում առաջնահերթ լուծում պահանջող անհետաձգելի ծրագրերի իրականացում, որի արդյունքում լուծում կտրվի մարզային ենթակայության կազմակերպությունների և համայնքային նշանակություն ունեցող հիմնախնդիրներին | F18: Այլ պետական կազմակերպությունների կողմից օգտագործվող ոչ ֆինանսական ակտիվների հետ գործառնություններ | G18: ='2'!H39 -> -128072.7 | H18: -242197.6
A19: ՀՀ Շիրակի մարզպետի աշխատակազմ | G19: =G20 -> 1048 | H19: =H20 -> 1048
B20: 1039 | D20: ՀՀ Շիրակի մարզում տարածքային պետական կառավարում | E20: ՀՀ Շիրակի մարզում պետական քաղաքականության իրականացման ապահովում | F20: ՀՀ Շիրակի մարզում պետական քաղաքականության իրականացման ապահովում | G20: =G21 -> 1048 | H20: =H21 -> 1048
C21: 1039 - 11001 | D21: ՀՀ Շիրակի մարզպետի աշխատակազմ կողմից տարածքային պետական կառավարման ապահովում | E21: Մարզպետի աշխատակազմի ենթակայության հիմնարկների կառավարում, կրթության, ճանապարհաշինության, քաղաքաշինության և այլ ոլորտներում հասարակական պատվերի տեղաբաշխում, տնտեսության և սոցիալական տարբեր ոլորտներում մարզային միջոցառումների համակարգում | F21: Ծառայությունների մատուցում | G21: ='2'!H123 -> 1048 | H21: ='2'!I123 -> 1048
A22: ՀՀ Սյունիքի մարզպետի աշխատակազմ | G22: =G23 -> 950 | H22: =H23 -> 950
B23: 1047 | D23: ՀՀ Սյունիքի մարզում տարածքային պետական կառավարում | E23: ՀՀ Սյունիքի մարզում պետական քաղաքականության իրականացման ապահովում | F23: ՀՀ Սյունիքի մարզում իրականացվող պետական ծրագրերի արդյունավետության և հասցեականության բարելավում, հետադարձ կապի ապահովում | G23: =G24 -> 950 | H23: =H24 -> 950
C24: 1047 - 11001 | D24: ՀՀ Սյունիքի մարզպետի աշխատակազմի կողմից տարածքային պետական կառավարման ապահովում | E24: Մարզպետի աշխատակազմի ենթակայության հիմնարկների կառավարում, կրթության, ճանապարհաշինության, քաղաքաշինության և այլ ոլորտներում հասարակական պատվերի տեղաբաշխում, տնտեսության և սոցիալական տարբեր ոլորտներում մարզային միջոցառումների համակարգում | F24: Ծառայությունների մատուցում | G24: ='2'!H145 -> 950 | H24: ='2'!I145 -> 950
B28: ՀԱՅԱՍՏԱՆԻ ՀԱՆՐԱՊԵՏՈՒԹՅԱՆ
B29: ՎԱՐՉԱՊԵՏԻ ԱՇԽԱՏԱԿԱԶՄԻ
C30: ՂԵԿԱՎԱՐ ՝ Ա. ՀԱՐՈՒԹՅՈՒՆՅԱՆ

Sheet 2
I1: Հավելված N 2
G2: ՀՀ կառավարության 2025 թվականի
I3: N ------------ -Ն որոշման
B5: ՀԱՅԱՍՏԱՆԻ ՀԱՆՐԱՊԵՏՈՒԹՅԱՆ ԿԱՌԱՎԱՐՈՒԹՅԱՆ 2024 ԹՎԱԿԱՆԻ ԴԵԿՏԵՄԲԵՐԻ 27-Ի N 2060-Ն ՈՐՈՇՄԱՆ NN 3 ԵՎ 4 ՀԱՎԵԼՎԱԾՆԵՐՈՒՄ ԿԱՏԱՐՎՈՂ ՓՈՓՈԽՈՒԹՅՈՒՆՆԵՐԸ ԵՎ ԼՐԱՑՈՒՄՆԵՐԸ
I6: հազար դրամներով
B7: Գործառական դասիչը | E7: Ծրագրային դասիչը | G7: Բյուջետային ծախսերի գործառական դասակարգման բաժինների, խմբերի և դասերի, բյուջետային ծրագրերի միջոցառումների, բյուջետային հատկացումների գլխավոր կարգադրիչների անվանումները | H7: Ցուցանիշների փոփոխությունը (ավելացումները նշված են դրական նշանով, իսկ նվազեցումները` փակագծերում)
B8: Բաժին | C8: Խումբ | D8: Դաս | E8: Ծրագիր | F8: Միջոցառում | H8: Ինն ամիս | I8: Տարի
G9: ԸՆԴԱՄԵՆԸ ԾԱԽՍԵՐ | H9: =H11+H133+H123 -> 0 | I9: =I11+I133+I123 -> 0
G10: այդ թվում`
G11: ՀՀ տարածքային կառավարման և ենթակառուցվածքների նախարարություն | H11: =H13+H94 -> -1998 | I11: =I13+I94 -> -1998
G12: այդ թվում`
B13: 01 | G13: ԸՆԴՀԱՆՈՒՐ ԲՆՈՒՅԹԻ ՀԱՆՐԱՅԻՆ ԾԱՌԱՅՈՒԹՅՈՒՆՆԵՐ | H13: 24143.8 | I13: =I15 -> 24143.8
G14: այդ թվում`
C15: 08 | G15: Կառավարության տարբեր մակարդակների միջև իրականացվող ընդհանուր բնույթի տրանսֆերտներ | H15: =H17 -> 24143.8 | I15: =I17 -> 24143.8
G16: այդ թվում`
D17: 01 | G17: Կառավարության տարբեր մակարդակների միջև իրականացվող ընդհանուր բնույթի տրանսֆերտներ | H17: =H19 -> 24143.8 | I17: =I19 -> 24143.8
G18: այդ թվում`
G19: ՀՀ տարածքային կառավարման և ենթակառուցվածքների նախարարություն | H19: =H21 -> 24143.8 | I19: =I21 -> 24143.8
G20: այդ թվում`
E21: 1212 | G21: Տարածքային զարգացում | H21: =H23+H39 -> 24143.8 | I21: 24143.8
G22: այդ թվում
F23: 12025 | G23: Մարզերում առաջնահերթ լուծում պահանջող հիմնախնդիրների լուծում | H23: =H25+H32 -> 152216.5 | I23: =I25+I32 -> 266341.4
G24: այդ թվում` ըստ կատարողների
G25: ՀՀ Լոռու մարզպետի աշխատակազմ | H25: =H27 -> 150000 | I25: =I27 -> 263175
G26: այդ թվում` բյուջետային ծախսերի տնտեսագիտական դասակարգման հոդվածներ
G27: ԸՆԴԱՄԵՆԸ ԾԱԽՍԵՐ | H27: =H31 -> 150000 | I27: =I31 -> 263175
G28: ԸՆԹԱՑԻԿ ԾԱԽՍԵՐ | H28: =H31 -> 150000 | I28: =I31 -> 263175
G29: ԴՐԱՄԱՇՆՈՐՀՆԵՐ | H29: =H31 -> 150000 | I29: =I31 -> 263175
G30: Կապիտալ դրամաշնորհներ պետական հատվածի այլ մակարդակներին | H30: =H31 -> 150000 | I30: =I31 -> 263175
G31: - Կապիտալ սուբվենցիաներ համայնքներին | H31: ='5.'!E19 -> 150000 | I31: ='5.'!F19 -> 263175
G32: ՀՀ Վայոց ձորի մարզպետի աշխատակազմ | H32: =H34 -> 2216.5 | I32: =I34 -> 3166.4
G33: այդ թվում` բյուջետային ծախսերի տնտեսագիտական դասակարգման հոդվածներ
G34: ԸՆԴԱՄԵՆԸ ԾԱԽՍԵՐ | H34: =H35 -> 2216.5 | I34: =I35 -> 3166.4
G35: ԸՆԹԱՑԻԿ ԾԱԽՍԵՐ | H35: =H36 -> 2216.5 | I35: =I36 -> 3166.4
G36: ԴՐԱՄԱՇՆՈՐՀՆԵՐ | H36: =H37 -> 2216.5 | I36: =I37 -> 3166.4
G37: Ընթացիկ դրամաշնորհներ պետական հատվածի այլ մակարդակներին | H37: =H38 -> 2216.5 | I37: =I38 -> 3166.4
G38: - Ընթացիկ դրամաշնորհներ պետական և համայնքների ոչ առևտրային կազմակերպություններին | H38: 2216.5 | I38: 3166.4
F39: 32001 | G39: ՀՀ մարզերում առաջնահերթ լուծում պահանջող անհետաձգելի ծրագրերի իրականացում | H39: =H41+H55+H62+H72+H79+H48+H87 -> -128072.7 | I39: =I41+I55+I62+I72+I79+I48+I87 -> -242197.6
G40: այդ թվում` ըստ կատարողների
G41: ՀՀ կառավարություն | H41: =H43 -> -1213651.6 | I41: =I43 -> -1542356.5
G42: այդ թվում` բյուջետային ծախսերի տնտեսագիտական դասակարգման հոդվածներ
G43: ԸՆԴԱՄԵՆԸ ԾԱԽՍԵՐ | H43: =H44 -> -1213651.6 | I43: =I44 -> -1542356.5
G44: ՈՉ ՖԻՆԱՆՍԱԿԱՆ ԱԿՏԻՎՆԵՐԻ ԳԾՈՎ ԾԱԽՍԵՐ | H44: =H45 -> -1213651.6 | I44: =I45 -> -1542356.5
G45: ՀԻՄՆԱԿԱՆ ՄԻՋՈՑՆԵՐ | H45: =H46 -> -1213651.6 | I45: =I46 -> -1542356.5
G46: ՇԵՆՔԵՐ ԵՎ ՇԻՆՈՒԹՅՈՒՆՆԵՐ | H46: =H47 -> -1213651.6 | I46: =I47 -> -1542356.5
G47: - Շենքերի և շինությունների կապիտալ վերանորոգում | H47: =-H25-H32-H55-H62-H72-H79-H87-H123-H143 -> -1213651.6 | I47: =-I25-I32-I55-I62-I72-I79-I87-I123-I143 -> -1542356.5
G48: ՀՀ Արարատի մարզպետի աշխատակազմ | H48: =H50 -> 26141.8 | I48: =I50 -> 26141.8
G49: այդ թվում` բյուջետային ծախսերի տնտեսագիտական դասակարգման հոդվածներ
G50: ԸՆԴԱՄԵՆԸ ԾԱԽՍԵՐ | H50: =H51 -> 26141.8 | I50: =I51 -> 26141.8
G51: ՈՉ ՖԻՆԱՆՍԱԿԱՆ ԱԿՏԻՎՆԵՐԻ ԳԾՈՎ ԾԱԽՍԵՐ | H51: =H52 -> 26141.8 | I51: =I52 -> 26141.8
G52: ՀԻՄՆԱԿԱՆ ՄԻՋՈՑՆԵՐ | H52: =H53 -> 26141.8 | I52: =I53 -> 26141.8
G53: ՇԵՆՔԵՐ ԵՎ ՇԻՆՈՒԹՅՈՒՆՆԵՐ | H53: =H54 -> 26141.8 | I53: =I54 -> 26141.8
G54: - Շենքերի և շինությունների շինարարություն | H54: 26141.8 | I54: =H54 -> 26141.8
G55: ՀՀ Արմավիրի մարզպետի աշխատակազմ | H55: =H57 -> 287987.1 | I55: =I57 -> 287987.1
G56: այդ թվում` բյուջետային ծախսերի տնտեսագիտական դասակարգման հոդվածներ
G57: ԸՆԴԱՄԵՆԸ ԾԱԽՍԵՐ | H57: =H58 -> 287987.1 | I57: =I58 -> 287987.1
G58: ՈՉ ՖԻՆԱՆՍԱԿԱՆ ԱԿՏԻՎՆԵՐԻ ԳԾՈՎ ԾԱԽՍԵՐ | H58: =H59 -> 287987.1 | I58: =I59 -> 287987.1
G59: ՀԻՄՆԱԿԱՆ ՄԻՋՈՑՆԵՐ | H59: =H60 -> 287987.1 | I59: =I60 -> 287987.1
G60: ՇԵՆՔԵՐ ԵՎ ՇԻՆՈՒԹՅՈՒՆՆԵՐ | H60: =H61 -> 287987.1 | I60: =I61 -> 287987.1
G61: - Շենքերի և շինությունների կապիտալ վերանորոգում | H61: =I61 -> 287987.1 | I61: ='9.'!J25 -> 287987.1
G62: ՀՀ Լոռու մարզպետի աշխատակազմ | H62: =H64 -> 380999.6 | I62: =I64 -> 434106.4
G63: այդ թվում` բյուջետային ծախսերի տնտեսագիտական դասակարգման հոդվածներ
G64: ԸՆԴԱՄԵՆԸ ԾԱԽՍԵՐ | H64: =H65 -> 380999.6 | I64: =I65 -> 434106.4
G65: ՈՉ ՖԻՆԱՆՍԱԿԱՆ ԱԿՏԻՎՆԵՐԻ ԳԾՈՎ ԾԱԽՍԵՐ | H65: =H66 -> 380999.6 | I65: =I66 -> 434106.4
G66: ՀԻՄՆԱԿԱՆ ՄԻՋՈՑՆԵՐ | H66: =H67+H70 -> 380999.6 | I66: =I67+I70 -> 434106.4
G67: ՇԵՆՔԵՐ ԵՎ ՇԻՆՈՒԹՅՈՒՆՆԵՐ | H67: =H68+H69 -> 376600 | I67: =I68+I69 -> 429706.8
G68: - Շենքերի և շինությունների կապիտալ վերանորոգում | H68: ='4'!E32+'4'!E33 -> 76600 | I68: ='4'!F32+'4'!F33 -> 129706.8
G69: - Շենքերի և շինությունների շինարարություն | H69: ='4'!E31 -> 300000 | I69: ='4'!F31 -> 300000
G70: ԱՅԼ ՀԻՄՆԱԿԱՆ ՄԻՋՈՑՆԵՐ | H70: =H71 -> 4399.6 | I70: =I71 -> 4399.6
G71: - Նախագծահետազոտական ծախսեր | H71: ='3.'!H28 -> 4399.6 | I71: =H71 -> 4399.6
G72: ՀՀ Կոտայքի մարզպետի աշխատակազմ | H72: =H75 -> 100000 | I72: =I75 -> 100000
G73: այդ թվում` բյուջետային ծախսերի տնտեսագիտական դասակարգման հոդվածներ
G74: ԸՆԴԱՄԵՆԸ ԾԱԽՍԵՐ | H74: =H75 -> 100000 | I74: =I75 -> 100000
G75: ՈՉ ՖԻՆԱՆՍԱԿԱՆ ԱԿՏԻՎՆԵՐԻ ԳԾՈՎ ԾԱԽՍԵՐ | H75: =H76 -> 100000 | I75: =I76 -> 100000
G76: ՀԻՄՆԱԿԱՆ ՄԻՋՈՑՆԵՐ | H76: =H77 -> 100000 | I76: =I77 -> 100000
G77: ՇԵՆՔԵՐ ԵՎ ՇԻՆՈՒԹՅՈՒՆՆԵՐ | H77: =H78 -> 100000 | I77: =I78 -> 100000
G78: - Շենքերի և շինությունների շինարարություն | H78: ='4'!E37 -> 100000 | I78: ='4'!F37 -> 100000
G79: ՀՀ Սյունիքի մարզպետի աշխատակազմ | H79: =H81 -> 128977.1 | I79: =I81 -> 128977.1
G80: այդ թվում` բյուջետային ծախսերի տնտեսագիտական դասակարգման հոդվածներ
G81: ԸՆԴԱՄԵՆԸ ԾԱԽՍԵՐ | H81: =H82 -> 128977.1 | I81: =I82 -> 128977.1
G82: ՈՉ ՖԻՆԱՆՍԱԿԱՆ ԱԿՏԻՎՆԵՐԻ ԳԾՈՎ ԾԱԽՍԵՐ | H82: =H83 -> 128977.1 | I82: =I83 -> 128977.1
G83: ՀԻՄՆԱԿԱՆ ՄԻՋՈՑՆԵՐ | H83: =H84 -> 128977.1 | I83: =I84 -> 128977.1
G84: ՇԵՆՔԵՐ ԵՎ ՇԻՆՈՒԹՅՈՒՆՆԵՐ | H84: =H85+H86 -> 128977.1 | I84: =I85+I86 -> 128977.1
G85: - Շենքերի և շինությունների շինարարություն | H85: =I85 -> 31434.6 | I85: 31434.6
G86: - Շենքերի և շինությունների կապիտալ վերանորոգում | H86: ='3.'!G33 -> 97542.5 | I86: =H86 -> 97542.5
G87: ՀՀ Տավուշի մարզպետի աշխատակազմ | H87: =H89 -> 161473.3 | I87: =I89 -> 322946.5
G88: այդ թվում` բյուջետային ծախսերի տնտեսագիտական դասակարգման հոդվածներ
G89: ԸՆԴԱՄԵՆԸ ԾԱԽՍԵՐ | H89: =H90 -> 161473.3 | I89: =I90 -> 322946.5
G90: ՈՉ ՖԻՆԱՆՍԱԿԱՆ ԱԿՏԻՎՆԵՐԻ ԳԾՈՎ ԾԱԽՍԵՐ | H90: =H91 -> 161473.3 | I90: =I91 -> 322946.5
G91: ՀԻՄՆԱԿԱՆ ՄԻՋՈՑՆԵՐ | H91: =H92 -> 161473.3 | I91: =I92 -> 322946.5
G92: ՇԵՆՔԵՐ ԵՎ ՇԻՆՈՒԹՅՈՒՆՆԵՐ | H92: =H93 -> 161473.3 | I92: =I93 -> 322946.5
G93: - Շենքերի և շինությունների շինարարություն | H93: ='4'!E42 -> 161473.3 | I93: ='4'!F42 -> 322946.5
B94: 04 | G94: ՏՆՏԵՍԱԿԱՆ ՀԱՐԱԲԵՐՈՒԹՅՈՒՆՆԵՐ | H94: =H96 -> -26141.8 | I94: =I96 -> -26141.8
G95: այդ թվում`
C96: 02 | G96: Գյուղատնտեսություն, անտառային տնտեսություն, ձկնորսություն և որսորդություն | H96: =H98 -> -26141.8 | I96: -26141.8
G97: այդ թվում`
D98: 04 | G98: Ոռոգում | H98: =H100 -> -26141.8 | I98: -26141.8
G99: այդ թվում`
G100: ՀՀ տարածքային կառավարման և ենթակառուցվածքների նախարարություն | H100: =H102 -> -26141.8 | I100: -26141.8
G101: այդ թվում`
...

Sheet 3.
I1: Հավելված N 3
I2: ՀՀ կառավարության 2025 թվականի
I3: ______________ ի ___Ն որոշման
B5: «ՀԱՅԱՍՏԱՆԻ ՀԱՆՐԱՊԵՏՈՒԹՅԱՆ 2025 ԹՎԱԿԱՆԻ ՊԵՏԱԿԱՆ ԲՅՈՒՋԵԻ ՄԱՍԻՆ» ՕՐԵՆՔԻ N 1 ՀԱՎԵԼՎԱԾԻ N 3 ԱՂՅՈՒՍԱԿՈՒՄ ԿԱՏԱՐՎՈՂ ՓՈՓՈԽՈՒԹՅՈՒՆՆԵՐԸ ԵՎ ԼՐԱՑՈՒՄՆԵՐԸ
H6: հազար դրամներով
B7: Ծրագրային դասիչ | D7: Բյուջետային գլխավոր կարգադրիչների, ծրագրերի, միջոցառումների և ուղղությունների անվանումները | E7: Ցուցանիշների փոփոխությունը (ավելացումները նշված են դրական նշանով, իսկ նվազեցումները` փակագծերում)
E8: Ընդամենը, | F8: այդ թվում՝
B9: Ծրագիր | C9: Միջոցառում | F9: Կառուցման աշխատանքներ | G9: Վերակառուցման, վերանորոգման և վերականգնման աշխատանքներ | H9: Նախագծահե- տազոտական, գեոդեզիա- քարտեզագրա- կան աշխա- տանքներ | I9: Ոչ ֆինանսական այլ ակտիվների ձեռքբերում
D10: ԸՆԴԱՄԵՆԸ | E10: =+F10+G10+H10+I10 -> -268339.4 | F10: =+F12 -> 780522.9 | G10: =+G12 -> -1053261.9 | H10: =+H12 -> 4399.6 | I10: =+I12 -> 0
D11: այդ թվում՝
D12: ՀՀ ՏԱՐԱԾՔԱՅԻՆ ԿԱՌԱՎԱՐՄԱՆ ԵՎ ԵՆԹԱԿԱՌՈՒՑՎԱԾՔՆԵՐԻ ՆԱԽԱՐԱՐՈՒԹՅՈՒՆ | E12: =F12+G12+H12+I12 -> -268339.4 | F12: =F17+F14 -> 780522.9 | G12: =G17+G14 -> -1053261.9 | H12: =H17+H14 -> 4399.6 | I12: =I17+I14 -> 0
D13: այդ թվում`
B14: 1004 | C14: 31002 | D14: Ոռոգման համակարգերի հիմնանորոգում | E14: =SUM(F14:I14) -> -26141.8 | F14: =SUM(F15:F16) -> 0 | G14: =SUM(G15:G16) -> -26141.8 | H14: =SUM(H15:H16) -> 0 | I14: =SUM(I15:I16) -> 0
D15: Գետափ-Եղեգնաձոր ջրանցքի հիմնանորոգում | E15: =SUM(F15:I15) -> -62.7 | F15: 0 | G15: -62.7 | H15: 0 | I15: 0
D16: «Սյունիք» ՋՕԸ-ի կողմից շահագործվող Արաքս 1 պոմպակայանի մղման խողովակաշարի հիմնանորոգում | E16: =SUM(F16:I16) -> -26079.1 | F16: 0 | G16: -26079.1 | H16: 0 | I16: 0
B17: 1212 | C17: 32001 | D17: ՀՀ մարզերում առաջնահերթ լուծում պահանջող անհետաձգելի ծրագրերի իրականացում | E17: =+F17+G17+H17+I17 -> -242197.6 | F17: =F19+F20+F24+F31+F29+F22+F34 -> 780522.9 | G17: =G19+G20+G24+G31+G29+G22+G34 -> -1027120.1 | H17: =H19+H20+H24+H31+H29+H22+H34 -> 4399.6 | I17: =I19+I20+I24+I31+I29+I22+I34 -> 0
D18: այդ թվում`
D19: ՀՀ կառավարություն | E19: =F19+G19+H19+I19 -> -1542356.5 | F19: 0 | G19: ='2'!I47 -> -1542356.5 | H19: 0 | I19: 0
D20: ՀՀ Արարատի մարզ | E20: =E21 -> 26141.8 | F20: =F21 -> 26141.8 | G20: =G21 -> 0 | H20: =H21 -> 0 | I20: =I21 -> 0
D21: Զանգակատան ջրամբարի ոռոգման ցանցի 1կմ երկարությամբ ջրատարի կառուցման աշխատանքներ | E21: =F21+G21+H21+I21 -> 26141.8 | F21: ='4'!F23 -> 26141.8 | G21: 0 | H21: 0 | I21: 0
D22: ՀՀ Արմավիրի մարզ | E22: =E23 -> 287987.1 | F22: =F23 -> 0 | G22: =G23 -> 287987.1 | H22: =H23 -> 0 | I22: =I23 -> 0
D23: Փարաքար համայնքի Փարաքար բնակավայրի Արևելյան նորակառույց թաղամասով անցնող անձրևատար կոլեկտորի վերակառուցման աշխատանքներ | E23: =F23+G23+H23+I23 -> 287987.1 | F23: 0 | G23: ='2'!I55 -> 287987.1 | H23: 0 | I23: 0
D24: ՀՀ Լոռու մարզ | E24: =E25+E26+E27+E28 -> 434106.4 | F24: =F25+F26+F27 -> 300000 | G24: =G25+G26+G27 -> 129706.8 | H24: =H28+H25+H26+H27 -> 4399.6 | I24: =I28+I25+I26+I27 -> 0
D25: Ալավերդի քաղաքի Թումանյան փողոցի քանդված հենապատերի կառուցման, ճանապարհի ասֆալտապատման, կապիտալ վերանորոգման, մայթերի կառուցման, վերականգնման, ճանապարհի կահավորման՝ գծանշումներ, ճանապարհային նշանների տեղադրման, ճաղաշարերի տեղադրման աշխատանքներ | E25: =F25+G25+H25+I25 -> 300000 | F25: 300000 | G25: 0 | H25: 0 | I25: 0
D26: Ալավերդի համայնքի ճանապարհների և բակային հատվածների ասֆալտապատման, կապիտալ վերանորոգման և խաղահրապարակների կառուցման աշխատանքներ /Թումանյան փողոցի թիվ 5 և թիվ 6 շենքերի բակային տարածք/ | E26: =F26+G26+H26+I26 -> 50880 | F26: 0 | G26: ='9.'!J42+'9.'!J41+'9.'!J37 -> 50880 | H26: 0 | I26: 0
D27: Ալավերդի քաղաքի Սանահին թաղամասի ջրամատակարարման արտաքին ջրատար համակարգի վերակառուցման աշխատանքներ | E27: =F27+G27+H27+I27 -> 78826.8 | F27: 0 | G27: ='9.'!J45+'9.'!J46+'9.'!J39 -> 78826.8 | H27: 0 | I27: 0
D28: ՀՀ Լոռու մարզի կրթահամալիրներ տանող ճանապարհների միջին նորոգման և հիմնանորոգման աշխատանքների նախագծանախահաշվային փաստաթղթերի ձեռքբերում և նախագծանախահաշվային փաստաթղթերի պարզ փորձաքննություն | E28: =F28+G28+H28+I28 -> 4399.6 | H28: ='9.'!J47+'9.'!J48 -> 4399.6
D29: ՀՀ Կոտայքի մարզ | E29: =E30 -> 100000 | F29: =F30 -> 100000 | G29: =G30 -> 0 | H29: =H30 -> 0 | I29: =I30 -> 0
D30: Հայաստանի Հանրապետության Կոտայքի մարզի Աբովյան համայնքի Պտղնի բնակավայրի մանկապարտեզի հիմնանորոգման և նոր մասնաշենքի կառուցման աշխատանքներ | E30: =F30+G30+H30+I30 -> 100000 | F30: ='4'!F37 -> 100000 | G30: 0 | H30: 0 | I30: 0
D31: ՀՀ Սյունիքի մարզ | E31: =F31+G31+H31+I31 -> 128977.1 | F31: =F32 -> 31434.6 | G31: =G32+G33 -> 97542.5 | H31: =H32 -> 0 | I31: =I32 -> 0
D32: ՀՀ Սյունիքի մարզի Մեղրի քաղաքի Ադելյան 5 հասցեում գտնվող մանկապարտեզի շրջակա տարածքի դրենաժային համակարգի կառուցման աշխատանքներ | E32: =F32+G32+H32+I32 -> 31434.6 | F32: ='2'!I85 -> 31434.6 | G32: 0 | H32: 0 | I32: 0
D33: Սիսիան համայնքի թվով 5 բազմաբնակարան բնակելի շենքերի տանիքների վերանորոգման աշխատանքներ | E33: =F33+G33+H33+I33 -> 97542.5 | F33: 0 | G33: ='9.'!J66+'9.'!J67+'9.'!J68+'9.'!J69+'9.'!J70+'9.'!J73+'9.'!J74+'9.'!J75+'9.'!J76+'9.'!J77+'9.'!J79+'9.'!J80+'9.'!J81+'9.'!J82+'9.'!J83 -> 97542.5 | H33: 0 | I33: 0
D34: ՀՀ Տավուշի մարզ | E34: =F34 -> 322946.5 | F34: =F36+F37+F38 -> 322946.5 | G34: =G36+G37+G38 -> 0 | H34: =H36+H37+H38 -> 0 | I34: =I36+I37+I38 -> 0
D35: այդ թվում՝ ըստ ուղղությունների
D36: Իջևան համայնքի Կիրանց բնակավայրի ոռոգման համակարգի կառուցման աշխատանքներ | E36: =F36+G36+H36+I36 -> 141297.1 | F36: 141297.1 | G36: 0 | H36: 0 | I36: 0
D37: Իջևան համայնքի Կիրանց բնակավայրի խմելու ջրի համակարգի կառուցման աշխատանքներ | E37: =F37+G37+H37+I37 -> 76901.6 | F37: 76901.6 | G37: 0 | H37: 0 | I37: 0
D38: Իջևան համայնքի Սարիգյուղ բնակավայրի խմելու ջրի համակարգի կառուցման աշխատանքներ | E38: =F38+G38+H38+I38 -> 104747.8 | F38: 104747.8 | G38: 0 | H38: 0 | I38: 0
D44: ՀԱՅԱՍՏԱՆԻ ՀԱՆՐԱՊԵՏՈՒԹՅԱՆ
D45: ՎԱՐՉԱՊԵՏԻ ԱՇԽԱՏԱԿԱԶՄԻ ՂԵԿԱՎԱՐ ՝
D46: Ա. ՀԱՐՈՒԹՅՈՒՆՅԱՆ

Sheet 4
F1: Հավելված 4
F2: ՀՀ կառավարության 2025 թվականի
F3: ______________ ի ___Ն որոշման
B5: ՀԱՅԱՍՏԱՆԻ ՀԱՆՐԱՊԵՏՈՒԹՅԱՆ ԿԱՌԱՎԱՐՈՒԹՅԱՆ 2024 ԹՎԱԿԱՆԻ ԴԵԿՏԵՄԲԵՐԻ 27-Ի N 2060-Ն ՈՐՈՇՄԱՆ N 5 ՀԱՎԵԼՎԱԾԻ N 2 ԱՂՅՈՒՍԱԿՈՒՄ ԿԱՏԱՐՎՈՂ ՓՈՓՈԽՈՒԹՅՈՒՆՆԵՐԸ ԵՎ ԼՐԱՑՈՒՄՆԵՐԸ
E7: հազար դրամներով
B8: Ծրագրային դասիչը | D8: Բյուջետային գլխավոր կարգադրիչների, ծրագրերի, միջոցառումների և ուղղությունների անվանումները | E8: Ցուցանիշների փոփոխությունը (ավելացումները նշված են դրական նշանով, իսկ նվազեցումները` փակագծերում)
B9: Ծրագիր | C9: Միջոցառում | E9: Ինն ամիս | F9: Տարի
D10: ԸՆԴԱՄԵՆԸ | E10: =E12 -> -154214.5 | F10: =F12 -> -268339.4
D11: այդ թվում՝
D12: ՀՀ ՏԱՐԱԾՔԱՅԻՆ ԿԱՌԱՎԱՐՄԱՆ ԵՎ ԵՆԹԱԿԱՌՈՒՑՎԱԾՔՆԵՐԻ ՆԱԽԱՐԱՐՈՒԹՅՈՒՆ | E12: =E20+E14 -> -154214.5 | F12: =F20+F14 -> -268339.4
D13: այդ թվում`
B14: 1004 | C14: 31002 | D14: Ոռոգման համակարգերի հիմնանորոգում | E14: =+E16 -> -26141.8 | F14: =+F16 -> -26141.8
D15: այդ թվում` ըստ կատարողների
D16: ՀՀ տարածքային կառավարման և ենթակառուցվածքների նախարարության ջրային կոմիտե | E16: =E18+E19 -> -26141.8 | F16: =F18+F19 -> -26141.8
D17: այդ թվում՝ ըստ ուղղությունների
D18: Գետափ-Եղեգնաձոր ջրանցքի հիմնանորոգում | E18: ='3.'!G15 -> -62.7 | F18: =E18 -> -62.7
D19: «Սյունիք» ՋՕԸ-ի կողմից շահագործվող Արաքս 1 պոմպակայանի մղման խողովակաշարի հիմնանորոգում | E19: ='3.'!G16 -> -26079.1 | F19: =E19 -> -26079.1
B20: 1212 | C20: 32001 | D20: ՀՀ մարզերում առաջնահերթ լուծում պահանջող անհետաձգելի ծրագրերի իրականացում | E20: =E22+E23+E29+E38+E26+E35+E42 -> -128072.7 | F20: =F22+F23+F29+F38+F26+F35+F42 -> -242197.6
D21: այդ թվում` ըստ կատարողների
D22: ՀՀ կառավարություն | E22: ='2'!H41 -> -1213651.6 | F22: ='2'!I41 -> -1542356.5
D23: ՀՀ Արարատի մարզպետի աշխատակազմ | E23: =E25 -> 26141.8 | F23: =F25 -> 26141.8
D24: այդ թվում` ըստ ուղղությունների
D25: Զանգակատան ջրամբարի ոռոգման ցանցի 1կմ երկարությամբ ջրատարի կառուցման աշխատանքներ | E25: ='2'!H48 -> 26141.8 | F25: ='2'!I48 -> 26141.8
D26: ՀՀ Արմավիրի մարզպետի աշխատակազմ | E26: =E28 -> 287987.1 | F26: =F28 -> 287987.1
D27: այդ թվում` ըստ ուղղությունների
D28: Փարաքար համայնքի Փարաքար բնակավայրի Արևելյան նորակառույց թաղամասով անցնող անձրևատար կոլեկտորի վերակառուցման աշխատանքներ | E28: ='2'!H55 -> 287987.1 | F28: ='2'!I55 -> 287987.1
D29: ՀՀ Lոռու մարզպետի աշխատակազմ | E29: =E31+E32+E33+E34 -> 380999.6 | F29: =F31+F32+F33+F34 -> 434106.4
D30: այդ թվում` ըստ ուղղությունների
D31: Ալավերդի քաղաքի Թումանյան փողոցի քանդված հենապատերի կառուցման, ճանապարհի ասֆալտապատման, կապիտալ վերանորոգման, մայթերի կառուցման, վերականգնման, ճանապարհի կահավորման՝ գծանշումներ, ճանապարհային նշանների տեղադրման, ճաղաշարերի տեղադրման աշխատանքներ | E31: 300000 | F31: =E31 -> 300000
D32: Ալավերդի համայնքի ճանապարհների և բակային հատվածների ասֆալտապատման, կապիտալ վերանորոգման և խաղահրապարակների կառուցման աշխատանքներ /Թումանյան փողոցի թիվ 5 և թիվ 6 շենքերի բակային տարածք/ | E32: 30000 | F32: ='3.'!G26 -> 50880
D33: Ալավերդի քաղաքի Սանահին թաղամասի ջրամատակարարման արտաքին ջրատար համակարգի վերակառուցման աշխատանքներ | E33: 46600 | F33: ='3.'!G27 -> 78826.8
D34: ՀՀ Լոռու մարզի կրթահամալիրներ տանող ճանապարհների միջին նորոգման և հիմնանորոգման աշխատանքների նախագծանախահաշվային փաստաթղթերի ձեռքբերում և նախագծանախահաշվային փաստաթղթերի պարզ փորձաքննություն | E34: ='3.'!H28 -> 4399.6 | F34: =E34 -> 4399.6
D35: ՀՀ Կոտայքի մարզպետի աշխատակազմ | E35: =E37 -> 100000 | F35: =F37 -> 100000
D36: այդ թվում` ըստ ուղղությունների
D37: Հայաստանի Հանրապետության Կոտայքի մարզի Աբովյան համայնքի Պտղնի բնակավայրի մանկապարտեզի հիմնանորոգման և նոր մասնաշենքի կառուցման աշխատանքներ | E37: 100000 | F37: 100000
D38: ՀՀ Սյունիքի մարզպետի աշխատակազմ | E38: =E40+E41 -> 128977.1 | F38: =F40+F41 -> 128977.1
D39: այդ թվում` ըստ ուղղությունների
D40: ՀՀ Սյունիքի մարզի Մեղրի քաղաքի Ադելյան 5 հասցեում գտնվող մանկապարտեզի շրջակա տարածքի դրենաժային համակարգի կառուցման աշխատանքներ | E40: ='2'!H85 -> 31434.6 | F40: ='2'!I85 -> 31434.6
D41: Սիսիան համայնքի թվով 5 բազմաբնակարան բնակելի շենքերի տանիքների վերանորոգման աշխատանքներ | E41: ='2'!H86 -> 97542.5 | F41: ='2'!I86 -> 97542.5
D42: ՀՀ Տավուշի մարզ | E42: =E44+E45+E46 -> 161473.3 | F42: =F44+F45+F46 -> 322946.5
D43: այդ թվում՝ ըստ ուղղությունների
D44: Իջևան համայնքի Կիրանց բնակավայրի ոռոգման համակարգի կառուցման աշխատանքներ | E44: 70648.6 | F44: 141297.1
D45: Իջևան համայնքի Կիրանց բնակավայրի խմելու ջրի համակարգի կառուցման աշխատանքներ | E45: 38450.8 | F45: 76901.6
D46: Իջևան համայնքի Սարիգյուղ բնակավայրի խմելու ջրի համակարգի կառուցման աշխատանքներ | E46: 52373.9 | F46: 104747.8
C50: ՀԱՅԱՍՏԱՆԻ ՀԱՆՐԱՊԵՏՈՒԹՅԱՆ
C51: ՎԱՐՉԱՊԵՏԻ ԱՇԽԱՏԱԿԱԶՄԻ
D52: ՂԵԿԱՎԱՐ՝ Ա. ՀԱՐՈՒԹՅՈՒՆՅԱՆ

Sheet 5.
F1: Հավելված № 5
D2: ՀՀ կառավարության 2025 թվականի
E3: -------------- ի № ---- -Ն որոշման
B5: «ՀԱՅԱՍՏԱՆԻ ՀԱՆՐԱՊԵՏՈՒԹՅԱՆ 2025 ԹՎԱԿԱՆԻ ՊԵՏԱԿԱՆ ԲՅՈՒՋԵԻ ՄԱՍԻՆ» ՕՐԵՆՔԻ N 1 ՀԱՎԵԼՎԱԾԻ N 7 ԱՂՅՈՒՍԱԿՈՒՄ ԵՎ ՀԱՅԱՍՏԱՆԻ ՀԱՆՐԱՊԵՏՈՒԹՅԱՆ ԿԱՌԱՎԱՐՈՒԹՅԱՆ 2024 ԹՎԱԿԱՆԻ ԴԵԿՏԵՄԲԵՐԻ 27-Ի N 2060-Ն ՈՐՈՇՄԱՆ N 5 ՀԱՎԵԼՎԱԾԻ N 6 ԱՂՅՈՒՍԱԿՈՒՄ ԿԱՏԱՐՎՈՂ ԼՐԱՑՈՒՄԸ
F6: հազար դրամներով
B7: Ծրագրային դասիչը | D7: Հատկացումների տրամադրման նպատակները և բյուջետային գլխավոր կարգադրիչների, ծրագրերի, միջոցառումների և կատարող պետական մարմնի անվանումները | E7: Ցուցանիշների փոփոխությունը (ավելացումները նշված են դրական նշանով)
B8: Ծրագիր | C8: Միջոցառում | E8: Ինն ամիս | F8: Տարի
D9: ԸՆԴԱՄԵՆԸ | E9: =E11 -> 150000 | F9: =F11 -> 263175
D10: այդ թվում
D11: Կապիտալ սուբվենցիաներ համայնքներին | E11: =E13 -> 150000 | F11: =F13 -> 263175
D12: այդ թվում`
D13: ՀՀ տարածքային կառավարման և ենթակառուցվածքների նախարարություն | E13: =E15 -> 150000 | F13: =F15 -> 263175
D14: այդ թվում`
B15: 1212 | D15: Տարածքային զարգացում | E15: =E17 -> 150000 | F15: =F17 -> 263175
D16: այդ թվում`
C17: 12025 | D17: Մարզերում առաջնահերթ լուծում պահանջող հիմնախնդիրների լուծում | E17: =E19 -> 150000 | F17: =F19 -> 263175
D18: այդ թվում` ըստ կատարողների
D19: ՀՀ Լոռու մարզպետի աշխատակազմ | E19: =E21 -> 150000 | F19: =F21 -> 263175
D20: այդ թվում` ըստ ուղղությունների
D21: Տաշիր համայնքի թվով 6 կամուրջների հիմնանորոգում և Տաշիր քաղաքի Գետափնյա 8 շենքի հիմքի վերանորոգում և մայթի վերականգնում | E21: 150000 | F21: 263175
C25: ՀԱՅԱՍՏԱՆԻ ՀԱՆՐԱՊԵՏՈՒԹՅԱՆ
C26: ՎԱՐՉԱՊԵՏԻ ԱՇԽԱՏԱԿԱԶՄԻ
D27: ՂԵԿԱՎԱՐ ՝ Ա. ՀԱՐՈՒԹՅՈՒՆՅԱՆ

Sheet 6.
H1: Հավելված N 6
H2: ՀՀ կառավարության 2025 թվականի
H3: ______________ ի ___Ն որոշման
B5: ՀԱՅԱՍՏԱՆԻ ՀԱՆՐԱՊԵՏՈՒԹՅԱՆ ԿԱՌԱՎԱՐՈՒԹՅԱՆ 2024 ԹՎԱԿԱՆԻ ԴԵԿՏԵՄԲԵՐԻ 27-Ի N 2060-Ն ՈՐՈՇՄԱՆ N 5 ՀԱՎԵԼՎԱԾԻ N 7 ԱՂՅՈՒՍԱԿՈՒՄ ԿԱՏԱՐՎՈՂ ԼՐԱՑՈՒՄԸ
G6: հազար դրամներով
B7: Ծրագրային դասիչ | D7: Բյուջետային հատկացումների գլխավոր կարգադրիչների, ծրագրերի, միջոցառումների, ծախսային ուղղությունների անվանումները | G7: Միջոցառումները կատարող պետական մարմինների և դրամաշնորհ ստացող տնտեսվարող սուբյեկտների անվանումները | H7: Ցուցանիշների փոփոխությունը (ավելացումները նշված են դրական նշանով)
B8: Ծրագիր | C8: Միջոցառում | H8: Տարի
B9: 1 | C9: 2 | D9: 3 | G9: 4 | H9: 5
B10: ԸՆԴԱՄԵՆԸ | H10: =H11 -> 3166.4
B11: ՀՀ տարածքային կառավարման և ենթակառուցվածքների նախարարություն | H11: =H12 -> 3166.4
B12: 1212 | C12: Մարզերում առաջնահերթ լուծում պահանջող հիմնախնդիրների լուծում | H12: =H13 -> 3166.4
C13: 12025 | D13: Մարզերում առաջնահերթ լուծում պահանջող հիմնախնդիրների լուծում | G13: ՀՀ Վայոց ձորի մարզպետի աշխատակազմ | H13: =+H14 -> 3166.4
G14: «Եղեգնաձորի մշակույթի կենտրոն» ՊՈԱԿ | H14: ='2'!I32 -> 3166.4
C16: ՀԱՅԱՍՏԱՆԻ ՀԱՆՐԱՊԵՏՈՒԹՅԱՆ
C17: ՎԱՐՉԱՊԵՏԻ ԱՇԽԱՏԱԿԱԶՄԻ
D18: ՂԵԿԱՎԱՐ ՝ Ա. ՀԱՐՈՒԹՅՈՒՆՅԱՆ

Sheet 7.
K1: Հավելված N 7
J2: ՀՀ կառավարության 2025 թվականի
J3: ______________ ի ___Ն որոշման
B5: ՀԱՅԱՍՏԱՆԻ ՀԱՆՐԱՊԵՏՈՒԹՅԱՆ ԿԱՌԱՎԱՐՈՒԹՅԱՆ 2024 ԹՎԱԿԱՆԻ ԴԵԿՏԵՄԲԵՐԻ 27-Ի № 2060-Ն ՈՐՈՇՄԱՆ № 9 ՀԱՎԵԼՎԱԾԻ ԱՂՅՈՒՍԱԿՆԵՐՈՒՄ ԿԱՏԱՐՎՈՂ ՓՈՓՈԽՈՒԹՅՈՒՆԸ ԵՎ ԼՐԱՑՈՒՄՆԵՐԸ
L7: հազար դրամներով
B8: ԲԳԿ | C8: Ծրագիր | E8: Միջոցառում | I8: Իրականացնողը/ ակտիվն օգտագործողը/ շահառուի ընտրության չափորոշիչը | J8: Արդյունքային չափորոշիչը | K8: Ցուցանիշների փոփոխությունը (ավելացումները նշված են դրական նշանով, իսկ նվազեցումները` փակագծերում)
C9: Դասիչը | D9: Անվանումը | E9: Դասիչը | F9: Անվանումը | G9: Նկարագրությունը | H9: Տեսակը | K9: Ինն ամիս | L9: Տարի
B10: ԸՆԴԱՄԵՆԸ | K10: =K11+K31+K39 -> 0 | L10: =L11+L31+L39 -> 0
B11: ՀՀ տարածքային կառավարման և ենթակառուցվածքների նախարարություն | K11: =K12+K17 -> -1998 | L11: =L12+L17 -> -1998
C12: 1004 | D12: Ոռոգման համակարգի առողջացում | K12: =K13 -> -26141.8 | L12: =L13 -> -26141.8
E13: 1004 - 31002 | F13: Ոռոգման համակարգերի հիմնանորոգում | K13: -26141.8 | L13: =K13 -> -26141.8
G14: Ոռոգման համակարգերի հիմնանորոգում
H15: Պետական մարմինների կողմից օգտագործվող ոչ ֆինանսական ակտիվների հետ գործառնություններ
I16: Ակտիվն օգտագործող կազմակերպության անվանումը` ՀՀ ՏԿԵՆ ջրային կոմիտե
C17: 1212 | D17: Տարածքային զարգացում | K17: 24143.8 | L17: 24143.8
E18: 1212-12025 | F18: Մարզերում առաջնահերթ լուծում պահանջող հիմնախնդիրների լուծում | K18: ='1'!G17 -> 152216.5 | L18: ='1'!H17 -> 266341.4
G19: Մարզերում առաջնահերթ լուծում պահանջող ծրագրերի իրականացում, որի արդյունքում լուծում կտրվի բնակչության և համայնքների սոցիալական նշանակություն ունեցող հիմնախնդիրներին
H20: Տրանսֆերտների տրամադրում
I21: Համայնքներ
J22: Համայնքների թիվ, հատ | L22: ='8.'!L73+'8.'!L36 -> 2
E23: 1212 - 32001 | F23: ՀՀ մարզերում առաջնահերթ լուծում պահանջող անհետաձգելի ծրագրերի իրականացում | K23: ='2'!H39 -> -128072.7 | L23: ='2'!I39 -> -242197.6
G24: ՀՀ մարզերում առաջնահերթ լուծում պահանջող անհետաձգելի ծրագրերի իրականացում, որի արդյունքում լուծում կտրվի մարզային ենթակայության կազմակերպությունների և համայնքային նշանակություն ունեցող հիմնախնդիրներին
H25: Այլ պետական կազմակերպությունների կողմից օգտագործվող ոչ ֆինանսական ակտիվների հետ գործառնություններ
I26: Ակտիվն օգտագործող կազմակերպության անվանումը` ՀՀ համայնքներ
J27: Ոռոգման ցանցի երկարություն/գծամետր | L27: 8760
J28: խմելու ջրի ցանցի երկարություն/գծամետր | L28: 12167
J29: Համայնքների թիվ, հատ | L29: ='8.'!L29+'8.'!L41+'8.'!L48+'8.'!L66 -> 6
J30: Ոռոգման ցանցի ջրատարի երկարություն, կմ | L30: 1
B31: ՀՀ Շիրակի մարզպետի աշխատակազմ | K31: =K32 -> 1048 | L31: =L32 -> 1048
C32: 1039 | D32: ՀՀ Շիրակի մարզում տարածքային պետական կառավարում | K32: =K33 -> 1048 | L32: =L33 -> 1048
E33: 1039 - 11001 | F33: ՀՀ Շիրակի մարզպետի աշխատակազմ կողմից տարածքային պետական կառավարման ապահովում | K33: ='2'!H125 -> 1048 | L33: ='2'!I125 -> 1048
G34: Մարզպետի աշխատակազմի ենթակայության հիմնարկների կառավարում, կրթության, ճանապարհաշինության, քաղաքաշինության և այլ ոլորտներում հասարակական պատվերի տեղաբաշխում, տնտեսության և սոցիալական տարբեր ոլորտներում մարզային միջոցառումների համակարգում
H35: Ծառայությունների մատուցում
I36: Ծառայությունը մատուցողի անվանումը` ՀՀ Շիրակի մարզպետի աշխատակազմ
B39: ՀՀ Սյունիքի մարզպետի աշխատակազմ | K39: =K41 -> 950 | L39: =L41 -> 950
C40: 1047 | D40: ՀՀ Սյունիքի մարզում տարածքային պետական կառավարում | K40: =K41 -> 950 | L40: =L41 -> 950
E41: 1047 - 11001 | F41: ՀՀ Սյունիքի մարզպետի աշխատակազմի կողմից տարածքային պետական կառավարման ապահովում | K41: ='2'!H145 -> 950 | L41: ='2'!I145 -> 950
G42: Մարզպետի աշխատակազմի ենթակայության հիմնարկների կառավարում, կրթության, ճանապարհաշինության, քաղաքաշինության և այլ ոլորտներում հասարակական պատվերի տեղաբաշխում, տնտեսության և սոցիալական տարբեր ոլորտներում մարզային միջոցառումների համակարգում
H43: Ծառայությունների մատուցում
I44: Ծառայությունը մատուցողի անվանումը` ՀՀ Սյունիքի մարզպետի աշխատակազմ
D49: ՀԱՅԱՍՏԱՆԻ ՀԱՆՐԱՊԵՏՈՒԹՅԱՆ
D50: ՎԱՐՉԱՊԵՏԻ ԱՇԽԱՏԱԿԱԶՄԻ
E51: ՂԵԿԱՎԱՐ ՝ Ա. ՀԱՐՈՒԹՅՈՒՆՅԱՆ

Sheet 8.
K1: Հավելված № 8
J2: ՀՀ կառավարության 2025 թվականի
J3: ______________ ի ___Ն որոշման
B5: ՀԱՅԱՍՏԱՆԻ ՀԱՆՐԱՊԵՏՈՒԹՅԱՆ ԿԱՌԱՎԱՐՈՒԹՅԱՆ 2024 ԹՎԱԿԱՆԻ ԴԵԿՏԵՄԲԵՐԻ 27-Ի № 2060-Ն ՈՐՈՇՄԱՆ № 9.1 ՀԱՎԵԼՎԱԾԻ ԱՂՅՈՒՍԱԿՆԵՐՈՒՄ ԿԱՏԱՐՎՈՂ ՓՈՓՈԽՈՒԹՅՈՒՆԸ ԵՎ ԼՐԱՑՈՒՄՆԵՐԸ
L6: հազար դրամներով
B7: ԲՍԿ | C7: Ծրագիր | E7: Միջոցառում | I7: Իրականացնողը/ ակտիվն օգտագործողը/ շահառուի ընտրության չափորոշիչը | J7: Արդյունքային չափորոշիչը | K7: Ցուցանիշների փոփոխությունը (ավելացումները նշված են դրական նշանով, իսկ նվազեցումները` փակագծերում)
C8: Դասիչը | D8: Անվանումը | E8: Դասիչը | F8: Անվանումը | G8: Նկարագրությունը | H8: Տեսակը | K8: Ինն ամիս | L8: Տարի
B9: ԸՆԴԱՄԵՆԸ | K9: =K10+K16+K23+K30+K42+K49+K55+K67+K74+K82 -> 0 | L9: =L10+L16+L23+L30+L42+L49+L55+L67+L74+L82 -> 0
B10: ՀՀ տարածքային կառավարման և ենթակառուցվածքների նախարարության ջրային կոմիտե | K10: -26141.8 | L10: -26141.8
C11: 1004 | D11: Ոռոգման համակարգի առողջացում | K11: =K12 -> -26141.8 | L11: =L12 -> -26141.8
E12: 1004 -31002 | F12: Ոռոգման համակարգերի հիմնանորոգում | K12: ='7.'!K13 -> -26141.8 | L12: ='7.'!L13 -> -26141.8
G13: Ոռոգման համակարգերի հիմնանորոգում
H14: Պետական մարմինների կողմից օգտագործվող ոչ ֆինանսական ակտիվների հետ գործառնություններ
I15: Ակտիվն օգտագործող կազմակերպության անվանումը` ՀՀ ՏԿԵՆ ջրային կոմիտե
B16: ՀՀ Արարատի մարզպետի աշխատակազմ | K16: 26141.8 | L16: 26141.8
C17: 1212 | D17: Տարածքային զարգացում | K17: =K18 -> 26141.8 | L17: =L18 -> 26141.8
E18: 1212 - 32001 | F18: ՀՀ մարզերում առաջնահերթ լուծում պահանջող անհետաձգելի ծրագրերի իրականացում | K18: ='2'!H48 -> 26141.8 | L18: 26141.8
G19: ՀՀ մարզերում առաջնահերթ լուծում պահանջող անհետաձգելի ծրագրերի իրականացում, որի արդյունքում լուծում կտրվի մարզային ենթակայության կազմակերպությունների և համայնքային նշանակություն ունեցող հիմնախնդիրներին
H20: Այլ պետական կազմակերպությունների կողմից օգտագործվող ոչ ֆինանսական ակտիվների հետ գործառնություններ
I21: Ակտիվն օգտագործող կազմակերպության անվանումը` ՀՀ համայնքներ
J22: Ոռոգման ցանցի ջրատարի երկարություն, կմ | L22: 1
B23: ՀՀ Արմավիրի մարզպետի աշխատակազմ | K23: =K25 -> 287987.1 | L23: =L25 -> 287987.1
C24: 1212 | D24: Տարածքային զարգացում | K24: =K25 -> 287987.1 | L24: =L25 -> 287987.1
E25: 1212 - 32001 | F25: ՀՀ մարզերում առաջնահերթ լուծում պահանջող անհետաձգելի ծրագրերի իրականացում | K25: ='2'!H55 -> 287987.1 | L25: ='2'!I55 -> 287987.1
G26: ՀՀ մարզերում առաջնահերթ լուծում պահանջող անհետաձգելի ծրագրերի իրականացում, որի արդյունքում լուծում կտրվի մարզային ենթակայության կազմակերպությունների և համայնքային նշանակություն ունեցող հիմնախնդիրներին
H27: Այլ պետական կազմակերպությունների կողմից օգտագործվող ոչ ֆինանսական ակտիվների հետ գործառնություններ
I28: Ակտիվն օգտագործող կազմակերպության անվանումը` ՀՀ համայնքներ
J29: Համայնքների թիվ, հատ | L29: 1
B30: ՀՀ Լոռու մարզպետի աշխատակազմ | K30: =K31 -> 530999.6 | L30: =L31 -> 697281.4
C31: 1212 | D31: Տարածքային զարգացում | K31: =K32+K37 -> 530999.6 | L31: =L32+L37 -> 697281.4
E32: 1212-12025 | F32: Մարզերում առաջնահերթ լուծում պահանջող հիմնախնդիրների լուծում | K32: ='2'!H25 -> 150000 | L32: ='2'!I25 -> 263175
G33: Մարզերում առաջնահերթ լուծում պահանջող ծրագրերի իրականացում, որի արդյունքում լուծում կտրվի բնակչության և համայնքների սոցիալական նշանակություն ունեցող հիմնախնդիրներին:
H34: Տրանսֆերտների տրամադրում
I35: Համայնքներ
J36: Համայնքների թիվ, հատ | L36: 1
E37: 1212 - 32001 | F37: ՀՀ մարզերում առաջնահերթ լուծում պահանջող անհետաձգելի ծրագրերի իրականացում | K37: ='2'!H62 -> 380999.6 | L37: ='2'!I62 -> 434106.4
G38: ՀՀ մարզերում առաջնահերթ լուծում պահանջող անհետաձգելի ծրագրերի իրականացում, որի արդյունքում լուծում կտրվի մարզային ենթակայության կազմակերպությունների և համայնքային նշանակություն ունեցող հիմնախնդիրներին
H39: Այլ պետական կազմակերպությունների կողմից օգտագործվող ոչ ֆինանսական ակտիվների հետ գործառնություններ
I40: Ակտիվն օգտագործող կազմակերպության անվանումը` ՀՀ համայնքներ
J41: Համայնքների թիվ, հատ | L41: 2
B42: ՀՀ Կոտայքի մարզպետի աշխատակազմ | K42: =K44 -> 100000 | L42: =L44 -> 100000
C43: 1212 | D43: Տարածքային զարգացում | K43: =K44 -> 100000 | L43: =L44 -> 100000
E44: 1212 - 32001 | F44: ՀՀ մարզերում առաջնահերթ լուծում պահանջող անհետաձգելի ծրագրերի իրականացում | K44: ='2'!H72 -> 100000 | L44: ='2'!I72 -> 100000
G45: ՀՀ մարզերում առաջնահերթ լուծում պահանջող անհետաձգելի ծրագրերի իրականացում, որի արդյունքում լուծում կտրվի մարզային ենթակայության կազմակերպությունների և համայնքային նշանակություն ունեցող հիմնախնդիրներին
H46: Այլ պետական կազմակերպությունների կողմից օգտագործվող ոչ ֆինանսական ակտիվների հետ գործառնություններ
I47: Ակտիվն օգտագործող կազմակերպության անվանումը` ՀՀ համայնքներ
J48: Համայնքների թիվ, հատ | L48: 1
B49: ՀՀ Շիրակի մարզպետի աշխատակազմ | K49: =K50 -> 1048 | L49: =L50 -> 1048
C50: 1039 | D50: ՀՀ Շիրակի մարզում տարածքային պետական կառավարում | K50: =K51 -> 1048 | L50: =L51 -> 1048
E51: 1039 - 11001 | F51: ՀՀ Շիրակի մարզպետի աշխատակազմ կողմից տարածքային պետական կառավարման ապահովում | K51: ='2'!H125 -> 1048 | L51: ='2'!I125 -> 1048
G52: Մարզպետի աշխատակազմի ենթակայության հիմնարկների կառավարում, կրթության, ճանապարհաշինության, քաղաքաշինության և այլ ոլորտներում հասարակական պատվերի տեղաբաշխում, տնտեսության և սոցիալական տարբեր ոլորտներում մարզային միջոցառումների համակարգում
H53: Ծառայությունների մատուցում
I54: Ծառայությունը մատուցողի անվանումը` ՀՀ Շիրակի մարզպետի աշխատակազմ
B55: ՀՀ Սյունիքի մարզպետի աշխատակազմ | K55: =K57+K61 -> 129927.1 | L55: =L57+L61 -> 129927.1
C56: 1047 | D56: ՀՀ Սյունիքի մարզում տարածքային պետական կառավարում | K56: =K57 -> 950 | L56: =L57 -> 950
E57: 1047 - 11001 | F57: ՀՀ Սյունիքի մարզպետի աշխատակազմի կողմից տարածքային պետական կառավարման ապահովում | K57: ='2'!H143 -> 950 | L57: ='2'!I143 -> 950
G58: Մարզպետի աշխատակազմի ենթակայության հիմնարկների կառավարում, կրթության, ճանապարհաշինության, քաղաքաշինության և այլ ոլորտներում հասարակական պատվերի տեղաբաշխում, տնտեսության և սոցիալական տարբեր ոլորտներում մարզային միջոցառումների համակարգում
H59: Ծառայությունների մատուցում
I60: Ծառայությունը մատուցողի անվանումը` ՀՀ Սյունիքի մարզպետի աշխատակազմ
C61: 1212 | D61: Տարածքային զարգացում | K61: =K62 -> 128977.1 | L61: =L62 -> 128977.1
E62: 1212 - 32001 | F62: ՀՀ մարզերում առաջնահերթ լուծում պահանջող անհետաձգելի ծրագրերի իրականացում | K62: ='2'!H79 -> 128977.1 | L62: ='2'!I79 -> 128977.1
G63: ՀՀ մարզերում առաջնահերթ լուծում պահանջող անհետաձգելի ծրագրերի իրականացում, որի արդյունքում լուծում կտրվի մարզային ենթակայության կազմակերպությունների և համայնքային նշանակություն ունեցող հիմնախնդիրներին
H64: Այլ պետական կազմակերպությունների կողմից օգտագործվող ոչ ֆինանսական ակտիվների հետ գործառնություններ
I65: Ակտիվն օգտագործող կազմակերպության անվանումը` ՀՀ համայնքներ
J66: Համայնքների թիվ, հատ | L66: 2
B67: ՀՀ Վայոց ձորի մարզպետի աշխատակազմ | K67: =K68 -> 2216.5 | L67: =L68 -> 3166.4
C68: 1212 | D68: Տարածքային զարգացում | K68: =K69 -> 2216.5 | L68: =L69 -> 3166.4
E69: 1212-12025 | F69: Մարզերում առաջնահերթ լուծում պահանջող հիմնախնդիրների լուծում | K69: ='2'!H32 -> 2216.5 | L69: ='2'!I32 -> 3166.4
G70: Մարզերում առաջնահերթ լուծում պահանջող ծրագրերի իրականացում, որի արդյունքում լուծում կտրվի բնակչության և համայնքների սոցիալական նշանակություն ունեցող հիմնախնդիրներին:
H71: Տրանսֆերտների տրամադրում
I72: Համայնքներ
J73: Համայնքների թիվ, հատ | L73: 1
B74: ՀՀ Տավուշի մարզպետի աշխատակազմ | K74: =K76 -> 161473.3 | L74: =L76 -> 322946.5
C75: 1212 | D75: Տարածքային զարգացում | K75: =K76 -> 161473.3 | L75: =L76 -> 322946.5
E76: 1212 - 32001 | F76: ՀՀ մարզերում առաջնահերթ լուծում պահանջող անհետաձգելի ծրագրերի իրականացում | K76: ='2'!H87 -> 161473.3 | L76: ='2'!I87 -> 322946.5
G77: ՀՀ մարզերում առաջնահերթ լուծում պահանջող անհետաձգելի ծրագրերի իրականացում, որի արդյունքում լուծում կտրվի մարզային ենթակայության կազմակերպությունների և համայնքային նշանակություն ունեցող հիմնախնդիրներին
H78: Այլ պետական կազմակերպությունների կողմից օգտագործվող ոչ ֆինանսական ակտիվների հետ գործառնություններ
I79: Ակտիվն օգտագործող կազմակերպության անվանումը` ՀՀ համայնքներ
J80: Ոռոգման ցանցի երկարություն/գծամետր | L80: 8760
J81: խմելու ջրի ցացնի երկարություն/գծամետր | L81: 12167
B82: ՀՀ կառավարություն | K82: =K83 -> -1213651.6 | L82: =L83 -> -1542356.5
C83: 1212 | D83: Տարածքային զարգացում | K83: =K84 -> -1213651.6 | L83: =L84 -> -1542356.5
E84: 1212 - 32001 | F84: ՀՀ մարզերում առաջնահերթ լուծում պահանջող անհետաձգելի ծրագրերի իրականացում | K84: ='2'!H41 -> -1213651.6 | L84: ='2'!I41 -> -1542356.5
G85: ՀՀ մարզերում առաջնահերթ լուծում պահանջող անհետաձգելի ծրագրերի իրականացում, որի արդյունքում լուծում կտրվի մարզային ենթակայության կազմակերպությունների և համայնքային նշանակություն ունեցող հիմնախնդիրներին
H86: Այլ պետական կազմակերպությունների կողմից օգտագործվող ոչ ֆինանսական ակտիվների հետ գործառնություններ
I87: Ակտիվն օգտագործող կազմակերպության անվանումը` ՀՀ համայնքներ
D91: ՀԱՅԱՍՏԱՆԻ ՀԱՆՐԱՊԵՏՈՒԹՅԱՆ
D92: ՎԱՐՉԱՊԵՏԻ ԱՇԽԱՏԱԿԱԶՄԻ
E93: ՂԵԿԱՎԱՐ ՝ Ա. ՀԱՐՈՒԹՅՈՒՆՅԱՆ

Sheet 9.
E1: Հավելված N 9
B2: ՀՀ կառավարության 2025 թվականի
B3: ______________ ի ___Ն որոշման
B5: ՀԱՅԱՍՏԱՆԻ ՀԱՆՐԱՊԵՏՈՒԹՅԱՆ ԿԱՌԱՎԱՐՈՒԹՅԱՆ 2024 ԹՎԱԿԱՆԻ ԴԵԿՏԵՄԲԵՐԻ 27-Ի N 2060Ն ՈՐՈՇՄԱՆ N 10 ՀԱՎԵԼՎԱԾՈՒՄ ԿԱՏԱՐՎՈՂ ՓՈՓՈԽՈՒԹՅՈՒՆՆԵՐԸ ԵՎ ԼՐԱՑՈՒՄՆԵՐԸ
B7: Կոդը | C7: Անվանումը | F7: Գնման ձևը | G7: Չափման միավորը | H7: Միավորի գինը | I7: Ցուցանիշների փոփոխությունը (ավելացումները նշված են դրական նշանով, իսկ նվազեցումները` փակագծերում)
I8: Քանակը | J8: Գումարը (հազար դրամով)
B9: 1 | C9: 2 | F9: 3 | G9: 4 | H9: 5 | I9: 6 | J9: 7
B10: ԸՆԴԱՄԵՆԸ | J10: =J17+J57+J33+J25+J11+J49+J84 -> 1274967.1
B11: ՀՀ տարածքային կառավարման և ենթակառուցվածքների նախարարության ջրային կոմիտե | J11: =J12 -> -26141.8
B12: Բաժին N 04 | C12: Խումբ N 02 | D12: Դաս N 04 | E12: Ոռոգում | J12: =J13 -> -26141.8
B13: 1004 31002 | C13: Ոռոգման համակարգերի հիմնանորոգում | J13: =J14 -> -26141.8
C14: ՄԱՍ II. ԱՇԽԱՏԱՆՔՆԵՐ | J14: =J15+J16 -> -26141.8
B15: 45231132/5 | C15: ջրատարների վերականգնման շինարարական աշխատանքներ | F15: ՀԲՄ | G15: դրամ | J15: ='3.'!G15 -> -62.7
B16: 45231132/9 | C16: ջրատարների վերականգնման շինարարական աշխատանքներ | F16: ՀԲՄ | G16: դրամ | J16: ='3.'!G16 -> -26079.1
B17: ՀՀ Արարատի մարզպետի աշխատակազմ | J17: =J18 -> 26141.8
B18: Բաժին N 01 | C18: Խումբ N 08 | D18: Դաս N 01 | E18: Կառավարության տարբեր մակարդակների միջև իրականացվող ընդհանուր բնույթի տրանսֆերտներ | J18: =J19 -> 26141.8
B19: 1212 32001 | C19: ՀՀ մարզերում առաջնահերթ լուծում պահանջող անհետաձգելի ծրագրերի իրականացում | J19: =J20+J22 -> 26141.8
C20: ՄԱՍ II. ԱՇԽԱՏԱՆՔՆԵՐ | J20: =J21 -> 25777
B21: 45231126/501 | C21: Ոռոգման խողովակաշարերի կառուցման աշխատանքներ | F21: ՀԲՄ | G21: դրամ | H21: =J21*1000 -> 25777000 | I21: 1 | J21: 25777
C22: ՄԱՍ III. ԾԱՌԱՅՈՒԹՅՈՒՆՆԵՐ | J22: =J23+J24 -> 364.8
B23: 71351540/502 | C23: տեխնիկական հսկողության ծառայություններ | F23: ՀԲՄ | G23: դրամ | H23: =J23*1000 -> 198000 | I23: 1 | J23: 198
B24: 98111140/502 | C24: հեղինակային հսկողության ծառայություններ | F24: ՄԱ | G24: դրամ | H24: =J24*1000 -> 166800 | I24: 1 | J24: 166.8
B25: ՀՀ Արմավիրի մարզպետի աշխատակազմ | J25: =J26 -> 287987.1
B26: Բաժին N 01 | C26: Խումբ N 08 | D26: Դաս N 01 | E26: Կառավարության տարբեր մակարդակների միջև իրականացվող ընդհանուր բնույթի տրանսֆերտներ | J26: =J27 -> 287987.1
B27: 1212 32001 | C27: ՀՀ մարզերում առաջնահերթ լուծում պահանջող անհետաձգելի ծրագրերի իրականացում | J27: =J28+J30 -> 287987.1
C28: ՄԱՍ II. ԱՇԽԱՏԱՆՔՆԵՐ | J28: =J29 -> 285000
B29: 45451700/501 | C29: վերակառուցման աշխատանքներ | F29: ԲՄ | G29: դրամ | H29: =J29*1000 -> 285000000 | I29: 1 | J29: 285000
C30: ՄԱՍ III. ԾԱՌԱՅՈՒԹՅՈՒՆՆԵՐ | J30: =J31+J32 -> 2987.1
B31: 71351540/501 | C31: տեխնիկական հսկողության ծառայություններ | F31: ԳՀ | G31: դրամ | H31: =J31*1000 -> 499000 | I31: 1 | J31: 499
B32: 98111140/ | C32: հեղինակային հսկողության ծառայություններ | F32: ՄԱ | G32: դրամ | H32: =J32*1000 -> 2488100 | I32: 1 | J32: 2488.1
B33: ՀՀ Լոռու մարզպետի աշխատակազմ | J33: =J34 -> 434106.4
B34: Բաժին N 01 | C34: Խումբ N 08 | D34: Դաս N 01 | E34: Կառավարության տարբեր մակարդակների միջև իրականացվող ընդհանուր բնույթի տրանսֆերտներ | J34: =J35 -> 434106.4
B35: 1212 32001 | C35: ՀՀ մարզերում առաջնահերթ լուծում պահանջող անհետաձգելի ծրագրերի իրականացում | J35: =J36+J40 -> 434106.4
C36: ՄԱՍ II. ԱՇԽԱՏԱՆՔՆԵՐ | J36: =J37+J38+J39 -> 425375.8
B37: 45221142/501 | C37: ընդհանուր շինարարական աշխատանքներ | F37: ԲՄ | G37: դրամ | H37: =J37*1000 -> 50100000 | I37: 1 | J37: 50100
B38: 45231160/501 | C38: շինարարական աշխատանքներ մայրուղիների և ճանապարհների համար | F38: ՀԲՄ | G38: դրամ | H38: =J38*1000 -> 297498000 | I38: 1 | J38: 297498
B39: 45241170/501 | C39: ջրամատակարարման համակարգերի կառուցում | F39: ԲՄ | G39: դրամ | H39: =J39*1000 -> 77777800 | I39: 1 | J39: 77777.8
C40: ՄԱՍ III. ԾԱՌԱՅՈՒԹՅՈՒՆՆԵՐ | J40: =J41+J42+J43+J44+J45+J46+J47+J48 -> 8730.6
B41: 71351540/505 | C41: տեխնիկական հսկողության ծառայություններ | F41: ԳՀ | G41: դրամ | H41: =J41*1000 -> 480000 | I41: 1 | J41: 480
B42: 98111140/503 | C42: հեղինակային հսկողության ծառայություններ | F42: ՄԱ | G42: դրամ | H42: =J42*1000 -> 300000 | I42: 1 | J42: 300
B43: 71351540/501 | C43: տեխնիկական հսկողության ծառայություններ | F43: ԳՀ | G43: դրամ | H43: =J43*1000 -> 1002000 | I43: 1 | J43: 1002
B44: 98111140/501 | C44: հեղինակային հսկողության ծառայություններ | F44: ՄԱ | G44: դրամ | H44: =J44*1000 -> 1500000 | I44: 1 | J44: 1500
B45: 71351540/503 | C45: տեխնիկական հսկողության ծառայություններ | F45: ԳՀ | G45: դրամ | H45: =J45*1000 -> 584000 | I45: 1 | J45: 584
B46: 98111140/502 | C46: հեղինակային հսկողության ծառայություններ | F46: ՄԱ | G46: դրամ | H46: =J46*1000 -> 465000 | I46: 1 | J46: 465
B47: 71241200/502 | C47: նախագծերի պատրաստում, ծախսերի գնահատում | F47: ԳՀ | G47: դրամ | H47: =J47*1000 -> 3999600 | I47: 1 | J47: 3999.6
B48: 50531140/1 | C48: փորձաքննության ծառայություններ | F48: ՄԱ | G48: դրամ | H48: =J48*1000 -> 400000 | I48: 1 | J48: 400
B49: ՀՀ Կոտայքի մարզպետի աշխատակազմ | J49: =J50 -> 100000
B50: Բաժին N 01 | C50: Խումբ N 08 | D50: Դաս N 01 | E50: Կառավարության տարբեր մակարդակների միջև իրականացվող ընդհանուր բնույթի տրանսֆերտներ | J50: =J51 -> 100000
B51: 1212 32001 | C51: ՀՀ մարզերում առաջնահերթ լուծում պահանջող անհետաձգելի ծրագրերի իրականացում | J51: =J52+J54 -> 100000
C52: ՄԱՍ II. ԱՇԽԱՏԱՆՔՆԵՐ | J52: =J53 -> 98300
B53: 45211228/501 | C53: Շինարարական աշխատանքներ մանկապարտեզների համար | F53: ԲՄ | G53: դրամ | H53: =J53*1000 -> 98300000 | I53: 1 | J53: 98300
C54: ՄԱՍ III. ԾԱՌԱՅՈՒԹՅՈՒՆՆԵՐ | J54: =J55+J56 -> 1700
B55: 71351540/501 | C55: տեխնիկական հսկողության ծառայություններ | F55: ԳՀ | G55: դրամ | H55: =J55*1000 -> 1000000 | I55: 1 | J55: 1000
B56: 98111140/501 | C56: հեղինակային հսկողության ծառայություններ | F56: ՄԱ | G56: դրամ | H56: =J56*1000 -> 700000 | I56: 1 | J56: 700
B57: ՀՀ Սյունիքի մարզպետի աշխատակազմ | J57: =J62+J58 -> 129927.1
B58: Բաժին N 01 | C58: Խումբ N 01 | D58: Դաս N 01 | E58: Օրենսդիր և գործադիր մարմիններ, պետական կառավարում | J58: =J59 -> 950
B59: 1047 11001 | C59: ՀՀ Սյունիքի մարզպետի աշխատակազմի կողմից տարածքային պետական կառավարման ապահովում | J59: =J60 -> 950
C60: ՄԱՍ III. ԾԱՌԱՅՈՒԹՅՈՒՆՆԵՐ | J60: =J61 -> 950
B61: 79411220/501 | C61: գնահատման հետ կապված խորհրդատվական ծառայություններ | F61: ԳՀ | G61: դրամ | H61: =J61*1000 -> 950000 | I61: 1 | J61: ='2'!I145 -> 950
B62: Բաժին N 01 | C62: Խումբ N 08 | D62: Դաս N 01 | E62: Կառավարության տարբեր մակարդակների միջև իրականացվող ընդհանուր բնույթի տրանսֆերտներ | J62: =J63 -> 128977.1
B63: 1212 32001 | C63: ՀՀ մարզերում առաջնահերթ լուծում պահանջող անհետաձգելի ծրագրերի իրականացում | J63: =J64+J71 -> 128977.1
C64: ՄԱՍ II. ԱՇԽԱՏԱՆՔՆԵՐ | J64: =J65+J66+J67+J68+J69+J70 -> 126151.2
B65: 45231156/501 | C65: դրենաժների կառուցման աշխատանքներ | F65: ԳՀ | G65: դրամ | H65: =J65*1000 -> 30600000 | I65: 1 | J65: 30600
B66: 45261124 | C66: տանիքների վերանորոգման աշխատանքներ | F66: ԳՀ | G66: դրամ | H66: =J66*1000 -> 15068000 | I66: 1 | J66: 15068
B67: 45261124 | C67: տանիքների վերանորոգման աշխատանքներ | F67: ԳՀ | G67: դրամ | H67: =J67*1000 -> 15346600 | I67: 1 | J67: 15346.6
B68: 45261124 | C68: տանիքների վերանորոգման աշխատանքներ | F68: ԳՀ | G68: դրամ | H68: =J68*1000 -> 16820000 | I68: 1 | J68: 16820
B69: 45261124 | C69: տանիքների վերանորոգման աշխատանքներ | F69: ԳՀ | G69: դրամ | H69: =J69*1000 -> 25828600 | I69: 1 | J69: 25828.6
B70: 45261124 | C70: տանիքների վերանորոգման աշխատանքներ | F70: ԳՀ | G70: դրամ | H70: =J70*1000 -> 22488000 | I70: 1 | J70: 22488
C71: ՄԱՍ III. ԾԱՌԱՅՈՒԹՅՈՒՆՆԵՐ | J71: =J72+J78+J73+J74+J75+J76+J77+J79+J80+J81+J82+J83 -> 2825.9
B72: 71351540/501 | C72: տեխնիկական հսկողության ծառայություններ | F72: ՄԱ | G72: դրամ | H72: =J72*1000 -> 642000 | I72: 1 | J72: 642
B73: 71351540 | C73: տեխնիկական հսկողության ծառայություններ | F73: ԳՀ | G73: դրամ | H73: =J73*1000 -> 206000 | I73: 1 | J73: 206
B74: 71351540 | C74: տեխնիկական հսկողության ծառայություններ | F74: ԳՀ | G74: դրամ | H74: =J74*1000 -> 223000 | I74: 1 | J74: 223
B75: 71351540 | C75: տեխնիկական հսկողության ծառայություններ | F75: ԳՀ | G75: դրամ | H75: =J75*1000 -> 227000 | I75: 1 | J75: 227
B76: 71351540 | C76: տեխնիկական հսկողության ծառայություններ | F76: ԳՀ | G76: դրամ | H76: =J76*1000 -> 500000 | I76: 1 | J76: 500
B77: 71351540 | C77: տեխնիկական հսկողության ծառայություններ | F77: ԳՀ | G77: դրամ | H77: =J77*1000 -> 101000 | I77: 1 | J77: 101
B78: 98111140/501 | C78: հեղինակային հսկողության ծառայություններ | F78: ՄԱ | G78: դրամ | H78: =J78*1000 -> 192600 | I78: 1 | J78: 192.6
B79: 98111140/1 | C79: հեղինակային հսկողության ծառայություններ | F79: ՄԱ | G79: դրամ | H79: =J79*1000 -> 122100 | I79: 1 | J79: 122.1
B80: 98111140/2 | C80: հեղինակային հսկողության ծառայություններ | F80: ՄԱ | G80: դրամ | H80: =J80*1000 -> 124300 | I80: 1 | J80: 124.3
B81: 98111140/3 | C81: հեղինակային հսկողության ծառայություններ | F81: ՄԱ | G81: դրամ | H81: =J81*1000 -> 136300 | I81: 1 | J81: 136.3
B82: 98111140/4 | C82: հեղինակային հսկողության ծառայություններ | F82: ՄԱ | G82: դրամ | H82: =J82*1000 -> 200900 | I82: 1 | J82: 200.9
B83: 98111140/5 | C83: հեղինակային հսկողության ծառայություններ | F83: ՄԱ | G83: դրամ | H83: =J83*1000 -> 150700 | I83: 1 | J83: 150.7
B84: ՀՀ Տավուշի մարզպետի աշխատակազմ | J84: =J86 -> 322946.5
B85: Բաժին N 01 | C85: Խումբ N 08 | D85: Դաս N 01 | E85: Կառավարության տարբեր մակարդակների միջև իրականացվող ընդհանուր բնույթի տրանսֆերտներ | J85: =J86 -> 322946.5
B86: 1212 32001 | C86: ՀՀ մարզերում առաջնահերթ լուծում պահանջող անհետաձգելի ծրագրերի իրականացում | J86: =J87+J91 -> 322946.5
C87: ՄԱՍ II. ԱՇԽԱՏԱՆՔՆԵՐ | J87: =J88+J89+J90 -> 316680
B88: 45221142 /501 | C88: Ընդհանուր շինարարական աշխատանքներ | F88: ՀԲՄ | G88: դրամ | H88: 138600000 | I88: 1 | J88: =+I88*H88/1000 -> 138600
B89: 45221142 /502 | C89: Ընդհանուր շինարարական աշխատանքներ | F89: ՀԲՄ | G89: դրամ | H89: 75390000 | I89: 1 | J89: =+I89*H89/1000 -> 75390
B90: 45221142 /503 | C90: Ընդհանուր շինարարական աշխատանքներ | F90: ՀԲՄ | G90: դրամ | H90: 102690000 | I90: 1 | J90: =+I90*H90/1000 -> 102690
B91: ՄԱՍ III. ԾԱՌԱՅՈՒԹՅՈՒՆՆԵՐ | J91: =J92+J93+J94+J95+J96+J97 -> 6266.5
B92: 71351540/503 | C92: տեխնիկական հսկողության ծառայություններ | F92: ԳՀ | G92: դրամ | H92: 1469300 | I92: 1 | J92: 1469.3
B93: 71351540/504 | C93: տեխնիկական հսկողության ծառայություններ | F93: ԳՀ | G93: դրամ | H93: 839300 | I93: 1 | J93: 839.3
B94: 71351540/505 | C94: տեխնիկական հսկողության ծառայություններ | F94: ԳՀ | G94: դրամ | H94: =J94*1000 -> 1119300 | I94: 1 | J94: 1119.3
B95: 98111140/7 | C95: հեղինակային հսկողության ծառայություններ | F95: ՄԱ | G95: դրամ | H95: =J95*1000 -> 1227800 | I95: 1 | J95: 1227.8
B96: 98111140/8 | C96: հեղինակային հսկողության ծառայություններ | F96: ՄԱ | G96: դրամ | H96: =J96*1000 -> 672300 | I96: 1 | J96: 672.3
B97: 98111140/9 | C97: հեղինակային հսկողության ծառայություններ | F97: ՄԱ | G97: դրամ | H97: =J97*1000 -> 938500 | I97: 1 | J97: 938.5
C100: ՀԱՅԱՍՏԱՆԻ ՀԱՆՐԱՊԵՏՈՒԹՅԱՆ ՎԱՐՉԱՊԵՏԻ ԱՇԽԱՏԱԿԱԶՄԻ ՂԵԿԱՎԱՐ | H100: Ա.ՀԱՐՈՒԹՅՈՒՆՅԱՆ
