Workbook
Name \A: #REF!
Name \A: #REF!
Name _tab10: #REF!
Name _tab10: #REF!
Name _tab10: #REF!
Name _tab11: #REF!
Name _tab11: #REF!
Name _tab12: #REF!
Name _tab12: #REF!
Name _tab13: #REF!
Name _tab13: #REF!
Name _tab14: #REF!
Name _tab14: #REF!
Name _tab15: #REF!
Name _tab15: #REF!
Name _tab16: #REF!
Name _tab16: #REF!
Name _tab17: #REF!
Name _tab17: #REF!
Name _tab18: #REF!
Name _tab18: #REF!
Name _tab19: #REF!
Name _tab19: #REF!
Name _tab20: #REF!
Name _tab20: #REF!
Name _tab21: #REF!
Name _tab21: #REF!
Name _tab22: #REF!
Name _tab22: #REF!
Name _tab23: #REF!
Name _tab23: #REF!
Name _tab24: #REF!
Name _tab24: #REF!
Name _tab5: #REF!
Name _tab5: #REF!
Name _tab6: #REF!
Name _tab6: #REF!
Name _tab7: #REF!
Name _tab7: #REF!
Name _tab8: #REF!
Name _tab8: #REF!
Name _tab9: #REF!
Name _tab9: #REF!
Name AgencyCode: #REF!
Name AgencyCode: #REF!
Name AgencyCode: #REF!
Name AgencyName: #REF!
Name AgencyName: #REF!
Name ampop_krchat: #REF!
Name ampop_krchat: #REF!
Name Armata: #REF!
Name Armata: #REF!
Name asd: #REF!
Name asd: #REF!
Name åû: #REF!
Name åû: #REF!
Name BOP: #REF!
Name BOP: #REF!
Name BOPfoot: #REF!
Name BOPfoot: #REF!

Sheet Havelvats 1
A1: Հավելված 1 ՀՀ կառավարության 2025 թվականի____________ի N _____-Ն որոշման
A3: «ՀԱՅԱՍՏԱՆԻ ՀԱՆՐԱՊԵՏՈՒԹՅԱՆ 2025 ԹՎԱԿԱՆԻ ՊԵՏԱԿԱՆ ԲՅՈՒՋԵԻ ՄԱՍԻՆ» ՕՐԵՆՔԻ N 1 ՀԱՎԵԼՎԱԾԻ N 2 ԱՂՅՈՒՍԱԿՈՒՄ ԿԱՏԱՐՎՈՂ ՎԵՐԱԲԱՇԽՈՒՄԸ ԵՎ ԼՐԱՑՈՒՄՆԵՐԸ, ՀԱՅԱՍՏԱՆԻ ՀԱՆՐԱՊԵՏՈՒԹՅԱՆ ԿԱՌԱՎԱՐՈՒԹՅԱՆ 2024 ԹՎԱԿԱՆԻ ԴԵԿՏԵՄԲԵՐԻ 27-Ի N 2060-Ն ՈՐՈՇՄԱՆ N 5 ՀԱՎԵԼՎԱԾԻ N 1 ԱՂՅՈՒՍԱԿՈՒՄ ԿԱՏԱՐՎՈՂ ՓՈՓՈԽՈՒԹՅՈՒՆՆԵՐԸ ԵՎ ԼՐԱՑՈՒՄՆԵՐԸ
G4: հազար դրամներով
A5: ԲԳԿ | B5: Ծրագրային դասիչը | D5: ԲԳԿ/Ծրագրի /միջոցառման անվանումը | E5: Ծրագրի նպատակը/Միջոցառման նկարագրույունը | F5: Վերջնական արդյունքի նկարագրությունը/Միջոցառման տեսակը | G5: Ցուցանիշների փոփոխությունը (ավելացումները նշված են դրական նշանով, իսկ նվազեցումները՝ փակագծերում)
B6: Ծրագիր | C6: Միջոցառում | G6: Ինն ամիս | H6: Տարի
A7: ԸՆԴԱՄԵՆԸ | G7: =+G24+G8 -> 0 | H7: =+H24+H8 -> 0
A8: ՀՀ էկոնոմիկայի նախարարություն | G8: =+G9+G12+G15+G20 -> 867702 | H8: =+H9+H12+H15+H20 -> 0
B9: 1022 | D9: Գյուղատնտեսության խթանման ծրագիր | E9: Գյուղատնտեսական մթերքի և դրանց վերամշակումից ստացվող սննդամթերքի ծավալների ավելացում | F9: Գյուղատնտեսական մթերքների ծավալների ավելացում: Օգտագործվող վարելահողերի ավելացում: Պտուղբանջարեղենի և խաղողի վերամշակումից ստացված արտադրանքի ծավալների աճ | G9: =+G10+G11 -> -80000 | H9: =+H10+H11 -> -2190334
C10: 1022 - 12001 | D10: Գյուղատնտեսական վարկերի տոկոսադրույքների սուբսիդավորում | E10: Գյուղատնտեսության ոլորտում տրամադրվող վարկերի տոկոսադրույքների սուբսիդավորում | F10: Տրանսֆերտների տրամադրում | G10: -80000 | H10: -380000
C11: 1022 - 12010 | D11: Անասնաբուծության ճյուղում իրականացվող ներդրումային ծրագրերին աջակցություն | E11: Անասնաբուծության ճյուղում իրականացվող առնվազն 1 մլրդ դրամի ներդրումներից կապիտալ ներդրումների մասնակի փոխհատուցում | F11: Տրանսֆերտների տրամադրում | H11: -1810334
B12: 1059 | D12: Բուսաբուծության խթանում և բույսերի պաշտպանություն | E12: Հողագործությունից ստացվող արդյունքի բարելավում | F12: Մշակաբույսերի միջին բերքատվության բարձրացում:ՀՀ գյուղատնտեսական նշանակության ողջ հողատարածքի համար կազմված ագրոքիմիական քարտեզներով ապահովվածություն: Հացահատիկի և հատիկաընդեղենի արտադրության ծավալների ավելացում: | G12: =+G14+G13 -> 505730 | H12: =+H14+H13 -> 1491028
C13: 1059 - 11010 | D13: ՀՀ-ում գարնանացան, աշնանացան և կերային մշակաբույսերի ցանքատարածությունների մոնիթորինգի իրականացմանն աջակցություն | E13: Համայնքների կողմից մշակաբույսերի և բազմամյա խոտաբույսերի մոնիթորինգի իրականացում, արդյունքների ամփոփում և համապատասխան տեղեկատվության ներկայացում | F13: Ծառայության մատուցում | G13: 14730 | H13: 43428
C14: 1059 - 12003 | D14: ՀՀ-ում գարնանացան, աշնանացան և կերային մշակաբույսերի մշակության հիմնական աշխատանքների համար կատարված ծախսերի մասնակի փոխհատուցման տրամադրում | E14: Մշակաբույսերի և բազմամյա խոտաբույսերի ցանքատարածությունների ընդլայնմանը նպաստելու նպատակով մշակության հիմնական աշխատանքների համար կատարված ծախսերի մասնակի փոխհատուցում | F14: Տրանսֆերտների տրամադրում | G14: 491000 | H14: 1447600
B15: 1165 | D15: Ներդրումների և արտահանման խթանման ծրագիր | E15: Ներդրումների ներգրավման և արտահանման խթանում | F15: Նախորդ տարվա համեմատ ներդրումների և արտահանման ծավալների աճ | G15: =+G16+G17+G18+G19 -> -72770 | H15: =+H16+H17+H18+H19 -> -372770
C16: 1165 - 11010 | D16: Տեքստիլ ոլորտի զարգացման ծրագրերն իրականացնող և աջակցող Օպերատորի շարունակական գործունեության նպատակով պետական աջակցության ծրագիր | E16: Տեքստիլ ոլորտի զարգացման գործողությունների ծրագրիրն իրականացնող Օպերատորի ֆինանասավորում | F16: Ծառայությունների մատուցում | G16: -11070 | H16: -11070
C17: 1165 - 12002 | D17: Տեքստիլ ոլորտի կազմակերպությունների համար մատակարարման շղթաների դիվերսիֆիկացիայի ապահովմանն ուղղված պետական աջակցություն | E17: Տեքստիլ ընկերությունների կողմից ներգրավված առևտրի ֆինանսավորման վարկային գործիքների տոկոսադրույքների սուբսիդավորում և էլեկտրոնային հարթակներում վաճառքների խթանում | F17: Տրանսֆերտների տրամադրում | G17: -16700 | H17: -16700
C18: 1165 - 12004 | D18: Կլինիկական փորձարկումների, կենսահամարժեքության հետազոտությունների սուբսիդավորում | E18: Հայաստանի Հանրապետությունում արտադրվող դեղերի կլինիկական փորձարկումների և (կամ) կենսահամարժեքության հետազոտությունների ծախսերի մասնակի սուբսիդավորում | F18: Տրանսֆերտների տրամադրում | G18: -45000 | H18: -145000
C19: 1165-12006 | D19: Հայաստանի Հանարապետության տնտեսապես բարդ ապրանքների արտադրությամբ զբաղվող առևտրային ընկերություններին պետական աջակցություն | E19: Տնտեսական բարդության ինդեքսը օգտագործելով` պետական աջակցությունն առաջնահերթորեն տրամադրել այն տնտեսվարողներին, որոնք պատրաստվում են արտադրել 0.2 տնտեսական բարդության ցուցիչից ավելի բարձր ինդեքս ունեցող ապրանքներ | F19: Տրանսֆերտների տրամադրում | G19: 0 | H19: -200000
B20: 1187 | D20: Գյուղատնտեսության արդիականացման ծրագիր | E20: Գյուղատնտեսական տեխնիկական համակարգերի արդիականացում, ինտենսիվ այգիների ներդրման և տոհմաբուծության մեջ նոր ցեղատեսակների բուծման աջակցություն | F20: Ոռոգման արդիական համակարգեր ներդրված հողատարածքների և տոհմային կենդանիների տեսակարար կշռի ավելացում | G20: =+G21+G22+G23 -> 514742 | H20: =+H21+H22+H23 -> 1072076
C21: 1187 - 12002 | D21: Հայաստանի Հանրապետությունում խաղողի, ժամանակակից տեխնոլոգիաներով մշակվող ինտենսիվ պտղատու այգիների և հատապտղանոցների հիմնման համար վարկային տոկոսադրույքների սուբսիդավորում | E21: Հայաստանի Հանրապետությունում խաղողի, ժամանակակից տեխնոլոգիաներով մշակվող ինտենսիվ պտղատու այգիների և հատապտղանոցների հիմնման համար տնտեսավարողներին տրամադրվող նպատակային վարկերի տոկոսադրույքների սուբսիդավորում | F21: Տրանսֆերտների տրամադրում | G21: -266914.5 | H21: -266914.5
C22: 1187 - 12014 | D22: Հայաստանի Հանրապետությունում ինտենսիվ այգեգործության զարգացման նպատակով սուբսիդավորում | E22: Հայաստանի Հանրապետությունում այգեհիմնման նպատակով տրամադրվող վարկերի տոկոսադրույքների սուբսիդավորում | F22: Տրանսֆերտների տրամադրում | G22: 1339102.8 | H22: 1338990.5
C23: 1187 - 12015 | D23: Հայաստանի Հանրապետությունում ինտենսիվ այգեգործության զարգացման նպատակով ծախսերի փոխհատուցում | E23: Հայաստանի Հանրապետությունում այգեհիմնման նպատակով կատարված ծախսերի մասնակի փոխհատուցում | F23: Տրանսֆերտների տրամադրում | G23: -557446.3
A24: ՀՀ կառավարություն | G24: =+G25 -> -867702 | H24: =+H25 -> 0
B25: 1139 | D25: ՀՀ կառավարության պահուստային ֆոնդ | E25: Պետական բյուջեում չկանխատեսված, ինչպես նաեւ բյուջետային երաշխիքների ապահովման ծախսերի ֆինանսավորման ապահովում | F25: Պահուստային ֆոնդի կառավարման արդյունավետության և թափանցիկության ապահովում | G25: =+G26+G27 -> -867702 | H25: =+H26+H27 -> 0
C26: 1139 - 11001 | D26: ՀՀ կառավարության պահուստային ֆոնդ | E26: ՀՀ պետական բյուջեում նախատեսված ելքերի լրացուցիչ ֆինանսավորման, պետական բյուջեում չկանխատեսված ելքերի, ինչպես նաև բյուջետային երաշխիքների ապահովման ելքերի ֆինանսավորման ապահովում | F26: Ծառայությունների մատուցում | G26: 505730 | H26: 1491028
C27: 1139 - 11001 | D27: ՀՀ կառավարության պահուստային ֆոնդ | E27: ՀՀ պետական բյուջեում նախատեսված ելքերի լրացուցիչ ֆինանսավորման, պետական բյուջեում չկանխատեսված ելքերի, ինչպես նաև բյուջետային երաշխիքների ապահովման ելքերի ֆինանսավորման ապահովում | F27: Ծառայությունների մատուցում | G27: -1373432 | H27: -1491028

Sheet Havelvats 2
F1: Հավելված 2 ՀՀ կառավարության 2025 թվականի____________ի N _____-Ն որոշման
A3: ՀԱՅԱՍՏԱՆԻ ՀԱՆՐԱՊԵՏՈՒԹՅԱՆ ԿԱՌԱՎԱՐՈՒԹՅԱՆ 2024 ԹՎԱԿԱՆԻ ԴԵԿՏԵՄԲԵՐԻ 27-Ի N 2060-Ն ՈՐՈՇՄԱՆ NN 3 ԵՎ 4 ՀԱՎԵԼՎԱԾՆԵՐՈՒՄ ԿԱՏԱՐՎՈՂ ՓՈՓՈԽՈՒԹՅՈՒՆՆԵՐԸ ԵՎ ԼՐԱՑՈՒՄՆԵՐԸ
H4: հազար դրամներով
A5: Գործառնական դասիչ | D5: Ծրագրային դասիչը | F5: Բյուջետային ծախսերի գործառական դասակարգման բաժինների, խմբերի և դասերի, բյուջետային ծրագրերի միջոցառումների, բյուջետային հատկացումների գլխավոր կարգադրիչների անվանումները | G5: Ցուցանիշների փոփոխությունը (ավելացումները նշված են դրական նշանով, իսկ նվազեցումները՝ փակագծերում)
A6: Բաժին | B6: Խումբ | C6: Դաս | D6: Ծրագիր | E6: Միջոցառում | G6: Ինն ամիս | H6: Տարի
F7: ԸՆԴԱՄԵՆԸ ԾԱԽՍԵՐ | G7: =+G9+G133 -> 0 | H7: =+H9+H133 -> 0
F8: այդ թվում`
F9: ՀՀ էկոնոմիկայի նախարարություն | G9: =+G11 -> 867702 | H9: =+H11 -> 0
F10: այդ թվում`
A11: 04 | F11: ՏՆՏԵՍԱԿԱՆ ՀԱՐԱԲԵՐՈՒԹՅՈՒՆՆԵՐ | G11: =+G13+G57 -> 867702 | H11: =+H13+H57 -> 0
F12: այդ թվում`
B13: 01 | F13: Ընդհանուր բնույթի տնտեսական, առևտրային և աշխատանքի գծով հարաբերություններ | G13: =+G15 -> -72770 | H13: =+H15 -> -372770
F14: այդ թվում`
C15: 01 | F15: Ընդհանուր բնույթի տնտեսական և առևտրային հարաբերություններ | G15: =+G17 -> -72770 | H15: =+H17 -> -372770
F16: այդ թվում`
F17: ՀՀ էկոնոմիկայի նախարարություն | G17: =+G19 -> -72770 | H17: =+H19 -> -372770
F18: այդ թվում`
D19: 1165 | F19: =+'Havelvats 1'!D15 -> Ներդրումների և արտահանման խթանման ծրագիր | G19: =+G21+G30+G39+G48 -> -72770 | H19: =+H21+H30+H39+H48 -> -372770
F20: այդ թվում`
E21: 11010 | F21: Տեքստիլ ոլորտի զարգացման ծրագրերն իրականացնող և աջակցող Օպերատորի շարունակական գործունեության նպատակով պետական աջակցության ծրագիր | G21: =G25 -> -11070 | H21: =H25 -> -11070
F22: այդ թվում` ըստ կատարողների
F23: ՀՀ էկոնոմիկայի նախարարություն | G23: =+G25 -> -11070 | H23: =+H25 -> -11070
F24: այդ թվում` բյուջետային ծախսերի տնտեսագիտական դասակարգման հոդվածներ
F25: ԸՆԴԱՄԵՆԸ ԾԱԽՍԵՐ | G25: =+G26 -> -11070 | H25: =+H26 -> -11070
F26: ԸՆԹԱՑԻԿ ԾԱԽՍԵՐ | G26: =+G27 -> -11070 | H26: =+H27 -> -11070
F27: ԴՐԱՄԱՇՆՈՐՀՆԵՐ | G27: =G28 -> -11070 | H27: =H28 -> -11070
F28: Ընթացիկ դրամաշնորհներ պետական հատվածի այլ մակարդակներին | G28: =G29 -> -11070 | H28: =H29 -> -11070
F29: - Այլ ընթացիկ դրամաշնորհներ | G29: =+'Havelvats 1'!G16 -> -11070 | H29: =+'Havelvats 1'!H16 -> -11070
E30: 12002 | F30: Տեքստիլ ոլորտի կազմակերպությունների համար մատակարարման շղթաների դիվերսիֆիկացիայի ապահովմանն ուղղված պետական աջակցություն | G30: =G34 -> -16700 | H30: =H34 -> -16700
F31: այդ թվում` ըստ կատարողների
F32: ՀՀ էկոնոմիկայի նախարարություն | G32: =+G34 -> -16700 | H32: =+H34 -> -16700
F33: այդ թվում` բյուջետային ծախսերի տնտեսագիտական դասակարգման հոդվածներ
F34: ԸՆԴԱՄԵՆԸ ԾԱԽՍԵՐ | G34: =+G35 -> -16700 | H34: =+H35 -> -16700
F35: ԸՆԹԱՑԻԿ ԾԱԽՍԵՐ | G35: =+G36 -> -16700 | H35: =+H36 -> -16700
F36: ՍՈՒԲՍԻԴԻԱՆԵՐ | G36: =G37 -> -16700 | H36: =H37 -> -16700
F37: Սուբսիդիաներ ոչ պետական կազմակերպություններին | G37: =+G38 -> -16700 | H37: =+H38 -> -16700
F38: - Սուբսիդիաներ ոչ պետական ֆինանսական կազմակերպություններին | G38: =+'Havelvats 1'!G17 -> -16700 | H38: =+'Havelvats 1'!H17 -> -16700
E39: 12004 | F39: Կլինիկական փորձարկումների, կենսահամարժեքության հետազոտությունների սուբսիդավորում | G39: =G43 -> -45000 | H39: =H43 -> -145000
F40: այդ թվում` ըստ կատարողների
F41: ՀՀ էկոնոմիկայի նախարարություն | G41: =+G43 -> -45000 | H41: =+H43 -> -145000
...

Sheet Havelvats 3
D1: Հավելված N 3
C2: ՀՀ կառավարության 2025 թվականի
C3: ___________ ___-ի N _______ -Ն որոշման
A6: ՀԱՅԱՍՏԱՆԻ ՀԱՆՐԱՊԵՏՈՒԹՅԱՆ ԿԱՌԱՎԱՐՈՒԹՅԱՆ 2024 ԹՎԱԿԱՆԻ ԴԵԿՏԵՄԲԵՐԻ 27-Ի N 2060-Ն ՈՐՈՇՄԱՆ N 5 ՀԱՎԵԼՎԱԾԻ 7 ԱՂՅՈՒՍԱԿՈՒՄ ԿԱՏԱՐՎՈՂ ՓՈՓՈԽՈՒԹՅՈՒՆՆԵՐԸ ԵՎ ԼՐԱՑՈՒՄՆԵՐԸ
G7: հազար դրամներով
A8: Ծրագրային դասիչ | C8: Բյուջետային հատկացումների գլխավոր կարգադրիչների, ծրագրերի, միջոցառումների, ծախսային ուղղությունների անվանումները | F8: Միջոցառումները կատարող պետական մարմինների և դրամաշնորհ ստացող տնտեսվարող սուբյեկտների անվանումները | G8: Ցուցանիշների փոփոխությունը (ավելացումները նշված են դրական նշանով, իսկ նվազեցումները՝ փակագծերում)
A9: Ծրագիր | B9: Միջոցառում | G9: Տարի
A10: 1 | B10: 2 | C10: 3 | F10: 4 | G10: 5
A11: Ընդամենը | G11: =+G12 -> -1977976
A12: ՀՀ էկոնոմիկայի նախարարություն | G12: =G13+G16+G19 -> -1977976
A13: 1022 | B13: Գյուղատնտեսության խթանման ծրագիր | G13: =+G14 -> -1810334
B14: 12010 | C14: Անասնաբուծության ճյուղում իրականացվող ներդրումային ծրագրերին աջակցություն | F14: ՀՀ էկոնոմիկայի նախարարություն | G14: =+G15 -> -1810334
F15: ՀՀ կառավարության կողմից հաստատված համապատասխան ծրագրի չափանիշները բավարարող շահառուներ | G15: =+'Havelvats 2'!H72 -> -1810334
A16: 1059 | B16: Բուսաբուծության խթանում և բույսերի պաշտպանություն | G16: =+G17 -> 43428
B17: 11010 | C17: =+'Havelvats 1'!D13 -> ՀՀ-ում գարնանացան, աշնանացան և կերային մշակաբույսերի ցանքատարածությունների մոնիթորինգի իրականացմանն աջակցություն | F17: ՀՀ էկոնոմիկայի նախարարություն | G17: =+G18 -> 43428
F18: ՀՀ կառավարության կողմից հաստատված համապատասխան ծրագրի չափանիշները բավարարող համայնքներ | G18: =+'Havelvats 2'!H91 -> 43428
A19: 1165 | B19: Ներդրումների և արտահանման խթանման ծրագիր | G19: =+G20+G22 -> -211070
B20: 11010 | C20: Տեքստիլ ոլորտի զարգացման ծրագրերն իրականացնող և աջակցող Օպերատորի շարունակական գործունեության նպատակով պետական աջակցության ծրագիր | F20: ՀՀ էկոնոմիկայի նախարարություն | G20: =+G21 -> -11070
F21: ՀՀ կառավարության կողմից հաստատված համապատասխան ծրագրի օպերատոր | G21: -11070
B22: 12006 | C22: Հայաստանի Հանարապետության տնտեսապես բարդ ապրանքների արտադրությամբ զբաղվող առևտրային ընկերություններին պետական աջակցություն | F22: ՀՀ էկոնոմիկայի նախարարություն | G22: =+G23 -> -200000
F23: ՀՀ կառավարության կողմից հաստատված համապատասխան ծրագրի չափանիշները բավարարող շահառուներ | G23: -200000

Sheet Havelvats 4
A1: Հավելված 4 ՀՀ կառավարության 2025 թվականի____________ի N _____-Ն որոշման
A3: ՀԱՅԱՍՏԱՆԻ ՀԱՆՐԱՊԵՏՈՒԹՅԱՆ ԿԱՌԱՎԱՐՈՒԹՅԱՆ 2024 ԹՎԱԿԱՆԻ ԴԵԿՏԵՄԲԵՐԻ 27-Ի N 2060-Ն ՈՐՈՇՄԱՆ N 9 ՀԱՎԵԼՎԱԾՈՒՄ ԿԱՏԱՐՎՈՂ ՓՈՓՈԽՈՒԹՅՈՒՆՆԵՐԸ ԵՎ ԼՐԱՑՈՒՄՆԵՐԸ
K4: հազ.դրամներով
A5: ԲԳԿ | B5: Ծրագիր | D5: Միջոցառում | H5: Իրականացնողը/ ակտիվն օգտագործողը/ շահառուի ընտրության չափորոշիչը | I5: Արդյունքային չափորոշիչը | J5: Ցուցանիշների փոփոխությունը (ավելացումները նշված են դրական նշանով, իսկ նվազեցումները՝ փակագծերում)
B6: Դասիչը | C6: Անվա-նումը | D6: Դասիչը | E6: Անվա-նումը | F6: Նկարագրու-թյունը | G6: Տեսակը | J6: Ինն ամիս | K6: Տարի
A7: ԸՆԴԱՄԵՆԸ | J7: =+J8+J94+J101 -> 0 | K7: =+K8+K94+K101 -> 0
A8: ՀՀ էկոնոմիկայի նախարարություն | J8: =+J9+J40+J71+J19+J26 -> 867702 | K8: =+K9+K40+K71+K19+K26 -> 0
B9: 1022 | C9: Գյուղատնտեսության խթանման ծրագիր | J9: =+J10+J14 -> -80000 | K9: =+K10+K14 -> -2190334
D10: 1022 - 12001 | E10: Գյուղատնտեսական վարկերի տոկոսադրույքների սուբսիդավորում | J10: =+'Havelvats 2'!G71 -> -80000 | K10: =+'Havelvats 2'!H71 -> -380000
F11: Գյուղատնտեսության ոլորտում տրամադրվող վարկերի տոկոսադրույքների սուբսիդավորում
G12: Տրանսֆերտների տրամադրում
H13: Շահառուների ընտրության չափորոշիչները` ՀՀ գյուղատնտեսությամբ զբաղվող տնտեսավարող սուբյեկտներ ընտրված համաձայն` ՀՀ կառավարության 07.03.2019թ. թիվ 184-Լ որոշմամբ հաստատված ծրագրի և ֆինանսական կառույցների կողմից հաստատված համապատասխան չափանիշների
D14: 1022 - 12010 | E14: Անասնաբուծության ճյուղում իրականացվող ներդրումային ծրագրերին աջակցություն | J14: =+'Havelvats 1'!G11 -> 0 | K14: =+'Havelvats 1'!H11 -> -1810334
F15: Անասնաբուծության ճյուղում իրականացվող առնվազն 1 մլրդ դրամի ներդրումներից կապիտալ ներդրումների մասնակի փոխհատուցում
G16: Տրանսֆերտների տրամադրում
H17: Շահառուների ընտրության չափորոշիչները` ՀՀ գյուղատնտեսական տնտեսավարողներ՛ ընտրված ՀՀ կառավարության 03.03.2022թ. թիվ 276-Լ որոշմամբ հաստատված ծրագրի չափանիշներին համապատասխան
I18: Ծրագրի շրջանակում 2023 թվականից իրականացվող ներդրումային ծրագրեր, հատ | K18: -2
B19: 1058 | C19: Էկոնոմիկայի ոլորտում պետական քաղաքականության մշակում, ծրագրերի համակարգում և մոնիտորինգ | J19: =+J20 -> 0 | K19: =+K20 -> 0
D20: 1058 - 11002 | E20: ԱՀԿ-ում և oտարերկրյա պետություններում ՀՀ առևտրային ներկայացուցիչների նպատակների և խնդիրների իրագործում | J20: 0 | K20: 0
F21: ԱՀԿ-ում ՀՀ տնտեսական շահերի ներկայացում և պաշտպանություն, ՀՀ առևտրատնտեսական քաղաքականության զարգացմանը, արտահանումների խթանմանը և ներդրումների ներգրավմանն ուղղված գործունեություն արտերկրում
G22: Ծառայությունների մատուցում
H23: Ծառայությունը մատուցողի անվանումը` ՀՀ էկոնոմիկայի նախարարություն
I24: Օտարերկրյա պետություններում գործող ՀՀ առևտրային ներկայացուցչություններ, քանակ | K24: -5
I25: Օտարերկրյա պետություններում ՀՀ առևտրային կցորդներ և Առևտրի համաշխարհային կազմակերպությունում ներկայացուցիչ, քանակ | K25: 5
B26: 1059 | C26: Բուսաբուծության խթանում և բույսերի պաշտպանություն | J26: =+J27+J32 -> 505730 | K26: =+K27+K32 -> 1491028
D27: =+'Havelvats 1'!C13 -> 1059 - 11010 | E27: =+'Havelvats 1'!D13 -> ՀՀ-ում գարնանացան, աշնանացան և կերային մշակաբույսերի ցանքատարածությունների մոնիթորինգի իրականացմանն աջակցություն | J27: =+'Havelvats 1'!G13 -> 14730 | K27: =+'Havelvats 1'!H13 -> 43428
F28: =+'Havelvats 1'!E13 -> Համայնքների կողմից մշակաբույսերի և բազմամյա խոտաբույսերի մոնիթորինգի իրականացում, արդյունքների ամփոփում և համապատասխան տեղեկատվության ներկայացում
G29: =+'Havelvats 1'!F13 -> Ծառայության մատուցում
H30: Շահառուների ընտրության չափորոշիչները` ՀՀ համայնքներ՝ ընտրված համաձայն՝ ՀՀ կառավարության 2025թ. մարտի 27-ի 356-Լ որոշմամբ հաստատված ծրագրի
I31: Մոնիթորինգի ենթարկված ցանքատարածություններ, հա | K31: 18950
D32: =+'Havelvats 1'!C14 -> 1059 - 12003 | E32: =+'Havelvats 1'!D14 -> ՀՀ-ում գարնանացան, աշնանացան և կերային մշակաբույսերի մշակության հիմնական աշխատանքների համար կատարված ծախսերի մասնակի փոխհատուցման տրամադրում | J32: =+'Havelvats 1'!G14 -> 491000 | K32: =+'Havelvats 1'!H14 -> 1447600
F33: =+'Havelvats 1'!E14 -> Մշակաբույսերի և բազմամյա խոտաբույսերի ցանքատարածությունների ընդլայնմանը նպաստելու նպատակով մշակության հիմնական աշխատանքների համար կատարված ծախսերի մասնակի փոխհատուցում
G34: Տրանսֆերտների տրամադրում
H35: Շահառուների ընտրության չափորոշիչները`գյուղատնտեսությունում տնտեսավարողներ՝ ընտրված համաձայն՝ ՀՀ կառավարության 2025թ. մարտի 27-ի 356-Լ որոշմամբ հաստատված ծրագրի
I36: գարնանացան հացահատիկային մշակաբույսեր, հեկտար | K36: 15000
I37: եգիպտացորեն, հա | K37: 1200
I38: հատիկաընդեղեն մշակաբույսեր, հա | K38: 500
I39: բազմամյա կերային մշակաբույսեր /առվույտ, կորնգան, կերի ճակնդեղ/ հա | K39: 2250
B40: 1165 | C40: Ներդրումների և արտահանման խթանման ծրագիր | J40: =J41+J46+J51+J58++J66+J62 -> -72770 | K40: =K41+K46+K51+K58++K66+K62 -> -372770
D41: 1165 - 11002 | E41: ՀՀ արտահանմանն ուղղված արդյունաբերական քաղաքականության ռազմավարությամբ նախատեսված միջոցառումներ | J41: 0 | K41: 0
...

Sheet Havelvats 5
A1: Հավելված 5 ՀՀ կառավարության 2025 թվականի____________ի N _____-Ն որոշման
A3: ՀԱՅԱՍՏԱՆԻ ՀԱՆՐԱՊԵՏՈՒԹՅԱՆ ԿԱՌԱՎԱՐՈՒԹՅԱՆ 2024 ԹՎԱԿԱՆԻ ԴԵԿՏԵՄԲԵՐԻ 27-Ի N 2060-Ն ՈՐՈՇՄԱՆ N 9.1 ՀԱՎԵԼՎԱԾՈՒՄ ԿԱՏԱՐՎՈՂ ՓՈՓՈԽՈՒԹՅՈՒՆՆԵՐԸ ԵՎ ԼՐԱՑՈՒՄՆԵՐԸ
K4: հազ.դրամներով
A5: ԲՍԿ | B5: Ծրագիր | D5: Միջոցառում | H5: Իրականացնողը/ ակտիվն օգտագործողը/ շահառուի ընտրության չափորոշիչը | I5: Արդյունքային չափորոշիչը | J5: Ցուցանիշների փոփոխությունը (ավելացումները նշված են դրական նշանով, իսկ նվազեցումները՝ փակագծերում)
B6: Դասիչը | C6: Անվա-նումը | D6: Դասիչը | E6: Անվա-նումը | F6: Նկարագրու-թյունը | G6: Տեսակը | J6: Ինն ամիս | K6: Տարի
A7: ԸՆԴԱՄԵՆԸ | J7: =+J8+J100 -> 0 | K7: =+K8+K100 -> 0
A8: ՀՀ էկոնոմիկայի նախարարություն | J8: =+J9+J46+J77+J19+J26+J40 -> 867702 | K8: =+K9+K46+K77+K19+K26+K40 -> 0
B9: 1022 | C9: Գյուղատնտեսության խթանման ծրագիր | J9: =+J10+J14 -> -80000 | K9: =+K10+K14 -> -2190334
D10: 1022 - 12001 | E10: Գյուղատնտեսական վարկերի տոկոսադրույքների սուբսիդավորում | J10: =+'Havelvats 2'!G71 -> -80000 | K10: =+'Havelvats 2'!H71 -> -380000
F11: Գյուղատնտեսության ոլորտում տրամադրվող վարկերի տոկոսադրույքների սուբսիդավորում
G12: Տրանսֆերտների տրամադրում
H13: Շահառուների ընտրության չափորոշիչները` ՀՀ գյուղատնտեսությամբ զբաղվող տնտեսավարող սուբյեկտներ ընտրված համաձայն` ՀՀ կառավարության 07.03.2019թ. թիվ 184-Լ որոշմամբ հաստատված ծրագրի և ֆինանսական կառույցների կողմից հաստատված համապատասխան չափանիշների
D14: 1022 - 12010 | E14: Անասնաբուծության ճյուղում իրականացվող ներդրումային ծրագրերին աջակցություն | J14: =+'Havelvats 1'!G11 -> 0 | K14: =+'Havelvats 1'!H11 -> -1810334
F15: Անասնաբուծության ճյուղում իրականացվող առնվազն 1 մլրդ դրամի ներդրումներից կապիտալ ներդրումների մասնակի փոխհատուցում
G16: Տրանսֆերտների տրամադրում
H17: Շահառուների ընտրության չափորոշիչները` ՀՀ գյուղատնտեսական տնտեսավարողներ՛ ընտրված ՀՀ կառավարության 03.03.2022թ. թիվ 276-Լ որոշմամբ հաստատված ծրագրի չափանիշներին համապատասխան
I18: Ծրագրի շրջանակում 2023 թվականից իրականացվող ներդրումային ծրագրեր, հատ | K18: -2
B19: 1058 | C19: Էկոնոմիկայի ոլորտում պետական քաղաքականության մշակում, ծրագրերի համակարգում և մոնիտորինգ | J19: =+J20 -> 0 | K19: =+K20 -> 0
D20: 1058 - 11002 | E20: ԱՀԿ-ում և oտարերկրյա պետություններում ՀՀ առևտրային ներկայացուցիչների նպատակների և խնդիրների իրագործում | J20: 0 | K20: 0
F21: ԱՀԿ-ում ՀՀ տնտեսական շահերի ներկայացում և պաշտպանություն, ՀՀ առևտրատնտեսական քաղաքականության զարգացմանը, արտահանումների խթանմանը և ներդրումների ներգրավմանն ուղղված գործունեություն արտերկրում
G22: Ծառայությունների մատուցում
H23: Ծառայությունը մատուցողի անվանումը` ՀՀ էկոնոմիկայի նախարարություն
I24: Օտարերկրյա պետություններում գործող ՀՀ առևտրային ներկայացուցչություններ, քանակ | K24: -5
I25: Օտարերկրյա պետություններում ՀՀ առևտրային կցորդներ և Առևտրի համաշխարհային կազմակերպությունում ներկայացուցիչ, քանակ | K25: 5
B26: 1059 | C26: Բուսաբուծության խթանում և բույսերի պաշտպանություն | J26: =+J27+J32 -> 505730 | K26: =+K27+K32 -> 1491028
D27: =+'Havelvats 1'!C13 -> 1059 - 11010 | E27: =+'Havelvats 1'!D13 -> ՀՀ-ում գարնանացան, աշնանացան և կերային մշակաբույսերի ցանքատարածությունների մոնիթորինգի իրականացմանն աջակցություն | J27: =+'Havelvats 1'!G13 -> 14730 | K27: =+'Havelvats 1'!H13 -> 43428
F28: =+'Havelvats 1'!E13 -> Համայնքների կողմից մշակաբույսերի և բազմամյա խոտաբույսերի մոնիթորինգի իրականացում, արդյունքների ամփոփում և համապատասխան տեղեկատվության ներկայացում
G29: =+'Havelvats 1'!F13 -> Ծառայության մատուցում
H30: Շահառուների ընտրության չափորոշիչները` ՀՀ համայնքներ՝ ընտրված համաձայն՝ ՀՀ կառավարության 2025թ. մարտի 27-ի 356-Լ որոշմամբ հաստատված ծրագրի
I31: Մոնիթորինգի ենթարկված ցանքատարածություններ, հա | K31: 18950
D32: =+'Havelvats 1'!C14 -> 1059 - 12003 | E32: =+'Havelvats 1'!D14 -> ՀՀ-ում գարնանացան, աշնանացան և կերային մշակաբույսերի մշակության հիմնական աշխատանքների համար կատարված ծախսերի մասնակի փոխհատուցման տրամադրում | J32: =+'Havelvats 1'!G14 -> 491000 | K32: =+'Havelvats 1'!H14 -> 1447600
F33: =+'Havelvats 1'!E14 -> Մշակաբույսերի և բազմամյա խոտաբույսերի ցանքատարածությունների ընդլայնմանը նպաստելու նպատակով մշակության հիմնական աշխատանքների համար կատարված ծախսերի մասնակի փոխհատուցում
G34: Տրանսֆերտների տրամադրում
H35: Շահառուների ընտրության չափորոշիչները`գյուղատնտեսությունում տնտեսավարողներ՝ ընտրված համաձայն՝ ՀՀ կառավարության 2025թ. մարտի 27-ի 356-Լ որոշմամբ հաստատված ծրագրի
I36: գարնանացան հացահատիկային մշակաբույսեր, հեկտար | K36: 15000
I37: եգիպտացորեն, հա | K37: 1200
I38: հատիկաընդեղեն մշակաբույսեր, հա | K38: 500
I39: բազմամյա կերային մշակաբույսեր /առվույտ, կորնգան, կերի ճակնդեղ/ հա | K39: 2250
B40: 1162 | C40: Գիտական և գիտատեխնիկական հետազոտությունների ծրագիր | J40: =+J41 -> 0 | K40: =+K41 -> 0
D41: 1162 - 11010 | E41: Անտենային էտալոնների պահպանում և զարգացում | J41: 0 | K41: 0
...

Sheet Havelvats 6
F1: Հավելված 6 ՀՀ կառավարության 2025 թվականի____________ի N _____-Ն որոշման
A3: ՀԱՅԱՍՏԱՆԻ ՀԱՆՐԱՊԵՏՈՒԹՅԱՆ 2025 ԹՎԱԿԱՆԻ ՊԵՏԱԿԱՆ ԲՅՈՒՋԵՈՎ ՆԱԽԱՏԵՍՎԱԾ՝ ՀԱՅԱՍՏԱՆԻ ՀԱՆՐԱՊԵՏՈՒԹՅԱՆ ԿԱՌԱՎԱՐՈՒԹՅԱՆ ՊԱՀՈՒՍՏԱՅԻՆ ՖՈՆԴԻՑ ՀԱՏԿԱՑՈՒՄՆԵՐ ԿԱՏԱՐԵԼՈՒ ՎԵՐԱԲԵՐՅԱԼ
H4: հազար դրամներով
A5: Գործառնական դասիչ | D5: Ծրագրային դասիչը | F5: Բյուջետային ծախսերի գործառական դասակարգման բաժինների, խմբերի և դասերի, բյուջետային ծրագրերի միջոցառումների, բյուջետային հատկացումների գլխավոր կարգադրիչների անվանումները | G5: Ցուցանիշների փոփոխությունը (ավելացումները նշված են դրական նշանով, իսկ նվազեցումները՝ փակագծերում)
A6: Բաժին | B6: Խումբ | C6: Դաս | D6: Ծրագիր | E6: Միջոցառում | G6: Ինն ամիս | H6: Տարի
F7: ԸՆԴԱՄԵՆԸ ԾԱԽՍԵՐ | G7: =+G9+G50 -> 0 | H7: =+H9+H50 -> 0
F8: այդ թվում`
F9: ՀՀ էկոնոմիկայի նախարարություն | G9: =+G11 -> 1373432 | H9: =+H11 -> 1491028
F10: այդ թվում`
A11: 04 | F11: ՏՆՏԵՍԱԿԱՆ ՀԱՐԱԲԵՐՈՒԹՅՈՒՆՆԵՐ | G11: =G13 -> 1373432 | H11: =H13 -> 1491028
F12: այդ թվում`
B13: 02 | F13: Գյուղատնտեսություն, անտառային տնտեսություն, ձկնորսություն և որսորդություն | G13: =+G15 -> 1373432 | H13: =+H15 -> 1491028
F14: այդ թվում`
C15: 01 | F15: Գյուղատնտեսություն | G15: =+G17+G39 -> 1373432 | H15: =+H17+H39 -> 1491028
F16: այդ թվում`
D17: 1059 | F17: Բուսաբուծության խթանում և բույսերի պաշտպանություն | G17: =+G27+G38 -> 505730 | H17: =+H27+H38 -> 1491028
F18: այդ թվում`
E19: 11010 | F19: Բուսաբուծության խթանում և բույսերի պաշտպանություն | G19: =+G21 -> 14730 | H19: =+H21 -> 43428
F20: այդ թվում`
F21: ՀՀ-ում գարնանացան, աշնանացան և կերային մշակաբույսերի ցանքատարածությունների մոնիթորինգի իրականացմանն աջակցություն | G21: =+G23 -> 14730 | H21: =+H23 -> 43428
F22: այդ թվում` ըստ կատարողների
F23: ՀՀ էկոնոմիկայի նախարարություն | G23: =+G24 -> 14730 | H23: =+H24 -> 43428
F24: այդ թվում` բյուջետային ծախսերի տնտեսագիտական դասակարգման հոդվածներ | G24: =+G25 -> 14730 | H24: =+H25 -> 43428
F25: ԸՆԴԱՄԵՆԸ ԾԱԽՍԵՐ | G25: =+G26 -> 14730 | H25: =+H26 -> 43428
F26: ԸՆԹԱՑԻԿ ԾԱԽՍԵՐ | G26: =+G27 -> 14730 | H26: =+H27 -> 43428
F27: ԴՐԱՄԱՇՆՈՐՀՆԵՐ | G27: =+'Havelvats 2'!G91 -> 14730 | H27: =+'Havelvats 2'!H91 -> 43428
F28: Ընթացիկ դրամաշնորհներ պետական հատվածի այլ մակարդակներին | G28: 14730 | H28: 43428
F29: - Այլ ընթացիկ դրամաշնորհներ համայնքներին | G29: 14730 | H29: 43428
E30: 12003 | F30: ՀՀ-ում գարնանացան, աշնանացան և կերային մշակաբույսերի մշակության հիմնական աշխատանքների համար կատարված ծախսերի մասնակի փոխհատուցման տրամադրում | G30: =+G32 -> 491000 | H30: =+H32 -> 1447600
F31: այդ թվում` ըստ կատարողների
F32: ՀՀ էկոնոմիկայի նախարարություն | G32: =+G34 -> 491000 | H32: =+H34 -> 1447600
F33: այդ թվում` բյուջետային ծախսերի տնտեսագիտական դասակարգման հոդվածներ
F34: ԸՆԴԱՄԵՆԸ ԾԱԽՍԵՐ | G34: =+G35 -> 491000 | H34: =+H35 -> 1447600
F35: ԸՆԹԱՑԻԿ ԾԱԽՍԵՐ | G35: =+G36 -> 491000 | H35: =+H36 -> 1447600
F36: ՍՈՑԻԱԼԱԿԱՆ ՆՊԱՍՏՆԵՐ ԵՎ ԿԵՆՍԱԹՈՇԱԿՆԵՐ | G36: =+G37 -> 491000 | H36: =+H37 -> 1447600
F37: Սոցիալական օգնության դրամական արտահայտությամբ նպաստներ (բյուջեից) | G37: =+G38 -> 491000 | H37: =+H38 -> 1447600
F38: - Այլ նպաստներ բյուջեից | G38: =+'Havelvats 2'!G100 -> 491000 | H38: =+'Havelvats 2'!H100 -> 1447600
D39: 1187 | F39: =+'Havelvats 1'!D20 -> Գյուղատնտեսության արդիականացման ծրագիր | G39: =+G41 -> 867702 | H39: =+H41 -> 0
F40: այդ թվում`
E41: 12014 | F41: Հայաստանի Հանրապետությունում ինտենսիվ այգեգործության զարգացման նպատակով սուբսիդավորում | G41: =+G43 -> 867702 | H41: =+H43 -> 0
...
