Workbook
Name \A: #REF!
Name \A: #REF!
Name _tab10: #REF!
Name _tab10: #REF!
Name _tab10: #REF!
Name _tab11: #REF!
Name _tab11: #REF!
Name _tab12: #REF!
Name _tab12: #REF!
Name _tab13: #REF!
Name _tab13: #REF!
Name _tab14: #REF!
Name _tab14: #REF!
Name _tab15: #REF!
Name _tab15: #REF!
Name _tab16: #REF!
Name _tab16: #REF!
Name _tab17: #REF!
Name _tab17: #REF!
Name _tab18: #REF!
Name _tab18: #REF!
Name _tab19: #REF!
Name _tab19: #REF!
Name _tab20: #REF!
Name _tab20: #REF!
Name _tab21: #REF!
Name _tab21: #REF!
Name _tab22: #REF!
Name _tab22: #REF!
Name _tab23: #REF!
Name _tab23: #REF!
Name _tab24: #REF!
Name _tab24: #REF!
Name _tab5: #REF!
Name _tab5: #REF!
Name _tab6: #REF!
Name _tab6: #REF!
Name _tab7: #REF!
Name _tab7: #REF!
Name _tab8: #REF!
Name _tab8: #REF!
Name _tab9: #REF!
Name _tab9: #REF!
Name AgencyCode: #REF!
Name AgencyCode: #REF!
Name AgencyCode: #REF!
Name AgencyName: #REF!
Name AgencyName: #REF!
Name ampop_krchat: #REF!
Name ampop_krchat: #REF!
Name Armata: #REF!
Name Armata: #REF!
Name asd: #REF!
Name asd: #REF!
Name åû: #REF!
Name åû: #REF!
Name BOP: #REF!
Name BOP: #REF!
Name BOPfoot: #REF!
Name BOPfoot: #REF!

Sheet Havelvats 1
A1: Հավելված 1 ՀՀ կառավարության 2025 թվականի____________ի N _____-Ն որոշման
A3: «ՀԱՅԱՍՏԱՆԻ ՀԱՆՐԱՊԵՏՈՒԹՅԱՆ 2025 ԹՎԱԿԱՆԻ ՊԵՏԱԿԱՆ ԲՅՈՒՋԵԻ ՄԱՍԻՆ» ՕՐԵՆՔԻ N 1 ՀԱՎԵԼՎԱԾԻ N 2 ԱՂՅՈՒՍԱԿՈՒՄ ԿԱՏԱՐՎՈՂ ՎԵՐԱԲԱՇԽՈՒՄԸ ԵՎ ԼՐԱՑՈՒՄՆԵՐԸ, ՀԱՅԱՍՏԱՆԻ ՀԱՆՐԱՊԵՏՈՒԹՅԱՆ ԿԱՌԱՎԱՐՈՒԹՅԱՆ 2024 ԹՎԱԿԱՆԻ ԴԵԿՏԵՄԲԵՐԻ 27-Ի N 2060-Ն ՈՐՈՇՄԱՆ N 5 ՀԱՎԵԼՎԱԾԻ N 1 ԱՂՅՈՒՍԱԿՈՒՄ ԿԱՏԱՐՎՈՂ ՓՈՓՈԽՈՒԹՅՈՒՆՆԵՐԸ ԵՎ ԼՐԱՑՈՒՄՆԵՐԸ
G4: հազար դրամներով
A5: ԲԳԿ | B5: Ծրագրային դասիչը | D5: ԲԳԿ/Ծրագրի /միջոցառման անվանումը | E5: Ծրագրի նպատակը/Միջոցառման նկարագրույունը | F5: Վերջնական արդյունքի նկարագրությունը/Միջոցառման տեսակը | G5: Ցուցանիշների փոփոխությունը (ավելացումները նշված են դրական նշանով, իսկ նվազեցումները՝ փակագծերում)
B6: Ծրագիր | C6: Միջոցառում | G6: Ինն ամիս | H6: Տարի
A7: ԸՆԴԱՄԵՆԸ | G7: =+G24+G8 -> 0 | H7: =+H24+H8 -> 0
A8: ՀՀ էկոնոմիկայի նախարարություն | G8: =+G9+G12+G15+G20 -> 867702 | H8: =+H9+H12+H15+H20 -> 0
B9: 1022 | D9: Գյուղատնտեսության խթանման ծրագիր | E9: Գյուղատնտեսական մթերքի և դրանց վերամշակումից ստացվող սննդամթերքի ծավալների ավելացում | F9: Գյուղատնտեսական մթերքների ծավալների ավելացում: Օգտագործվող վարելահողերի ավելացում: Պտուղբանջարեղենի և խաղողի վերամշակումից ստացված արտադրանքի ծավալների աճ | G9: =+G10+G11 -> -80000 | H9: =+H10+H11 -> -2190334
C10: 1022 - 12001 | D10: Գյուղատնտեսական վարկերի տոկոսադրույքների սուբսիդավորում | E10: Գյուղատնտեսության ոլորտում տրամադրվող վարկերի տոկոսադրույքների սուբսիդավորում | F10: Տրանսֆերտների տրամադրում | G10: -80000 | H10: -380000
C11: 1022 - 12010 | D11: Անասնաբուծության ճյուղում իրականացվող ներդրումային ծրագրերին աջակցություն | E11: Անասնաբուծության ճյուղում իրականացվող առնվազն 1 մլրդ դրամի ներդրումներից կապիտալ ներդրումների մասնակի փոխհատուցում | F11: Տրանսֆերտների տրամադրում | H11: -1810334
B12: 1059 | D12: Բուսաբուծության խթանում և բույսերի պաշտպանություն | E12: Հողագործությունից ստացվող արդյունքի բարելավում | F12: Մշակաբույսերի միջին բերքատվության բարձրացում:ՀՀ գյուղատնտեսական նշանակության ողջ հողատարածքի համար կազմված ագրոքիմիական քարտեզներով ապահովվածություն: Հացահատիկի և հատիկաընդեղենի արտադրության ծավալների ավելացում: | G12: =+G14+G13 -> 505730 | H12: =+H14+H13 -> 1491028
C13: 1059 - 11010 | D13: ՀՀ-ում գարնանացան, աշնանացան և կերային մշակաբույսերի ցանքատարածությունների մոնիթորինգի իրականացմանն աջակցություն | E13: Համայնքների կողմից մշակաբույսերի և բազմամյա խոտաբույսերի մոնիթորինգի իրականացում, արդյունքների ամփոփում և համապատասխան տեղեկատվության ներկայացում | F13: Ծառայության մատուցում | G13: 14730 | H13: 43428
C14: 1059 - 12003 | D14: ՀՀ-ում գարնանացան, աշնանացան և կերային մշակաբույսերի մշակության հիմնական աշխատանքների համար կատարված ծախսերի մասնակի փոխհատուցման տրամադրում | E14: Մշակաբույսերի և բազմամյա խոտաբույսերի ցանքատարածությունների ընդլայնմանը նպաստելու նպատակով մշակության հիմնական աշխատանքների համար կատարված ծախսերի մասնակի փոխհատուցում | F14: Տրանսֆերտների տրամադրում | G14: 491000 | H14: 1447600
B15: 1165 | D15: Ներդրումների և արտահանման խթանման ծրագիր | E15: Ներդրումների ներգրավման և արտահանման խթանում | F15: Նախորդ տարվա համեմատ ներդրումների և արտահանման ծավալների աճ | G15: =+G16+G17+G18+G19 -> -72770 | H15: =+H16+H17+H18+H19 -> -372770
C16: 1165 - 11010 | D16: Տեքստիլ ոլորտի զարգացման ծրագրերն իրականացնող և աջակցող Օպերատորի շարունակական գործունեության նպատակով պետական աջակցության ծրագիր | E16: Տեքստիլ ոլորտի զարգացման գործողությունների ծրագրիրն իրականացնող Օպերատորի ֆինանասավորում | F16: Ծառայությունների մատուցում | G16: -11070 | H16: -11070
C17: 1165 - 12002 | D17: Տեքստիլ ոլորտի կազմակերպությունների համար մատակարարման շղթաների դիվերսիֆիկացիայի ապահովմանն ուղղված պետական աջակցություն | E17: Տեքստիլ ընկերությունների կողմից ներգրավված առևտրի ֆինանսավորման վարկային գործիքների տոկոսադրույքների սուբսիդավորում և էլեկտրոնային հարթակներում վաճառքների խթանում | F17: Տրանսֆերտների տրամադրում | G17: -16700 | H17: -16700
C18: 1165 - 12004 | D18: Կլինիկական փորձարկումների, կենսահամարժեքության հետազոտությունների սուբսիդավորում | E18: Հայաստանի Հանրապետությունում արտադրվող դեղերի կլինիկական փորձարկումների և (կամ) կենսահամարժեքության հետազոտությունների ծախսերի մասնակի սուբսիդավորում | F18: Տրանսֆերտների տրամադրում | G18: -45000 | H18: -145000
C19: 1165-12006 | D19: Հայաստանի Հանարապետության տնտեսապես բարդ ապրանքների արտադրությամբ զբաղվող առևտրային ընկերություններին պետական աջակցություն | E19: Տնտեսական բարդության ինդեքսը օգտագործելով` պետական աջակցությունն առաջնահերթորեն տրամադրել այն տնտեսվարողներին, որոնք պատրաստվում են արտադրել 0.2 տնտեսական բարդության ցուցիչից ավելի բարձր ինդեքս ունեցող ապրանքներ | F19: Տրանսֆերտների տրամադրում | G19: 0 | H19: -200000
B20: 1187 | D20: Գյուղատնտեսության արդիականացման ծրագիր | E20: Գյուղատնտեսական տեխնիկական համակարգերի արդիականացում, ինտենսիվ այգիների ներդրման և տոհմաբուծության մեջ նոր ցեղատեսակների բուծման աջակցություն | F20: Ոռոգման արդիական համակարգեր ներդրված հողատարածքների և տոհմային կենդանիների տեսակարար կշռի ավելացում | G20: =+G21+G22+G23 -> 514742 | H20: =+H21+H22+H23 -> 1072076
C21: 1187 - 12002 | D21: Հայաստանի Հանրապետությունում խաղողի, ժամանակակից տեխնոլոգիաներով մշակվող ինտենսիվ պտղատու այգիների և հատապտղանոցների հիմնման համար վարկային տոկոսադրույքների սուբսիդավորում | E21: Հայաստանի Հանրապետությունում խաղողի, ժամանակակից տեխնոլոգիաներով մշակվող ինտենսիվ պտղատու այգիների և հատապտղանոցների հիմնման համար տնտեսավարողներին տրամադրվող նպատակային վարկերի տոկոսադրույքների սուբսիդավորում | F21: Տրանսֆերտների տրամադրում | G21: -266914.5 | H21: -266914.5
C22: 1187 - 12014 | D22: Հայաստանի Հանրապետությունում ինտենսիվ այգեգործության զարգացման նպատակով սուբսիդավորում | E22: Հայաստանի Հանրապետությունում այգեհիմնման նպատակով տրամադրվող վարկերի տոկոսադրույքների սուբսիդավորում | F22: Տրանսֆերտների տրամադրում | G22: 1339102.8 | H22: 1338990.5
C23: 1187 - 12015 | D23: Հայաստանի Հանրապետությունում ինտենսիվ այգեգործության զարգացման նպատակով ծախսերի փոխհատուցում | E23: Հայաստանի Հանրապետությունում այգեհիմնման նպատակով կատարված ծախսերի մասնակի փոխհատուցում | F23: Տրանսֆերտների տրամադրում | G23: -557446.3
A24: ՀՀ կառավարություն | G24: =+G25 -> -867702 | H24: =+H25 -> 0
B25: 1139 | D25: ՀՀ կառավարության պահուստային ֆոնդ | E25: Պետական բյուջեում չկանխատեսված, ինչպես նաեւ բյուջետային երաշխիքների ապահովման ծախսերի ֆինանսավորման ապահովում | F25: Պահուստային ֆոնդի կառավարման արդյունավետության և թափանցիկության ապահովում | G25: =+G26+G27 -> -867702 | H25: =+H26+H27 -> 0
C26: 1139 - 11001 | D26: ՀՀ կառավարության պահուստային ֆոնդ | E26: ՀՀ պետական բյուջեում նախատեսված ելքերի լրացուցիչ ֆինանսավորման, պետական բյուջեում չկանխատեսված ելքերի, ինչպես նաև բյուջետային երաշխիքների ապահովման ելքերի ֆինանսավորման ապահովում | F26: Ծառայությունների մատուցում | G26: 505730 | H26: 1491028
C27: 1139 - 11001 | D27: ՀՀ կառավարության պահուստային ֆոնդ | E27: ՀՀ պետական բյուջեում նախատեսված ելքերի լրացուցիչ ֆինանսավորման, պետական բյուջեում չկանխատեսված ելքերի, ինչպես նաև բյուջետային երաշխիքների ապահովման ելքերի ֆինանսավորման ապահովում | F27: Ծառայությունների մատուցում | G27: -1373432 | H27: -1491028

Sheet Havelvats 2
F1: Հավելված 2 ՀՀ կառավարության 2025 թվականի____________ի N _____-Ն որոշման
A3: ՀԱՅԱՍՏԱՆԻ ՀԱՆՐԱՊԵՏՈՒԹՅԱՆ ԿԱՌԱՎԱՐՈՒԹՅԱՆ 2024 ԹՎԱԿԱՆԻ ԴԵԿՏԵՄԲԵՐԻ 27-Ի N 2060-Ն ՈՐՈՇՄԱՆ NN 3 ԵՎ 4 ՀԱՎԵԼՎԱԾՆԵՐՈՒՄ ԿԱՏԱՐՎՈՂ ՓՈՓՈԽՈՒԹՅՈՒՆՆԵՐԸ ԵՎ ԼՐԱՑՈՒՄՆԵՐԸ
H4: հազար դրամներով
A5: Գործառնական դասիչ | D5: Ծրագրային դասիչը | F5: Բյուջետային ծախսերի գործառական դասակարգման բաժինների, խմբերի և դասերի, բյուջետային ծրագրերի միջոցառումների, բյուջետային հատկացումների գլխավոր կարգադրիչների անվանումները | G5: Ցուցանիշների փոփոխությունը (ավելացումները նշված են դրական նշանով, իսկ նվազեցումները՝ փակագծերում)
A6: Բաժին | B6: Խումբ | C6: Դաս | D6: Ծրագիր | E6: Միջոցառում | G6: Ինն ամիս | H6: Տարի
F7: ԸՆԴԱՄԵՆԸ ԾԱԽՍԵՐ | G7: =+G9+G133 -> 0 | H7: =+H9+H133 -> 0
F8: այդ թվում`
F9: ՀՀ էկոնոմիկայի նախարարություն | G9: =+G11 -> 867702 | H9: =+H11 -> 0
F10: այդ թվում`
A11: 04 | F11: ՏՆՏԵՍԱԿԱՆ ՀԱՐԱԲԵՐՈՒԹՅՈՒՆՆԵՐ | G11: =+G13+G57 -> 867702 | H11: =+H13+H57 -> 0
F12: այդ թվում`
B13: 01 | F13: Ընդհանուր բնույթի տնտեսական, առևտրային և աշխատանքի գծով հարաբերություններ | G13: =+G15 -> -72770 | H13: =+H15 -> -372770
F14: այդ թվում`
C15: 01 | F15: Ընդհանուր բնույթի տնտեսական և առևտրային հարաբերություններ | G15: =+G17 -> -72770 | H15: =+H17 -> -372770
F16: այդ թվում`
F17: ՀՀ էկոնոմիկայի նախարարություն | G17: =+G19 -> -72770 | H17: =+H19 -> -372770
F18: այդ թվում`
D19: 1165 | F19: =+'Havelvats 1'!D15 -> Ներդրումների և արտահանման խթանման ծրագիր | G19: =+G21+G30+G39+G48 -> -72770 | H19: =+H21+H30+H39+H48 -> -372770
F20: այդ թվում`
E21: 11010 | F21: Տեքստիլ ոլորտի զարգացման ծրագրերն իրականացնող և աջակցող Օպերատորի շարունակական գործունեության նպատակով պետական աջակցության ծրագիր | G21: =G25 -> -11070 | H21: =H25 -> -11070
F22: այդ թվում` ըստ կատարողների
F23: ՀՀ էկոնոմիկայի նախարարություն | G23: =+G25 -> -11070 | H23: =+H25 -> -11070
F24: այդ թվում` բյուջետային ծախսերի տնտեսագիտական դասակարգման հոդվածներ
F25: ԸՆԴԱՄԵՆԸ ԾԱԽՍԵՐ | G25: =+G26 -> -11070 | H25: =+H26 -> -11070
F26: ԸՆԹԱՑԻԿ ԾԱԽՍԵՐ | G26: =+G27 -> -11070 | H26: =+H27 -> -11070
F27: ԴՐԱՄԱՇՆՈՐՀՆԵՐ | G27: =G28 -> -11070 | H27: =H28 -> -11070
F28: Ընթացիկ դրամաշնորհներ պետական հատվածի այլ մակարդակներին | G28: =G29 -> -11070 | H28: =H29 -> -11070
F29: - Այլ ընթացիկ դրամաշնորհներ | G29: =+'Havelvats 1'!G16 -> -11070 | H29: =+'Havelvats 1'!H16 -> -11070
E30: 12002 | F30: Տեքստիլ ոլորտի կազմակերպությունների համար մատակարարման շղթաների դիվերսիֆիկացիայի ապահովմանն ուղղված պետական աջակցություն | G30: =G34 -> -16700 | H30: =H34 -> -16700
F31: այդ թվում` ըստ կատարողների
F32: ՀՀ էկոնոմիկայի նախարարություն | G32: =+G34 -> -16700 | H32: =+H34 -> -16700
F33: այդ թվում` բյուջետային ծախսերի տնտեսագիտական դասակարգման հոդվածներ
F34: ԸՆԴԱՄԵՆԸ ԾԱԽՍԵՐ | G34: =+G35 -> -16700 | H34: =+H35 -> -16700
F35: ԸՆԹԱՑԻԿ ԾԱԽՍԵՐ | G35: =+G36 -> -16700 | H35: =+H36 -> -16700
F36: ՍՈՒԲՍԻԴԻԱՆԵՐ | G36: =G37 -> -16700 | H36: =H37 -> -16700
F37: Սուբսիդիաներ ոչ պետական կազմակերպություններին | G37: =+G38 -> -16700 | H37: =+H38 -> -16700
F38: - Սուբսիդիաներ ոչ պետական ֆինանսական կազմակերպություններին | G38: =+'Havelvats 1'!G17 -> -16700 | H38: =+'Havelvats 1'!H17 -> -16700
E39: 12004 | F39: Կլինիկական փորձարկումների, կենսահամարժեքության հետազոտությունների սուբսիդավորում | G39: =G43 -> -45000 | H39: =H43 -> -145000
F40: այդ թվում` ըստ կատարողների
F41: ՀՀ էկոնոմիկայի նախարարություն | G41: =+G43 -> -45000 | H41: =+H43 -> -145000
F42: այդ թվում` բյուջետային ծախսերի տնտեսագիտական դասակարգման հոդվածներ
F43: ԸՆԴԱՄԵՆԸ ԾԱԽՍԵՐ | G43: =+G44 -> -45000 | H43: =+H44 -> -145000
F44: ԸՆԹԱՑԻԿ ԾԱԽՍԵՐ | G44: =+G45 -> -45000 | H44: =+H45 -> -145000
F45: ՍՈՒԲՍԻԴԻԱՆԵՐ | G45: =G46 -> -45000 | H45: =H46 -> -145000
F46: Սուբսիդիաներ ոչ պետական կազմակերպություններին | G46: =G47 -> -45000 | H46: =H47 -> -145000
F47: - Սուբսիդիաներ ոչ պետական ոչ ֆինանսական կազմակերպություններին | G47: =+'Havelvats 1'!G18 -> -45000 | H47: =+'Havelvats 1'!H18 -> -145000
E48: 12006 | F48: Հայաստանի Հանարապետության տնտեսապես բարդ ապրանքների արտադրությամբ զբաղվող առևտրային ընկերություններին պետական աջակցություն | G48: =G52 -> 0 | H48: =H52 -> -200000
F49: այդ թվում` ըստ կատարողների
F50: ՀՀ էկոնոմիկայի նախարարություն | G50: =+G52 -> 0 | H50: =+H52 -> -200000
F51: այդ թվում` բյուջետային ծախսերի տնտեսագիտական դասակարգման հոդվածներ
F52: ԸՆԴԱՄԵՆԸ ԾԱԽՍԵՐ | G52: =+G53 -> 0 | H52: =+H53 -> -200000
F53: ԸՆԹԱՑԻԿ ԾԱԽՍԵՐ | G53: =+G54 -> 0 | H53: =+H54 -> -200000
F54: ԴՐԱՄԱՇՆՈՐՀՆԵՐ | G54: =G55 -> 0 | H54: =H55 -> -200000
F55: Ընթացիկ դրամաշնորհներ պետական հատվածի այլ մակարդակներին | G55: =G56 -> 0 | H55: =H56 -> -200000
F56: - Այլ ընթացիկ դրամաշնորհներ | G56: =+'Havelvats 1'!G19 -> 0 | H56: =+'Havelvats 1'!H19 -> -200000
B57: 02 | F57: Գյուղատնտեսություն, անտառային տնտեսություն, ձկնորսություն և որսորդություն | G57: =+G59 -> 940472 | H57: =+H59 -> 372770
F58: այդ թվում`
C59: 01 | F59: Գյուղատնտեսություն | G59: =+G61+G101+G81 -> 940472 | H59: =+H61+H101+H81 -> 372770
F60: այդ թվում`
D61: 1022 | F61: =+'Havelvats 1'!D9 -> Գյուղատնտեսության խթանման ծրագիր | G61: =+G63+G72 -> -80000 | H61: =+H63+H72 -> -2190334
F62: այդ թվում`
E63: 12001 | F63: =+'Havelvats 1'!D10 -> Գյուղատնտեսական վարկերի տոկոսադրույքների սուբսիդավորում | G63: =G67 -> -80000 | H63: =H67 -> -380000
F64: այդ թվում` ըստ կատարողների
F65: ՀՀ էկոնոմիկայի նախարարություն | G65: =+G67 -> -80000 | H65: =+H67 -> -380000
F66: այդ թվում` բյուջետային ծախսերի տնտեսագիտական դասակարգման հոդվածներ
F67: ԸՆԴԱՄԵՆԸ ԾԱԽՍԵՐ | G67: =+G68 -> -80000 | H67: =+H68 -> -380000
F68: ԸՆԹԱՑԻԿ ԾԱԽՍԵՐ | G68: =+G69 -> -80000 | H68: =+H69 -> -380000
F69: ՍՈՒԲՍԻԴԻԱՆԵՐ | G69: =G70 -> -80000 | H69: =H70 -> -380000
F70: Սուբսիդիաներ ոչ պետական կազմակերպություններին | G70: =G71 -> -80000 | H70: =H71 -> -380000
F71: - Սուբսիդիաներ ոչ պետական ֆինանսական կազմակերպություններին | G71: =+'Havelvats 1'!G10 -> -80000 | H71: =+'Havelvats 1'!H10 -> -380000
E72: 12010 | F72: Անասնաբուծության ճյուղում իրականացվող ներդրումային ծրագրերին աջակցություն | G72: =G76 -> 0 | H72: =H76 -> -1810334
F73: այդ թվում` ըստ կատարողների
F74: ՀՀ էկոնոմիկայի նախարարություն | G74: =+G76 -> 0 | H74: =+H76 -> -1810334
F75: այդ թվում` բյուջետային ծախսերի տնտեսագիտական դասակարգման հոդվածներ
F76: ԸՆԴԱՄԵՆԸ ԾԱԽՍԵՐ | G76: =+G77 -> 0 | H76: =+H77 -> -1810334
F77: ԸՆԹԱՑԻԿ ԾԱԽՍԵՐ | G77: =+G78 -> 0 | H77: =+H78 -> -1810334
F78: ԴՐԱՄԱՇՆՈՐՀՆԵՐ | G78: =G79 -> 0 | H78: =H79 -> -1810334
F79: Ընթացիկ դրամաշնորհներ պետական հատվածի այլ մակարդակներին | G79: =G80 -> 0 | H79: =H80 -> -1810334
F80: - Այլ ընթացիկ դրամաշնորհներ | G80: =+'Havelvats 1'!G19 -> 0 | H80: ='Havelvats 1'!H11 -> -1810334
D81: 1059 | F81: Բուսաբուծության խթանում և բույսերի պաշտպանություն | G81: =+G83+G92 -> 505730 | H81: =+H83+H92 -> 1491028
F82: այդ թվում`
E83: 11010 | F83: =+'Havelvats 1'!D13 -> ՀՀ-ում գարնանացան, աշնանացան և կերային մշակաբույսերի ցանքատարածությունների մոնիթորինգի իրականացմանն աջակցություն | G83: =+G85 -> 14730 | H83: =+H85 -> 43428
F84: այդ թվում` ըստ կատարողների
F85: ՀՀ էկոնոմիկայի նախարարություն | G85: =+G87 -> 14730 | H85: =+H87 -> 43428
F86: այդ թվում` բյուջետային ծախսերի տնտեսագիտական դասակարգման հոդվածներ
F87: ԸՆԴԱՄԵՆԸ ԾԱԽՍԵՐ | G87: =+G88 -> 14730 | H87: =+H88 -> 43428
F88: ԸՆԹԱՑԻԿ ԾԱԽՍԵՐ | G88: =+G89 -> 14730 | H88: =+H89 -> 43428
F89: ԴՐԱՄԱՇՆՈՐՀՆԵՐ | G89: =+G90 -> 14730 | H89: =+H90 -> 43428
F90: Ընթացիկ դրամաշնորհներ պետական հատվածի այլ մակարդակներին | G90: =+G91 -> 14730 | H90: =+H91 -> 43428
F91: - Այլ ընթացիկ դրամաշնորհներ համայնքներին | G91: =+'Havelvats 1'!G13 -> 14730 | H91: =+'Havelvats 1'!H13 -> 43428
E92: 12003 | F92: =+'Havelvats 1'!D14 -> ՀՀ-ում գարնանացան, աշնանացան և կերային մշակաբույսերի մշակության հիմնական աշխատանքների համար կատարված ծախսերի մասնակի փոխհատուցման տրամադրում | G92: =+G94 -> 491000 | H92: =+H94 -> 1447600
F93: այդ թվում` ըստ կատարողների
F94: ՀՀ էկոնոմիկայի նախարարություն | G94: =+G96 -> 491000 | H94: =+H96 -> 1447600
F95: այդ թվում` բյուջետային ծախսերի տնտեսագիտական դասակարգման հոդվածներ
F96: ԸՆԴԱՄԵՆԸ ԾԱԽՍԵՐ | G96: =+G97 -> 491000 | H96: =+H97 -> 1447600
F97: ԸՆԹԱՑԻԿ ԾԱԽՍԵՐ | G97: =+G98 -> 491000 | H97: =+H98 -> 1447600
F98: ՍՈՑԻԱԼԱԿԱՆ ՆՊԱՍՏՆԵՐ ԵՎ ԿԵՆՍԱԹՈՇԱԿՆԵՐ | G98: =+G99 -> 491000 | H98: =+H99 -> 1447600
F99: Սոցիալական օգնության դրամական արտահայտությամբ նպաստներ (բյուջեից) | G99: =+G100 -> 491000 | H99: =+H100 -> 1447600
F100: - Այլ նպաստներ բյուջեից | G100: =+'Havelvats 1'!G14 -> 491000 | H100: =+'Havelvats 1'!H14 -> 1447600
D101: 1187 | F101: =+'Havelvats 1'!D20 -> Գյուղատնտեսության արդիականացման ծրագիր | G101: =+G103+G112+G121 -> 514742 | H101: =+H103+H112+H121 -> 1072076
...

Sheet Havelvats 3
D1: Հավելված N 3
C2: ՀՀ կառավարության 2025 թվականի
C3: ___________ ___-ի N _______ -Ն որոշման
A6: ՀԱՅԱՍՏԱՆԻ ՀԱՆՐԱՊԵՏՈՒԹՅԱՆ ԿԱՌԱՎԱՐՈՒԹՅԱՆ 2024 ԹՎԱԿԱՆԻ ԴԵԿՏԵՄԲԵՐԻ 27-Ի N 2060-Ն ՈՐՈՇՄԱՆ N 5 ՀԱՎԵԼՎԱԾԻ 7 ԱՂՅՈՒՍԱԿՈՒՄ ԿԱՏԱՐՎՈՂ ՓՈՓՈԽՈՒԹՅՈՒՆՆԵՐԸ ԵՎ ԼՐԱՑՈՒՄՆԵՐԸ
G7: հազար դրամներով
A8: Ծրագրային դասիչ | C8: Բյուջետային հատկացումների գլխավոր կարգադրիչների, ծրագրերի, միջոցառումների, ծախսային ուղղությունների անվանումները | F8: Միջոցառումները կատարող պետական մարմինների և դրամաշնորհ ստացող տնտեսվարող սուբյեկտների անվանումները | G8: Ցուցանիշների փոփոխությունը (ավելացումները նշված են դրական նշանով, իսկ նվազեցումները՝ փակագծերում)
A9: Ծրագիր | B9: Միջոցառում | G9: Տարի
A10: 1 | B10: 2 | C10: 3 | F10: 4 | G10: 5
A11: Ընդամենը | G11: =+G12 -> -1977976
A12: ՀՀ էկոնոմիկայի նախարարություն | G12: =G13+G16+G19 -> -1977976
A13: 1022 | B13: Գյուղատնտեսության խթանման ծրագիր | G13: =+G14 -> -1810334
B14: 12010 | C14: Անասնաբուծության ճյուղում իրականացվող ներդրումային ծրագրերին աջակցություն | F14: ՀՀ էկոնոմիկայի նախարարություն | G14: =+G15 -> -1810334
F15: ՀՀ կառավարության կողմից հաստատված համապատասխան ծրագրի չափանիշները բավարարող շահառուներ | G15: =+'Havelvats 2'!H72 -> -1810334
A16: 1059 | B16: Բուսաբուծության խթանում և բույսերի պաշտպանություն | G16: =+G17 -> 43428
B17: 11010 | C17: =+'Havelvats 1'!D13 -> ՀՀ-ում գարնանացան, աշնանացան և կերային մշակաբույսերի ցանքատարածությունների մոնիթորինգի իրականացմանն աջակցություն | F17: ՀՀ էկոնոմիկայի նախարարություն | G17: =+G18 -> 43428
F18: ՀՀ կառավարության կողմից հաստատված համապատասխան ծրագրի չափանիշները բավարարող համայնքներ | G18: =+'Havelvats 2'!H91 -> 43428
A19: 1165 | B19: Ներդրումների և արտահանման խթանման ծրագիր | G19: =+G20+G22 -> -211070
B20: 11010 | C20: Տեքստիլ ոլորտի զարգացման ծրագրերն իրականացնող և աջակցող Օպերատորի շարունակական գործունեության նպատակով պետական աջակցության ծրագիր | F20: ՀՀ էկոնոմիկայի նախարարություն | G20: =+G21 -> -11070
F21: ՀՀ կառավարության կողմից հաստատված համապատասխան ծրագրի օպերատոր | G21: -11070
B22: 12006 | C22: Հայաստանի Հանարապետության տնտեսապես բարդ ապրանքների արտադրությամբ զբաղվող առևտրային ընկերություններին պետական աջակցություն | F22: ՀՀ էկոնոմիկայի նախարարություն | G22: =+G23 -> -200000
F23: ՀՀ կառավարության կողմից հաստատված համապատասխան ծրագրի չափանիշները բավարարող շահառուներ | G23: -200000

Sheet Havelvats 4
A1: Հավելված 4 ՀՀ կառավարության 2025 թվականի____________ի N _____-Ն որոշման
A3: ՀԱՅԱՍՏԱՆԻ ՀԱՆՐԱՊԵՏՈՒԹՅԱՆ ԿԱՌԱՎԱՐՈՒԹՅԱՆ 2024 ԹՎԱԿԱՆԻ ԴԵԿՏԵՄԲԵՐԻ 27-Ի N 2060-Ն ՈՐՈՇՄԱՆ N 9 ՀԱՎԵԼՎԱԾՈՒՄ ԿԱՏԱՐՎՈՂ ՓՈՓՈԽՈՒԹՅՈՒՆՆԵՐԸ ԵՎ ԼՐԱՑՈՒՄՆԵՐԸ
K4: հազ.դրամներով
A5: ԲԳԿ | B5: Ծրագիր | D5: Միջոցառում | H5: Իրականացնողը/ ակտիվն օգտագործողը/ շահառուի ընտրության չափորոշիչը | I5: Արդյունքային չափորոշիչը | J5: Ցուցանիշների փոփոխությունը (ավելացումները նշված են դրական նշանով, իսկ նվազեցումները՝ փակագծերում)
B6: Դասիչը | C6: Անվա-նումը | D6: Դասիչը | E6: Անվա-նումը | F6: Նկարագրու-թյունը | G6: Տեսակը | J6: Ինն ամիս | K6: Տարի
A7: ԸՆԴԱՄԵՆԸ | J7: =+J8+J94+J101 -> 0 | K7: =+K8+K94+K101 -> 0
A8: ՀՀ էկոնոմիկայի նախարարություն | J8: =+J9+J40+J71+J19+J26 -> 867702 | K8: =+K9+K40+K71+K19+K26 -> 0
B9: 1022 | C9: Գյուղատնտեսության խթանման ծրագիր | J9: =+J10+J14 -> -80000 | K9: =+K10+K14 -> -2190334
D10: 1022 - 12001 | E10: Գյուղատնտեսական վարկերի տոկոսադրույքների սուբսիդավորում | J10: =+'Havelvats 2'!G71 -> -80000 | K10: =+'Havelvats 2'!H71 -> -380000
F11: Գյուղատնտեսության ոլորտում տրամադրվող վարկերի տոկոսադրույքների սուբսիդավորում
G12: Տրանսֆերտների տրամադրում
H13: Շահառուների ընտրության չափորոշիչները` ՀՀ գյուղատնտեսությամբ զբաղվող տնտեսավարող սուբյեկտներ ընտրված համաձայն` ՀՀ կառավարության 07.03.2019թ. թիվ 184-Լ որոշմամբ հաստատված ծրագրի և ֆինանսական կառույցների կողմից հաստատված համապատասխան չափանիշների
D14: 1022 - 12010 | E14: Անասնաբուծության ճյուղում իրականացվող ներդրումային ծրագրերին աջակցություն | J14: =+'Havelvats 1'!G11 -> 0 | K14: =+'Havelvats 1'!H11 -> -1810334
F15: Անասնաբուծության ճյուղում իրականացվող առնվազն 1 մլրդ դրամի ներդրումներից կապիտալ ներդրումների մասնակի փոխհատուցում
G16: Տրանսֆերտների տրամադրում
H17: Շահառուների ընտրության չափորոշիչները` ՀՀ գյուղատնտեսական տնտեսավարողներ՛ ընտրված ՀՀ կառավարության 03.03.2022թ. թիվ 276-Լ որոշմամբ հաստատված ծրագրի չափանիշներին համապատասխան
I18: Ծրագրի շրջանակում 2023 թվականից իրականացվող ներդրումային ծրագրեր, հատ | K18: -2
B19: 1058 | C19: Էկոնոմիկայի ոլորտում պետական քաղաքականության մշակում, ծրագրերի համակարգում և մոնիտորինգ | J19: =+J20 -> 0 | K19: =+K20 -> 0
D20: 1058 - 11002 | E20: ԱՀԿ-ում և oտարերկրյա պետություններում ՀՀ առևտրային ներկայացուցիչների նպատակների և խնդիրների իրագործում | J20: 0 | K20: 0
F21: ԱՀԿ-ում ՀՀ տնտեսական շահերի ներկայացում և պաշտպանություն, ՀՀ առևտրատնտեսական քաղաքականության զարգացմանը, արտահանումների խթանմանը և ներդրումների ներգրավմանն ուղղված գործունեություն արտերկրում
G22: Ծառայությունների մատուցում
H23: Ծառայությունը մատուցողի անվանումը` ՀՀ էկոնոմիկայի նախարարություն
I24: Օտարերկրյա պետություններում գործող ՀՀ առևտրային ներկայացուցչություններ, քանակ | K24: -5
I25: Օտարերկրյա պետություններում ՀՀ առևտրային կցորդներ և Առևտրի համաշխարհային կազմակերպությունում ներկայացուցիչ, քանակ | K25: 5
B26: 1059 | C26: Բուսաբուծության խթանում և բույսերի պաշտպանություն | J26: =+J27+J32 -> 505730 | K26: =+K27+K32 -> 1491028
D27: =+'Havelvats 1'!C13 -> 1059 - 11010 | E27: =+'Havelvats 1'!D13 -> ՀՀ-ում գարնանացան, աշնանացան և կերային մշակաբույսերի ցանքատարածությունների մոնիթորինգի իրականացմանն աջակցություն | J27: =+'Havelvats 1'!G13 -> 14730 | K27: =+'Havelvats 1'!H13 -> 43428
F28: =+'Havelvats 1'!E13 -> Համայնքների կողմից մշակաբույսերի և բազմամյա խոտաբույսերի մոնիթորինգի իրականացում, արդյունքների ամփոփում և համապատասխան տեղեկատվության ներկայացում
G29: =+'Havelvats 1'!F13 -> Ծառայության մատուցում
H30: Շահառուների ընտրության չափորոշիչները` ՀՀ համայնքներ՝ ընտրված համաձայն՝ ՀՀ կառավարության 2025թ. մարտի 27-ի 356-Լ որոշմամբ հաստատված ծրագրի
I31: Մոնիթորինգի ենթարկված ցանքատարածություններ, հա | K31: 18950
D32: =+'Havelvats 1'!C14 -> 1059 - 12003 | E32: =+'Havelvats 1'!D14 -> ՀՀ-ում գարնանացան, աշնանացան և կերային մշակաբույսերի մշակության հիմնական աշխատանքների համար կատարված ծախսերի մասնակի փոխհատուցման տրամադրում | J32: =+'Havelvats 1'!G14 -> 491000 | K32: =+'Havelvats 1'!H14 -> 1447600
F33: =+'Havelvats 1'!E14 -> Մշակաբույսերի և բազմամյա խոտաբույսերի ցանքատարածությունների ընդլայնմանը նպաստելու նպատակով մշակության հիմնական աշխատանքների համար կատարված ծախսերի մասնակի փոխհատուցում
G34: Տրանսֆերտների տրամադրում
H35: Շահառուների ընտրության չափորոշիչները`գյուղատնտեսությունում տնտեսավարողներ՝ ընտրված համաձայն՝ ՀՀ կառավարության 2025թ. մարտի 27-ի 356-Լ որոշմամբ հաստատված ծրագրի
I36: գարնանացան հացահատիկային մշակաբույսեր, հեկտար | K36: 15000
I37: եգիպտացորեն, հա | K37: 1200
I38: հատիկաընդեղեն մշակաբույսեր, հա | K38: 500
I39: բազմամյա կերային մշակաբույսեր /առվույտ, կորնգան, կերի ճակնդեղ/ հա | K39: 2250
B40: 1165 | C40: Ներդրումների և արտահանման խթանման ծրագիր | J40: =J41+J46+J51+J58++J66+J62 -> -72770 | K40: =K41+K46+K51+K58++K66+K62 -> -372770
D41: 1165 - 11002 | E41: ՀՀ արտահանմանն ուղղված արդյունաբերական քաղաքականության ռազմավարությամբ նախատեսված միջոցառումներ | J41: 0 | K41: 0
F42: Նոր ոլորտների զարգացման նպաստում, արտահանմանն աջակցություն, նոր շուկաների ընդլայնման աջակցություն, սերտիֆիկացման ծառայությունների փոխհատուցում, վարկավորման տոկոսների սուբսիդավորում, կարողությունների զարգացում, արտահանման խնդիրների հետազոտում
G43: Ծառայությունների մատուցում
H44: Ծառայությունը մատուցողի անվանումը` Մասնագիտացված կազմակերպություններ
I45: Օտարերկրյա պետությունում և (կամ) Հայաստանում գործարար համաժողովների (ֆորումների), շնորհանդեսների, ինչպես նաև այլ համանման միջոցառումների մասնակցություն և (կամ) կազմակերպում | K45: 1
D46: 1165 - 11010 | E46: Տեքստիլ ոլորտի զարգացման ծրագրերն իրականացնող և աջակցող Օպերատորի շարունակական գործունեության նպատակով պետական աջակցության ծրագիր | J46: =+'Havelvats 1'!G16 -> -11070 | K46: =+'Havelvats 1'!H16 -> -11070
F47: Տեքստիլ ոլորտի զարգացման գործողությունների ծրագրիրն իրականացնող Օպերատորի ֆինանասավորում
G48: Ծառայությունների մատուցում
H49: Ծառայությունը մատուցողի անվանումը` Մասնագիտացված կազմակերպություններ
D51: 1165 - 11013 | E51: <<ԷՔՍՊՈ 2025>> Օսակա, Կանսայ, Ճապոնիա համաշխարհային ցուցահանդեսին ՀՀ մասնակցության կազմակերպման աշխատանքներ | J51: 0 | K51: 0
F52: Ճապոնիայում և հարավասիական տարածաշրջանում ՀՀ ճանաչելիության բարձրացում բիզնեսի և այլ գործունեոթյան տեսակների համար որպես գրավիչ երկրի դիրքավորում
G53: Ծառայությունների մատուցում
H54: Ծառայությունը մատուցողի անվանումը` Մասնագիտացված կազմակերպություններ
I55: <<ԷՔՍՊՈ 2025>> Օսակա, Կանսայ, Ճապոնիա համաշխարհային ցուցահանդեսի նախապատրաստական աշխատանքների կազմակերպում, քանակ | K55: -1
I56: <<ԷՔՍՊՈ 2025>> Օսակա, Կանսայ, Ճապոնիա համաշխարհային ցուցահանդեսին ՀՀ մասնակցության կազմակերպման աշխատանքներ, քանակ | K56: 4
I57: Օտարերկրյա պետությունում և (կամ) Հայաստանում ցուցահանդեսների կազմակերպում և մասնակցության աջակցում | K57: -15
D58: 1165 - 12002 | E58: Տեքստիլ ոլորտի կազմակերպությունների համար մատակարարման շղթաների դիվերսիֆիկացիայի ապահովմանն ուղղված պետական աջակցություն | J58: =+'Havelvats 1'!G17 -> -16700 | K58: =+'Havelvats 1'!H17 -> -16700
F59: Տեքստիլ ընկերությունների կողմից ներգրավված առևտրի ֆինանսավորման վարկային գործիքների տոկոսադրույքների սուբսիդավորում և էլեկտրոնային հարթակներում վաճառքների խթանում
G60: Տրանսֆերտների տրամադրում
H61: Շահառուների ընտրության չափորոշիչները` Համապատասխան ծրագրի պահանջները բավարարող շահառուներ
D62: 1165 - 12004 | E62: Կլինիկական փորձարկումների, կենսահամարժեքության հետազոտությունների սուբսիդավորում | J62: =+'Havelvats 1'!G18 -> -45000 | K62: =+'Havelvats 1'!H18 -> -145000
F63: Հայաստանի Հանրապետությունում արտադրվող դեղերի կլինիկական փորձարկումների և (կամ) կենսահամարժեքության հետազոտությունների ծախսերի մասնակի սուբսիդավորում
G64: Տրանսֆերտների տրամադրում
H65: Շահառուների ընտրության չափորոշիչները` ՀՀ կառավարության 2023 թվականի մայիսի 25-ի N 811-Լ որոշմամբ հաստատված չափանիշներին համապատասխանող տնտեսավարողներ
D66: 1165-12006 | E66: =+'Havelvats 1'!D19 -> Հայաստանի Հանարապետության տնտեսապես բարդ ապրանքների արտադրությամբ զբաղվող առևտրային ընկերություններին պետական աջակցություն | J66: =+'Havelvats 2'!G56 -> 0 | K66: =+'Havelvats 2'!H56 -> -200000
F67: Տնտեսական բարդության ինդեքսը օգտագործելով` պետական աջակցությունն առաջնահերթորեն տրամադրել այն տնտեսվարողներին, որոնք պատրաստվում են արտադրել 0.2 տնտեսական բարդության ցուցիչից ավելի բարձր ինդեքս ունեցող ապրանքներ
G68: Տրանսֆերտների տրամադրում
H69: Շահառուների ընտրության չափորոշիչները` Կառավարության 2023թ հոկտեմբերի 26-ի 1867-Ն որոշման չափանիշներին համապատասխանող շահառուներ
I70: ներդրումային ծրագրով նախատեսված նվազագույն ներդրման պայմաններում աջակցություն ստացող տնտեսավարողների թիվ, ընկերություն | K70: -2 | M70: =+#REF!*1000*#REF! -> #REF!
B71: 1187 | C71: Գյուղատնտեսության արդիականացման ծրագիր | J71: =+J72+J77+J89 -> 514742 | K71: =+K72+K77+K89 -> 1072076
D72: 1187 - 12002 | E72: Հայաստանի Հանրապետությունում խաղողի, ժամանակակից տեխնոլոգիաներով մշակվող ինտենսիվ պտղատու այգիների և հատապտղանոցների հիմնման համար վարկային տոկոսադրույքների սուբսիդավորում | J72: =+'Havelvats 2'!G107 -> -266914.5 | K72: =+'Havelvats 2'!H107 -> -266914.5
F73: Հայաստանի Հանրապետությունում խաղողի, ժամանակակից տեխնոլոգիաներով մշակվող ինտենսիվ պտղատու այգիների և հատապտղանոցների հիմնման համար տնտեսավարողներին տրամադրվող նպատակային վարկերի տոկոսադրույքների սուբսիդավորում
G74: Տրանսֆերտների տրամադրում
H75: Շահառուների ընտրության չափորոշիչները` ՀՀ գյուղատնտեսական տնտեսավարողներ՛ ընտրված համաձայն՛ ՀՀ կառավարության 29.03.2019թ. թիվ 361-Լ որոշմամբ հաստատված ծրագրի և ֆինանսական կառույցների կողմից հաստատված համապատասխան չափանիշների
I76: Ծրագրի շրջանակներում նախորդ տարիներին հիմնված նոր ինտենսիվ պտղատու այգիներ, հեկտար | K76: 98.4
D77: =+'Havelvats 1'!C22 -> 1187 - 12014 | E77: =+'Havelvats 1'!D22 -> Հայաստանի Հանրապետությունում ինտենսիվ այգեգործության զարգացման նպատակով սուբսիդավորում | J77: =+'Havelvats 1'!G22 -> 1339102.8 | K77: =+'Havelvats 1'!H22 -> 1338990.5
F78: =+'Havelvats 1'!E22 -> Հայաստանի Հանրապետությունում այգեհիմնման նպատակով տրամադրվող վարկերի տոկոսադրույքների սուբսիդավորում
G79: Տրանսֆերտների տրամադրում
H80: Շահառուների ընտրության չափորոշիչները` ՀՀ գյուղատնտեսական տնտեսավարողներ՛ ընտրված համաձայն ՀՀ կառավարության 03.06.2021թ. թիվ 927-Լ որոշմամբ հաստատված ծրագրի և ֆինանսական կառույցների կողմից հաստատված համապատասխան չափանիշների
I81: Ծրագրի շրջանակներում նախորդ տարիներին հիմնված ինտենսիվ պտղատու այգիներ, հեկտար | K81: -4502
I82: Ծրագրի շրջանակներում ներկայացված հայտերի հիման վրա հիմնվող ինտենսիվ պտղատու այգիներ, հեկտար | K82: 5222.65
I83: Ծրագրի շրջանակներում նախորդ տարիներին տեղակայված կարկտապաշտպան ցանցային համակարգեր, հեկտար | K83: -76.3
I84: Ծրագրի շրջանակներում ներկայացված հայտերի հիման վրա տեղադրվող կարկտապաշտպան ցանցային համակարգեր, հեկտար | K84: 76.27
I85: Ծրագրի շրջանակներում նախորդ տարիներին հիմնված բարձրարժեք մշակաբույսերի ցանքատարածություններ, հեկտար | K85: -13.182
I86: Ծրագրի շրջանակներում ներկայացված հայտերի շրջանակներում հիմնվող բարձրարժեք մշակաբույսերի ցանքատարածություններ, հեկտար | K86: 19.182
I87: Ծրագրի շրջանակներում նախորդ տարիներին ոռոգման արդիական համակարգերով ներդրված տարածքներ, հեկտար | K87: -599.7
I88: Ծրագրի շրջանակներում ներկայացված հայտերի հիման վրա տեղադրվող ոռոգման արդիական համակարգերով տարածքներ, հեկտար | K88: 578.7
D89: 1187 - 12015 | E89: Հայաստանի Հանրապետությունում ինտենսիվ այգեգործության զարգացման նպատակով ծախսերի փոխհատուցում | J89: ='Havelvats 1'!G23 -> -557446.3
F90: Հայաստանի Հանրապետությունում այգեհիմնման նպատակով կատարված ծախսերի մասնակի փոխհատուցում
G91: Տրանսֆերտների տրամադրում
H92: Շահառուների ընտրության չափորոշիչները` ՀՀ գյուղատնտեսական տնտեսավարողներ՛ ընտրված համաձայն ՀՀ կառավարության 03.06.2021թ. թիվ 927-Լ որոշմամբ հաստատված ծրագրի չափանիշների
I93: Ծրագրի շրջանակներում հիմնված նոր ինտենսիվ պտղատու այգիներ, հեկտար
A94: ՀՀ կրթության , գիտության, մշակույթի և սպորտի նախարարություն | J94: =+J95 -> 0 | K94: =+K95 -> 0
B95: 1162 | C95: Գիտական և գիտատեխնիկական հետազոտությունների ծրագիր | J95: =+J96 -> 0 | K95: =+K96 -> 0
D96: 1162 - 11010 | E96: Անտենային էտալոնների պահպանում և զարգացում | J96: 0 | K96: 0
F97: ՀՀ ազգային անտենային էտալոնների պահպանում և զարգացում
G98: Ծառայությունների մատուցում
H99: Ծառայությունը մատուցողի անվանումը` Մասնագիտացված կազմակերպություններ
I100: Ընտրված կազմակերպություններ թիվ, հատ | K100: 1
A101: ՀՀ կառավարություն | J101: =J102 -> -867702 | K101: =K102 -> 0
B102: 1139 | C102: ՀՀ կառավարության պահուստային ֆոնդ | J102: =J103+J107 -> -867702 | K102: =K103+K107 -> 0
...

Sheet Havelvats 5
A1: Հավելված 5 ՀՀ կառավարության 2025 թվականի____________ի N _____-Ն որոշման
A3: ՀԱՅԱՍՏԱՆԻ ՀԱՆՐԱՊԵՏՈՒԹՅԱՆ ԿԱՌԱՎԱՐՈՒԹՅԱՆ 2024 ԹՎԱԿԱՆԻ ԴԵԿՏԵՄԲԵՐԻ 27-Ի N 2060-Ն ՈՐՈՇՄԱՆ N 9.1 ՀԱՎԵԼՎԱԾՈՒՄ ԿԱՏԱՐՎՈՂ ՓՈՓՈԽՈՒԹՅՈՒՆՆԵՐԸ ԵՎ ԼՐԱՑՈՒՄՆԵՐԸ
K4: հազ.դրամներով
A5: ԲՍԿ | B5: Ծրագիր | D5: Միջոցառում | H5: Իրականացնողը/ ակտիվն օգտագործողը/ շահառուի ընտրության չափորոշիչը | I5: Արդյունքային չափորոշիչը | J5: Ցուցանիշների փոփոխությունը (ավելացումները նշված են դրական նշանով, իսկ նվազեցումները՝ փակագծերում)
B6: Դասիչը | C6: Անվա-նումը | D6: Դասիչը | E6: Անվա-նումը | F6: Նկարագրու-թյունը | G6: Տեսակը | J6: Ինն ամիս | K6: Տարի
A7: ԸՆԴԱՄԵՆԸ | J7: =+J8+J100 -> 0 | K7: =+K8+K100 -> 0
A8: ՀՀ էկոնոմիկայի նախարարություն | J8: =+J9+J46+J77+J19+J26+J40 -> 867702 | K8: =+K9+K46+K77+K19+K26+K40 -> 0
B9: 1022 | C9: Գյուղատնտեսության խթանման ծրագիր | J9: =+J10+J14 -> -80000 | K9: =+K10+K14 -> -2190334
D10: 1022 - 12001 | E10: Գյուղատնտեսական վարկերի տոկոսադրույքների սուբսիդավորում | J10: =+'Havelvats 2'!G71 -> -80000 | K10: =+'Havelvats 2'!H71 -> -380000
F11: Գյուղատնտեսության ոլորտում տրամադրվող վարկերի տոկոսադրույքների սուբսիդավորում
G12: Տրանսֆերտների տրամադրում
H13: Շահառուների ընտրության չափորոշիչները` ՀՀ գյուղատնտեսությամբ զբաղվող տնտեսավարող սուբյեկտներ ընտրված համաձայն` ՀՀ կառավարության 07.03.2019թ. թիվ 184-Լ որոշմամբ հաստատված ծրագրի և ֆինանսական կառույցների կողմից հաստատված համապատասխան չափանիշների
D14: 1022 - 12010 | E14: Անասնաբուծության ճյուղում իրականացվող ներդրումային ծրագրերին աջակցություն | J14: =+'Havelvats 1'!G11 -> 0 | K14: =+'Havelvats 1'!H11 -> -1810334
F15: Անասնաբուծության ճյուղում իրականացվող առնվազն 1 մլրդ դրամի ներդրումներից կապիտալ ներդրումների մասնակի փոխհատուցում
G16: Տրանսֆերտների տրամադրում
H17: Շահառուների ընտրության չափորոշիչները` ՀՀ գյուղատնտեսական տնտեսավարողներ՛ ընտրված ՀՀ կառավարության 03.03.2022թ. թիվ 276-Լ որոշմամբ հաստատված ծրագրի չափանիշներին համապատասխան
I18: Ծրագրի շրջանակում 2023 թվականից իրականացվող ներդրումային ծրագրեր, հատ | K18: -2
B19: 1058 | C19: Էկոնոմիկայի ոլորտում պետական քաղաքականության մշակում, ծրագրերի համակարգում և մոնիտորինգ | J19: =+J20 -> 0 | K19: =+K20 -> 0
D20: 1058 - 11002 | E20: ԱՀԿ-ում և oտարերկրյա պետություններում ՀՀ առևտրային ներկայացուցիչների նպատակների և խնդիրների իրագործում | J20: 0 | K20: 0
F21: ԱՀԿ-ում ՀՀ տնտեսական շահերի ներկայացում և պաշտպանություն, ՀՀ առևտրատնտեսական քաղաքականության զարգացմանը, արտահանումների խթանմանը և ներդրումների ներգրավմանն ուղղված գործունեություն արտերկրում
G22: Ծառայությունների մատուցում
H23: Ծառայությունը մատուցողի անվանումը` ՀՀ էկոնոմիկայի նախարարություն
I24: Օտարերկրյա պետություններում գործող ՀՀ առևտրային ներկայացուցչություններ, քանակ | K24: -5
I25: Օտարերկրյա պետություններում ՀՀ առևտրային կցորդներ և Առևտրի համաշխարհային կազմակերպությունում ներկայացուցիչ, քանակ | K25: 5
B26: 1059 | C26: Բուսաբուծության խթանում և բույսերի պաշտպանություն | J26: =+J27+J32 -> 505730 | K26: =+K27+K32 -> 1491028
D27: =+'Havelvats 1'!C13 -> 1059 - 11010 | E27: =+'Havelvats 1'!D13 -> ՀՀ-ում գարնանացան, աշնանացան և կերային մշակաբույսերի ցանքատարածությունների մոնիթորինգի իրականացմանն աջակցություն | J27: =+'Havelvats 1'!G13 -> 14730 | K27: =+'Havelvats 1'!H13 -> 43428
F28: =+'Havelvats 1'!E13 -> Համայնքների կողմից մշակաբույսերի և բազմամյա խոտաբույսերի մոնիթորինգի իրականացում, արդյունքների ամփոփում և համապատասխան տեղեկատվության ներկայացում
G29: =+'Havelvats 1'!F13 -> Ծառայության մատուցում
H30: Շահառուների ընտրության չափորոշիչները` ՀՀ համայնքներ՝ ընտրված համաձայն՝ ՀՀ կառավարության 2025թ. մարտի 27-ի 356-Լ որոշմամբ հաստատված ծրագրի
I31: Մոնիթորինգի ենթարկված ցանքատարածություններ, հա | K31: 18950
D32: =+'Havelvats 1'!C14 -> 1059 - 12003 | E32: =+'Havelvats 1'!D14 -> ՀՀ-ում գարնանացան, աշնանացան և կերային մշակաբույսերի մշակության հիմնական աշխատանքների համար կատարված ծախսերի մասնակի փոխհատուցման տրամադրում | J32: =+'Havelvats 1'!G14 -> 491000 | K32: =+'Havelvats 1'!H14 -> 1447600
F33: =+'Havelvats 1'!E14 -> Մշակաբույսերի և բազմամյա խոտաբույսերի ցանքատարածությունների ընդլայնմանը նպաստելու նպատակով մշակության հիմնական աշխատանքների համար կատարված ծախսերի մասնակի փոխհատուցում
G34: Տրանսֆերտների տրամադրում
H35: Շահառուների ընտրության չափորոշիչները`գյուղատնտեսությունում տնտեսավարողներ՝ ընտրված համաձայն՝ ՀՀ կառավարության 2025թ. մարտի 27-ի 356-Լ որոշմամբ հաստատված ծրագրի
I36: գարնանացան հացահատիկային մշակաբույսեր, հեկտար | K36: 15000
I37: եգիպտացորեն, հա | K37: 1200
I38: հատիկաընդեղեն մշակաբույսեր, հա | K38: 500
I39: բազմամյա կերային մշակաբույսեր /առվույտ, կորնգան, կերի ճակնդեղ/ հա | K39: 2250
B40: 1162 | C40: Գիտական և գիտատեխնիկական հետազոտությունների ծրագիր | J40: =+J41 -> 0 | K40: =+K41 -> 0
D41: 1162 - 11010 | E41: Անտենային էտալոնների պահպանում և զարգացում | J41: 0 | K41: 0
F42: ՀՀ ազգային անտենային էտալոնների պահպանում և զարգացում
G43: Ծառայությունների մատուցում
H44: =+'Havelvats 4'!H99:K99 -> Ծառայությունը մատուցողի անվանումը` Մասնագիտացված կազմակերպություններ
I45: Ընտրված կազմակերպություններ թիվ, հատ | K45: 1
B46: 1165 | C46: Ներդրումների և արտահանման խթանման ծրագիր | J46: =J47+J52+J57+J64++J72+J68 -> -72770 | K46: =K47+K52+K57+K64++K72+K68 -> -372770
D47: 1165 - 11002 | E47: ՀՀ արտահանմանն ուղղված արդյունաբերական քաղաքականության ռազմավարությամբ նախատեսված միջոցառումներ | J47: 0 | K47: 0
F48: Նոր ոլորտների զարգացման նպաստում, արտահանմանն աջակցություն, նոր շուկաների ընդլայնման աջակցություն, սերտիֆիկացման ծառայությունների փոխհատուցում, վարկավորման տոկոսների սուբսիդավորում, կարողությունների զարգացում, արտահանման խնդիրների հետազոտում
G49: Ծառայությունների մատուցում
H50: Ծառայությունը մատուցողի անվանումը` Մասնագիտացված կազմակերպություններ
I51: Օտարերկրյա պետությունում և (կամ) Հայաստանում գործարար համաժողովների (ֆորումների), շնորհանդեսների, ինչպես նաև այլ համանման միջոցառումների մասնակցություն և (կամ) կազմակերպում | K51: 1
D52: 1165 - 11010 | E52: Տեքստիլ ոլորտի զարգացման ծրագրերն իրականացնող և աջակցող Օպերատորի շարունակական գործունեության նպատակով պետական աջակցության ծրագիր | J52: =+'Havelvats 1'!G16 -> -11070 | K52: =+'Havelvats 1'!H16 -> -11070
F53: Տեքստիլ ոլորտի զարգացման գործողությունների ծրագրիրն իրականացնող Օպերատորի ֆինանասավորում
G54: Ծառայությունների մատուցում
H55: Ծառայությունը մատուցողի անվանումը` Մասնագիտացված կազմակերպություններ
D57: 1165 - 11013 | E57: <<ԷՔՍՊՈ 2025>> Օսակա, Կանսայ, Ճապոնիա համաշխարհային ցուցահանդեսին ՀՀ մասնակցության կազմակերպման աշխատանքներ | J57: 0 | K57: 0
F58: Ճապոնիայում և հարավասիական տարածաշրջանում ՀՀ ճանաչելիության բարձրացում բիզնեսի և այլ գործունեոթյան տեսակների համար որպես գրավիչ երկրի դիրքավորում
G59: Ծառայությունների մատուցում
H60: Ծառայությունը մատուցողի անվանումը` Մասնագիտացված կազմակերպություններ
I61: <<ԷՔՍՊՈ 2025>> Օսակա, Կանսայ, Ճապոնիա համաշխարհային ցուցահանդեսի նախապատրաստական աշխատանքների կազմակերպում, քանակ | K61: -1
I62: <<ԷՔՍՊՈ 2025>> Օսակա, Կանսայ, Ճապոնիա համաշխարհային ցուցահանդեսին ՀՀ մասնակցության կազմակերպման աշխատանքներ, քանակ | K62: 4
I63: Օտարերկրյա պետությունում և (կամ) Հայաստանում ցուցահանդեսների կազմակերպում և մասնակցության աջակցում | K63: -15
D64: 1165 - 12002 | E64: Տեքստիլ ոլորտի կազմակերպությունների համար մատակարարման շղթաների դիվերսիֆիկացիայի ապահովմանն ուղղված պետական աջակցություն | J64: =+'Havelvats 1'!G17 -> -16700 | K64: =+'Havelvats 1'!H17 -> -16700
F65: Տեքստիլ ընկերությունների կողմից ներգրավված առևտրի ֆինանսավորման վարկային գործիքների տոկոսադրույքների սուբսիդավորում և էլեկտրոնային հարթակներում վաճառքների խթանում
G66: Տրանսֆերտների տրամադրում
H67: Շահառուների ընտրության չափորոշիչները` Համապատասխան ծրագրի պահանջները բավարարող շահառուներ
D68: 1165 - 12004 | E68: Կլինիկական փորձարկումների, կենսահամարժեքության հետազոտությունների սուբսիդավորում | J68: =+'Havelvats 1'!G18 -> -45000 | K68: =+'Havelvats 1'!H18 -> -145000
F69: Հայաստանի Հանրապետությունում արտադրվող դեղերի կլինիկական փորձարկումների և (կամ) կենսահամարժեքության հետազոտությունների ծախսերի մասնակի սուբսիդավորում
G70: Տրանսֆերտների տրամադրում
H71: Շահառուների ընտրության չափորոշիչները` ՀՀ կառավարության 2023 թվականի մայիսի 25-ի N 811-Լ որոշմամբ հաստատված չափանիշներին համապատասխանող տնտեսավարողներ
D72: 1165-12006 | E72: =+'Havelvats 1'!D19 -> Հայաստանի Հանարապետության տնտեսապես բարդ ապրանքների արտադրությամբ զբաղվող առևտրային ընկերություններին պետական աջակցություն | J72: =+'Havelvats 2'!G56 -> 0 | K72: =+'Havelvats 2'!H56 -> -200000
F73: Տնտեսական բարդության ինդեքսը օգտագործելով` պետական աջակցությունն առաջնահերթորեն տրամադրել այն տնտեսվարողներին, որոնք պատրաստվում են արտադրել 0.2 տնտեսական բարդության ցուցիչից ավելի բարձր ինդեքս ունեցող ապրանքներ
G74: Տրանսֆերտների տրամադրում
H75: Շահառուների ընտրության չափորոշիչները` Կառավարության 2023թ հոկտեմբերի 26-ի 1867-Ն որոշման չափանիշներին համապատասխանող շահառուներ
I76: ներդրումային ծրագրով նախատեսված նվազագույն ներդրման պայմաններում աջակցություն ստացող տնտեսավարողների թիվ, ընկերություն | K76: -2 | L76: 0.07 | M76: =+K76*1000*L76 -> -140 | N76: =+L76*1000*#REF! -> #REF!
B77: 1187 | C77: Գյուղատնտեսության արդիականացման ծրագիր | J77: =+J78+J83+J95 -> 514742 | K77: =+K78+K83+K95 -> 1072076
D78: 1187 - 12002 | E78: Հայաստանի Հանրապետությունում խաղողի, ժամանակակից տեխնոլոգիաներով մշակվող ինտենսիվ պտղատու այգիների և հատապտղանոցների հիմնման համար վարկային տոկոսադրույքների սուբսիդավորում | J78: =+'Havelvats 2'!G107 -> -266914.5 | K78: =+'Havelvats 2'!H107 -> -266914.5
F79: Հայաստանի Հանրապետությունում խաղողի, ժամանակակից տեխնոլոգիաներով մշակվող ինտենսիվ պտղատու այգիների և հատապտղանոցների հիմնման համար տնտեսավարողներին տրամադրվող նպատակային վարկերի տոկոսադրույքների սուբսիդավորում | M79: =+K79*1000*L79 -> 0
G80: Տրանսֆերտների տրամադրում | M80: =+K80*1000*L80 -> 0
H81: Շահառուների ընտրության չափորոշիչները` ՀՀ գյուղատնտեսական տնտեսավարողներ՛ ընտրված համաձայն՛ ՀՀ կառավարության 29.03.2019թ. թիվ 361-Լ որոշմամբ հաստատված ծրագրի և ֆինանսական կառույցների կողմից հաստատված համապատասխան չափանիշների | M81: =+K81*1000*L81 -> 0
I82: Ծրագրի շրջանակներում նախորդ տարիներին հիմնված նոր ինտենսիվ պտղատու այգիներ, հեկտար | K82: 98.4 | M82: =+K82*1000*L82 -> 0
D83: =+'Havelvats 1'!C22 -> 1187 - 12014 | E83: =+'Havelvats 1'!D22 -> Հայաստանի Հանրապետությունում ինտենսիվ այգեգործության զարգացման նպատակով սուբսիդավորում | J83: =+'Havelvats 1'!G22 -> 1339102.8 | K83: =+'Havelvats 1'!H22 -> 1338990.5 | M83: =+K83*1000*L83 -> 0
F84: =+'Havelvats 1'!E22 -> Հայաստանի Հանրապետությունում այգեհիմնման նպատակով տրամադրվող վարկերի տոկոսադրույքների սուբսիդավորում | M84: =+K84*1000*L84 -> 0
G85: Տրանսֆերտների տրամադրում | M85: =+K85*1000*L85 -> 0
H86: Շահառուների ընտրության չափորոշիչները` ՀՀ գյուղատնտեսական տնտեսավարողներ՛ ընտրված համաձայն ՀՀ կառավարության 03.06.2021թ. թիվ 927-Լ որոշմամբ հաստատված ծրագրի և ֆինանսական կառույցների կողմից հաստատված համապատասխան չափանիշների | M86: =+K86*1000*L86 -> 0
I87: Ծրագրի շրջանակներում նախորդ տարիներին հիմնված ինտենսիվ պտղատու այգիներ, հեկտար | K87: -4502
I88: Ծրագրի շրջանակներում ներկայացված հայտերի հիման վրա հիմնվող ինտենսիվ պտղատու այգիներ, հեկտար | K88: 5222.65
I89: Ծրագրի շրջանակներում նախորդ տարիներին տեղակայված կարկտապաշտպան ցանցային համակարգեր, հեկտար | K89: -76.3
I90: Ծրագրի շրջանակներում ներկայացված հայտերի հիման վրա տեղադրվող կարկտապաշտպան ցանցային համակարգեր, հեկտար | K90: 76.27
I91: Ծրագրի շրջանակներում նախորդ տարիներին հիմնված բարձրարժեք մշակաբույսերի ցանքատարածություններ, հեկտար | K91: -13.182
I92: Ծրագրի շրջանակներում ներկայացված հայտերի շրջանակներում հիմնվող բարձրարժեք մշակաբույսերի ցանքատարածություններ, հեկտար | K92: 19.182
I93: Ծրագրի շրջանակներում նախորդ տարիներին ոռոգման արդիական համակարգերով ներդրված տարածքներ, հեկտար | K93: -599.7
I94: Ծրագրի շրջանակներում ներկայացված հայտերի հիման վրա տեղադրվող ոռոգման արդիական համակարգերով տարածքներ, հեկտար | K94: 578.7 | M94: =+K94*1000*L94 -> 0
D95: 1187 - 12015 | E95: Հայաստանի Հանրապետությունում ինտենսիվ այգեգործության զարգացման նպատակով ծախսերի փոխհատուցում | J95: ='Havelvats 4'!J89 -> -557446.3 | M95: =+K95*1000*L95 -> 0
F96: Հայաստանի Հանրապետությունում այգեհիմնման նպատակով կատարված ծախսերի մասնակի փոխհատուցում
G97: Տրանսֆերտների տրամադրում | M97: =+K97*1000*L97 -> 0
H98: Շահառուների ընտրության չափորոշիչները` ՀՀ գյուղատնտեսական տնտեսավարողներ՛ ընտրված համաձայն ՀՀ կառավարության 03.06.2021թ. թիվ 927-Լ որոշմամբ հաստատված ծրագրի չափանիշների | M98: =+K98*1000*L98 -> 0
I99: Ծրագրի շրջանակներում հիմնված նոր ինտենսիվ պտղատու այգիներ, հեկտար
A100: ՀՀ կառավարություն | J100: =J101 -> -867702 | K100: =K101 -> 0 | M100: =+K100*1000*L100 -> 0
B101: 1139 | C101: ՀՀ կառավարության պահուստային ֆոնդ | J101: =J102+J106 -> -867702 | K101: =K102+K106 -> 0 | M101: =+K101*1000*L101 -> 0
D102: 1139 - 11001 | E102: ՀՀ կառավարության պահուստային ֆոնդ | J102: =+'Havelvats 2'!G145 -> 505730 | K102: =+'Havelvats 2'!H145 -> 1491028 | M102: =+K102*1000*L102 -> 0
...

Sheet Havelvats 6
F1: Հավելված 6 ՀՀ կառավարության 2025 թվականի____________ի N _____-Ն որոշման
A3: ՀԱՅԱՍՏԱՆԻ ՀԱՆՐԱՊԵՏՈՒԹՅԱՆ 2025 ԹՎԱԿԱՆԻ ՊԵՏԱԿԱՆ ԲՅՈՒՋԵՈՎ ՆԱԽԱՏԵՍՎԱԾ՝ ՀԱՅԱՍՏԱՆԻ ՀԱՆՐԱՊԵՏՈՒԹՅԱՆ ԿԱՌԱՎԱՐՈՒԹՅԱՆ ՊԱՀՈՒՍՏԱՅԻՆ ՖՈՆԴԻՑ ՀԱՏԿԱՑՈՒՄՆԵՐ ԿԱՏԱՐԵԼՈՒ ՎԵՐԱԲԵՐՅԱԼ
H4: հազար դրամներով
A5: Գործառնական դասիչ | D5: Ծրագրային դասիչը | F5: Բյուջետային ծախսերի գործառական դասակարգման բաժինների, խմբերի և դասերի, բյուջետային ծրագրերի միջոցառումների, բյուջետային հատկացումների գլխավոր կարգադրիչների անվանումները | G5: Ցուցանիշների փոփոխությունը (ավելացումները նշված են դրական նշանով, իսկ նվազեցումները՝ փակագծերում)
A6: Բաժին | B6: Խումբ | C6: Դաս | D6: Ծրագիր | E6: Միջոցառում | G6: Ինն ամիս | H6: Տարի
F7: ԸՆԴԱՄԵՆԸ ԾԱԽՍԵՐ | G7: =+G9+G50 -> 0 | H7: =+H9+H50 -> 0
F8: այդ թվում`
F9: ՀՀ էկոնոմիկայի նախարարություն | G9: =+G11 -> 1373432 | H9: =+H11 -> 1491028
F10: այդ թվում`
A11: 04 | F11: ՏՆՏԵՍԱԿԱՆ ՀԱՐԱԲԵՐՈՒԹՅՈՒՆՆԵՐ | G11: =G13 -> 1373432 | H11: =H13 -> 1491028
F12: այդ թվում`
B13: 02 | F13: Գյուղատնտեսություն, անտառային տնտեսություն, ձկնորսություն և որսորդություն | G13: =+G15 -> 1373432 | H13: =+H15 -> 1491028
F14: այդ թվում`
C15: 01 | F15: Գյուղատնտեսություն | G15: =+G17+G39 -> 1373432 | H15: =+H17+H39 -> 1491028
F16: այդ թվում`
D17: 1059 | F17: Բուսաբուծության խթանում և բույսերի պաշտպանություն | G17: =+G27+G38 -> 505730 | H17: =+H27+H38 -> 1491028
F18: այդ թվում`
E19: 11010 | F19: Բուսաբուծության խթանում և բույսերի պաշտպանություն | G19: =+G21 -> 14730 | H19: =+H21 -> 43428
F20: այդ թվում`
F21: ՀՀ-ում գարնանացան, աշնանացան և կերային մշակաբույսերի ցանքատարածությունների մոնիթորինգի իրականացմանն աջակցություն | G21: =+G23 -> 14730 | H21: =+H23 -> 43428
F22: այդ թվում` ըստ կատարողների
F23: ՀՀ էկոնոմիկայի նախարարություն | G23: =+G24 -> 14730 | H23: =+H24 -> 43428
F24: այդ թվում` բյուջետային ծախսերի տնտեսագիտական դասակարգման հոդվածներ | G24: =+G25 -> 14730 | H24: =+H25 -> 43428
F25: ԸՆԴԱՄԵՆԸ ԾԱԽՍԵՐ | G25: =+G26 -> 14730 | H25: =+H26 -> 43428
F26: ԸՆԹԱՑԻԿ ԾԱԽՍԵՐ | G26: =+G27 -> 14730 | H26: =+H27 -> 43428
F27: ԴՐԱՄԱՇՆՈՐՀՆԵՐ | G27: =+'Havelvats 2'!G91 -> 14730 | H27: =+'Havelvats 2'!H91 -> 43428
F28: Ընթացիկ դրամաշնորհներ պետական հատվածի այլ մակարդակներին | G28: 14730 | H28: 43428
F29: - Այլ ընթացիկ դրամաշնորհներ համայնքներին | G29: 14730 | H29: 43428
E30: 12003 | F30: ՀՀ-ում գարնանացան, աշնանացան և կերային մշակաբույսերի մշակության հիմնական աշխատանքների համար կատարված ծախսերի մասնակի փոխհատուցման տրամադրում | G30: =+G32 -> 491000 | H30: =+H32 -> 1447600
F31: այդ թվում` ըստ կատարողների
F32: ՀՀ էկոնոմիկայի նախարարություն | G32: =+G34 -> 491000 | H32: =+H34 -> 1447600
F33: այդ թվում` բյուջետային ծախսերի տնտեսագիտական դասակարգման հոդվածներ
F34: ԸՆԴԱՄԵՆԸ ԾԱԽՍԵՐ | G34: =+G35 -> 491000 | H34: =+H35 -> 1447600
F35: ԸՆԹԱՑԻԿ ԾԱԽՍԵՐ | G35: =+G36 -> 491000 | H35: =+H36 -> 1447600
F36: ՍՈՑԻԱԼԱԿԱՆ ՆՊԱՍՏՆԵՐ ԵՎ ԿԵՆՍԱԹՈՇԱԿՆԵՐ | G36: =+G37 -> 491000 | H36: =+H37 -> 1447600
F37: Սոցիալական օգնության դրամական արտահայտությամբ նպաստներ (բյուջեից) | G37: =+G38 -> 491000 | H37: =+H38 -> 1447600
F38: - Այլ նպաստներ բյուջեից | G38: =+'Havelvats 2'!G100 -> 491000 | H38: =+'Havelvats 2'!H100 -> 1447600
D39: 1187 | F39: =+'Havelvats 1'!D20 -> Գյուղատնտեսության արդիականացման ծրագիր | G39: =+G41 -> 867702 | H39: =+H41 -> 0
F40: այդ թվում`
E41: 12014 | F41: Հայաստանի Հանրապետությունում ինտենսիվ այգեգործության զարգացման նպատակով սուբսիդավորում | G41: =+G43 -> 867702 | H41: =+H43 -> 0
F42: այդ թվում` ըստ կատարողների
F43: ՀՀ էկոնոմիկայի նախարարություն | G43: =+G45 -> 867702 | H43: =+H45 -> 0
F44: այդ թվում` բյուջետային ծախսերի տնտեսագիտական դասակարգման հոդվածներ
F45: ԸՆԴԱՄԵՆԸ ԾԱԽՍԵՐ | G45: =+G46 -> 867702 | H45: =+H46 -> 0
F46: ԸՆԹԱՑԻԿ ԾԱԽՍԵՐ | G46: =+G47 -> 867702 | H46: =+H47 -> 0
F47: ՍՈՒԲՍԻԴԻԱՆԵՐ | G47: =+G48 -> 867702 | H47: =+H48 -> 0
F48: Սուբսիդիաներ ոչ պետական կազմակերպություններին | G48: =+G49 -> 867702 | H48: =+H49 -> 0
F49: - Սուբսիդիաներ ոչ պետական ֆինանսական կազմակերպություններին | G49: 867702
F50: ՀՀ կառավարություն | G50: =+G52 -> -1373432 | H50: =+H52 -> -1491028
F51: այդ թվում`
A52: 11 | F52: ՀԻՄՆԱԿԱՆ ԲԱԺԻՆՆԵՐԻՆ ՉԴԱՍՎՈՂ ՊԱՀՈՒՍՏԱՅԻՆ ՖՈՆԴԵՐ | G52: =G54 -> -1373432 | H52: =H54 -> -1491028
F53: այդ թվում`
B54: 01 | F54: ՀՀ կառավարության և համայնքների պահուստային ֆոնդ | G54: =G56 -> -1373432 | H54: =H56 -> -1491028
F55: այդ թվում`
C56: 01 | F56: ՀՀ կառավարության պահուստային ֆոնդ | G56: =G58 -> -1373432 | H56: =H58 -> -1491028
F57: այդ թվում`
F58: ՀՀ կառավարություն | G58: =G60 -> -1373432 | H58: =H60 -> -1491028
F59: այդ թվում`
D60: 1139 | F60: ՀՀ կառավարության պահուստային ֆոնդ | G60: =+G62 -> -1373432 | H60: =+H62 -> -1491028
F61: այդ թվում`
E62: 11001 | F62: ՀՀ կառավարության պահուստային ֆոնդ | G62: =G64 -> -1373432 | H62: =H64 -> -1491028
F63: այդ թվում` ըստ կատարողների
F64: ՀՀ կառավարություն | G64: =G66 -> -1373432 | H64: =H66 -> -1491028
F65: այդ թվում` բյուջետային ծախսերի տնտեսագիտական դասակարգման հոդվածներ
F66: ԸՆԴԱՄԵՆԸ ԾԱԽՍԵՐ | G66: =+G67+G70 -> -1373432 | H66: =H67 -> -1491028
F67: ԸՆԹԱՑԻԿ ԾԱԽՍԵՐ | G67: =G68 -> -505730 | H67: =H68 -> -1491028
F68: ԱՅԼ ԾԱԽՍԵՐ | G68: =G69 -> -505730 | H68: =H69 -> -1491028
F69: Պահուստային միջոցներ | G69: -505730 | H69: =+'Havelvats 2'!H160 -> -1491028
F70: ՈՉ ՖԻՆԱՆՍԱԿԱՆ ԱԿՏԻՎՆԵՐԻ ԳԾՈՎ ԾԱԽՍԵՐ | G70: =+G71 -> -867702
F71: ՀԻՄՆԱԿԱՆ ՄԻՋՈՑՆԵՐ | G71: =+G72 -> -867702
F72: ՇԵՆՔԵՐ ԵՎ ՇԻՆՈՒԹՅՈՒՆՆԵՐ | G72: =+G73 -> -867702
F73: - Շենքերի և շինությունների կապիտալ վերանորոգում | G73: -867702
