Workbook
Name a: #REF!
Name a: #REF!
Name a: #REF!
Name a: #REF!
Name a: #REF!
Name AgencyCode: #REF!
Name AgencyCode: #REF!
Name AgencyCode: #REF!
Name AgencyCode: #REF!
Name AgencyCode: #REF!
Name AgencyCode: #REF!
Name AgencyCode: #REF!
Name AgencyCode: #REF!
Name AgencyCode: #REF!
Name AgencyName: #REF!
Name AgencyName: #REF!
Name AgencyName: #REF!
Name AgencyName: #REF!
Name AgencyName: #REF!
Name AgencyName: #REF!
Name åû: #REF!
Name davit: #REF!
Name davit: #REF!
Name davit: #REF!
Name davit: #REF!
Name davit: #REF!
Name Functional1: #REF!
Name Functional1: #REF!
Name Functional1: #REF!
Name Functional1: #REF!
Name Functional1: #REF!
Name Functional1: #REF!
Name ggg: #REF!
Name ggg: #REF!
Name ggg: #REF!
Name ggg: #REF!
Name ggg: #REF!
Name hav: #REF!
Name mas: #REF!
Name mass: #REF!
Name PANature: #REF!
Name PANature: #REF!
Name PANature: #REF!
Name PANature: #REF!
Name PANature: #REF!
Name PANature: #REF!
Name PAType: #REF!
Name PAType: #REF!
Name PAType: #REF!
Name PAType: #REF!
Name PAType: #REF!
Name PAType: #REF!
Name Performance2: #REF!
Name Performance2: #REF!
Name Performance2: #REF!
Name Performance2: #REF!
Name Performance2: #REF!
Name Performance2: #REF!
Name PerformanceType: #REF!
Name PerformanceType: #REF!

Sheet Հավելված N 1 
C1: Հավելված N 1
C2: ՀՀ կառավարության 2025 թվականի
C3: ______________ ի ___Ն որոշման
A5: «ՀԱՅԱՍՏԱՆԻ ՀԱՆՐԱՊԵՏՈՒԹՅԱՆ 2025 ԹՎԱԿԱՆԻ ՊԵՏԱԿԱՆ ԲՅՈՒՋԵԻ ՄԱՍԻՆ» ՕՐԵՆՔԻ 3-ՐԴ ՀՈԴՎԱԾԻ, N 3 ՀԱՎԵԼՎԱԾԻ N 1 ԱՂՅՈՒՍԱԿՈՒՄ ԵՎ ՀԱՅԱՍՏԱՆԻ ՀԱՆՐԱՊԵՏՈՒԹՅԱՆ ԿԱՌԱՎԱՐՈՒԹՅԱՆ 2024 ԹՎԱԿԱՆԻ ԴԵԿՏԵՄԲԵՐԻ 27-Ի N 2060-Ն ՈՐՈՇՄԱՆ N 1 ՀԱՎԵԼՎԱԾԻ N 1 ԱՂՅՈՒՍԱԿՈՒՄ ԿԱՏԱՐՎՈՂ ՓՈՓՈԽՈՒԹՅՈՒՆԸ
C7: հազ. դրամ
A8: Պետական բյուջեի դեֆիցիտի ֆինանսավորման աղբյուրներն ու դրանց տարրերի անվանումները | B8: Ցուցանիշների փոփոխությունը (նվազեցումները նշված են փակագծերում)
B9: Ինն ամիս | C9: Տարի
A10: ԸՆԴԱՄԵՆԸ | B10: =+B12 -> -14874.3 | C10: =+C12 -> 1.7462298e-10
A11: այդ թվում՝
A12: Ա.Ներքին աղբյուրներ-ընդամենը | B12: =+B14 -> -14874.3 | C12: =+C14 -> 1.7462298e-10
A13: այդ թվում՝
A14: 2. Ֆինանսական զուտ ակտիվներ | B14: =+B16 -> -14874.3 | C14: =+C16 -> 1.7462298e-10
A15: այդ թվում՝
A16: 2.6.Այլ | B16: =+B18 -> -14874.3 | C16: =+C18 -> 1.7462298e-10
A17: որից՝
A18: Ժամանակավորապես ազատ միջոցներ | B18: =+'Հավելված N 2'!G13 -> -14874.3 | C18: =+'Հավելված N 2'!H13 -> 1.7462298e-10

Sheet Հավելված N 2
F1: Հավելված N 2
F2: ՀՀ կառավարության 2025 թվականի
F3: ______________ ի ___Ն որոշման
A6: «ՀԱՅԱUՏԱՆԻ ՀԱՆՐԱՊԵՏՈՒԹՅԱՆ 2025 ԹՎԱԿԱՆԻ ՊԵՏԱԿԱՆ ԲՅՈՒՋԵԻ ՄԱUԻՆ» ՀԱՅԱUՏԱՆԻ ՀԱՆՐԱՊԵՏՈՒԹՅԱՆ OՐԵՆՔԻ N 1 ՀԱՎԵԼՎԱԾԻ N 2 ԱՂՅՈՒՍԱԿՈՒՄ ԿԱՏԱՐՎՈՂ ՎԵՐԱԲԱՇԽՈՒՄԸ ԵՎ ՀԱՅԱՍՏԱՆԻ ՀԱՆՐԱՊԵՏՈՒԹՅԱՆ ԿԱՌԱՎԱՐՈՒԹՅԱՆ 2024 ԹՎԱԿԱՆԻ ԴԵԿՏԵՄԲԵՐԻ 27-Ի N 2060-Ն ՈՐՈՇՄԱՆ N 5 ՀԱՎԵԼՎԱԾԻ N 1 ԱՂՅՈՒՍԱԿՈՒՄ ԿԱՏԱՐՎՈՂ ՓՈՓՈԽՈՒԹՅՈՒՆՆԵՐԸ ԵՎ ԼՐԱՑՈՒՄՆԵՐԸ
H9: հազ. դրամներով
A10: ԲԳԿ | B10: Ծրագրային դասիչը | D10: ԲԳԿ/Ծրագրի /միջոցառման անվանումը | E10: Ծրագրի նպատակը/Միջոցառման նկարագրությունը | F10: Վերջնական արդյունքի նկարագրությունը/Միջոցառման տեսակը | G10: Ցուցանիշների փոփոխությունը (ավելացումները նշված են դրական նշանով, իսկ նվազեցումները փակագծերում)
G11: Ինն ամիս | H11: Տարի
B12: Ծրագիր | C12: Միջոցառում
A13: ԸՆԴԱՄԵՆԸ | G13: =+G15 -> -14874.3 | H13: =+H15 -> 1.7462298e-10
A14: այդ թվում՝
A15: ՀՀ ԿՐԹՈՒԹՅԱՆ, ԳԻՏՈՒԹՅԱՆ, ՄՇԱԿՈՒՅԹԻ ԵՎ ՍՊՈՐՏԻ ՆԱԽԱՐԱՐՈՒԹՅՈՒՆ | G15: =+G16+G18+G20+G22+G24 -> -14874.3 | H15: =+H16+H18+H20+H22+H24 -> 1.7462298e-10
B16: 1045 | D16: Մասնագիտական կրթության և ուսուցման ծրագիր | E16: Աշխատաշուկայի արդի պահանջներին համապատասխան արհեստագործական և միջին մասնագիտական կրթության որակավորում ունեցող մասնագետների պատրաստում, կրթության մատչելիության ապահովում: | F16: Արհեստագործական և միջին մասնագիտական կրթության գրավչության բարձրացում, մատչելի և մրցունակ արհեստագործական և միջին մասնագիտական կրթության ապահովում | G16: =+G17 -> -84576.9 | H16: =+H17 -> -130775.9
C17: 1045 - 32005 | D17: Մասնագիտական ուսումնական հաստատությունների շենքերի կառուցում | E17: Մասնագիտական ուսումնական հաստատությունների շենքերի (մասնաշենքերի) կառուցման և նախագծման աշխատանքների իրականացում | F17: Այլ պետական կազմակերպությունների կողմից օգտագործվող ոչ ֆինանսական ակտիվների հետ գործառնություններ | G17: =+'Հավելված N 3'!G123 -> -84576.9 | H17: =+'Հավելված N 3'!H123 -> -130775.9
B18: 1163 | D18: Մասսայական սպորտ | E18: Բնակչության շրջանում առողջ ապրելակերպի արմատավորում, անհատի բազմակողմանի ու ներդաշնակ զարգացման գործում ֆիզիկական կուլտուրայի և սպորտի դերի բարձրացում | F18: Սպորտի նկատմամբ հետաքրքրվածության և մասնակցության ընդլայնում | G18: =+G19 -> -115074.6 | H18: =+H19 -> 0
C19: 1163 - 32001 | D19: Մարզական օբյեկտների շինարարություն | E19: Մարզական օբյեկտների շենքերի (մասնաշենքերի) կառուցում (համաշինարարական աշխատանքներ, ջեռուցման համակարգի իրականացում, ներքին հարդարում, տարածքի բարեկարգում) և նախագծում | F19: Այլ պետական կազմակերպությունների կողմից օգտագործվող ոչ ֆինանսական ակտիվների հետ գործառնություններ | G19: =+'Հավելված N 3'!G136 -> -115074.6 | H19: =+'Հավելված N 3'!H136 -> 0
B20: 1168 | D20: Արվեստների ծրագիր | E20: Նպաստել ազգային հենքի վրա ժամանակակից թատերարվեստի, երաժշտարվեստի, կերպարվեստի և պարարվեստի զարգացմանը և հանրահռչակմանը | F20: Մրցունակ արվեստային արտադրանքի ստեղծում, ստեղծագործական գործընթացների խթանում, արվեստի նոր նախագծերի ներդրում և մշակութային կյանքում հասարակության ներգրավում | G20: =+G21 -> 0 | H20: =+H21 -> 17600
C21: 1168 - 32001 | D21: Ներդրումներ թատրոնների և համերգային կազմակերպությունների շենքերի կապիտալ վերանորոգման համար | E21: Թատրոնների և համերգային կազմակերպությունների շենքերի մասնաշենքերի հիմնանորոգում, համաշինարարական աշխատանքներ, ջեռուցման համակարգի իրականացում, ներքին հարդարում, տարածքի բարեկարգում և նախագծում | F21: Այլ պետական կազմակերպությունների կողմից օգտագործվող ոչ ֆինանսական ակտիվների հետ գործառնություններ | G21: =+'Հավելված N 3'!G26 -> 0 | H21: =+'Հավելված N 3'!H26 -> 17600
B22: 1183 | D22: Ապահով դպրոց | E22: Դպրոցներին սպառնացող աղետների ռիսկի կառավարման կարողությունների հզորացում, դպրոցի անձնակազմի և աշակերտների անվտանգության ապահովման մակարդակի բարձրացում՛ կիրառելով ներառական և երեխայակենտրոն մոտեցում | F22: Դպրոցական միջավայրի բարելավում | G22: =+G23 -> 48041.4 | H22: =+H23 -> 48041.4
C23: 1183 - 32009 | D23: Հանրակրթական կրթություն իրականացնող ուսումնական հաստատությունների մարզադահլիճների վերակառուցում | E23: Հանրակրթական ուսուցում իրականացնող ուսումնական հաստատությունների մարզադահլիճների վերակառուցման նախագծանախահաշվային փաստաթղթերի մշակում | F23: Այլ պետական կազմակերպությունների կողմից օգտագործվող ոչ ֆինանսական ակտիվների հետ գործառնություններ | G23: =+'Հավելված N 3'!G147 -> 48041.4 | H23: =+'Հավելված N 3'!H147 -> 48041.4
B24: 1236 | D24: Հանրակրթական և նախադպրոցական հաստատությունների հիմնում, կառուցում, բարելավում | E24: Առնվազն 300 դպրոցի և 500 մանկապարտեզի կառուցման, վերակառուցման, հիմնանորոգման ծրագրերի իրականացում ՀՀ պետական բյուջեի միջոցների շրջանակներում | F24: Կրթական միջավայրի բարելավում | G24: =+G25+G26+G27+G28 -> 136735.8 | H24: =+H25+H26+H27+H28 -> 65134.5
C25: 1236 - 32001 | D25: Մանկապարտեզների նոր շենքերի կառուցում | E25: Նախադպրոցական կրթության հասանելիության ապահովման նպատակով՛ մանկապարտեզների հիմնում, նոր շենքերի (մասնաշենքերի), ներառյալ՛ ,Մոդուլայինե տիպի շենքերի կառուցում և նախագծում | F25: Այլ պետական կազմակերպությունների կողմից օգտագործվող ոչ ֆինանսական ակտիվների հետ գործառնություններ | G25: =+'Հավելված N 3'!G45 -> 544080.9 | H25: =+'Հավելված N 3'!H45 -> 736220
C26: 1236 - 32002 | D26: Մանկապարտեզների շենքերի վերակառուցում, հիմնանորոգում | E26: Նախադպրոցական կրթության հասանելիության ապահովման նպատակով՛ մանկապարտեզների շենքերի (մասնաշենքերի), վերակառուցում, հիմնանորոգում և նախագծում | F26: Այլ պետական կազմակերպությունների կողմից օգտագործվող ոչ ֆինանսական ակտիվների հետ գործառնություններ | G26: =+'Հավելված N 3'!G58 -> -247373.1 | H26: =+'Հավելված N 3'!H58 -> 0
C27: 1236 - 32003 | D27: Հանրակրթական դպրոցների նոր շենքերի կառուցում | E27: ՀՀ մարզերում կրթական որակյալ ծառայությունների հասանելիության ապահովման ծրագրի շրջանակներում հանրակրթական և նախադպրոցական կրթության հասանելիության ապահովման նպատակով կրթական կենտրոնների կառուցում | F27: Այլ պետական կազմակերպությունների կողմից օգտագործվող ոչ ֆինանսական ակտիվների հետ գործառնություններ | G27: =+'Հավելված N 3'!G75 -> -446467.8 | H27: =+'Հավելված N 3'!H75 -> -939872.4
C28: 1236 - 32005 | D28: Կրթահամալիրների կառուցում | E28: ՀՀ մարզերում կրթական որակյալ ծառայությունների հասանելիության ապահովման ծրագրի շրջանակներում հանրակրթական և նախադպրոցական կրթության հասանելիության ապահովման նպատակով կրթական կենտրոնների կառուցում | F28: Այլ պետական կազմակերպությունների կողմից օգտագործվող ոչ ֆինանսական ակտիվների հետ գործառնություններ | G28: =+'Հավելված N 3'!G97 -> 286495.8 | H28: =+'Հավելված N 3'!H97 -> 268786.9

Sheet Հավելված N 3
F1: Հավելված N 3
F2: ՀՀ կառավարության 2025 թվականի
F3: ______________ ի ___Ն որոշման
A7: ՀԱՅԱՍՏԱՆԻ ՀԱՆՐԱՊԵՏՈՒԹՅԱՆ ԿԱՌԱՎԱՐՈՒԹՅԱՆ 2024 ԹՎԱԿԱՆԻ ԴԵԿՏԵՄԲԵՐԻ 27-Ի N 2060-Ն ՈՐՈՇՄԱՆ N 3 ԵՎ N 4 ՀԱՎԵԼՎԱԾՆԵՐՈՒՄ ԿԱՏԱՐՎՈՂ ՓՈՓՈԽՈՒԹՅՈՒՆՆԵՐԸ ԵՎ ԼՐԱՑՈՒՄՆԵՐԸ
H10: հազ. դրամներով
A11: Գործառական դասիչը | D11: Ծրագրային դասիչը | F11: Բյուջետային հատկացումների գլխավոր կարգադրիչների, ծրագրերի, միջոցառումների և միջոցառումները կատարող պետական մարմինների անվանումները | G11: Ցուցանիշների փոփոխությունը (ավելացումները նշված են դրական նշանով, իսկ նվազեցումները փակագծերում)
A12: Բաժին | B12: Խումբ | C12: Դաս | D12: Ծրագիր | E12: Միջոցառում | G12: Ինն ամիս | H12: Տարի
F13: ԸՆԴԱՄԵՆԸ | G13: =+G15 -> -14874.3 | H13: =+H15 -> 1.1641532e-10
F14: այդ թվում՝
F15: ՀՀ ԿՐԹՈՒԹՅԱՆ, ԳԻՏՈՒԹՅԱՆ, ՄՇԱԿՈՒՅԹԻ ԵՎ ՍՊՈՐՏԻ ՆԱԽԱՐԱՐՈՒԹՅՈՒՆ | G15: =+G16+G35 -> -14874.3 | H15: =+H16+H35 -> 1.1641532e-10
A16: 08 | F16: ՀԱՆԳԻՍՏ, ՄՇԱԿՈՒՅԹ ԵՎ ԿՐՈՆ | G16: =+G18 -> 0 | H16: =+H18 -> 17600
F17: այդ թվում`
B18: 02 | F18: Մշակութային ծառայություններ | G18: =+G20 -> 0 | H18: =+H20 -> 17600
F19: այդ թվում`
C20: 05 | F20: Արվեստ | G20: =+G22 -> 0 | H20: =+H22 -> 17600
F21: այդ թվում`
F22: ՀՀ կրթության, գիտության, մշակույթի և սպորտի նախարարություն | G22: =+G24 -> 0 | H22: =+H24 -> 17600
F23: այդ թվում`
D24: 1168 | E24: Արվեստների ծրագիր | G24: =+G26 -> 0 | H24: =+H26 -> 17600
F25: այդ թվում`
E26: 32001 | F26: Ներդրումներ թատրոնների և համերգային կազմակերպությունների շենքերի կապիտալ վերանորոգման համար | G26: =+G28 -> 0 | H26: =+H28 -> 17600
F27: այդ թվում` ըստ կատարողների
F28: ՀՀ քաղաքաշինության կոմիտե | G28: =+G30 -> 0 | H28: =+H30 -> 17600
F29: այդ թվում՝ բյուջետային ծախսերի տնտեսագիտական դասակարգման հոդվածներ
F30: ԸՆԴԱՄԵՆԸ ԾԱԽՍԵՐ | G30: =+G31 -> 0 | H30: =+H31 -> 17600
F31: ՈՉ ՖԻՆԱՆՍԱԿԱՆ ԱԿՏԻՎՆԵՐԻ ԳԾՈՎ ԾԱԽՍԵՐ | G31: =+G32 -> 0 | H31: =+H32 -> 17600
F32: ՀԻՄՆԱԿԱՆ ՄԻՋՈՑՆԵՐ | G32: =+G33 -> 0 | H32: =+H33 -> 17600
F33: ԱՅԼ ՀԻՄՆԱԿԱՆ ՄԻՋՈՑՆԵՐ | G33: =+G34 -> 0 | H33: =+H34 -> 17600
F34: - Նախագծահետազոտական ծախսեր | G34: =+'Հավելված N 5'!E29 -> 0 | H34: =+'Հավելված N 5'!F32 -> 17600
A35: 09 | F35: ԿՐԹՈՒԹՅՈՒՆ | G35: =+G37+G67+G115 -> -14874.3 | H35: =+H37+H67+H115 -> -17600
F36: այդ թվում`
B37: 01 | F37: Նախադպրոցական և տարրական ընդհանուր կրթություն | G37: =+G39 -> 296707.8 | H37: =+H39 -> 736220
F38: այդ թվում`
C39: 01 | F39: Նախադպրոցական կրթություն | G39: =+G41 -> 296707.8 | H39: =+H41 -> 736220
F40: այդ թվում`
F41: ՀՀ կրթության, գիտության, մշակույթի և սպորտի նախարարություն | G41: =+G43 -> 296707.8 | H41: =+H43 -> 736220
F42: այդ թվում`
D43: 1236 | E43: Հանրակրթական և նախադպրոցական հաստատությունների հիմնում, կառուցում, բարելավում | G43: =+G45+G58 -> 296707.8 | H43: =+H45+H58 -> 736220
F44: այդ թվում`
E45: 32001 | F45: Մանկապարտեզների նոր շենքերի կառուցում | G45: =+G47 -> 544080.9 | H45: =+H47 -> 736220
F46: այդ թվում` ըստ կատարողների
F47: ՀՀ քաղաքաշինության կոմիտե | G47: =+G49 -> 544080.9 | H47: =+H49 -> 736220
F48: այդ թվում՝ բյուջետային ծախսերի տնտեսագիտական դասակարգման հոդվածներ
F49: ԸՆԴԱՄԵՆԸ ԾԱԽՍԵՐ | G49: =G50+G54 -> 544080.9 | H49: =H50+H54 -> 736220
F50: ԸՆԹԱՑԻԿ ԾԱԽՍԵՐ | G50: =+G51 -> 1393.2 | H50: =+H51 -> 1393.2
F51: ԾԱՌԱՅՈՒԹՅՈՒՆՆԵՐԻ ԵՎ ԱՊՐԱՆՔՆԵՐԻ ՁԵՌՔ ԲԵՐՈՒՄ | G51: =+G52 -> 1393.2 | H51: =+H52 -> 1393.2
F52: ԱՅԼ ՄԱՍՆԱԳԻՏԱԿԱՆ ԾԱՌԱՅՈՒԹՅՈՒՆՆԵՐԻ ՁԵՌՔ ԲԵՐՈՒՄ | G52: =+G53 -> 1393.2 | H52: =+H53 -> 1393.2
F53: - Մասնագիտական ծառայություններ | G53: =+H53 -> 1393.2 | H53: =+'Հավելված N 8'!I144 -> 1393.2
F54: ՈՉ ՖԻՆԱՆՍԱԿԱՆ ԱԿՏԻՎՆԵՐԻ ԳԾՈՎ ԾԱԽՍԵՐ | G54: =+G55 -> 542687.7 | H54: =+H55 -> 734826.8
F55: ՀԻՄՆԱԿԱՆ ՄԻՋՈՑՆԵՐ | G55: =+G56 -> 542687.7 | H55: =+H56 -> 734826.8
F56: ՇԵՆՔԵՐ ԵՎ ՇԻՆՈՒԹՅՈՒՆՆԵՐ | G56: =+G57 -> 542687.7 | H56: =+H57 -> 734826.8
F57: - Շենքերի և շինությունների շինարարություն | G57: =+'Հավելված N 5'!E44 -> 542687.7 | H57: =+'Հավելված N 5'!F44 -> 734826.8
E58: 32002 | F58: Մանկապարտեզների շենքերի վերակառուցում, հիմնանորոգում | G58: =+G60 -> -247373.1 | H58: =+H60 -> 0
F59: այդ թվում` ըստ կատարողների
F60: ՀՀ կառավարություն | G60: =+G62 -> -247373.1 | H60: =+H62 -> 0
F61: այդ թվում՝ բյուջետային ծախսերի տնտեսագիտական դասակարգման հոդվածներ
F62: ԸՆԴԱՄԵՆԸ ԾԱԽՍԵՐ | G62: =+G63 -> -247373.1 | H62: =+H63 -> 0
F63: ՈՉ ՖԻՆԱՆՍԱԿԱՆ ԱԿՏԻՎՆԵՐԻ ԳԾՈՎ ԾԱԽՍԵՐ | G63: =+G64 -> -247373.1 | H63: =+H64 -> 0
F64: ՀԻՄՆԱԿԱՆ ՄԻՋՈՑՆԵՐ | G64: =+G65 -> -247373.1 | H64: =+H65 -> 0
F65: ՇԵՆՔԵՐ ԵՎ ՇԻՆՈՒԹՅՈՒՆՆԵՐ | G65: =+G66 -> -247373.1 | H65: =+H66 -> 0
F66: - Շենքերի և շինությունների կապիտալ վերանորոգում | G66: =+'Հավելված N 5'!E67 -> -247373.1 | H66: =+'Հավելված N 5'!F67 -> 0
B67: 02 | F67: Միջնակարգ ընդհանուր կրթություն | G67: =+G69 -> -159972 | H67: =+H69 -> -671085.5
F68: այդ թվում`
C69: 01 | F69: Հիմնական ընդհանուր կրթություն | G69: =+G71 -> -159972 | H69: =+H71 -> -671085.5
F70: այդ թվում`
F71: ՀՀ կրթության, գիտության, մշակույթի և սպորտի նախարարություն | G71: =+G73 -> -159972 | H71: =+H73 -> -671085.5
F72: այդ թվում`
D73: 1236 | E73: Հանրակրթական և նախադպրոցական հաստատությունների հիմնում, կառուցում, բարելավում | G73: =+G75+G97 -> -159972 | H73: =+H75+H97 -> -671085.5
F74: այդ թվում`
E75: 32003 | F75: Հանրակրթական դպրոցների նոր շենքերի կառուցում | G75: =+G77+G84 -> -446467.8 | H75: =+H77+H84 -> -939872.4
F76: այդ թվում` ըստ կատարողների
F77: ՀՀ կրթության, գիտության, մշակույթի և սպորտի նախարարություն | G77: =+G79 -> 0 | H77: =+H79 -> -363095
F78: այդ թվում՝ բյուջետային ծախսերի տնտեսագիտական դասակարգման հոդվածներ
F79: ԸՆԴԱՄԵՆԸ ԾԱԽՍԵՐ | G79: =+G80 -> 0 | H79: =+H80 -> -363095
F80: ՈՉ ՖԻՆԱՆՍԱԿԱՆ ԱԿՏԻՎՆԵՐԻ ԳԾՈՎ ԾԱԽՍԵՐ | G80: =+G81 -> 0 | H80: =+H81 -> -363095
F81: ՀԻՄՆԱԿԱՆ ՄԻՋՈՑՆԵՐ | G81: =+G82 -> 0 | H81: =+H82 -> -363095
F82: ԱՅԼ ՀԻՄՆԱԿԱՆ ՄԻՋՈՑՆԵՐ | G82: =+G83 -> 0 | H82: =+H83 -> -363095
F83: - Նախագծահետազոտական ծախսեր | G83: =+'Հավելված N 5'!E72 -> 0 | H83: =+'Հավելված N 5'!F72 -> -363095
F84: ՀՀ քաղաքաշինության կոմիտե | G84: =+G86 -> -446467.8 | H84: =+H86 -> -576777.4
F85: այդ թվում՝ բյուջետային ծախսերի տնտեսագիտական դասակարգման հոդվածներ
F86: ԸՆԴԱՄԵՆԸ ԾԱԽՍԵՐ | G86: =G87+G91 -> -446467.8 | H86: =H87+H91 -> -576777.4
F87: ԸՆԹԱՑԻԿ ԾԱԽՍԵՐ | G87: =+G88 -> 981.3 | H87: =+H88 -> 981.3
F88: ԾԱՌԱՅՈՒԹՅՈՒՆՆԵՐԻ ԵՎ ԱՊՐԱՆՔՆԵՐԻ ՁԵՌՔ ԲԵՐՈՒՄ | G88: =+G89 -> 981.3 | H88: =+H89 -> 981.3
F89: ԱՅԼ ՄԱՍՆԱԳԻՏԱԿԱՆ ԾԱՌԱՅՈՒԹՅՈՒՆՆԵՐԻ ՁԵՌՔ ԲԵՐՈՒՄ | G89: =+G90 -> 981.3 | H89: =+H90 -> 981.3
F90: - Մասնագիտական ծառայություններ | G90: =+H90 -> 981.3 | H90: =+'Հավելված N 8'!I183 -> 981.3
F91: ՈՉ ՖԻՆԱՆՍԱԿԱՆ ԱԿՏԻՎՆԵՐԻ ԳԾՈՎ ԾԱԽՍԵՐ | G91: =+G92 -> -447449.1 | H91: =+H92 -> -577758.7
F92: ՀԻՄՆԱԿԱՆ ՄԻՋՈՑՆԵՐ | G92: =+G93+G95 -> -447449.1 | H92: =+H93+H95 -> -577758.7
F93: ՇԵՆՔԵՐ ԵՎ ՇԻՆՈՒԹՅՈՒՆՆԵՐ | G93: =+G94 -> -450949.1 | H93: =+H94 -> -612534.7
F94: - Շենքերի և շինությունների շինարարություն | G94: =+'Հավելված N 5'!E77-5000+'Հավելված N 5'!E100+'Հավելված N 5'!E102+'Հավելված N 5'!E104 -> -450949.1 | H94: =+'Հավելված N 5'!F77-5000+'Հավելված N 5'!F100+'Հավելված N 5'!F102+'Հավելված N 5'!F104 -> -612534.7
F95: ԱՅԼ ՀԻՄՆԱԿԱՆ ՄԻՋՈՑՆԵՐ | G95: =+G96 -> 3500 | H95: =+H96 -> 34776
F96: - Նախագծահետազոտական ծախսեր | G96: =+'Հավելված N 5'!E75+5000+'Հավելված N 5'!E78+'Հավելված N 5'!E79+'Հավելված N 5'!E80+'Հավելված N 5'!E81+'Հավելված N 5'!E82+'Հավելված N 5'!E84+'Հավելված N 5'!E86+'Հավելված N 5'!E87+'Հավելված N 5'!E88+'Հավելված N 5'!E89+'Հավելված N 5'!E90+'Հավելված N 5'!E91+'Հավելված N 5'!E92+'Հավելված N 5'!E93+'Հավելված N 5'!E95+'Հավելված N 5'!E96+'Հավելված N 5'!E98+'Հավելված N 5'!E106 -> 3500 | H96: =+'Հավելված N 5'!F75+5000+'Հավելված N 5'!F78+'Հավելված N 5'!F79+'Հավելված N 5'!F80+'Հավելված N 5'!F81+'Հավելված N 5'!F82+'Հավելված N 5'!F84+'Հավելված N 5'!F86+'Հավելված N 5'!F87+'Հավելված N 5'!F88+'Հավելված N 5'!F89+'Հավելված N 5'!F90+'Հավելված N 5'!F91+'Հավելված N 5'!F92+'Հավելված N 5'!F93+'Հավելված N 5'!F95+'Հավելված N 5'!F96+'Հավելված N 5'!F98+'Հավելված N 5'!F106 -> 34776
E97: 32005 | F97: Կրթահամալիրների կառուցում | G97: =+G99+G106 -> 286495.8 | H97: =+H99+H106 -> 268786.9
F98: այդ թվում` ըստ կատարողների
F99: ՀՀ կրթության, գիտության, մշակույթի և սպորտի նախարարություն | G99: =+G101 -> 0 | H99: =+H101 -> -39600
F100: այդ թվում՝ բյուջետային ծախսերի տնտեսագիտական դասակարգման հոդվածներ
F101: ԸՆԴԱՄԵՆԸ ԾԱԽՍԵՐ | G101: =+G102 -> 0 | H101: =+H102 -> -39600
F102: ՈՉ ՖԻՆԱՆՍԱԿԱՆ ԱԿՏԻՎՆԵՐԻ ԳԾՈՎ ԾԱԽՍԵՐ | G102: =+G103 -> 0 | H102: =+H103 -> -39600
F103: ՀԻՄՆԱԿԱՆ ՄԻՋՈՑՆԵՐ | G103: =+G104 -> 0 | H103: =+H104 -> -39600
F104: ԱՅԼ ՀԻՄՆԱԿԱՆ ՄԻՋՈՑՆԵՐ | G104: =+G105 -> 0 | H104: =+H105 -> -39600
F105: - Նախագծահետազոտական ծախսեր | G105: =+'Հավելված N 5'!E119 -> 0 | H105: =+'Հավելված N 5'!F119 -> -39600
...

Sheet Հավելված N 4
F1: Հավելված N 4
F2: ՀՀ կառավարության 2025 թվականի
F3: ______________ ի ___Ն որոշման
A5: «ՀԱՅԱUՏԱՆԻ ՀԱՆՐԱՊԵՏՈՒԹՅԱՆ 2025 ԹՎԱԿԱՆԻ ՊԵՏԱԿԱՆ ԲՅՈՒՋԵԻ ՄԱUԻՆ» ՀԱՅԱUՏԱՆԻ ՀԱՆՐԱՊԵՏՈՒԹՅԱՆ OՐԵՆՔԻ N 1 ՀԱՎԵԼՎԱԾԻ N 3 ԱՂՅՈՒՍԱԿՈՒՄ ԿԱՏԱՐՎՈՂ ՓՈՓՈԽՈՒԹՅՈՒՆՆԵՐԸ ԵՎ ԼՐԱՑՈՒՄՆԵՐԸ
G8: հազ. դրամներով
A9: Ծրագրային դասիչ | C9: Բյուջետային գլխավոր կարգադրիչների, ծրագրերի, միջոցառումների, միջոցառումները կատարող պետական մարմինների և ուղղությունների անվանումները | D9: Ընդամենը | E9: Ցուցանիշների փոփոխությունը (ավելացումները նշված են դրական նշանով, իսկ նվազեցումները՝ փակագծերում)
A10: Ծրագիր | B10: Միջոցառում | E10: Կառուցման աշխատանքներ | F10: Վերակառուցման, վերանորոգման և վերականգնման աշխատանքներ | G10: Նախագծահե- տազոտական, գեոդեզիա- քարտեզագրա- կան աշխա- տանքներ | H10: Ոչ ֆինանսական այլ ակտիվների ձեռքբերում
C11: ԸՆԴԱՄԵՆԸ | D11: =SUM(E11:H11) -> -2505.1 | E11: =+E13 -> 285903.1 | F11: =+F13 -> 47910.8 | G11: =+G13 -> -336319 | H11: =+H13 -> 0
C12: այդ թվում՝
C13: ՀՀ ԿՐԹՈՒԹՅԱՆ, ԳԻՏՈՒԹՅԱՆ, ՄՇԱԿՈՒՅԹԻ ԵՎ ՍՊՈՐՏԻ ՆԱԽԱՐԱՐՈՒԹՅՈՒՆ | D13: =SUM(E13:H13) -> -2505.1 | E13: =+E15+E19+E23+E30+E51+E83 -> 285903.1 | F13: =+F15+F19+F23+F30+F51+F83 -> 47910.8 | G13: =+G15+G19+G23+G30+G51+G83 -> -336319 | H13: =+H15+H19+H23+H30+H51+H83 -> 0
C14: այդ թվում`
A15: 1045 | B15: 32005 | C15: Մասնագիտական ուսումնական հաստատությունների շենքերի կառուցում | D15: =SUM(E15:H15) -> -130775.9 | E15: =+E17 -> -130775.9 | F15: =+F17 -> 0 | G15: =+G17 -> 0 | H15: =+H17 -> 0
C16: այդ թվում`
C17: ՀՀ Արմավիրի մարզ | D17: =SUM(E17:H17) -> -130775.9 | E17: =+E18 -> -130775.9 | F17: =+F18 -> 0 | G17: =+G18 -> 0 | H17: =+H18 -> 0
C18: «Արմավիրի տարածաշրջանային պետական քոլեջ» ՊՈԱԿ | D18: =+E18+F18+G18+H18 -> -130775.9 | E18: =+'Հավելված N 8'!I197+'Հավելված N 8'!I199+'Հավելված N 8'!I200 -> -130775.9
A19: 1168 | B19: 32001 | C19: Ներդրումներ թատրոնների և համերգային կազմակերպությունների շենքերի կապիտալ վերանորոգման համար | D19: =SUM(E19:H19) -> 17600 | E19: =+E21 -> 0 | F19: =+F21 -> 0 | G19: =+G21 -> 17600 | H19: =+H21 -> 0
C20: այդ թվում`
C21: ՀՀ Լոռու մարզ | D21: =SUM(E21:H21) -> 17600 | E21: =+E22 -> 0 | F21: =+F22 -> 0 | G21: =+G22 -> 17600 | H21: =+H22 -> 0
C22: «Վանաձորի Հ. Աբելյանի անվան պետական դրամատիկական թատրոն» ՊՈԱԿ | D22: =+E22+F22+G22+H22 -> 17600 | G22: =+'Հավելված N 8'!I112+'Հավելված N 8'!I113 -> 17600
A23: 1183 | B23: 32009 | C23: Հանրակրթական կրթություն իրականացնող ուսումնական հաստատությունների մարզադահլիճների վերակառուցում | D23: =SUM(E23:H23) -> 47910.8 | E23: =+E25+E27 -> 0 | F23: =+F25+F27 -> 47910.8 | G23: =+G25+G27 -> 0 | H23: =+H25+H27 -> 0
C24: այդ թվում`
C25: Երևան քաղաք | D25: =SUM(E25:H25) -> 40516.1 | E25: =+E26 -> 0 | F25: =+F26 -> 40516.1 | G25: =+G26 -> 0 | H25: =+H26 -> 0
C26: «Երևանի հ. 37 հիմնական դպրոց» ՊՈԱԿ | D26: =+E26+F26+G26+H26 -> 40516.1 | F26: =+'Հավելված N 8'!I203+'Հավելված N 8'!I207+'Հավելված N 8'!I210 -> 40516.1
C27: ՀՀ Գեղարքունիքի մարզ | D27: =SUM(E27:H27) -> 7394.7 | E27: =+E28+E29 -> 0 | F27: =+F28+F29 -> 7394.7 | G27: =+G28+G29 -> 0 | H27: =+H28+H29 -> 0
C28: «Ակունք գյուղի միջնակարգ դպրոց» ՊՈԱԿ | D28: =+E28+F28+G28+H28 -> 3602.9 | F28: =+'Հավելված N 8'!I204+'Հավելված N 8'!I208+'Հավելված N 8'!I211 -> 3602.9
C29: «Վ․ Գետաշենի թիվ 2 միջնակարգ դպրոց» ՊՈԱԿ | D29: =+E29+F29+G29+H29 -> 3791.8 | F29: =+'Հավելված N 8'!I205+'Հավելված N 8'!I209+'Հավելված N 8'!I212 -> 3791.8
A30: 1236 | B30: 32001 | C30: Մանկապարտեզների նոր շենքերի կառուցում | D30: =SUM(E30:H30) -> 734826.8 | E30: =+E32+E33+E38+E40+E43+E45+E47+E49 -> 718826.8 | F30: =+F32+F33+F38+F40+F43+F45+F47+F49 -> 0 | G30: =+G32+G33+G38+G40+G43+G45+G47+G49 -> 16000 | H30: =+H32+H33+H38+H40+H43+H45+H47+H49 -> 0
C31: այդ թվում`
C32: «Մոդուլային» տիպի 144 տեղ հզորությամբ մսուր-մանկապարտեզների նախագծանախահաշվային փաստաթղթերում փոփոխություններ և լրացումներ | D32: =SUM(E32:H32) -> 16000 | E32: 0 | F32: 0 | G32: =+'Հավելված N 8'!I143 -> 16000 | H32: 0
C33: ՀՀ Արագածոտնի մարզ | D33: =SUM(E33:H33) -> 624392.8 | E33: =SUM(E34:E37) -> 624392.8 | F33: =SUM(F34:F37) -> 0 | G33: =SUM(G34:G37) -> 0 | H33: =SUM(H34:H37) -> 0
C34: Ապարան համայնքի Մելիքգյուղ բնակավայրում 75 տեղ հզորությամբ մանկապարտեզ | D34: =+E34+F34+G34+H34 -> 152325.8 | E34: =+'Հավելված N 8'!I123+'Հավելված N 8'!I134 -> 152325.8
C35: Թալին համայնքի Կաքավաձոր բնակավայրում 75 տեղ հզորությամբ մանկապարտեզ | D35: =+E35+F35+G35+H35 -> 152751.9 | E35: =+'Հավելված N 8'!I124+'Հավելված N 8'!I135 -> 152751.9
C36: Թալին համայնքի Ոսկեթաս բնակավայրում 75 տեղ հզորությամբ մանկապարտեզ | D36: =+E36+F36+G36+H36 -> 166743.5 | E36: =+'Հավելված N 8'!I125+'Հավելված N 8'!I136 -> 166743.5
C37: Ծաղկահովիտ համայնքի Ծիլքար բնակավայրում 75 տեղ հզորությամբ մանկապարտեզ | D37: =+E37+F37+G37+H37 -> 152571.6 | E37: =+'Հավելված N 8'!I126+'Հավելված N 8'!I137 -> 152571.6
C38: ՀՀ Արարատի մարզ | D38: =SUM(E38:H38) -> 150125.8 | E38: =+E39 -> 150125.8 | F38: =+F39 -> 0 | G38: =+G39 -> 0 | H38: =+H39 -> 0
C39: Արտաշատ համայնքի Բերքանուշ բնակավայրում 75 տեղ հզորությամբ մանկապարտեզ | D39: =+E39+F39+G39+H39 -> 150125.8 | E39: =+'Հավելված N 8'!I127+'Հավելված N 8'!I138 -> 150125.8
C40: ՀՀ Արմավիրի մարզ | D40: =SUM(E40:H40) -> 63730.2 | E40: =SUM(E41:E42) -> 63730.2 | F40: =SUM(F41:F42) -> 0 | G40: =SUM(G41:G42) -> 0 | H40: =SUM(H41:H42) -> 0
C41: ՀՀ Արմավիրի մարզի Նորավան համայնքում «Մոդուլային» տիպի 144 տեղ հզորությամբ մսուր-մանկապարտեզ | D41: =+E41+F41+G41+H41 -> 198074.4 | E41: =+'Հավելված N 8'!I117+'Հավելված N 8'!I129+'Հավելված N 8'!I139 -> 198074.4
C42: ՀՀ Արմավիրի մարզի Փշատավան համայնքում «Մոդուլային» տիպի 144 տեղ հզորությամբ մսուր-մանկապարտեզ | D42: =+E42+F42+G42+H42 -> -134344.2 | E42: =+'Հավելված N 8'!I118+'Հավելված N 8'!I130 -> -134344.2
C43: ՀՀ ԳԵղարքունիքի մարզ | D43: =SUM(E43:H43) -> 11947.4 | E43: =+E44 -> 11947.4 | F43: =+F44 -> 0 | G43: =+G44 -> 0 | H43: =+H44 -> 0
C44: ՀՀ Գեղարքունիքի մարզի Աստղաձոր համայնքում «Մոդուլային» տիպի 144 տեղ հզորությամբ մսուր-մանկապարտեզ | D44: =+E44+F44+G44+H44 -> 11947.4 | E44: =+'Հավելված N 8'!I119 -> 11947.4
C45: ՀՀ Լոռու մարզ | D45: =SUM(E45:H45) -> 37244.1 | E45: =+E46 -> 37244.1 | F45: =+F46 -> 0 | G45: =+G46 -> 0 | H45: =+H46 -> 0
C46: ՀՀ Լոռու մարզի Սպիտակ համայնքում «Մոդուլային» տիպի 144 տեղ հզորությամբ մսուր-մանկապարտեզ | D46: =+E46+F46+G46+H46 -> 37244.1 | E46: =+'Հավելված N 8'!I120+'Հավելված N 8'!I131+'Հավելված N 8'!I140 -> 37244.1
C47: ՀՀ Կոտայքի մարզ | D47: =SUM(E47:H47) -> 2830.5 | E47: =+E48 -> 2830.5 | F47: =+F48 -> 0 | G47: =+G48 -> 0 | H47: =+H48 -> 0
C48: ՀՀ Կոտայքի մարզի Հրազդան համայնքում «Մոդուլային» տիպի 144 տեղ հզորությամբ մսուր-մանկապարտեզ | D48: =+E48+F48+G48+H48 -> 2830.5 | E48: =+'Հավելված N 8'!I121+'Հավելված N 8'!I132+'Հավելված N 8'!I141 -> 2830.5
C49: ՀՀ Վայոց Ձոր | D49: =SUM(E49:H49) -> -171444 | E49: =+E50 -> -171444 | F49: =+F50 -> 0 | G49: =+G50 -> 0 | H49: =+H50 -> 0
C50: ՀՀ Վայոց ձորի մարզի Եղեգիս համայնքի Շատին բնակավայրում «Մոդուլային» տիպի 250 տեղ հզորությամբ մսուր-մանկապարտեզ | D50: =+E50+F50+G50+H50 -> -171444 | E50: =+'Հավելված N 8'!I122+'Հավելված N 8'!I133+'Հավելված N 8'!I142 -> -171444
A51: 1236 | B51: 32003 | C51: Հանրակրթական դպրոցների նոր շենքերի կառուցում | D51: =SUM(E51:H51) -> -940853.7 | E51: =+E53+E54+E61+E63+E72+E75+E77+E79+E81 -> -612534.7 | F51: =+F53+F54+F61+F63+F72+F75+F77+F79+F81 -> 0 | G51: =+G53+G54+G61+G63+G72+G75+G77+G79+G81 -> -328319 | H51: =+H53+H54+H61+H63+H72+H75+H77+H79+H81 -> 0
C52: այդ թվում`
C53: ՀՀ մարզերում կրթական որակյալ ծառայությունների հասանելիության ապահովման ծրագրի շրջանակներում դպրոցների կառուցման նախագծանախահաշվային փաստաթղթերի կազմում և փորձաքննություն | D53: =SUM(E53:H53) -> -417895 | E53: 0 | F53: 0 | G53: =+'Հավելված N 8'!I156+'Հավելված N 8'!I176+'Հավելված N 8'!I157+'Հավելված N 8'!I177+'Հավելված N 8'!I158+'Հավելված N 8'!I178+'Հավելված N 8'!I159+'Հավելված N 8'!I179+'Հավելված N 8'!I16 -> -417895 | H53: 0
C54: Երևան քաղաք | D54: =SUM(E54:H54) -> -222039.7 | E54: =SUM(E55:E60) -> -254999.7 | F54: =SUM(F55:F60) -> 0 | G54: =SUM(G55:G60) -> 32960 | H54: =SUM(H55:H60) -> 0
C55: «Երևանի թիվ 109 ավագ դպրոց» ՊՈԱԿ | D55: =+E55+F55+G55+H55 -> -249999.7 | E55: =+'Հավելված N 8'!I148+'Հավելված N 8'!I152+'Հավելված N 8'!I154 -> -254999.7 | G55: =+'Հավելված N 8'!I155+'Հավելված N 8'!I175 -> 5000
C56: «Երևանի հ. 136 հիմնական դպրոց» ՊՈԱԿ | D56: =+E56+F56+G56+H56 -> 5300 | G56: =+'Հավելված N 8'!I160 -> 5300
C57: «Երևանի Միքայել Նալբանդյանի անվան հ.33 հիմնական դպրոց» ՊՈԱԿ | D57: =+E57+F57+G57+H57 -> 4160 | G57: =+'Հավելված N 8'!I161 -> 4160
C58: «Երևանի Ս. Խանզադյանի անվան հ. 184 ավագ դպրոց» ՊՈԱԿ | D58: =+E58+F58+G58+H58 -> 6800 | G58: =+'Հավելված N 8'!I162 -> 6800
C59: «Երևանի Ա. Երզնկյանի անվան հ. 118 ավագ դպրոց» ՊՈԱԿ | D59: =+E59+F59+G59+H59 -> 6900 | G59: =+'Հավելված N 8'!I163 -> 6900
C60: «Երևանի Մ. Սարյանի անվան հ. 86 հիմնական դպրոց» ՊՈԱԿ | D60: =+E60+F60+G60+H60 -> 4800 | G60: =+'Հավելված N 8'!I164 -> 4800
C61: ՀՀ Արարատի մարզ | D61: =SUM(E61:H61) -> -500 | E61: =+E62 -> 0 | F61: =+F62 -> 0 | G61: =+G62 -> -500 | H61: =+H62 -> 0
C62: «Նիզամիի միջնակարգ դպրոց» ՊՈԱԿ | D62: =+E62+F62+G62+H62 -> -500 | G62: =+'Հավելված N 8'!I180 -> -500
C63: ՀՀ Արմավիրի մարզ | D63: =SUM(E63:H63) -> 40804 | E63: =SUM(E64:E71) -> 0 | F63: =SUM(F64:F71) -> 0 | G63: =SUM(G64:G71) -> 40804 | H63: =SUM(H64:H71) -> 0
C64: «Հայկաշենի Գ. Կիրակոսյանի անվան միջնակարգ դպրոց» ՊՈԱԿ | D64: =+E64+F64+G64+H64 -> -500 | G64: =+'Հավելված N 8'!I181 -> -500
C65: «Արմավիրի N 6 հիմնական դպրոց» ՊՈԱԿ | D65: =+E65+F65+G65+H65 -> 7680 | G65: =+'Հավելված N 8'!I165 -> 7680
C66: «Արմավիրի հ. 8 հիմնական դպրոց» ՊՈԱԿ | D66: =+E66+F66+G66+H66 -> 6780 | G66: =+'Հավելված N 8'!I166 -> 6780
C67: «Արտիմետի միջնակարգ դպրոց» ՊՈԱԿ | D67: =+E67+F67+G67+H67 -> 4800 | G67: =+'Հավելված N 8'!I167 -> 4800
C68: «Վաղարշապատի Երվանդ Օտյանի անվան N 7 հիմնական դպրոց » ՊՈԱԿ | D68: =+E68+F68+G68+H68 -> 7584 | G68: =+'Հավելված N 8'!I168 -> 7584
C69: «Արագածի Մ. Մեխակյանի անվան միջնակարգ դպրոց» ՊՈԱԿ | D69: =+E69+F69+G69+H69 -> 4500 | G69: =+'Հավելված N 8'!I169 -> 4500
C70: «Շահումյանի միջնակարգ դպրոց» ՊՈԱԿ | D70: =+E70+F70+G70+H70 -> 5160 | G70: =+'Հավելված N 8'!I170 -> 5160
C71: «Մրգաստանի միջնակարգ դպրոց» ՊՈԱԿ | D71: =+E71+F71+G71+H71 -> 4800 | G71: =+'Հավելված N 8'!I171 -> 4800
C72: ՀՀ Գեղարքունիքի մարզ | D72: =SUM(E72:H72) -> 9420 | E72: =SUM(E73:E74) -> 0 | F72: =SUM(F73:F74) -> 0 | G72: =SUM(G73:G74) -> 9420 | H72: =SUM(H73:H74) -> 0
C73: Գագարինի միջնակարգ դպրոց ՊՈԱԿ | D73: =+E73+F73+G73+H73 -> 5640 | G73: =+'Հավելված N 8'!I172 -> 5640
C74: «Վ․ Գետաշենի թիվ 2 միջնակարգ դպրոց» ՊՈԱԿ | D74: =+E74+F74+G74+H74 -> 3780 | G74: =+'Հավելված N 8'!I173 -> 3780
C75: ՀՀ Լոռու մարզ | D75: =SUM(E75:H75) -> 7392 | E75: =+E76 -> 0 | F75: =+F76 -> 0 | G75: =+G76 -> 7392 | H75: =+H76 -> 0
C76: «Ալավերդու թիվ 12 հիմնական դպրոց» ՊՈԱԿ | D76: =+E76+F76+G76+H76 -> 7392 | G76: =+'Հավելված N 8'!I174 -> 7392
C77: ՀՀ Շիրակի մարզ | D77: =SUM(E77:H77) -> 2489.6 | E77: =+E78 -> 2489.6 | F77: =+F78 -> 0 | G77: =+G78 -> 0 | H77: =+H78 -> 0
C78: «Արեգնադեմի միջնակարգ դպրոց» ՊՈԱԿ | D78: =+E78+F78+G78+H78 -> 2489.6 | E78: =+'Հավելված N 8'!I149 -> 2489.6
C79: ՀՀ Սյունիքի մարզ | D79: =SUM(E79:H79) -> -360024.6 | E79: =+E80 -> -360024.6 | F79: =+F80 -> 0 | G79: =+G80 -> 0 | H79: =+H80 -> 0
C80: «ք. Կապանի թիվ 10 միջնակարգ դպրոց» ՊՈԱԿ | D80: =+E80+F80+G80+H80 -> -360024.6 | E80: =+'Հավելված N 8'!I150+'Հավելված N 8'!I153 -> -360024.6
C81: ՀՀ Տավուշի մարզ | D81: =SUM(E81:H81) -> -500 | E81: =+E82 -> 0 | F81: =+F82 -> 0 | G81: =+G82 -> -500 | H81: =+H82 -> 0
C82: «Նավուրի միջնակարգ դպրոց» ՊՈԱԿ | D82: =+E82+F82+G82+H82 -> -500 | G82: =+'Հավելված N 8'!I182 -> -500
A83: 1236 | B83: 32005 | C83: Կրթահամալիրների կառուցում | D83: =SUM(E83:H83) -> 268786.9 | E83: =+E85+E86+E88+E90+E92 -> 310386.9 | F83: =+F85+F86+F88+F90+F92 -> 0 | G83: =+G85+G86+G88+G90+G92 -> -41600 | H83: =+H85+H86+H88+H90+H92 -> 0
C84: այդ թվում`
C85: ՀՀ մարզերում կրթական որակյալ ծառայությունների հասանելիության ապահովման ծրագրի շրջանակներում կրթահամալիրների կառուցման նախագծանախահաշվային փաստաթղթերի կազմում և փորձաքննություն | D85: =SUM(E85:H85) -> -39600 | E85: 0 | F85: 0 | G85: =+'Հավելված N 8'!I90 -> -39600 | H85: 0
C86: ՀՀ Արագածոտնի մարզ | D86: =SUM(E86:H86) -> 309886.9 | E86: =+E87 -> 310386.9 | F86: =+F87 -> 0 | G86: =+G87 -> -500 | H86: =+H87 -> 0
C87: Հացաշենի մոդուլային կրթահամալիր | D87: =+E87+F87+G87+H87 -> 309886.9 | E87: =+'Հավելված N 8'!I186+'Հավելված N 8'!I188+'Հավելված N 8'!I189 -> 310386.9 | G87: =+'Հավելված N 8'!I190 -> -500
C88: ՀՀ Գեղարքունիքի մարզ | D88: =SUM(E88:H88) -> -500 | E88: =+E89 -> 0 | F88: =+F89 -> 0 | G88: =+G89 -> -500 | H88: =+H89 -> 0
C89: Արփունքի մոդուլային կրթահամալիր | D89: =+E89+F89+G89+H89 -> -500 | G89: =+'Հավելված N 8'!I191 -> -500
C90: ՀՀ Կոտայքի մարզ | D90: =SUM(E90:H90) -> -500 | E90: =+E91 -> 0 | F90: =+F91 -> 0 | G90: =+G91 -> -500 | H90: =+H91 -> 0
C91: գ․ Նուռնուսի մոդուլային կրթահամալիր | D91: =+E91+F91+G91+H91 -> -500 | G91: =+'Հավելված N 8'!I192 -> -500
C92: ՀՀ Վայոց Ձորի մարզ | D92: =SUM(E92:H92) -> -500 | E92: =+E93 -> 0 | F92: =+F93 -> 0 | G92: =+G93 -> -500 | H92: =+H93 -> 0
C93: գ․ Գողթանիկի մոդուլային կրթահամալիր | D93: =+E93+F93+G93+H93 -> -500 | G93: =+'Հավելված N 8'!I193 -> -500

Sheet Հավելված N 5
E1: Հավելված N 5
D2: ՀՀ կառավարության 2025 թվականի
E3: ______________ ի ___Ն որոշման
B6: ՀԱՅԱՍՏԱՆԻ ՀԱՆՐԱՊԵՏՈՒԹՅԱՆ ԿԱՌԱՎԱՐՈՒԹՅԱՆ 2024 ԹՎԱԿԱՆԻ ԴԵԿՏԵՄԲԵՐԻ 27-Ի N 2060-Ն ՈՐՈՇՄԱՆ N 5 ՀԱՎԵԼՎԱԾԻ N 2 ԱՂՅՈՒՍԱԿՈՒՄ ԿԱՏԱՐՎՈՂ ՓՈՓՈԽՈՒԹՅՈՒՆՆԵՐԸ ԵՎ ԼՐԱՑՈՒՄՆԵՐԸ
F8: հազ. դրամներով
B9: Ծրագրային դասիչ | D9: Բյուջետային գլխավոր կարգադրիչների, ծրագրերի, միջոցառումների, միջոցառումները կատարող պետական մարմինների և ուղղությունների անվանումները | E9: Ցուցանիշների փոփոխությունը (ավելացումները նշված են դրական նշանով, իսկ նվազեցումները՝ փակագծերում)
B10: Ծրագիր | C10: Միջոցառում | E10: Ինն ամիս | F10: Տարի
D11: ՀՀ ԿՐԹՈՒԹՅԱՆ, ԳԻՏՈՒԹՅԱՆ, ՄՇԱԿՈՒՅԹԻ ԵՎ ՍՊՈՐՏԻ ՆԱԽԱՐԱՐՈՒԹՅՈՒՆ | E11: =+E13+E19+E27+E33+E42+E65+E68+E107 -> -17379.4 | F11: =+F13+F19+F27+F33+F42+F65+F68+F107 -> -2505.1
D12: այդ թվում՝
B13: 1045 | C13: 32005 | D13: Մասնագիտական ուսումնական հաստատությունների շենքերի կառուցում | E13: =+E15 -> -84576.9 | F13: =+F15 -> -130775.9
D14: այդ թվում` ըստ կատարողների
D15: ՀՀ քաղաքաշինության կոմիտե | E15: =+E17 -> -84576.9 | F15: =+F17 -> -130775.9
D16: այդ թվում`ըստ ուղղությունների
D17: ՀՀ Արմավիրի մարզ | E17: =+E18 -> -84576.9 | F17: =+F18 -> -130775.9
D18: «Արմավիրի տարածաշրջանային պետական քոլեջ» ՊՈԱԿ | E18: =-43184.9-2159.2-37869.5-1136.1-227.2 -> -84576.9 | F18: =+'Հավելված N 4'!D18 -> -130775.9
B19: 1163 | C19: 32001 | D19: Մարզական օբյեկտների շինարարություն | E19: =+E21 -> -115074.6 | F19: =+F21 -> 0
D20: այդ թվում` ըստ կատարողների
D21: ՀՀ քաղաքաշինության կոմիտե | E21: =+E23+E25 -> -115074.6 | F21: =+F23+F25 -> 0
D22: այդ թվում`ըստ ուղղությունների
D23: Երևան քաղաք | E23: =+E24 -> -80552.2 | F23: =+F24 -> 0
D24: «Երևանի օլիմպիական հերթափոխի պետական մարզական քոլեջ» ՊՈԱԿ (բռնցքամարտի և ձյուդոյի մարզադահլիճ) | E24: =-77753.1-2332.6-466.5 -> -80552.2 | F24: 0
D25: ՀՀ Արագածոտնի մարզ | E25: =+E26 -> -34522.4 | F25: =+F26 -> 0
D26: Ալագյազ համայնքում Մալխաս և Ռոման Ամոյանների անվան նոր մարզադպրոց | E26: =-33322.8-999.7-199.9 -> -34522.4 | F26: 0
B27: 1168 | C27: 32001 | D27: Ներդրումներ թատրոնների և համերգային կազմակերպությունների շենքերի կապիտալ վերանորոգման համար | E27: =+E29 -> 0 | F27: =+F29 -> 17600
D28: այդ թվում` ըստ կատարողների
D29: ՀՀ քաղաքաշինության կոմիտե | E29: =+E31 -> 0 | F29: =+F31 -> 17600
D30: այդ թվում`ըստ ուղղությունների
D31: ՀՀ Լոռու մարզ | E31: =+E32 -> 0 | F31: =+F32 -> 17600
D32: =+'Հավելված N 4'!C22 -> «Վանաձորի Հ. Աբելյանի անվան պետական դրամատիկական թատրոն» ՊՈԱԿ | E32: 0 | F32: =+'Հավելված N 4'!D22 -> 17600
B33: 1183 | C33: 32009 | D33: Հանրակրթական կրթություն իրականացնող ուսումնական հաստատությունների մարզադահլիճների վերակառուցում | E33: =+E35 -> 47910.8 | F33: =+F35 -> 47910.8
D34: այդ թվում` ըստ կատարողների
D35: ՀՀ քաղաքաշինության կոմիտե | E35: =+E37+E39 -> 47910.8 | F35: =+F37+F39 -> 47910.8
D36: այդ թվում`ըստ ուղղությունների
D37: Երևան քաղաք | E37: =+E38 -> 40516.1 | F37: =+F38 -> 40516.1
D38: =+'Հավելված N 4'!C26 -> «Երևանի հ. 37 հիմնական դպրոց» ՊՈԱԿ | E38: =+F38 -> 40516.1 | F38: =+'Հավելված N 4'!D26 -> 40516.1
D39: ՀՀ Գեղարքունիքի մարզ | E39: =+E40+E41 -> 7394.7 | F39: =+F40+F41 -> 7394.7
D40: =+'Հավելված N 4'!C28 -> «Ակունք գյուղի միջնակարգ դպրոց» ՊՈԱԿ | E40: =+F40 -> 3602.9 | F40: =+'Հավելված N 4'!D28 -> 3602.9
D41: =+'Հավելված N 4'!C29 -> «Վ․ Գետաշենի թիվ 2 միջնակարգ դպրոց» ՊՈԱԿ | E41: =+F41 -> 3791.8 | F41: =+'Հավելված N 4'!D29 -> 3791.8
B42: 1236 | C42: 32001 | D42: Մանկապարտեզների նոր շենքերի կառուցում | E42: =+E44 -> 542687.7 | F42: =+F44 -> 734826.8
D43: այդ թվում` ըստ կատարողների
D44: ՀՀ քաղաքաշինության կոմիտե | E44: =+E46+E47+E52+E54+E57+E59+E61+E63 -> 542687.7 | F44: =+F46+F47+F52+F54+F57+F59+F61+F63 -> 734826.8
D45: այդ թվում`ըստ ուղղությունների
D46: =+'Հավելված N 4'!C32 -> «Մոդուլային» տիպի 144 տեղ հզորությամբ մսուր-մանկապարտեզների նախագծանախահաշվային փաստաթղթերում փոփոխություններ և լրացումներ | E46: =+F46 -> 16000 | F46: =+'Հավելված N 4'!D32 -> 16000
D47: ՀՀ Արագածոտնի մարզ | E47: =SUM(E48:E51) -> 415965.6 | F47: =SUM(F48:F51) -> 624392.8
D48: =+'Հավելված N 4'!C34 -> Ապարան համայնքի Մելիքգյուղ բնակավայրում 75 տեղ հզորությամբ մանկապարտեզ | E48: =99774.5+1480 -> 101254.5 | F48: =+'Հավելված N 4'!D34 -> 152325.8
D49: =+'Հավելված N 4'!C35 -> Թալին համայնքի Կաքավաձոր բնակավայրում 75 տեղ հզորությամբ մանկապարտեզ | E49: =99996+1838.5 -> 101834.5 | F49: =+'Հավելված N 4'!D35 -> 152751.9
D50: =+'Հավելված N 4'!C36 -> Թալին համայնքի Ոսկեթաս բնակավայրում 75 տեղ հզորությամբ մանկապարտեզ | E50: =109323.7+1838.5 -> 111162.2 | F50: =+'Հավելված N 4'!D36 -> 166743.5
D51: =+'Հավելված N 4'!C37 -> Ծաղկահովիտ համայնքի Ծիլքար բնակավայրում 75 տեղ հզորությամբ մանկապարտեզ | E51: =100334.4+1380 -> 101714.4 | F51: =+'Հավելված N 4'!D37 -> 152571.6
D52: ՀՀ Արարատի մարզ | E52: =+E53 -> 100083.8 | F52: =+F53 -> 150125.8
D53: =+'Հավելված N 4'!C39 -> Արտաշատ համայնքի Բերքանուշ բնակավայրում 75 տեղ հզորությամբ մանկապարտեզ | E53: =98307.8+1776 -> 100083.8 | F53: =+'Հավելված N 4'!D39 -> 150125.8
D54: ՀՀ Արմավիրի մարզ | E54: =SUM(E55:E56) -> 63730.2 | F54: =SUM(F55:F56) -> 63730.2
D55: =+'Հավելված N 4'!C41 -> ՀՀ Արմավիրի մարզի Նորավան համայնքում «Մոդուլային» տիպի 144 տեղ հզորությամբ մսուր-մանկապարտեզ | E55: =+F55 -> 198074.4 | F55: =+'Հավելված N 4'!D41 -> 198074.4
D56: =+'Հավելված N 4'!C42 -> ՀՀ Արմավիրի մարզի Փշատավան համայնքում «Մոդուլային» տիպի 144 տեղ հզորությամբ մսուր-մանկապարտեզ | E56: =+F56 -> -134344.2 | F56: =+'Հավելված N 4'!D42 -> -134344.2
D57: ՀՀ Գեղարքունիքի մարզ | E57: =+E58 -> 11947.4 | F57: =+F58 -> 11947.4
D58: =+'Հավելված N 4'!C44 -> ՀՀ Գեղարքունիքի մարզի Աստղաձոր համայնքում «Մոդուլային» տիպի 144 տեղ հզորությամբ մսուր-մանկապարտեզ | E58: =+F58 -> 11947.4 | F58: =+'Հավելված N 4'!D44 -> 11947.4
D59: ՀՀ Լոռու մարզ | E59: =+E60 -> 37244.1 | F59: =+F60 -> 37244.1
D60: =+'Հավելված N 4'!C46 -> ՀՀ Լոռու մարզի Սպիտակ համայնքում «Մոդուլային» տիպի 144 տեղ հզորությամբ մսուր-մանկապարտեզ | E60: =+F60 -> 37244.1 | F60: =+'Հավելված N 4'!D46 -> 37244.1
D61: ՀՀ Կոտայքի մարզ | E61: =+E62 -> 2830.5 | F61: =+F62 -> 2830.5
D62: =+'Հավելված N 4'!C48 -> ՀՀ Կոտայքի մարզի Հրազդան համայնքում «Մոդուլային» տիպի 144 տեղ հզորությամբ մսուր-մանկապարտեզ | E62: =+F62 -> 2830.5 | F62: =+'Հավելված N 4'!D48 -> 2830.5
D63: ՀՀ Վայոց Ձոր | E63: =+E64 -> -105113.9 | F63: =+F64 -> -171444
D64: =+'Հավելված N 4'!C50 -> ՀՀ Վայոց ձորի մարզի Եղեգիս համայնքի Շատին բնակավայրում «Մոդուլային» տիպի 250 տեղ հզորությամբ մսուր-մանկապարտեզ | E64: =-101461.3-3043.8-608.8 -> -105113.9 | F64: =+'Հավելված N 4'!D50 -> -171444
B65: 1236 | C65: 32002 | D65: Մանկապարտեզների շենքերի վերակառուցում, հիմնանորոգում | E65: =+E67 -> -247373.1 | F65: =+F67 -> 0
D66: այդ թվում` ըստ կատարողների
D67: ՀՀ կառավարություն | E67: -247373.1 | F67: =+'[1]Հավելված N 3'!D34 -> 0
B68: 1236 | C68: 32003 | D68: Հանրակրթական դպրոցների նոր շենքերի կառուցում | E68: =+E70+E73 -> -447449.1 | F68: =+F70+F73 -> -940853.7
D69: այդ թվում` ըստ կատարողների
D70: ՀՀ կրթության, գիտության, մշակույթի և սպորտի նախարարություն | E70: =+E72 -> 0 | F70: =+F72 -> -363095
D71: այդ թվում`ըստ ուղղությունների
D72: ՀՀ մարզերում կրթական որակյալ ծառայությունների հասանելիության ապահովման ծրագրի շրջանակներում դպրոցների կառուցման նախագծանախահաշվային փաստաթղթերի կազմում և փորձաքննություն | E72: 0 | F72: =+'Հավելված N 8'!I16 -> -363095
D73: ՀՀ քաղաքաշինության կոմիտե | E73: =+E75+E76+E83+E85+E94+E97+E99+E101+E103+E105 -> -447449.1 | F73: =+F75+F76+F83+F85+F94+F97+F99+F101+F103+F105 -> -577758.7
D74: այդ թվում`ըստ ուղղությունների
D75: ՀՀ մարզերում կրթական որակյալ ծառայությունների հասանելիության ապահովման ծրագրի շրջանակներում դպրոցների կառուցման նախագծանախահաշվային փաստաթղթերի կազմում և փորձաքննություն | E75: 0 | F75: =+'Հավելված N 8'!I156+'Հավելված N 8'!I176+'Հավելված N 8'!I157+'Հավելված N 8'!I177+'Հավելված N 8'!I158+'Հավելված N 8'!I178+'Հավելված N 8'!I159+'Հավելված N 8'!I179 -> -54800
D76: Երևան քաղաք | E76: =SUM(E77:E82) -> -177486.6 | F76: =SUM(F77:F82) -> -222039.7
D77: =+'Հավելված N 4'!C55 -> «Երևանի թիվ 109 ավագ դպրոց» ՊՈԱԿ | E77: =-176617.7-4809.2-1059.7+5000 -> -177486.6 | F77: =+'Հավելված N 4'!D55 -> -249999.7
D78: =+'Հավելված N 4'!C56 -> «Երևանի հ. 136 հիմնական դպրոց» ՊՈԱԿ | E78: 0 | F78: =+'Հավելված N 4'!D56 -> 5300
D79: =+'Հավելված N 4'!C57 -> «Երևանի Միքայել Նալբանդյանի անվան հ.33 հիմնական դպրոց» ՊՈԱԿ | E79: 0 | F79: =+'Հավելված N 4'!D57 -> 4160
D80: =+'Հավելված N 4'!C58 -> «Երևանի Ս. Խանզադյանի անվան հ. 184 ավագ դպրոց» ՊՈԱԿ | E80: 0 | F80: =+'Հավելված N 4'!D58 -> 6800
D81: =+'Հավելված N 4'!C59 -> «Երևանի Ա. Երզնկյանի անվան հ. 118 ավագ դպրոց» ՊՈԱԿ | E81: 0 | F81: =+'Հավելված N 4'!D59 -> 6900
D82: =+'Հավելված N 4'!C60 -> «Երևանի Մ. Սարյանի անվան հ. 86 հիմնական դպրոց» ՊՈԱԿ | E82: 0 | F82: =+'Հավելված N 4'!D60 -> 4800
D83: ՀՀ Արարատի մարզ | E83: =+E84 -> -500 | F83: =+F84 -> -500
D84: =+'Հավելված N 4'!C62 -> «Նիզամիի միջնակարգ դպրոց» ՊՈԱԿ | E84: =+F84 -> -500 | F84: =+'Հավելված N 4'!D62 -> -500
D85: ՀՀ Արմավիրի մարզ | E85: =SUM(E86:E93) -> -500 | F85: =SUM(F86:F93) -> 40804
D86: =+'Հավելված N 4'!C64 -> «Հայկաշենի Գ. Կիրակոսյանի անվան միջնակարգ դպրոց» ՊՈԱԿ | E86: =+F86 -> -500 | F86: =+'Հավելված N 4'!D64 -> -500
D87: =+'Հավելված N 4'!C65 -> «Արմավիրի N 6 հիմնական դպրոց» ՊՈԱԿ | E87: 0 | F87: =+'Հավելված N 4'!D65 -> 7680
D88: =+'Հավելված N 4'!C66 -> «Արմավիրի հ. 8 հիմնական դպրոց» ՊՈԱԿ | E88: 0 | F88: =+'Հավելված N 4'!D66 -> 6780
D89: =+'Հավելված N 4'!C67 -> «Արտիմետի միջնակարգ դպրոց» ՊՈԱԿ | E89: 0 | F89: =+'Հավելված N 4'!D67 -> 4800
D90: =+'Հավելված N 4'!C68 -> «Վաղարշապատի Երվանդ Օտյանի անվան N 7 հիմնական դպրոց » ՊՈԱԿ | E90: 0 | F90: =+'Հավելված N 4'!D68 -> 7584
D91: =+'Հավելված N 4'!C69 -> «Արագածի Մ. Մեխակյանի անվան միջնակարգ դպրոց» ՊՈԱԿ | E91: 0 | F91: =+'Հավելված N 4'!D69 -> 4500
D92: =+'Հավելված N 4'!C70 -> «Շահումյանի միջնակարգ դպրոց» ՊՈԱԿ | E92: 0 | F92: =+'Հավելված N 4'!D70 -> 5160
D93: =+'Հավելված N 4'!C71 -> «Մրգաստանի միջնակարգ դպրոց» ՊՈԱԿ | E93: 0 | F93: =+'Հավելված N 4'!D71 -> 4800
D94: ՀՀ Գեղարքունիքի մարզ | E94: =SUM(E95:E96) -> 0 | F94: =SUM(F95:F96) -> 9420
D95: =+'Հավելված N 4'!C73 -> Գագարինի միջնակարգ դպրոց ՊՈԱԿ | E95: 0 | F95: =+'Հավելված N 4'!D73 -> 5640
D96: =+'Հավելված N 4'!C74 -> «Վ․ Գետաշենի թիվ 2 միջնակարգ դպրոց» ՊՈԱԿ | E96: 0 | F96: =+'Հավելված N 4'!D74 -> 3780
D97: ՀՀ Լոռու մարզ | E97: =+E98 -> 0 | F97: =+F98 -> 7392
D98: =+'Հավելված N 4'!C76 -> «Ալավերդու թիվ 12 հիմնական դպրոց» ՊՈԱԿ | E98: 0 | F98: =+'Հավելված N 4'!D76 -> 7392
D99: ՀՀ Կոտայքի մարզ | E99: =+E100 -> -50427.5 | F99: =+F100 -> 0
D100: «Հրազդանի Լևոն Խեչոյանի անվան թիվ 10 ավագ դպրոց» ՊՈԱԿ | E100: -50427.5 | F100: 0
D101: ՀՀ Շիրակի մարզ | E101: =+E102 -> 2489.6 | F101: =+F102 -> 2489.6
D102: =+'Հավելված N 4'!C78 -> «Արեգնադեմի միջնակարգ դպրոց» ՊՈԱԿ | E102: =+F102 -> 2489.6 | F102: =+'Հավելված N 4'!D78 -> 2489.6
D103: ՀՀ Սյունիքի մարզ | E103: =+E104 -> -220524.6 | F103: =+F104 -> -360024.6
...

Sheet Հավելված N 6
I1: Հավելված N 6
I2: ՀՀ կառավարության 2025 թվականի
I3: ______________ ի ___Ն որոշման
A6: ՀԱՅԱՍՏԱՆԻ ՀԱՆՐԱՊԵՏՈՒԹՅԱՆ ԿԱՌԱՎԱՐՈՒԹՅԱՆ 2024 ԹՎԱԿԱՆԻ ԴԵԿՏԵՄԲԵՐԻ 27-Ի N 2060-Ն ՈՐՈՇՄԱՆ N 9 ՀԱՎԵԼՎԱԾՈՒՄ ԿԱՏԱՐՎՈՂ ՓՈՓՈԽՈՒԹՅՈՒՆՆԵՐԸ ԵՎ ԼՐԱՑՈՒՄՆԵՐԸ
A9: ԲԳԿ | B9: Ծրագիր | D9: Միջոցառում | H9: Իրականացնողը/ ակտիվն օգտագործողը/ շահառուի ընտրության չափորոշիչը | I9: Արդյունքային չափորոշիչը | J9: Ցուցանիշների փոփոխությունը (ավելացումները նշված են դրական նշանով, իսկ նվազեցումները՝ փակագծերում)
B10: Դասիչը | C10: Անվանումը | D10: Դասիչը | E10: Անվանումը | F10: Նկարագրությունը | G10: Տեսակը | J10: Ինն ամիս | K10: Տարի
A11: ԸՆԴԱՄԵՆԸ | J11: =+J13 -> -14874.3 | K11: =+K13 -> 1.7462298e-10
A12: այդ թվում՝
A13: ՀՀ ԿՐԹՈՒԹՅԱՆ, ԳԻՏՈՒԹՅԱՆ, ՄՇԱԿՈԻՅԹԻ ԵՎ ՍՊՈՐՏԻ ՆԱԽԱՐԱՐՈՒԹՅՈՒՆ | J13: =+J14+J21+J27+J33+J40 -> -14874.3 | K13: =+K14+K21+K27+K33+K40 -> 1.7462298e-10
B14: 1045 | C14: Մասնագիտական կրթության և ուսուցման ծրագիր | J14: =+J15 -> -84576.9 | K14: =+K15 -> -130775.9
D15: 1045 - 32005 | E15: Մասնագիտական ուսումնական հաստատությունների շենքերի կառուցում | J15: =+'Հավելված N 2'!G17 -> -84576.9 | K15: =+'Հավելված N 2'!H17 -> -130775.9
F16: Մասնագիտական ուսումնական հաստատությունների շենքերի (մասնաշենքերի) կառուցման և նախագծման աշխատանքների իրականացում
G17: Այլ պետական կազմակերպությունների կողմից օգտագործվող ոչ ֆինանսական ակտիվների հետ գործառնություններ
H18: Ակտիվն օգտագործող կազմակերպությունների անվանումները` Մասնագիտական ուսումնական հաստատություններ
I19: Կառուցվող մասնագիտական ուսումնական հաստատությունների քանակ, հատ | K19: -1
B21: 1163 | C21: Մասսայական սպորտ | J21: =+J22 -> -115074.6 | K21: =+K22 -> 0
D22: 1163 - 32001 | E22: Մարզական օբյեկտների շինարարություն | J22: =+'Հավելված N 2'!G19 -> -115074.6 | K22: =+'Հավելված N 2'!H19 -> 0
F23: Մարզական օբյեկտների շենքերի (մասնաշենքերի) կառուցում (համաշինարարական աշխատանքներ, ջեռուցման համակարգի իրականացում, ներքին հարդարում, տարածքի բարեկարգում) և նախագծում
G24: Այլ պետական կազմակերպությունների կողմից օգտագործվող ոչ ֆինանսական ակտիվների հետ գործառնություններ
H25: Ակտիվն օգտագործող կազմակերպության անվանումը` Մարզական հաստատություններ
B27: 1168 | C27: Արվեստների ծրագիր | J27: =+J28 -> 0 | K27: =+K28 -> 17600
D28: 1168 - 32001 | E28: Ներդրումներ թատրոնների և համերգային կազմակերպությունների շենքերի կապիտալ վերանորոգման համար | J28: =+'Հավելված N 2'!G21 -> 0 | K28: =+'Հավելված N 2'!H21 -> 17600
F29: Թատրոնների և համերգային կազմակերպությունների շենքերի մասնաշենքերի հիմնանորոգում, համաշինարարական աշխատանքներ, ջեռուցման համակարգի իրականացում, ներքին հարդարում, տարածքի բարեկարգում և նախագծում
G30: Այլ պետական կազմակերպությունների կողմից օգտագործվող ոչ ֆինանսական ակտիվների հետ գործառնություններ
H31: Ակտիվն օգտագործող կազմակերպության անվանումը` Թատրոններ և համերգային կազմակերպություններ
B33: 1183 | C33: Ապահով դպրոց | J33: =+J34 -> 48041.4 | K33: =+K34 -> 48041.4
D34: 1183 - 32009 | E34: Հանրակրթական կրթություն իրականացնող ուսումնական հաստատությունների մարզադահլիճների վերակառուցում | J34: =+'Հավելված N 2'!G23 -> 48041.4 | K34: =+'Հավելված N 2'!H23 -> 48041.4
F35: Հանրակրթական ուսուցում իրականացնող ուսումնական հաստատությունների մարզադահլիճների վերակառուցման նախագծանախահաշվային փաստաթղթերի մշակում
G36: Այլ պետական կազմակերպությունների կողմից օգտագործվող ոչ ֆինանսական ակտիվների հետ գործառնություններ
H37: Ակտիվն օգտագործող կազմակերպությունների անվանումները` Հանրակրթական դպրոցներ
I38: Դպրոցների թիվը,որոնց համար ձեռք են բերվում չափագրման ծառայություն, հատ | K38: 2
B40: 1236 | C40: Հանրակրթական և նախադպրոցական հաստատությունների հիմնում, կառուցում, բարելավում | J40: =+J41+J47+J51+J58 -> 136735.8 | K40: =+K41+K47+K51+K58 -> 65134.5
D41: 1236 - 32001 | E41: Մանկապարտեզների նոր շենքերի կառուցում | J41: =+'Հավելված N 2'!G25 -> 544080.9 | K41: =+'Հավելված N 2'!H25 -> 736220
F42: Նախադպրոցական կրթության հասանելիության ապահովման նպատակով՛ մանկապարտեզների հիմնում, նոր շենքերի (մասնաշենքերի), ներառյալ՝ «Մոդուլային» տիպի շենքերի կառուցում և նախագծում
G43: Այլ պետական կազմակերպությունների կողմից օգտագործվող ոչ ֆինանսական ակտիվների հետ գործառնություններ
H44: Շահառուների ընտրության չափորոշիչները` Նախադպրոցական կրթություն իրականացնող ուսումնական հաստատություններ
I45: Կառուցվող մանկապարտեզների քանակ, հատ | K45: 5
I46: Մանկապարտեզների թիվը,որոնց համար ձեռք են բերվում չափագրման ծառայություն, հատ | K46: 9
D47: 1236 - 32002 | E47: Մանկապարտեզների շենքերի վերակառուցում, հիմնանորոգում | J47: =+'Հավելված N 2'!G26 -> -247373.1 | K47: =+'Հավելված N 2'!H26 -> 0
F48: Նախադպրոցական կրթության հասանելիության ապահովման նպատակով՛ մանկապարտեզների շենքերի (մասնաշենքերի), վերակառուցում, հիմնանորոգում և նախագծում
G49: Այլ պետական կազմակերպությունների կողմից օգտագործվող ոչ ֆինանսական ակտիվների հետ գործառնություններ
H50: Շահառուների ընտրության չափորոշիչները` Նախադպրոցական կրթություն իրականացնող ուսումնական հաստատություններ
D51: 1236 - 32003 | E51: Հանրակրթական դպրոցների նոր շենքերի կառուցում | J51: =+'Հավելված N 2'!G27 -> -446467.8 | K51: =+'Հավելված N 2'!H27 -> -939872.4
F52: ՀՀ մարզերում կրթական որակյալ ծառայությունների հասանելիության ապահովման ծրագրի շրջանակներում հանրակրթական և նախադպրոցական կրթության հասանելիության ապահովման նպատակով կրթական կենտրոնների կառուցում
G53: Այլ պետական կազմակերպությունների կողմից օգտագործվող ոչ ֆինանսական ակտիվների հետ գործառնություններ
H54: Ակտիվն օգտագործող կազմակերպությունների անվանումները` Հանրակրթական դպրոցներ
I55: Սյունիքի մարզում կրթական որակյալ ծառայությունների հասանելիության ապահովման ծրագրի շրջանակներում կառուցվող դպրոցների թիվը, հատ | K55: -1
I56: Նախագծանախահաշվային փաստաթղթերի քանակ, հատ | K56: -40
I57: Դպրոցների թիվը,որոնց համար ձեռք են բերվում չափագրման ծառայություն, հատ | K57: 5
D58: 1236 - 32005 | E58: Կրթահամալիրների կառուցում | J58: =+'Հավելված N 2'!G28 -> 286495.8 | K58: =+'Հավելված N 2'!H28 -> 268786.9
F59: ՀՀ մարզերում կրթական որակյալ ծառայությունների հասանելիության ապահովման ծրագրի շրջանակներում հանրակրթական և նախադպրոցական կրթության հասանելիության ապահովման նպատակով կրթական կենտրոնների կառուցում
G60: Այլ պետական կազմակերպությունների կողմից օգտագործվող ոչ ֆինանսական ակտիվների հետ գործառնություններ
H61: Ակտիվն օգտագործող կազմակերպությունների անվանումները` Ստեղծվող կրթահամալիրներ
I62: Նախագծանախահաշվային փաստաթղթերի քանակ, հատ | K62: -8

Sheet Հավելված N 7
I1: Հավելված N 7
I2: ՀՀ կառավարության 2025 թվականի
I3: ______________ ի ___Ն որոշման
A6: ՀԱՅԱՍՏԱՆԻ ՀԱՆՐԱՊԵՏՈՒԹՅԱՆ ԿԱՌԱՎԱՐՈՒԹՅԱՆ 2024 ԹՎԱԿԱՆԻ ԴԵԿՏԵՄԲԵՐԻ 27-Ի N 2060-Ն ՈՐՈՇՄԱՆ N 9.1 ՀԱՎԵԼՎԱԾՈՒՄ ԿԱՏԱՐՎՈՂ ՓՈՓՈԽՈՒԹՅՈՒՆՆԵՐԸ ԵՎ ԼՐԱՑՈՒՄՆԵՐԸ
A9: ԲՍԿ | B9: Ծրագիր | D9: Միջոցառում | H9: Իրականացնողը/ ակտիվն օգտագործողը/ շահառուի ընտրության չափորոշիչը | I9: Արդյունքային չափորոշիչը | J9: Ցուցանիշների փոփոխությունը (ավելացումները նշված են դրական նշանով, իսկ նվազեցումները՝ փակագծերում)
B10: Դասիչը | C10: Անվանումը | D10: Դասիչը | E10: Անվանումը | F10: Նկարագրությունը | G10: Տեսակը | J10: Ինն ամիս | K10: Տարի
A11: ԸՆԴԱՄԵՆԸ | J11: =+J13+J26+J72 -> -14874.3 | K11: =+K13+K26+K72 -> 1.7462298e-10
A12: այդ թվում՝
A13: ՀՀ ԿՐԹՈՒԹՅԱՆ, ԳԻՏՈՒԹՅԱՆ, ՄՇԱԿՈԻՅԹԻ ԵՎ ՍՊՈՐՏԻ ՆԱԽԱՐԱՐՈՒԹՅՈՒՆ | J13: =+J14 -> 0 | K13: =+K14 -> -402695
B14: 1236 | C14: Հանրակրթական և նախադպրոցական հաստատությունների հիմնում, կառուցում, բարելավում | J14: =+J15+J20 -> 0 | K14: =+K15+K20 -> -402695
D15: 1236 - 32003 | E15: Հանրակրթական դպրոցների նոր շենքերի կառուցում | J15: =+'Հավելված N 3'!G77 -> 0 | K15: =+'Հավելված N 3'!H77 -> -363095
F16: ՀՀ մարզերում կրթական որակյալ ծառայությունների հասանելիության ապահովման ծրագրի շրջանակներում հանրակրթական և նախադպրոցական կրթության հասանելիության ապահովման նպատակով կրթական կենտրոնների կառուցում
G17: Այլ պետական կազմակերպությունների կողմից օգտագործվող ոչ ֆինանսական ակտիվների հետ գործառնություններ
H18: Ակտիվն օգտագործող կազմակերպությունների անվանումները` Հանրակրթական դպրոցներ
I19: Նախագծանախահաշվային փաստաթղթերի քանակ, հատ | K19: -36
D20: 1236 - 32005 | E20: Կրթահամալիրների կառուցում | J20: =+'Հավելված N 3'!G99 -> 0 | K20: =+'Հավելված N 3'!H99 -> -39600
F21: ՀՀ մարզերում կրթական որակյալ ծառայությունների հասանելիության ապահովման ծրագրի շրջանակներում հանրակրթական և նախադպրոցական կրթության հասանելիության ապահովման նպատակով կրթական կենտրոնների կառուցում
G22: Այլ պետական կազմակերպությունների կողմից օգտագործվող ոչ ֆինանսական ակտիվների հետ գործառնություններ
H23: Ակտիվն օգտագործող կազմակերպությունների անվանումները` Ստեղծվող կրթահամալիրներ
I24: Նախագծանախահաշվային փաստաթղթերի քանակ, հատ | K24: -8
A26: ՀՀ ՔԱՂԱՔԱՇԻՆՈՒԹՅԱՆ ԿՈՄԻՏԵ | J26: =+J27+J34+J40+J46+J53 -> 232498.8 | K26: =+K27+K34+K40+K46+K53 -> 402695
B27: 1045 | C27: Մասնագիտական կրթության և ուսուցման ծրագիր | J27: =+J28 -> -84576.9 | K27: =+K28 -> -130775.9
D28: 1045 - 32005 | E28: Մասնագիտական ուսումնական հաստատությունների շենքերի կառուցում | J28: =+'Հավելված N 3'!G125 -> -84576.9 | K28: =+'Հավելված N 3'!H125 -> -130775.9
F29: Մասնագիտական ուսումնական հաստատությունների շենքերի (մասնաշենքերի) կառուցման և նախագծման աշխատանքների իրականացում
G30: Այլ պետական կազմակերպությունների կողմից օգտագործվող ոչ ֆինանսական ակտիվների հետ գործառնություններ
H31: Ակտիվն օգտագործող կազմակերպությունների անվանումները` Մասնագիտական ուսումնական հաստատություններ
I32: Կառուցվող մասնագիտական ուսումնական հաստատությունների քանակ, հատ | K32: -1
B34: 1163 | C34: Մասսայական սպորտ | J34: =+J35 -> -115074.6 | K34: =+K35 -> 0
D35: 1163 - 32001 | E35: Մարզական օբյեկտների շինարարություն | J35: =+'Հավելված N 3'!G138 -> -115074.6 | K35: =+'Հավելված N 3'!H138 -> 0
F36: Մարզական օբյեկտների շենքերի (մասնաշենքերի) կառուցում (համաշինարարական աշխատանքներ, ջեռուցման համակարգի իրականացում, ներքին հարդարում, տարածքի բարեկարգում) և նախագծում
G37: Այլ պետական կազմակերպությունների կողմից օգտագործվող ոչ ֆինանսական ակտիվների հետ գործառնություններ
H38: Ակտիվն օգտագործող կազմակերպության անվանումը` Մարզական հաստատություններ
B40: 1168 | C40: Արվեստների ծրագիր | J40: =+J41 -> 0 | K40: =+K41 -> 17600
D41: 1168 - 32001 | E41: Ներդրումներ թատրոնների և համերգային կազմակերպությունների շենքերի կապիտալ վերանորոգման համար | J41: =+'Հավելված N 3'!G28 -> 0 | K41: =+'Հավելված N 3'!H28 -> 17600
F42: Թատրոնների և համերգային կազմակերպությունների շենքերի մասնաշենքերի հիմնանորոգում, համաշինարարական աշխատանքներ, ջեռուցման համակարգի իրականացում, ներքին հարդարում, տարածքի բարեկարգում և նախագծում
G43: Այլ պետական կազմակերպությունների կողմից օգտագործվող ոչ ֆինանսական ակտիվների հետ գործառնություններ
H44: Ակտիվն օգտագործող կազմակերպության անվանումը` Թատրոններ և համերգային կազմակերպություններ
B46: 1183 | C46: Ապահով դպրոց | J46: =+J47 -> 48041.4 | K46: =+K47 -> 48041.4
D47: 1183 - 32009 | E47: Հանրակրթական կրթություն իրականացնող ուսումնական հաստատությունների մարզադահլիճների վերակառուցում | J47: =+'Հավելված N 3'!G149 -> 48041.4 | K47: =+'Հավելված N 3'!H149 -> 48041.4
F48: Հանրակրթական ուսուցում իրականացնող ուսումնական հաստատությունների մարզադահլիճների վերակառուցման նախագծանախահաշվային փաստաթղթերի մշակում
G49: Այլ պետական կազմակերպությունների կողմից օգտագործվող ոչ ֆինանսական ակտիվների հետ գործառնություններ
H50: Ակտիվն օգտագործող կազմակերպությունների անվանումները` Հանրակրթական դպրոցներ
I51: Դպրոցների թիվը,որոնց համար ձեռք են բերվում չափագրման ծառայություն, հատ | K51: 2
B53: 1236 | C53: Հանրակրթական և նախադպրոցական հաստատությունների հիմնում, կառուցում, բարելավում | J53: =+J54+J60+J67 -> 384108.9 | K53: =+K54+K60+K67 -> 467829.5
D54: 1236 - 32001 | E54: Մանկապարտեզների նոր շենքերի կառուցում | J54: =+'Հավելված N 3'!G47 -> 544080.9 | K54: =+'Հավելված N 3'!H47 -> 736220
F55: Նախադպրոցական կրթության հասանելիության ապահովման նպատակով՛ մանկապարտեզների հիմնում, նոր շենքերի (մասնաշենքերի), ներառյալ՝ «Մոդուլային» տիպի շենքերի կառուցում և նախագծում
G56: Այլ պետական կազմակերպությունների կողմից օգտագործվող ոչ ֆինանսական ակտիվների հետ գործառնություններ
H57: Շահառուների ընտրության չափորոշիչները` Նախադպրոցական կրթություն իրականացնող ուսումնական հաստատություններ
I58: Կառուցվող մանկապարտեզների քանակ, հատ | K58: 5
I59: Մանկապարտեզների թիվը,որոնց համար ձեռք են բերվում չափագրման ծառայություն, հատ | K59: 9
D60: 1236 - 32003 | E60: Հանրակրթական դպրոցների նոր շենքերի կառուցում | J60: =+'Հավելված N 3'!G84 -> -446467.8 | K60: =+'Հավելված N 3'!H84 -> -576777.4
F61: ՀՀ մարզերում կրթական որակյալ ծառայությունների հասանելիության ապահովման ծրագրի շրջանակներում հանրակրթական և նախադպրոցական կրթության հասանելիության ապահովման նպատակով կրթական կենտրոնների կառուցում
G62: Այլ պետական կազմակերպությունների կողմից օգտագործվող ոչ ֆինանսական ակտիվների հետ գործառնություններ
H63: Ակտիվն օգտագործող կազմակերպությունների անվանումները` Հանրակրթական դպրոցներ
I64: Սյունիքի մարզում կրթական որակյալ ծառայությունների հասանելիության ապահովման ծրագրի շրջանակներում կառուցվող դպրոցների թիվը, հատ | K64: -1
I65: Նախագծանախահաշվային փաստաթղթերի քանակ, հատ | K65: -4
I66: Դպրոցների թիվը,որոնց համար ձեռք են բերվում չափագրման ծառայություն, հատ | K66: 5
D67: 1236 - 32005 | E67: Կրթահամալիրների կառուցում | J67: =+'Հավելված N 3'!G106 -> 286495.8 | K67: =+'Հավելված N 3'!H106 -> 308386.9
F68: ՀՀ մարզերում կրթական որակյալ ծառայությունների հասանելիության ապահովման ծրագրի շրջանակներում հանրակրթական և նախադպրոցական կրթության հասանելիության ապահովման նպատակով կրթական կենտրոնների կառուցում
G69: Այլ պետական կազմակերպությունների կողմից օգտագործվող ոչ ֆինանսական ակտիվների հետ գործառնություններ
H70: Ակտիվն օգտագործող կազմակերպությունների անվանումները` Ստեղծվող կրթահամալիրներ
A72: ՀՀ ԿԱՌԱՎԱՐՈՒԹՅՈՒՆ | J72: =+J73 -> -247373.1 | K72: =+K73 -> 0
B73: 1236 | C73: Հանրակրթական և նախադպրոցական հաստատությունների հիմնում, կառուցում, բարելավում | J73: =+J74 -> -247373.1 | K73: =+K74 -> 0
D74: 1236 - 32002 | E74: Մանկապարտեզների շենքերի վերակառուցում, հիմնանորոգում | J74: =+'Հավելված N 3'!G60 -> -247373.1 | K74: =+'Հավելված N 3'!H60 -> 0
F75: Նախադպրոցական կրթության հասանելիության ապահովման նպատակով՛ մանկապարտեզների շենքերի (մասնաշենքերի), վերակառուցում, հիմնանորոգում և նախագծում
G76: Այլ պետական կազմակերպությունների կողմից օգտագործվող ոչ ֆինանսական ակտիվների հետ գործառնություններ
H77: Շահառուների ընտրության չափորոշիչները` Նախադպրոցական կրթություն իրականացնող ուսումնական հաստատություններ

Sheet Հավելված N 8
H1: Հավելված N 8
H2: ՀՀ կառավարության 2025 թվականի
H3: ______________ ի ___Ն որոշման
A6: ՀԱՅԱՍՏԱՆԻ ՀԱՆՐԱՊԵՏՈՒԹՅԱՆ ԿԱՌԱՎԱՐՈՒԹՅԱՆ 2024 ԹՎԱԿԱՆԻ ԴԵԿՏԵՄԲԵՐԻ 27-Ի N 2060-Ն N 10 ՀԱՎԵԼՎԱԾՈՒՄ ԿԱՏԱՐՎՈՂ ՓՈՓՈԽՈՒԹՅՈՒՆՆԵՐԸ ԵՎ ԼՐԱՑՈՒՄՆԵՐԸ
A10: Կոդը | B10: Անվանումը | E10: Գնման ձևը | F10: Չափման միավորը | G10: Միավորի գինը | H10: Ցուցանիշների փոփոխությունը (ավելացումները նշված են դրական նշանով, իսկ նվազեցումները՝ փակագծերում)
H11: Քանակը | I11: Գումարը (հազար դրամ)
A12: 1 | B12: 2 | E12: 3 | F12: 4 | G12: 5 | H12: 6 | I12: 7
A13: ՀՀ կրթության, գիտության, մշակույթի և սպորտի նախարարություն | I13: =+I14 -> -402695
A14: Բաժին N 09 | B14: Խումբ N 02 | C14: Դաս N 01 | D14: Հիմնական ընդհանուր կրթություն | I14: =+I15+I89 -> -402695
A15: 1236-32003 | B15: Հանրակրթական դպրոցների նոր շենքերի կառուցում | I15: =+I16 -> -363095
B16: ՄԱՍ III. ԾԱՌԱՅՈՒԹՅՈՒՆՆԵՐ | I16: =SUM(I17:I88) -> -363095
A17: 71241200-1 | B17: նախագծերի պատրաստում, ծախսերի գնահատում | E17: ՀԲՄ | F17: դրամ | G17: 9000000 | H17: -1 | I17: =+ROUNDDOWN(H17*G17/1000,1) -> -9000
A18: 71241200-2 | B18: նախագծերի պատրաստում, ծախսերի գնահատում | E18: ՀԲՄ | F18: դրամ | G18: 13000000 | H18: -1 | I18: =+ROUNDDOWN(H18*G18/1000,1) -> -13000
A19: 71241200-3 | B19: նախագծերի պատրաստում, ծախսերի գնահատում | E19: ՀԲՄ | F19: դրամ | G19: 9000000 | H19: -1 | I19: =+ROUNDDOWN(H19*G19/1000,1) -> -9000
A20: 71241200-4 | B20: նախագծերի պատրաստում, ծախսերի գնահատում | E20: ՀԲՄ | F20: դրամ | G20: 13000000 | H20: -1 | I20: =+ROUNDDOWN(H20*G20/1000,1) -> -13000
A21: 71241200-5 | B21: նախագծերի պատրաստում, ծախսերի գնահատում | E21: ՀԲՄ | F21: դրամ | G21: 13000000 | H21: -1 | I21: =+ROUNDDOWN(H21*G21/1000,1) -> -13000
A22: 71241200-6 | B22: նախագծերի պատրաստում, ծախսերի գնահատում | E22: ՀԲՄ | F22: դրամ | G22: 13000000 | H22: -1 | I22: =+ROUNDDOWN(H22*G22/1000,1) -> -13000
A23: 71241200-7 | B23: նախագծերի պատրաստում, ծախսերի գնահատում | E23: ՀԲՄ | F23: դրամ | G23: 20000000 | H23: -1 | I23: =+ROUNDDOWN(H23*G23/1000,1) -> -20000
A24: 71241200-8 | B24: նախագծերի պատրաստում, ծախսերի գնահատում | E24: ՀԲՄ | F24: դրամ | G24: 9000000 | H24: -1 | I24: =+ROUNDDOWN(H24*G24/1000,1) -> -9000
A25: 71241200-9 | B25: նախագծերի պատրաստում, ծախսերի գնահատում | E25: ՀԲՄ | F25: դրամ | G25: 9000000 | H25: -1 | I25: =+ROUNDDOWN(H25*G25/1000,1) -> -9000
A26: 71241200-10 | B26: նախագծերի պատրաստում, ծախսերի գնահատում | E26: ՀԲՄ | F26: դրամ | G26: 13000000 | H26: -1 | I26: =+ROUNDDOWN(H26*G26/1000,1) -> -13000
A27: 71241200-11 | B27: նախագծերի պատրաստում, ծախսերի գնահատում | E27: ՀԲՄ | F27: դրամ | G27: 20000000 | H27: -1 | I27: =+ROUNDDOWN(H27*G27/1000,1) -> -20000
A28: 71241200-12 | B28: նախագծերի պատրաստում, ծախսերի գնահատում | E28: ՀԲՄ | F28: դրամ | G28: 9000000 | H28: -1 | I28: =+ROUNDDOWN(H28*G28/1000,1) -> -9000
... A88: 50531140-36 | B88: փորձաքննության ծառայություններ | E88: ՀԲՄ | F88: դրամ | G88: 500000 | H88: -1 | I88: =+ROUNDDOWN(H88*G88/1000,1) -> -500
A89: 1236-32005 | B89: Կրթահամալիրների կառուցում | I89: =+I90 -> -39600
B90: ՄԱՍ III. ԾԱՌԱՅՈՒԹՅՈՒՆՆԵՐ | I90: =SUM(I91:I106) -> -39600
A91: 71241200-1 | B91: նախագծերի պատրաստում, ծախսերի գնահատում | E91: ՀԲՄ | F91: դրամ | G91: 5000000 | H91: -1 | I91: =+ROUNDDOWN(H91*G91/1000,1) -> -5000
A92: 71241200-2 | B92: նախագծերի պատրաստում, ծախսերի գնահատում | E92: ՀԲՄ | F92: դրամ | G92: 4500000 | H92: -1 | I92: =+ROUNDDOWN(H92*G92/1000,1) -> -4500
A93: 71241200-3 | B93: նախագծերի պատրաստում, ծախսերի գնահատում | E93: ՀԲՄ | F93: դրամ | G93: 4500000 | H93: -1 | I93: =+ROUNDDOWN(H93*G93/1000,1) -> -4500
A94: 71241200-4 | B94: նախագծերի պատրաստում, ծախսերի գնահատում | E94: ՀԲՄ | F94: դրամ | G94: 5000000 | H94: -1 | I94: =+ROUNDDOWN(H94*G94/1000,1) -> -5000
A95: 71241200-5 | B95: նախագծերի պատրաստում, ծախսերի գնահատում | E95: ՀԲՄ | F95: դրամ | G95: 4500000 | H95: -1 | I95: =+ROUNDDOWN(H95*G95/1000,1) -> -4500
A96: 71241200-6 | B96: նախագծերի պատրաստում, ծախսերի գնահատում | E96: ՀԲՄ | F96: դրամ | G96: 4500000 | H96: -1 | I96: =+ROUNDDOWN(H96*G96/1000,1) -> -4500
A97: 71241200-7 | B97: նախագծերի պատրաստում, ծախսերի գնահատում | E97: ՀԲՄ | F97: դրամ | G97: 4500000 | H97: -1 | I97: =+ROUNDDOWN(H97*G97/1000,1) -> -4500
A98: 71241200-8 | B98: նախագծերի պատրաստում, ծախսերի գնահատում | E98: ՀԲՄ | F98: դրամ | G98: 4500000 | H98: -1 | I98: =+ROUNDDOWN(H98*G98/1000,1) -> -4500
A99: 50531140-1 | B99: փորձաքննության ծառայություններ | E99: ՀԲՄ | F99: դրամ | G99: 400000 | H99: -1 | I99: =+ROUNDDOWN(H99*G99/1000,1) -> -400
A100: 50531140-2 | B100: փորձաքննության ծառայություններ | E100: ՀԲՄ | F100: դրամ | G100: 300000 | H100: -1 | I100: =+ROUNDDOWN(H100*G100/1000,1) -> -300
A101: 50531140-3 | B101: փորձաքննության ծառայություններ | E101: ՀԲՄ | F101: դրամ | G101: 300000 | H101: -1 | I101: =+ROUNDDOWN(H101*G101/1000,1) -> -300
A102: 50531140-4 | B102: փորձաքննության ծառայություններ | E102: ՀԲՄ | F102: դրամ | G102: 400000 | H102: -1 | I102: =+ROUNDDOWN(H102*G102/1000,1) -> -400
... A106: 50531140-8 | B106: փորձաքննության ծառայություններ | E106: ՀԲՄ | F106: դրամ | G106: 300000 | H106: -1 | I106: =+ROUNDDOWN(H106*G106/1000,1) -> -300
A108: ՀՀ քաղաքաշինության կոմիտե | I108: =+I109+I114+I145+I194 -> 402695
A109: Բաժին N 08 | B109: Խումբ N 02 | C109: Դաս N 05 | D109: Արվեստ | I109: =+I110 -> 17600
A110: 1168-32001 | B110: Ներդրումներ թատրոնների և համերգային կազմակերպությունների շենքերի կապիտալ վերանորոգման համար | I110: =+I111 -> 17600
B111: ՄԱՍ III. ԾԱՌԱՅՈՒԹՅՈՒՆՆԵՐ | I111: =SUM(I112:I113) -> 17600
A112: 71241200-598 | B112: նախագծերի պատրաստում, ծախսերի գնահատում | E112: ԲՄ | F112: դրամ | I112: 18000
A113: 50531140-1 | B113: փորձաքննության ծառայություններ | E113: ԳՀ | F113: դրամ | I113: -400
A114: Բաժին N 09 | B114: Խումբ N 01 | C114: Դաս N 01 | D114: Նախադպրոցական կրթություն | I114: =+I115 -> 736220
A115: 1236-32001 | B115: Մանկապարտեզների նոր շենքերի կառուցում | I115: =+I116+I128 -> 736220
B116: ՄԱՍ II. ԱՇԽԱՏԱՆՔՆԵՐ | I116: =SUM(I117:I127) -> 702412.7
A117: 45221142-3 | B117: ընդհանուր շինարարական աշխատանքներ | E117: ԲՄ | F117: դրամ | I117: 191379.1
A118: 45221142-4 | B118: ընդհանուր շինարարական աշխատանքներ | E118: ԲՄ | F118: դրամ | I118: -134166.8
A119: 45221142 | B119: ընդհանուր շինարարական աշխատանքներ | E119: ՀԲՄ | F119: դրամ | G119: 11947400 | H119: 1 | I119: =+ROUNDUP(H119*G119/1000,1) -> 11947.4
A120: 45221142 | B120: ընդհանուր շինարարական աշխատանքներ | E120: ՀԲՄ | F120: դրամ | G120: 36901600 | H120: 1 | I120: =+ROUNDUP(H120*G120/1000,1) -> 36901.6
A121: 45221142-9 | B121: ընդհանուր շինարարական աշխատանքներ | E121: ԲՄ | F121: դրամ | I121: 102.9
A122: 45221142-12 | B122: ընդհանուր շինարարական աշխատանքներ | E122: ԲՄ | F122: դրամ | I122: =-154868.7-10487.6 -> -165356.3
A123: 45221142-520 | B123: ընդհանուր շինարարական աշխատանքներ | E123: ԲՄ | F123: դրամ | G123: 149661720 | H123: 1 | I123: =+ROUNDUP(H123*G123/1000,1) -> 149661.8
A124: 45221142-521 | B124: ընդհանուր շինարարական աշխատանքներ | E124: ԲՄ | F124: դրամ | G124: 149994000 | H124: 1 | I124: =+ROUNDUP(H124*G124/1000,1) -> 149994
A125: 45221142-522 | B125: ընդհանուր շինարարական աշխատանքներ | E125: ԲՄ | F125: դրամ | G125: 163985571 | H125: 1 | I125: =+ROUNDUP(H125*G125/1000,1) -> 163985.6
A126: 45221142-523 | B126: ընդհանուր շինարարական աշխատանքներ | E126: ԲՄ | F126: դրամ | G126: 150501600 | H126: 1 | I126: =+ROUNDUP(H126*G126/1000,1) -> 150501.6
A127: 45221142-524 | B127: ընդհանուր շինարարական աշխատանքներ | E127: ԲՄ | F127: դրամ | G127: 147461760 | H127: 1 | I127: =+ROUNDUP(H127*G127/1000,1) -> 147461.8
B128: ՄԱՍ III. ԾԱՌԱՅՈՒԹՅՈՒՆՆԵՐ | I128: =SUM(I129:I144) -> 33807.3
A129: 71351540-3 | B129: տեխնիկական հսկողության ծառայություններ | E129: ԳՀ | F129: դրամ | I129: 3638.1
A130: 71351540-4 | B130: տեխնիկական հսկողության ծառայություններ | E130: ԳՀ | F130: դրամ | I130: =-2268.1+2090.7 -> -177.4
A131: 71351540-29 | B131: տեխնիկական հսկողության ծառայություններ | E131: ԳՀ | F131: դրամ | I131: 270.3
A132: 71351540-9 | B132: տեխնիկական հսկողության ծառայություններ | E132: ԳՀ | F132: դրամ | I132: 3.4
A133: 71351540-12 | B133: տեխնիկական հսկողության ծառայություններ | E133: ԳՀ | F133: դրամ | G133: 5073100 | H133: -1 | I133: =+ROUNDDOWN(H133*G133/1000,1) -> -5073.1
A134: 71351540-522 | B134: տեխնիկական հսկողության ծառայություններ | E134: ԳՀ | F134: դրամ | G134: 2664000 | H134: 1 | I134: =+ROUNDUP(H134*G134/1000,1) -> 2664
A135: 71351540-523 | B135: տեխնիկական հսկողության ծառայություններ | E135: ԳՀ | F135: դրամ | G135: 2757818 | H135: 1 | I135: =+ROUNDUP(H135*G135/1000,1) -> 2757.9
A136: 71351540-524 | B136: տեխնիկական հսկողության ծառայություններ | E136: ԳՀ | F136: դրամ | G136: 2757818 | H136: 1 | I136: =+ROUNDUP(H136*G136/1000,1) -> 2757.9
A137: 71351540-525 | B137: տեխնիկական հսկողության ծառայություններ | E137: ԳՀ | F137: դրամ | G137: 2070000 | H137: 1 | I137: =+ROUNDUP(H137*G137/1000,1) -> 2070
A138: 71351540-526 | B138: տեխնիկական հսկողության ծառայություններ | E138: ԳՀ | F138: դրամ | G138: 2664000 | H138: 1 | I138: =+ROUNDUP(H138*G138/1000,1) -> 2664
A139: 98111140-3 | B139: հեղինակային հսկողության ծառայություններ | E139: ՄԱ | F139: դրամ | I139: 3057.2
A140: 98111140-15 | B140: հեղինակային հսկողության ծառայություններ | E140: ՄԱ | F140: դրամ | I140: 72.2
A141: 98111140-9 | B141: հեղինակային հսկողության ծառայություններ | E141: ՄԱ | F141: դրամ | I141: 2724.2
A142: 98111140-12 | B142: հեղինակային հսկողության ծառայություններ | E142: ՄԱ | F142: դրամ | G142: 1014600 | H142: -1 | I142: =+ROUNDDOWN(H142*G142/1000,1) -> -1014.6
A143: 71241200 | B143: նախագծերի պատրաստում, ծախսերի գնահատում | E143: ՄԱ | F143: դրամ | G143: 16000000 | H143: 1 | I143: =+ROUNDUP(H143*G143/1000,1) -> 16000
A144: 71311360 | B144: շենքերի չափագրման ծառայություններ | E144: ԳՀ | F144: դրամ | G144: 1393200 | H144: 1 | I144: =+ROUNDUP(H144*G144/1000,1) -> 1393.2
A145: Բաժին N 09 | B145: Խումբ N 02 | C145: Դաս N 01 | D145: Հիմնական ընդհանուր կրթություն | I145: =+I146+I184 -> -268390.5
A146: 1236-32003 | B146: Հանրակրթական դպրոցների նոր շենքերի կառուցում | I146: =+I147+I151 -> -576777.4
B147: ՄԱՍ II. ԱՇԽԱՏԱՆՔՆԵՐ | I147: =SUM(I148:I150) -> -592809
A148: 45221142-1 | B148: ընդհանուր շինարարական աշխատանքներ | E148: ԲՄ | F148: դրամ | I148: =-241959.6-4655.9 -> -246615.5
A149: 45211231 | B149: միջնակարգ դպրոցների կառուցման աշխատանքներ | E149: ԲՄ | F149: դրամ | G149: 2489600 | H149: 1 | I149: =+ROUNDUP(H149*G149/1000,1) -> 2489.6
A150: 45221142-7 | B150: ընդհանուր շինարարական աշխատանքներ | E150: ԲՄ | F150: դրամ | G150: 348683100 | H150: -1 | I150: =+ROUNDDOWN(H150*G150/1000,1) -> -348683.1
B151: ՄԱՍ III. ԾԱՌԱՅՈՒԹՅՈՒՆՆԵՐ | I151: =SUM(I152:I183) -> 16031.6
A152: 71351540-1 | B152: տեխնիկական հսկողության ծառայություններ | E152: ԳՀ | F152: դրամ | G152: 6870300 | H152: -1 | I152: =+ROUNDDOWN(H152*G152/1000,1) -> -6870.3
A153: 71351540-11 | B153: տեխնիկական հսկողության ծառայություններ | E153: ԳՀ | F153: դրամ | G153: 11341500 | H153: -1 | I153: =+ROUNDDOWN(H153*G153/1000,1) -> -11341.5
A154: 98111140-1 | B154: հեղինակային հսկողության ծառայություններ | E154: ՄԱ | F154: դրամ | G154: 1513900 | H154: -1 | I154: =+ROUNDDOWN(H154*G154/1000,1) -> -1513.9
A155: 71241200 | B155: նախագծերի պատրաստում, ծախսերի գնահատում | E155: ՄԱ | F155: դրամ | G155: 4600000 | H155: 1 | I155: =+ROUNDUP(H155*G155/1000,1) -> 4600
A156: 71241200-2 | B156: նախագծերի պատրաստում, ծախսերի գնահատում | E156: ԳՀ | F156: դրամ | G156: 11000000 | H156: -1 | I156: =+ROUNDDOWN(H156*G156/1000,1) -> -11000
A157: 71241200-3 | B157: նախագծերի պատրաստում, ծախսերի գնահատում | E157: ԳՀ | F157: դրամ | G157: 11000000 | H157: -1 | I157: =+ROUNDDOWN(H157*G157/1000,1) -> -11000
A158: 71241200-4 | B158: նախագծերի պատրաստում, ծախսերի գնահատում | E158: ԳՀ | F158: դրամ | G158: 5000000 | H158: -1 | I158: =+ROUNDDOWN(H158*G158/1000,1) -> -5000
A159: 71241200-5 | B159: նախագծերի պատրաստում, ծախսերի գնահատում | E159: ԳՀ | F159: դրամ | G159: 25000000 | H159: -1 | I159: =+ROUNDDOWN(H159*G159/1000,1) -> -25000
A160: 71241200-508 | B160: նախագծերի պատրաստում, ծախսերի գնահատում | E160: ԲՄ | F160: դրամ | G160: =26500000*20% -> 5300000 | H160: 1 | I160: =+ROUNDUP(H160*G160/1000,1) -> 5300
A161: 71241200-515 | B161: նախագծերի պատրաստում, ծախսերի գնահատում | E161: ԲՄ | F161: դրամ | G161: =20800000*20% -> 4160000 | H161: 1 | I161: =+ROUNDUP(H161*G161/1000,1) -> 4160
A162: 71241200-516 | B162: նախագծերի պատրաստում, ծախսերի գնահատում | E162: ԲՄ | F162: դրամ | G162: =34000000*20% -> 6800000 | H162: 1 | I162: =+ROUNDUP(H162*G162/1000,1) -> 6800
A163: 71241200-517 | B163: նախագծերի պատրաստում, ծախսերի գնահատում | E163: ԲՄ | F163: դրամ | G163: =34500000*20% -> 6900000 | H163: 1 | I163: =+ROUNDUP(H163*G163/1000,1) -> 6900
A164: 71241200-519 | B164: նախագծերի պատրաստում, ծախսերի գնահատում | E164: ԲՄ | F164: դրամ | G164: =24000000*20% -> 4800000 | H164: 1 | I164: =+ROUNDUP(H164*G164/1000,1) -> 4800
A165: 71241200-503 | B165: նախագծերի պատրաստում, ծախսերի գնահատում | E165: ԲՄ | F165: դրամ | G165: =38400000*20% -> 7680000 | H165: 1 | I165: =+ROUNDUP(H165*G165/1000,1) -> 7680
A166: 71241200-513 | B166: նախագծերի պատրաստում, ծախսերի գնահատում | E166: ԲՄ | F166: դրամ | G166: =33900000*20% -> 6780000 | H166: 1 | I166: =+ROUNDUP(H166*G166/1000,1) -> 6780
A167: 71241200-504 | B167: նախագծերի պատրաստում, ծախսերի գնահատում | E167: ԲՄ | F167: դրամ | G167: =24000000*20% -> 4800000 | H167: 1 | I167: =+ROUNDUP(H167*G167/1000,1) -> 4800
A168: 71241200-506 | B168: նախագծերի պատրաստում, ծախսերի գնահատում | E168: ԲՄ | F168: դրամ | G168: =37920000*20% -> 7584000 | H168: 1 | I168: =+ROUNDUP(H168*G168/1000,1) -> 7584
...
