Workbook
Name a: #REF!
Name a: #REF!
Name a: #REF!
Name a: #REF!
Name a: #REF!
Name AgencyCode: #REF!
Name AgencyCode: #REF!
Name AgencyCode: #REF!
Name AgencyCode: #REF!
Name AgencyCode: #REF!
Name AgencyCode: #REF!
Name AgencyCode: #REF!
Name AgencyCode: #REF!
Name AgencyCode: #REF!
Name AgencyName: #REF!
Name AgencyName: #REF!
Name AgencyName: #REF!
Name AgencyName: #REF!
Name AgencyName: #REF!
Name AgencyName: #REF!
Name åû: #REF!
Name davit: #REF!
Name davit: #REF!
Name davit: #REF!
Name davit: #REF!
Name davit: #REF!
Name Functional1: #REF!
Name Functional1: #REF!
Name Functional1: #REF!
Name Functional1: #REF!
Name Functional1: #REF!
Name Functional1: #REF!
Name ggg: #REF!
Name ggg: #REF!
Name ggg: #REF!
Name ggg: #REF!
Name ggg: #REF!
Name hav: #REF!
Name mas: #REF!
Name mass: #REF!
Name PANature: #REF!
Name PANature: #REF!
Name PANature: #REF!
Name PANature: #REF!
Name PANature: #REF!
Name PANature: #REF!
Name PAType: #REF!
Name PAType: #REF!
Name PAType: #REF!
Name PAType: #REF!
Name PAType: #REF!
Name PAType: #REF!
Name Performance2: #REF!
Name Performance2: #REF!
Name Performance2: #REF!
Name Performance2: #REF!
Name Performance2: #REF!
Name Performance2: #REF!
Name PerformanceType: #REF!
Name PerformanceType: #REF!

Sheet Հավելված N 1 
C1: Հավելված N 1
C2: ՀՀ կառավարության 2025 թվականի
C3: ______________ ի ___Ն որոշման
A5: «ՀԱՅԱՍՏԱՆԻ ՀԱՆՐԱՊԵՏՈՒԹՅԱՆ 2025 ԹՎԱԿԱՆԻ ՊԵՏԱԿԱՆ ԲՅՈՒՋԵԻ ՄԱՍԻՆ» ՕՐԵՆՔԻ 3-ՐԴ ՀՈԴՎԱԾԻ, N 3 ՀԱՎԵԼՎԱԾԻ N 1 ԱՂՅՈՒՍԱԿՈՒՄ ԵՎ ՀԱՅԱՍՏԱՆԻ ՀԱՆՐԱՊԵՏՈՒԹՅԱՆ ԿԱՌԱՎԱՐՈՒԹՅԱՆ 2024 ԹՎԱԿԱՆԻ ԴԵԿՏԵՄԲԵՐԻ 27-Ի N 2060-Ն ՈՐՈՇՄԱՆ N 1 ՀԱՎԵԼՎԱԾԻ N 1 ԱՂՅՈՒՍԱԿՈՒՄ ԿԱՏԱՐՎՈՂ ՓՈՓՈԽՈՒԹՅՈՒՆԸ
C7: հազ. դրամ
A8: Պետական բյուջեի դեֆիցիտի ֆինանսավորման աղբյուրներն ու դրանց տարրերի անվանումները | B8: Ցուցանիշների փոփոխությունը (նվազեցումները նշված են փակագծերում)
B9: Ինն ամիս | C9: Տարի
A10: ԸՆԴԱՄԵՆԸ | B10: =+B12 -> -14874.3 | C10: =+C12 -> 1.7462298e-10
A11: այդ թվում՝
A12: Ա.Ներքին աղբյուրներ-ընդամենը | B12: =+B14 -> -14874.3 | C12: =+C14 -> 1.7462298e-10
A13: այդ թվում՝
A14: 2. Ֆինանսական զուտ ակտիվներ | B14: =+B16 -> -14874.3 | C14: =+C16 -> 1.7462298e-10
A15: այդ թվում՝
A16: 2.6.Այլ | B16: =+B18 -> -14874.3 | C16: =+C18 -> 1.7462298e-10
A17: որից՝
A18: Ժամանակավորապես ազատ միջոցներ | B18: =+'Հավելված N 2'!G13 -> -14874.3 | C18: =+'Հավելված N 2'!H13 -> 1.7462298e-10

Sheet Հավելված N 2
F1: Հավելված N 2
F2: ՀՀ կառավարության 2025 թվականի
F3: ______________ ի ___Ն որոշման
A6: «ՀԱՅԱUՏԱՆԻ ՀԱՆՐԱՊԵՏՈՒԹՅԱՆ 2025 ԹՎԱԿԱՆԻ ՊԵՏԱԿԱՆ ԲՅՈՒՋԵԻ ՄԱUԻՆ» ՀԱՅԱUՏԱՆԻ ՀԱՆՐԱՊԵՏՈՒԹՅԱՆ OՐԵՆՔԻ N 1 ՀԱՎԵԼՎԱԾԻ N 2 ԱՂՅՈՒՍԱԿՈՒՄ ԿԱՏԱՐՎՈՂ ՎԵՐԱԲԱՇԽՈՒՄԸ ԵՎ ՀԱՅԱՍՏԱՆԻ ՀԱՆՐԱՊԵՏՈՒԹՅԱՆ ԿԱՌԱՎԱՐՈՒԹՅԱՆ 2024 ԹՎԱԿԱՆԻ ԴԵԿՏԵՄԲԵՐԻ 27-Ի N 2060-Ն ՈՐՈՇՄԱՆ N 5 ՀԱՎԵԼՎԱԾԻ N 1 ԱՂՅՈՒՍԱԿՈՒՄ ԿԱՏԱՐՎՈՂ ՓՈՓՈԽՈՒԹՅՈՒՆՆԵՐԸ ԵՎ ԼՐԱՑՈՒՄՆԵՐԸ
H9: հազ. դրամներով
A10: ԲԳԿ | B10: Ծրագրային դասիչը | D10: ԲԳԿ/Ծրագրի /միջոցառման անվանումը | E10: Ծրագրի նպատակը/Միջոցառման նկարագրությունը | F10: Վերջնական արդյունքի նկարագրությունը/Միջոցառման տեսակը | G10: Ցուցանիշների փոփոխությունը (ավելացումները նշված են դրական նշանով, իսկ նվազեցումները փակագծերում)
G11: Ինն ամիս | H11: Տարի
B12: Ծրագիր | C12: Միջոցառում
A13: ԸՆԴԱՄԵՆԸ | G13: =+G15 -> -14874.3 | H13: =+H15 -> 1.7462298e-10
A14: այդ թվում՝
A15: ՀՀ ԿՐԹՈՒԹՅԱՆ, ԳԻՏՈՒԹՅԱՆ, ՄՇԱԿՈՒՅԹԻ ԵՎ ՍՊՈՐՏԻ ՆԱԽԱՐԱՐՈՒԹՅՈՒՆ | G15: =+G16+G18+G20+G22+G24 -> -14874.3 | H15: =+H16+H18+H20+H22+H24 -> 1.7462298e-10
B16: 1045 | D16: Մասնագիտական կրթության և ուսուցման ծրագիր | E16: Աշխատաշուկայի արդի պահանջներին համապատասխան արհեստագործական և միջին մասնագիտական կրթության որակավորում ունեցող մասնագետների պատրաստում, կրթության մատչելիության ապահովում: | F16: Արհեստագործական և միջին մասնագիտական կրթության գրավչության բարձրացում, մատչելի և մրցունակ արհեստագործական և միջին մասնագիտական կրթության ապահովում | G16: =+G17 -> -84576.9 | H16: =+H17 -> -130775.9
C17: 1045 - 32005 | D17: Մասնագիտական ուսումնական հաստատությունների շենքերի կառուցում | E17: Մասնագիտական ուսումնական հաստատությունների շենքերի (մասնաշենքերի) կառուցման և նախագծման աշխատանքների իրականացում | F17: Այլ պետական կազմակերպությունների կողմից օգտագործվող ոչ ֆինանսական ակտիվների հետ գործառնություններ | G17: =+'Հավելված N 3'!G123 -> -84576.9 | H17: =+'Հավելված N 3'!H123 -> -130775.9
B18: 1163 | D18: Մասսայական սպորտ | E18: Բնակչության շրջանում առողջ ապրելակերպի արմատավորում, անհատի բազմակողմանի ու ներդաշնակ զարգացման գործում ֆիզիկական կուլտուրայի և սպորտի դերի բարձրացում | F18: Սպորտի նկատմամբ հետաքրքրվածության և մասնակցության ընդլայնում | G18: =+G19 -> -115074.6 | H18: =+H19 -> 0
C19: 1163 - 32001 | D19: Մարզական օբյեկտների շինարարություն | E19: Մարզական օբյեկտների շենքերի (մասնաշենքերի) կառուցում (համաշինարարական աշխատանքներ, ջեռուցման համակարգի իրականացում, ներքին հարդարում, տարածքի բարեկարգում) և նախագծում | F19: Այլ պետական կազմակերպությունների կողմից օգտագործվող ոչ ֆինանսական ակտիվների հետ գործառնություններ | G19: =+'Հավելված N 3'!G136 -> -115074.6 | H19: =+'Հավելված N 3'!H136 -> 0
B20: 1168 | D20: Արվեստների ծրագիր | E20: Նպաստել ազգային հենքի վրա ժամանակակից թատերարվեստի, երաժշտարվեստի, կերպարվեստի և պարարվեստի զարգացմանը և հանրահռչակմանը | F20: Մրցունակ արվեստային արտադրանքի ստեղծում, ստեղծագործական գործընթացների խթանում, արվեստի նոր նախագծերի ներդրում և մշակութային կյանքում հասարակության ներգրավում | G20: =+G21 -> 0 | H20: =+H21 -> 17600
C21: 1168 - 32001 | D21: Ներդրումներ թատրոնների և համերգային կազմակերպությունների շենքերի կապիտալ վերանորոգման համար | E21: Թատրոնների և համերգային կազմակերպությունների շենքերի մասնաշենքերի հիմնանորոգում, համաշինարարական աշխատանքներ, ջեռուցման համակարգի իրականացում, ներքին հարդարում, տարածքի բարեկարգում և նախագծում | F21: Այլ պետական կազմակերպությունների կողմից օգտագործվող ոչ ֆինանսական ակտիվների հետ գործառնություններ | G21: =+'Հավելված N 3'!G26 -> 0 | H21: =+'Հավելված N 3'!H26 -> 17600
B22: 1183 | D22: Ապահով դպրոց | E22: Դպրոցներին սպառնացող աղետների ռիսկի կառավարման կարողությունների հզորացում, դպրոցի անձնակազմի և աշակերտների անվտանգության ապահովման մակարդակի բարձրացում՛ կիրառելով ներառական և երեխայակենտրոն մոտեցում | F22: Դպրոցական միջավայրի բարելավում | G22: =+G23 -> 48041.4 | H22: =+H23 -> 48041.4
C23: 1183 - 32009 | D23: Հանրակրթական կրթություն իրականացնող ուսումնական հաստատությունների մարզադահլիճների վերակառուցում | E23: Հանրակրթական ուսուցում իրականացնող ուսումնական հաստատությունների մարզադահլիճների վերակառուցման նախագծանախահաշվային փաստաթղթերի մշակում | F23: Այլ պետական կազմակերպությունների կողմից օգտագործվող ոչ ֆինանսական ակտիվների հետ գործառնություններ | G23: =+'Հավելված N 3'!G147 -> 48041.4 | H23: =+'Հավելված N 3'!H147 -> 48041.4
B24: 1236 | D24: Հանրակրթական և նախադպրոցական հաստատությունների հիմնում, կառուցում, բարելավում | E24: Առնվազն 300 դպրոցի և 500 մանկապարտեզի կառուցման, վերակառուցման, հիմնանորոգման ծրագրերի իրականացում ՀՀ պետական բյուջեի միջոցների շրջանակներում | F24: Կրթական միջավայրի բարելավում | G24: =+G25+G26+G27+G28 -> 136735.8 | H24: =+H25+H26+H27+H28 -> 65134.5
C25: 1236 - 32001 | D25: Մանկապարտեզների նոր շենքերի կառուցում | E25: Նախադպրոցական կրթության հասանելիության ապահովման նպատակով՛ մանկապարտեզների հիմնում, նոր շենքերի (մասնաշենքերի), ներառյալ՛ ,Մոդուլայինե տիպի շենքերի կառուցում և նախագծում | F25: Այլ պետական կազմակերպությունների կողմից օգտագործվող ոչ ֆինանսական ակտիվների հետ գործառնություններ | G25: =+'Հավելված N 3'!G45 -> 544080.9 | H25: =+'Հավելված N 3'!H45 -> 736220
C26: 1236 - 32002 | D26: Մանկապարտեզների շենքերի վերակառուցում, հիմնանորոգում | E26: Նախադպրոցական կրթության հասանելիության ապահովման նպատակով՛ մանկապարտեզների շենքերի (մասնաշենքերի), վերակառուցում, հիմնանորոգում և նախագծում | F26: Այլ պետական կազմակերպությունների կողմից օգտագործվող ոչ ֆինանսական ակտիվների հետ գործառնություններ | G26: =+'Հավելված N 3'!G58 -> -247373.1 | H26: =+'Հավելված N 3'!H58 -> 0
C27: 1236 - 32003 | D27: Հանրակրթական դպրոցների նոր շենքերի կառուցում | E27: ՀՀ մարզերում կրթական որակյալ ծառայությունների հասանելիության ապահովման ծրագրի շրջանակներում հանրակրթական և նախադպրոցական կրթության հասանելիության ապահովման նպատակով կրթական կենտրոնների կառուցում | F27: Այլ պետական կազմակերպությունների կողմից օգտագործվող ոչ ֆինանսական ակտիվների հետ գործառնություններ | G27: =+'Հավելված N 3'!G75 -> -446467.8 | H27: =+'Հավելված N 3'!H75 -> -939872.4
C28: 1236 - 32005 | D28: Կրթահամալիրների կառուցում | E28: ՀՀ մարզերում կրթական որակյալ ծառայությունների հասանելիության ապահովման ծրագրի շրջանակներում հանրակրթական և նախադպրոցական կրթության հասանելիության ապահովման նպատակով կրթական կենտրոնների կառուցում | F28: Այլ պետական կազմակերպությունների կողմից օգտագործվող ոչ ֆինանսական ակտիվների հետ գործառնություններ | G28: =+'Հավելված N 3'!G97 -> 286495.8 | H28: =+'Հավելված N 3'!H97 -> 268786.9

Sheet Հավելված N 3
F1: Հավելված N 3
F2: ՀՀ կառավարության 2025 թվականի
F3: ______________ ի ___Ն որոշման
A7: ՀԱՅԱՍՏԱՆԻ ՀԱՆՐԱՊԵՏՈՒԹՅԱՆ ԿԱՌԱՎԱՐՈՒԹՅԱՆ 2024 ԹՎԱԿԱՆԻ ԴԵԿՏԵՄԲԵՐԻ 27-Ի N 2060-Ն ՈՐՈՇՄԱՆ N 3 ԵՎ N 4 ՀԱՎԵԼՎԱԾՆԵՐՈՒՄ ԿԱՏԱՐՎՈՂ ՓՈՓՈԽՈՒԹՅՈՒՆՆԵՐԸ ԵՎ ԼՐԱՑՈՒՄՆԵՐԸ
H10: հազ. դրամներով
A11: Գործառական դասիչը | D11: Ծրագրային դասիչը | F11: Բյուջետային հատկացումների գլխավոր կարգադրիչների, ծրագրերի, միջոցառումների և միջոցառումները կատարող պետական մարմինների անվանումները | G11: Ցուցանիշների փոփոխությունը (ավելացումները նշված են դրական նշանով, իսկ նվազեցումները փակագծերում)
A12: Բաժին | B12: Խումբ | C12: Դաս | D12: Ծրագիր | E12: Միջոցառում | G12: Ինն ամիս | H12: Տարի
F13: ԸՆԴԱՄԵՆԸ | G13: =+G15 -> -14874.3 | H13: =+H15 -> 1.1641532e-10
F14: այդ թվում՝
F15: ՀՀ ԿՐԹՈՒԹՅԱՆ, ԳԻՏՈՒԹՅԱՆ, ՄՇԱԿՈՒՅԹԻ ԵՎ ՍՊՈՐՏԻ ՆԱԽԱՐԱՐՈՒԹՅՈՒՆ | G15: =+G16+G35 -> -14874.3 | H15: =+H16+H35 -> 1.1641532e-10
A16: 08 | F16: ՀԱՆԳԻՍՏ, ՄՇԱԿՈՒՅԹ ԵՎ ԿՐՈՆ | G16: =+G18 -> 0 | H16: =+H18 -> 17600
F17: այդ թվում`
B18: 02 | F18: Մշակութային ծառայություններ | G18: =+G20 -> 0 | H18: =+H20 -> 17600
F19: այդ թվում`
C20: 05 | F20: Արվեստ | G20: =+G22 -> 0 | H20: =+H22 -> 17600
F21: այդ թվում`
F22: ՀՀ կրթության, գիտության, մշակույթի և սպորտի նախարարություն | G22: =+G24 -> 0 | H22: =+H24 -> 17600
F23: այդ թվում`
D24: 1168 | E24: Արվեստների ծրագիր | G24: =+G26 -> 0 | H24: =+H26 -> 17600
F25: այդ թվում`
E26: 32001 | F26: Ներդրումներ թատրոնների և համերգային կազմակերպությունների շենքերի կապիտալ վերանորոգման համար | G26: =+G28 -> 0 | H26: =+H28 -> 17600
F27: այդ թվում` ըստ կատարողների
F28: ՀՀ քաղաքաշինության կոմիտե | G28: =+G30 -> 0 | H28: =+H30 -> 17600
F29: այդ թվում՝ բյուջետային ծախսերի տնտեսագիտական դասակարգման հոդվածներ
F30: ԸՆԴԱՄԵՆԸ ԾԱԽՍԵՐ | G30: =+G31 -> 0 | H30: =+H31 -> 17600
F31: ՈՉ ՖԻՆԱՆՍԱԿԱՆ ԱԿՏԻՎՆԵՐԻ ԳԾՈՎ ԾԱԽՍԵՐ | G31: =+G32 -> 0 | H31: =+H32 -> 17600
F32: ՀԻՄՆԱԿԱՆ ՄԻՋՈՑՆԵՐ | G32: =+G33 -> 0 | H32: =+H33 -> 17600
F33: ԱՅԼ ՀԻՄՆԱԿԱՆ ՄԻՋՈՑՆԵՐ | G33: =+G34 -> 0 | H33: =+H34 -> 17600
F34: - Նախագծահետազոտական ծախսեր | G34: =+'Հավելված N 5'!E29 -> 0 | H34: =+'Հավելված N 5'!F32 -> 17600
A35: 09 | F35: ԿՐԹՈՒԹՅՈՒՆ | G35: =+G37+G67+G115 -> -14874.3 | H35: =+H37+H67+H115 -> -17600
F36: այդ թվում`
B37: 01 | F37: Նախադպրոցական և տարրական ընդհանուր կրթություն | G37: =+G39 -> 296707.8 | H37: =+H39 -> 736220
F38: այդ թվում`
C39: 01 | F39: Նախադպրոցական կրթություն | G39: =+G41 -> 296707.8 | H39: =+H41 -> 736220
F40: այդ թվում`
F41: ՀՀ կրթության, գիտության, մշակույթի և սպորտի նախարարություն | G41: =+G43 -> 296707.8 | H41: =+H43 -> 736220
F42: այդ թվում`
D43: 1236 | E43: Հանրակրթական և նախադպրոցական հաստատությունների հիմնում, կառուցում, բարելավում | G43: =+G45+G58 -> 296707.8 | H43: =+H45+H58 -> 736220
F44: այդ թվում`
E45: 32001 | F45: Մանկապարտեզների նոր շենքերի կառուցում | G45: =+G47 -> 544080.9 | H45: =+H47 -> 736220
...

Sheet Հավելված N 4
F1: Հավելված N 4
F2: ՀՀ կառավարության 2025 թվականի
F3: ______________ ի ___Ն որոշման
A5: «ՀԱՅԱUՏԱՆԻ ՀԱՆՐԱՊԵՏՈՒԹՅԱՆ 2025 ԹՎԱԿԱՆԻ ՊԵՏԱԿԱՆ ԲՅՈՒՋԵԻ ՄԱUԻՆ» ՀԱՅԱUՏԱՆԻ ՀԱՆՐԱՊԵՏՈՒԹՅԱՆ OՐԵՆՔԻ N 1 ՀԱՎԵԼՎԱԾԻ N 3 ԱՂՅՈՒՍԱԿՈՒՄ ԿԱՏԱՐՎՈՂ ՓՈՓՈԽՈՒԹՅՈՒՆՆԵՐԸ ԵՎ ԼՐԱՑՈՒՄՆԵՐԸ
G8: հազ. դրամներով
A9: Ծրագրային դասիչ | C9: Բյուջետային գլխավոր կարգադրիչների, ծրագրերի, միջոցառումների, միջոցառումները կատարող պետական մարմինների և ուղղությունների անվանումները | D9: Ընդամենը | E9: Ցուցանիշների փոփոխությունը (ավելացումները նշված են դրական նշանով, իսկ նվազեցումները՝ փակագծերում)
A10: Ծրագիր | B10: Միջոցառում | E10: Կառուցման աշխատանքներ | F10: Վերակառուցման, վերանորոգման և վերականգնման աշխատանքներ | G10: Նախագծահե- տազոտական, գեոդեզիա- քարտեզագրա- կան աշխա- տանքներ | H10: Ոչ ֆինանսական այլ ակտիվների ձեռքբերում
C11: ԸՆԴԱՄԵՆԸ | D11: =SUM(E11:H11) -> -2505.1 | E11: =+E13 -> 285903.1 | F11: =+F13 -> 47910.8 | G11: =+G13 -> -336319 | H11: =+H13 -> 0
C12: այդ թվում՝
C13: ՀՀ ԿՐԹՈՒԹՅԱՆ, ԳԻՏՈՒԹՅԱՆ, ՄՇԱԿՈՒՅԹԻ ԵՎ ՍՊՈՐՏԻ ՆԱԽԱՐԱՐՈՒԹՅՈՒՆ | D13: =SUM(E13:H13) -> -2505.1 | E13: =+E15+E19+E23+E30+E51+E83 -> 285903.1 | F13: =+F15+F19+F23+F30+F51+F83 -> 47910.8 | G13: =+G15+G19+G23+G30+G51+G83 -> -336319 | H13: =+H15+H19+H23+H30+H51+H83 -> 0
C14: այդ թվում`
A15: 1045 | B15: 32005 | C15: Մասնագիտական ուսումնական հաստատությունների շենքերի կառուցում | D15: =SUM(E15:H15) -> -130775.9 | E15: =+E17 -> -130775.9 | F15: =+F17 -> 0 | G15: =+G17 -> 0 | H15: =+H17 -> 0
C16: այդ թվում`
C17: ՀՀ Արմավիրի մարզ | D17: =SUM(E17:H17) -> -130775.9 | E17: =+E18 -> -130775.9 | F17: =+F18 -> 0 | G17: =+G18 -> 0 | H17: =+H18 -> 0
C18: «Արմավիրի տարածաշրջանային պետական քոլեջ» ՊՈԱԿ | D18: =+E18+F18+G18+H18 -> -130775.9 | E18: =+'Հավելված N 8'!I197+'Հավելված N 8'!I199+'Հավելված N 8'!I200 -> -130775.9
A19: 1168 | B19: 32001 | C19: Ներդրումներ թատրոնների և համերգային կազմակերպությունների շենքերի կապիտալ վերանորոգման համար | D19: =SUM(E19:H19) -> 17600 | E19: =+E21 -> 0 | F19: =+F21 -> 0 | G19: =+G21 -> 17600 | H19: =+H21 -> 0
C20: այդ թվում`
C21: ՀՀ Լոռու մարզ | D21: =SUM(E21:H21) -> 17600 | E21: =+E22 -> 0 | F21: =+F22 -> 0 | G21: =+G22 -> 17600 | H21: =+H22 -> 0
C22: «Վանաձորի Հ. Աբելյանի անվան պետական դրամատիկական թատրոն» ՊՈԱԿ | D22: =+E22+F22+G22+H22 -> 17600 | G22: =+'Հավելված N 8'!I112+'Հավելված N 8'!I113 -> 17600
A23: 1183 | B23: 32009 | C23: Հանրակրթական կրթություն իրականացնող ուսումնական հաստատությունների մարզադահլիճների վերակառուցում | D23: =SUM(E23:H23) -> 47910.8 | E23: =+E25+E27 -> 0 | F23: =+F25+F27 -> 47910.8 | G23: =+G25+G27 -> 0 | H23: =+H25+H27 -> 0
C24: այդ թվում`
C25: Երևան քաղաք | D25: =SUM(E25:H25) -> 40516.1 | E25: =+E26 -> 0 | F25: =+F26 -> 40516.1 | G25: =+G26 -> 0 | H25: =+H26 -> 0
C26: «Երևանի հ. 37 հիմնական դպրոց» ՊՈԱԿ | D26: =+E26+F26+G26+H26 -> 40516.1 | F26: =+'Հավելված N 8'!I203+'Հավելված N 8'!I207+'Հավելված N 8'!I210 -> 40516.1
C27: ՀՀ Գեղարքունիքի մարզ | D27: =SUM(E27:H27) -> 7394.7 | E27: =+E28+E29 -> 0 | F27: =+F28+F29 -> 7394.7 | G27: =+G28+G29 -> 0 | H27: =+H28+H29 -> 0
C28: «Ակունք գյուղի միջնակարգ դպրոց» ՊՈԱԿ | D28: =+E28+F28+G28+H28 -> 3602.9 | F28: =+'Հավելված N 8'!I204+'Հավելված N 8'!I208+'Հավելված N 8'!I211 -> 3602.9
C29: «Վ․ Գետաշենի թիվ 2 միջնակարգ դպրոց» ՊՈԱԿ | D29: =+E29+F29+G29+H29 -> 3791.8 | F29: =+'Հավելված N 8'!I205+'Հավելված N 8'!I209+'Հավելված N 8'!I212 -> 3791.8
A30: 1236 | B30: 32001 | C30: Մանկապարտեզների նոր շենքերի կառուցում | D30: =SUM(E30:H30) -> 734826.8 | E30: =+E32+E33+E38+E40+E43+E45+E47+E49 -> 718826.8 | F30: =+F32+F33+F38+F40+F43+F45+F47+F49 -> 0 | G30: =+G32+G33+G38+G40+G43+G45+G47+G49 -> 16000 | H30: =+H32+H33+H38+H40+H43+H45+H47+H49 -> 0
C31: այդ թվում`
C32: «Մոդուլային» տիպի 144 տեղ հզորությամբ մսուր-մանկապարտեզների նախագծանախահաշվային փաստաթղթերում փոփոխություններ և լրացումներ | D32: =SUM(E32:H32) -> 16000 | E32: 0 | F32: 0 | G32: =+'Հավելված N 8'!I143 -> 16000 | H32: 0
C33: ՀՀ Արագածոտնի մարզ | D33: =SUM(E33:H33) -> 624392.8 | E33: =SUM(E34:E37) -> 624392.8 | F33: =SUM(F34:F37) -> 0 | G33: =SUM(G34:G37) -> 0 | H33: =SUM(H34:H37) -> 0
C34: Ապարան համայնքի Մելիքգյուղ բնակավայրում 75 տեղ հզորությամբ մանկապարտեզ | D34: =+E34+F34+G34+H34 -> 152325.8 | E34: =+'Հավելված N 8'!I123+'Հավելված N 8'!I134 -> 152325.8
C35: Թալին համայնքի Կաքավաձոր բնակավայրում 75 տեղ հզորությամբ մանկապարտեզ | D35: =+E35+F35+G35+H35 -> 152751.9 | E35: =+'Հավելված N 8'!I124+'Հավելված N 8'!I135 -> 152751.9
C36: Թալին համայնքի Ոսկեթաս բնակավայրում 75 տեղ հզորությամբ մանկապարտեզ | D36: =+E36+F36+G36+H36 -> 166743.5 | E36: =+'Հավելված N 8'!I125+'Հավելված N 8'!I136 -> 166743.5
C37: Ծաղկահովիտ համայնքի Ծիլքար բնակավայրում 75 տեղ հզորությամբ մանկապարտեզ | D37: =+E37+F37+G37+H37 -> 152571.6 | E37: =+'Հավելված N 8'!I126+'Հավելված N 8'!I137 -> 152571.6
C38: ՀՀ Արարատի մարզ | D38: =SUM(E38:H38) -> 150125.8 | E38: =+E39 -> 150125.8 | F38: =+F39 -> 0 | G38: =+G39 -> 0 | H38: =+H39 -> 0
C39: Արտաշատ համայնքի Բերքանուշ բնակավայրում 75 տեղ հզորությամբ մանկապարտեզ | D39: =+E39+F39+G39+H39 -> 150125.8 | E39: =+'Հավելված N 8'!I127+'Հավելված N 8'!I138 -> 150125.8
C40: ՀՀ Արմավիրի մարզ | D40: =SUM(E40:H40) -> 63730.2 | E40: =SUM(E41:E42) -> 63730.2 | F40: =SUM(F41:F42) -> 0 | G40: =SUM(G41:G42) -> 0 | H40: =SUM(H41:H42) -> 0
C41: ՀՀ Արմավիրի մարզի Նորավան համայնքում «Մոդուլային» տիպի 144 տեղ հզորությամբ մսուր-մանկապարտեզ | D41: =+E41+F41+G41+H41 -> 198074.4 | E41: =+'Հավելված N 8'!I117+'Հավելված N 8'!I129+'Հավելված N 8'!I139 -> 198074.4
C42: ՀՀ Արմավիրի մարզի Փշատավան համայնքում «Մոդուլային» տիպի 144 տեղ հզորությամբ մսուր-մանկապարտեզ | D42: =+E42+F42+G42+H42 -> -134344.2 | E42: =+'Հավելված N 8'!I118+'Հավելված N 8'!I130 -> -134344.2
C43: ՀՀ ԳԵղարքունիքի մարզ | D43: =SUM(E43:H43) -> 11947.4 | E43: =+E44 -> 11947.4 | F43: =+F44 -> 0 | G43: =+G44 -> 0 | H43: =+H44 -> 0
...

Sheet Հավելված N 5
E1: Հավելված N 5
D2: ՀՀ կառավարության 2025 թվականի
E3: ______________ ի ___Ն որոշման
B6: ՀԱՅԱՍՏԱՆԻ ՀԱՆՐԱՊԵՏՈՒԹՅԱՆ ԿԱՌԱՎԱՐՈՒԹՅԱՆ 2024 ԹՎԱԿԱՆԻ ԴԵԿՏԵՄԲԵՐԻ 27-Ի N 2060-Ն ՈՐՈՇՄԱՆ N 5 ՀԱՎԵԼՎԱԾԻ N 2 ԱՂՅՈՒՍԱԿՈՒՄ ԿԱՏԱՐՎՈՂ ՓՈՓՈԽՈՒԹՅՈՒՆՆԵՐԸ ԵՎ ԼՐԱՑՈՒՄՆԵՐԸ
F8: հազ. դրամներով
B9: Ծրագրային դասիչ | D9: Բյուջետային գլխավոր կարգադրիչների, ծրագրերի, միջոցառումների, միջոցառումները կատարող պետական մարմինների և ուղղությունների անվանումները | E9: Ցուցանիշների փոփոխությունը (ավելացումները նշված են դրական նշանով, իսկ նվազեցումները՝ փակագծերում)
B10: Ծրագիր | C10: Միջոցառում | E10: Ինն ամիս | F10: Տարի
D11: ՀՀ ԿՐԹՈՒԹՅԱՆ, ԳԻՏՈՒԹՅԱՆ, ՄՇԱԿՈՒՅԹԻ ԵՎ ՍՊՈՐՏԻ ՆԱԽԱՐԱՐՈՒԹՅՈՒՆ | E11: =+E13+E19+E27+E33+E42+E65+E68+E107 -> -17379.4 | F11: =+F13+F19+F27+F33+F42+F65+F68+F107 -> -2505.1
D12: այդ թվում՝
B13: 1045 | C13: 32005 | D13: Մասնագիտական ուսումնական հաստատությունների շենքերի կառուցում | E13: =+E15 -> -84576.9 | F13: =+F15 -> -130775.9
D14: այդ թվում` ըստ կատարողների
D15: ՀՀ քաղաքաշինության կոմիտե | E15: =+E17 -> -84576.9 | F15: =+F17 -> -130775.9
D16: այդ թվում`ըստ ուղղությունների
D17: ՀՀ Արմավիրի մարզ | E17: =+E18 -> -84576.9 | F17: =+F18 -> -130775.9
D18: «Արմավիրի տարածաշրջանային պետական քոլեջ» ՊՈԱԿ | E18: =-43184.9-2159.2-37869.5-1136.1-227.2 -> -84576.9 | F18: =+'Հավելված N 4'!D18 -> -130775.9
B19: 1163 | C19: 32001 | D19: Մարզական օբյեկտների շինարարություն | E19: =+E21 -> -115074.6 | F19: =+F21 -> 0
D20: այդ թվում` ըստ կատարողների
D21: ՀՀ քաղաքաշինության կոմիտե | E21: =+E23+E25 -> -115074.6 | F21: =+F23+F25 -> 0
D22: այդ թվում`ըստ ուղղությունների
D23: Երևան քաղաք | E23: =+E24 -> -80552.2 | F23: =+F24 -> 0
D24: «Երևանի օլիմպիական հերթափոխի պետական մարզական քոլեջ» ՊՈԱԿ (բռնցքամարտի և ձյուդոյի մարզադահլիճ) | E24: =-77753.1-2332.6-466.5 -> -80552.2 | F24: 0
D25: ՀՀ Արագածոտնի մարզ | E25: =+E26 -> -34522.4 | F25: =+F26 -> 0
D26: Ալագյազ համայնքում Մալխաս և Ռոման Ամոյանների անվան նոր մարզադպրոց | E26: =-33322.8-999.7-199.9 -> -34522.4 | F26: 0
B27: 1168 | C27: 32001 | D27: Ներդրումներ թատրոնների և համերգային կազմակերպությունների շենքերի կապիտալ վերանորոգման համար | E27: =+E29 -> 0 | F27: =+F29 -> 17600
D28: այդ թվում` ըստ կատարողների
D29: ՀՀ քաղաքաշինության կոմիտե | E29: =+E31 -> 0 | F29: =+F31 -> 17600
D30: այդ թվում`ըստ ուղղությունների
D31: ՀՀ Լոռու մարզ | E31: =+E32 -> 0 | F31: =+F32 -> 17600
D32: =+'Հավելված N 4'!C22 -> «Վանաձորի Հ. Աբելյանի անվան պետական դրամատիկական թատրոն» ՊՈԱԿ | E32: 0 | F32: =+'Հավելված N 4'!D22 -> 17600
B33: 1183 | C33: 32009 | D33: Հանրակրթական կրթություն իրականացնող ուսումնական հաստատությունների մարզադահլիճների վերակառուցում | E33: =+E35 -> 47910.8 | F33: =+F35 -> 47910.8
D34: այդ թվում` ըստ կատարողների
D35: ՀՀ քաղաքաշինության կոմիտե | E35: =+E37+E39 -> 47910.8 | F35: =+F37+F39 -> 47910.8
D36: այդ թվում`ըստ ուղղությունների
D37: Երևան քաղաք | E37: =+E38 -> 40516.1 | F37: =+F38 -> 40516.1
D38: =+'Հավելված N 4'!C26 -> «Երևանի հ. 37 հիմնական դպրոց» ՊՈԱԿ | E38: =+F38 -> 40516.1 | F38: =+'Հավելված N 4'!D26 -> 40516.1
D39: ՀՀ Գեղարքունիքի մարզ | E39: =+E40+E41 -> 7394.7 | F39: =+F40+F41 -> 7394.7
D40: =+'Հավելված N 4'!C28 -> «Ակունք գյուղի միջնակարգ դպրոց» ՊՈԱԿ | E40: =+F40 -> 3602.9 | F40: =+'Հավելված N 4'!D28 -> 3602.9
D41: =+'Հավելված N 4'!C29 -> «Վ․ Գետաշենի թիվ 2 միջնակարգ դպրոց» ՊՈԱԿ | E41: =+F41 -> 3791.8 | F41: =+'Հավելված N 4'!D29 -> 3791.8
B42: 1236 | C42: 32001 | D42: Մանկապարտեզների նոր շենքերի կառուցում | E42: =+E44 -> 542687.7 | F42: =+F44 -> 734826.8
D43: այդ թվում` ըստ կատարողների
...

Sheet Հավելված N 6
I1: Հավելված N 6
I2: ՀՀ կառավարության 2025 թվականի
I3: ______________ ի ___Ն որոշման
A6: ՀԱՅԱՍՏԱՆԻ ՀԱՆՐԱՊԵՏՈՒԹՅԱՆ ԿԱՌԱՎԱՐՈՒԹՅԱՆ 2024 ԹՎԱԿԱՆԻ ԴԵԿՏԵՄԲԵՐԻ 27-Ի N 2060-Ն ՈՐՈՇՄԱՆ N 9 ՀԱՎԵԼՎԱԾՈՒՄ ԿԱՏԱՐՎՈՂ ՓՈՓՈԽՈՒԹՅՈՒՆՆԵՐԸ ԵՎ ԼՐԱՑՈՒՄՆԵՐԸ
A9: ԲԳԿ | B9: Ծրագիր | D9: Միջոցառում | H9: Իրականացնողը/ ակտիվն օգտագործողը/ շահառուի ընտրության չափորոշիչը | I9: Արդյունքային չափորոշիչը | J9: Ցուցանիշների փոփոխությունը (ավելացումները նշված են դրական նշանով, իսկ նվազեցումները՝ փակագծերում)
B10: Դասիչը | C10: Անվանումը | D10: Դասիչը | E10: Անվանումը | F10: Նկարագրությունը | G10: Տեսակը | J10: Ինն ամիս | K10: Տարի
A11: ԸՆԴԱՄԵՆԸ | J11: =+J13 -> -14874.3 | K11: =+K13 -> 1.7462298e-10
A12: այդ թվում՝
A13: ՀՀ ԿՐԹՈՒԹՅԱՆ, ԳԻՏՈՒԹՅԱՆ, ՄՇԱԿՈԻՅԹԻ ԵՎ ՍՊՈՐՏԻ ՆԱԽԱՐԱՐՈՒԹՅՈՒՆ | J13: =+J14+J21+J27+J33+J40 -> -14874.3 | K13: =+K14+K21+K27+K33+K40 -> 1.7462298e-10
B14: 1045 | C14: Մասնագիտական կրթության և ուսուցման ծրագիր | J14: =+J15 -> -84576.9 | K14: =+K15 -> -130775.9
D15: 1045 - 32005 | E15: Մասնագիտական ուսումնական հաստատությունների շենքերի կառուցում | J15: =+'Հավելված N 2'!G17 -> -84576.9 | K15: =+'Հավելված N 2'!H17 -> -130775.9
F16: Մասնագիտական ուսումնական հաստատությունների շենքերի (մասնաշենքերի) կառուցման և նախագծման աշխատանքների իրականացում
G17: Այլ պետական կազմակերպությունների կողմից օգտագործվող ոչ ֆինանսական ակտիվների հետ գործառնություններ
H18: Ակտիվն օգտագործող կազմակերպությունների անվանումները` Մասնագիտական ուսումնական հաստատություններ
I19: Կառուցվող մասնագիտական ուսումնական հաստատությունների քանակ, հատ | K19: -1
B21: 1163 | C21: Մասսայական սպորտ | J21: =+J22 -> -115074.6 | K21: =+K22 -> 0
D22: 1163 - 32001 | E22: Մարզական օբյեկտների շինարարություն | J22: =+'Հավելված N 2'!G19 -> -115074.6 | K22: =+'Հավելված N 2'!H19 -> 0
F23: Մարզական օբյեկտների շենքերի (մասնաշենքերի) կառուցում (համաշինարարական աշխատանքներ, ջեռուցման համակարգի իրականացում, ներքին հարդարում, տարածքի բարեկարգում) և նախագծում
G24: Այլ պետական կազմակերպությունների կողմից օգտագործվող ոչ ֆինանսական ակտիվների հետ գործառնություններ
H25: Ակտիվն օգտագործող կազմակերպության անվանումը` Մարզական հաստատություններ
B27: 1168 | C27: Արվեստների ծրագիր | J27: =+J28 -> 0 | K27: =+K28 -> 17600
D28: 1168 - 32001 | E28: Ներդրումներ թատրոնների և համերգային կազմակերպությունների շենքերի կապիտալ վերանորոգման համար | J28: =+'Հավելված N 2'!G21 -> 0 | K28: =+'Հավելված N 2'!H21 -> 17600
F29: Թատրոնների և համերգային կազմակերպությունների շենքերի մասնաշենքերի հիմնանորոգում, համաշինարարական աշխատանքներ, ջեռուցման համակարգի իրականացում, ներքին հարդարում, տարածքի բարեկարգում և նախագծում
G30: Այլ պետական կազմակերպությունների կողմից օգտագործվող ոչ ֆինանսական ակտիվների հետ գործառնություններ
H31: Ակտիվն օգտագործող կազմակերպության անվանումը` Թատրոններ և համերգային կազմակերպություններ
B33: 1183 | C33: Ապահով դպրոց | J33: =+J34 -> 48041.4 | K33: =+K34 -> 48041.4
D34: 1183 - 32009 | E34: Հանրակրթական կրթություն իրականացնող ուսումնական հաստատությունների մարզադահլիճների վերակառուցում | J34: =+'Հավելված N 2'!G23 -> 48041.4 | K34: =+'Հավելված N 2'!H23 -> 48041.4
F35: Հանրակրթական ուսուցում իրականացնող ուսումնական հաստատությունների մարզադահլիճների վերակառուցման նախագծանախահաշվային փաստաթղթերի մշակում
G36: Այլ պետական կազմակերպությունների կողմից օգտագործվող ոչ ֆինանսական ակտիվների հետ գործառնություններ
H37: Ակտիվն օգտագործող կազմակերպությունների անվանումները` Հանրակրթական դպրոցներ
I38: Դպրոցների թիվը,որոնց համար ձեռք են բերվում չափագրման ծառայություն, հատ | K38: 2
B40: 1236 | C40: Հանրակրթական և նախադպրոցական հաստատությունների հիմնում, կառուցում, բարելավում | J40: =+J41+J47+J51+J58 -> 136735.8 | K40: =+K41+K47+K51+K58 -> 65134.5
D41: 1236 - 32001 | E41: Մանկապարտեզների նոր շենքերի կառուցում | J41: =+'Հավելված N 2'!G25 -> 544080.9 | K41: =+'Հավելված N 2'!H25 -> 736220
F42: Նախադպրոցական կրթության հասանելիության ապահովման նպատակով՛ մանկապարտեզների հիմնում, նոր շենքերի (մասնաշենքերի), ներառյալ՝ «Մոդուլային» տիպի շենքերի կառուցում և նախագծում
G43: Այլ պետական կազմակերպությունների կողմից օգտագործվող ոչ ֆինանսական ակտիվների հետ գործառնություններ
H44: Շահառուների ընտրության չափորոշիչները` Նախադպրոցական կրթություն իրականացնող ուսումնական հաստատություններ
I45: Կառուցվող մանկապարտեզների քանակ, հատ | K45: 5
I46: Մանկապարտեզների թիվը,որոնց համար ձեռք են բերվում չափագրման ծառայություն, հատ | K46: 9
D47: 1236 - 32002 | E47: Մանկապարտեզների շենքերի վերակառուցում, հիմնանորոգում | J47: =+'Հավելված N 2'!G26 -> -247373.1 | K47: =+'Հավելված N 2'!H26 -> 0
F48: Նախադպրոցական կրթության հասանելիության ապահովման նպատակով՛ մանկապարտեզների շենքերի (մասնաշենքերի), վերակառուցում, հիմնանորոգում և նախագծում
...

Sheet Հավելված N 7
I1: Հավելված N 7
I2: ՀՀ կառավարության 2025 թվականի
I3: ______________ ի ___Ն որոշման
A6: ՀԱՅԱՍՏԱՆԻ ՀԱՆՐԱՊԵՏՈՒԹՅԱՆ ԿԱՌԱՎԱՐՈՒԹՅԱՆ 2024 ԹՎԱԿԱՆԻ ԴԵԿՏԵՄԲԵՐԻ 27-Ի N 2060-Ն ՈՐՈՇՄԱՆ N 9.1 ՀԱՎԵԼՎԱԾՈՒՄ ԿԱՏԱՐՎՈՂ ՓՈՓՈԽՈՒԹՅՈՒՆՆԵՐԸ ԵՎ ԼՐԱՑՈՒՄՆԵՐԸ
A9: ԲՍԿ | B9: Ծրագիր | D9: Միջոցառում | H9: Իրականացնողը/ ակտիվն օգտագործողը/ շահառուի ընտրության չափորոշիչը | I9: Արդյունքային չափորոշիչը | J9: Ցուցանիշների փոփոխությունը (ավելացումները նշված են դրական նշանով, իսկ նվազեցումները՝ փակագծերում)
B10: Դասիչը | C10: Անվանումը | D10: Դասիչը | E10: Անվանումը | F10: Նկարագրությունը | G10: Տեսակը | J10: Ինն ամիս | K10: Տարի
A11: ԸՆԴԱՄԵՆԸ | J11: =+J13+J26+J72 -> -14874.3 | K11: =+K13+K26+K72 -> 1.7462298e-10
A12: այդ թվում՝
A13: ՀՀ ԿՐԹՈՒԹՅԱՆ, ԳԻՏՈՒԹՅԱՆ, ՄՇԱԿՈԻՅԹԻ ԵՎ ՍՊՈՐՏԻ ՆԱԽԱՐԱՐՈՒԹՅՈՒՆ | J13: =+J14 -> 0 | K13: =+K14 -> -402695
B14: 1236 | C14: Հանրակրթական և նախադպրոցական հաստատությունների հիմնում, կառուցում, բարելավում | J14: =+J15+J20 -> 0 | K14: =+K15+K20 -> -402695
D15: 1236 - 32003 | E15: Հանրակրթական դպրոցների նոր շենքերի կառուցում | J15: =+'Հավելված N 3'!G77 -> 0 | K15: =+'Հավելված N 3'!H77 -> -363095
F16: ՀՀ մարզերում կրթական որակյալ ծառայությունների հասանելիության ապահովման ծրագրի շրջանակներում հանրակրթական և նախադպրոցական կրթության հասանելիության ապահովման նպատակով կրթական կենտրոնների կառուցում
G17: Այլ պետական կազմակերպությունների կողմից օգտագործվող ոչ ֆինանսական ակտիվների հետ գործառնություններ
H18: Ակտիվն օգտագործող կազմակերպությունների անվանումները` Հանրակրթական դպրոցներ
I19: Նախագծանախահաշվային փաստաթղթերի քանակ, հատ | K19: -36
D20: 1236 - 32005 | E20: Կրթահամալիրների կառուցում | J20: =+'Հավելված N 3'!G99 -> 0 | K20: =+'Հավելված N 3'!H99 -> -39600
F21: ՀՀ մարզերում կրթական որակյալ ծառայությունների հասանելիության ապահովման ծրագրի շրջանակներում հանրակրթական և նախադպրոցական կրթության հասանելիության ապահովման նպատակով կրթական կենտրոնների կառուցում
G22: Այլ պետական կազմակերպությունների կողմից օգտագործվող ոչ ֆինանսական ակտիվների հետ գործառնություններ
H23: Ակտիվն օգտագործող կազմակերպությունների անվանումները` Ստեղծվող կրթահամալիրներ
I24: Նախագծանախահաշվային փաստաթղթերի քանակ, հատ | K24: -8
A26: ՀՀ ՔԱՂԱՔԱՇԻՆՈՒԹՅԱՆ ԿՈՄԻՏԵ | J26: =+J27+J34+J40+J46+J53 -> 232498.8 | K26: =+K27+K34+K40+K46+K53 -> 402695
B27: 1045 | C27: Մասնագիտական կրթության և ուսուցման ծրագիր | J27: =+J28 -> -84576.9 | K27: =+K28 -> -130775.9
D28: 1045 - 32005 | E28: Մասնագիտական ուսումնական հաստատությունների շենքերի կառուցում | J28: =+'Հավելված N 3'!G125 -> -84576.9 | K28: =+'Հավելված N 3'!H125 -> -130775.9
F29: Մասնագիտական ուսումնական հաստատությունների շենքերի (մասնաշենքերի) կառուցման և նախագծման աշխատանքների իրականացում
G30: Այլ պետական կազմակերպությունների կողմից օգտագործվող ոչ ֆինանսական ակտիվների հետ գործառնություններ
H31: Ակտիվն օգտագործող կազմակերպությունների անվանումները` Մասնագիտական ուսումնական հաստատություններ
I32: Կառուցվող մասնագիտական ուսումնական հաստատությունների քանակ, հատ | K32: -1
B34: 1163 | C34: Մասսայական սպորտ | J34: =+J35 -> -115074.6 | K34: =+K35 -> 0
D35: 1163 - 32001 | E35: Մարզական օբյեկտների շինարարություն | J35: =+'Հավելված N 3'!G138 -> -115074.6 | K35: =+'Հավելված N 3'!H138 -> 0
F36: Մարզական օբյեկտների շենքերի (մասնաշենքերի) կառուցում (համաշինարարական աշխատանքներ, ջեռուցման համակարգի իրականացում, ներքին հարդարում, տարածքի բարեկարգում) և նախագծում
G37: Այլ պետական կազմակերպությունների կողմից օգտագործվող ոչ ֆինանսական ակտիվների հետ գործառնություններ
H38: Ակտիվն օգտագործող կազմակերպության անվանումը` Մարզական հաստատություններ
B40: 1168 | C40: Արվեստների ծրագիր | J40: =+J41 -> 0 | K40: =+K41 -> 17600
D41: 1168 - 32001 | E41: Ներդրումներ թատրոնների և համերգային կազմակերպությունների շենքերի կապիտալ վերանորոգման համար | J41: =+'Հավելված N 3'!G28 -> 0 | K41: =+'Հավելված N 3'!H28 -> 17600
F42: Թատրոնների և համերգային կազմակերպությունների շենքերի մասնաշենքերի հիմնանորոգում, համաշինարարական աշխատանքներ, ջեռուցման համակարգի իրականացում, ներքին հարդարում, տարածքի բարեկարգում և նախագծում
G43: Այլ պետական կազմակերպությունների կողմից օգտագործվող ոչ ֆինանսական ակտիվների հետ գործառնություններ
H44: Ակտիվն օգտագործող կազմակերպության անվանումը` Թատրոններ և համերգային կազմակերպություններ
B46: 1183 | C46: Ապահով դպրոց | J46: =+J47 -> 48041.4 | K46: =+K47 -> 48041.4
D47: 1183 - 32009 | E47: Հանրակրթական կրթություն իրականացնող ուսումնական հաստատությունների մարզադահլիճների վերակառուցում | J47: =+'Հավելված N 3'!G149 -> 48041.4 | K47: =+'Հավելված N 3'!H149 -> 48041.4
F48: Հանրակրթական ուսուցում իրականացնող ուսումնական հաստատությունների մարզադահլիճների վերակառուցման նախագծանախահաշվային փաստաթղթերի մշակում
...

Sheet Հավելված N 8
H1: Հավելված N 8
H2: ՀՀ կառավարության 2025 թվականի
H3: ______________ ի ___Ն որոշման
A6: ՀԱՅԱՍՏԱՆԻ ՀԱՆՐԱՊԵՏՈՒԹՅԱՆ ԿԱՌԱՎԱՐՈՒԹՅԱՆ 2024 ԹՎԱԿԱՆԻ ԴԵԿՏԵՄԲԵՐԻ 27-Ի N 2060-Ն N 10 ՀԱՎԵԼՎԱԾՈՒՄ ԿԱՏԱՐՎՈՂ ՓՈՓՈԽՈՒԹՅՈՒՆՆԵՐԸ ԵՎ ԼՐԱՑՈՒՄՆԵՐԸ
A10: Կոդը | B10: Անվանումը | E10: Գնման ձևը | F10: Չափման միավորը | G10: Միավորի գինը | H10: Ցուցանիշների փոփոխությունը (ավելացումները նշված են դրական նշանով, իսկ նվազեցումները՝ փակագծերում)
H11: Քանակը | I11: Գումարը (հազար դրամ)
A12: 1 | B12: 2 | E12: 3 | F12: 4 | G12: 5 | H12: 6 | I12: 7
A13: ՀՀ կրթության, գիտության, մշակույթի և սպորտի նախարարություն | I13: =+I14 -> -402695
A14: Բաժին N 09 | B14: Խումբ N 02 | C14: Դաս N 01 | D14: Հիմնական ընդհանուր կրթություն | I14: =+I15+I89 -> -402695
A15: 1236-32003 | B15: Հանրակրթական դպրոցների նոր շենքերի կառուցում | I15: =+I16 -> -363095
B16: ՄԱՍ III. ԾԱՌԱՅՈՒԹՅՈՒՆՆԵՐ | I16: =SUM(I17:I88) -> -363095
A17: 71241200-1 | B17: նախագծերի պատրաստում, ծախսերի գնահատում | E17: ՀԲՄ | F17: դրամ | G17: 9000000 | H17: -1 | I17: =+ROUNDDOWN(H17*G17/1000,1) -> -9000
A18: 71241200-2 | B18: նախագծերի պատրաստում, ծախսերի գնահատում | E18: ՀԲՄ | F18: դրամ | G18: 13000000 | H18: -1 | I18: =+ROUNDDOWN(H18*G18/1000,1) -> -13000
A19: 71241200-3 | B19: նախագծերի պատրաստում, ծախսերի գնահատում | E19: ՀԲՄ | F19: դրամ | G19: 9000000 | H19: -1 | I19: =+ROUNDDOWN(H19*G19/1000,1) -> -9000
A20: 71241200-4 | B20: նախագծերի պատրաստում, ծախսերի գնահատում | E20: ՀԲՄ | F20: դրամ | G20: 13000000 | H20: -1 | I20: =+ROUNDDOWN(H20*G20/1000,1) -> -13000
A21: 71241200-5 | B21: նախագծերի պատրաստում, ծախսերի գնահատում | E21: ՀԲՄ | F21: դրամ | G21: 13000000 | H21: -1 | I21: =+ROUNDDOWN(H21*G21/1000,1) -> -13000
A22: 71241200-6 | B22: նախագծերի պատրաստում, ծախսերի գնահատում | E22: ՀԲՄ | F22: դրամ | G22: 13000000 | H22: -1 | I22: =+ROUNDDOWN(H22*G22/1000,1) -> -13000
A23: 71241200-7 | B23: նախագծերի պատրաստում, ծախսերի գնահատում | E23: ՀԲՄ | F23: դրամ | G23: 20000000 | H23: -1 | I23: =+ROUNDDOWN(H23*G23/1000,1) -> -20000
A24: 71241200-8 | B24: նախագծերի պատրաստում, ծախսերի գնահատում | E24: ՀԲՄ | F24: դրամ | G24: 9000000 | H24: -1 | I24: =+ROUNDDOWN(H24*G24/1000,1) -> -9000
A25: 71241200-9 | B25: նախագծերի պատրաստում, ծախսերի գնահատում | E25: ՀԲՄ | F25: դրամ | G25: 9000000 | H25: -1 | I25: =+ROUNDDOWN(H25*G25/1000,1) -> -9000
A26: 71241200-10 | B26: նախագծերի պատրաստում, ծախսերի գնահատում | E26: ՀԲՄ | F26: դրամ | G26: 13000000 | H26: -1 | I26: =+ROUNDDOWN(H26*G26/1000,1) -> -13000
A27: 71241200-11 | B27: նախագծերի պատրաստում, ծախսերի գնահատում | E27: ՀԲՄ | F27: դրամ | G27: 20000000 | H27: -1 | I27: =+ROUNDDOWN(H27*G27/1000,1) -> -20000
A28: 71241200-12 | B28: նախագծերի պատրաստում, ծախսերի գնահատում | E28: ՀԲՄ | F28: դրամ | G28: 9000000 | H28: -1 | I28: =+ROUNDDOWN(H28*G28/1000,1) -> -9000
... A88: 50531140-36 | B88: փորձաքննության ծառայություններ | E88: ՀԲՄ | F88: դրամ | G88: 500000 | H88: -1 | I88: =+ROUNDDOWN(H88*G88/1000,1) -> -500
A89: 1236-32005 | B89: Կրթահամալիրների կառուցում | I89: =+I90 -> -39600
B90: ՄԱՍ III. ԾԱՌԱՅՈՒԹՅՈՒՆՆԵՐ | I90: =SUM(I91:I106) -> -39600
A91: 71241200-1 | B91: նախագծերի պատրաստում, ծախսերի գնահատում | E91: ՀԲՄ | F91: դրամ | G91: 5000000 | H91: -1 | I91: =+ROUNDDOWN(H91*G91/1000,1) -> -5000
A92: 71241200-2 | B92: նախագծերի պատրաստում, ծախսերի գնահատում | E92: ՀԲՄ | F92: դրամ | G92: 4500000 | H92: -1 | I92: =+ROUNDDOWN(H92*G92/1000,1) -> -4500
A93: 71241200-3 | B93: նախագծերի պատրաստում, ծախսերի գնահատում | E93: ՀԲՄ | F93: դրամ | G93: 4500000 | H93: -1 | I93: =+ROUNDDOWN(H93*G93/1000,1) -> -4500
A94: 71241200-4 | B94: նախագծերի պատրաստում, ծախսերի գնահատում | E94: ՀԲՄ | F94: դրամ | G94: 5000000 | H94: -1 | I94: =+ROUNDDOWN(H94*G94/1000,1) -> -5000
A95: 71241200-5 | B95: նախագծերի պատրաստում, ծախսերի գնահատում | E95: ՀԲՄ | F95: դրամ | G95: 4500000 | H95: -1 | I95: =+ROUNDDOWN(H95*G95/1000,1) -> -4500
A96: 71241200-6 | B96: նախագծերի պատրաստում, ծախսերի գնահատում | E96: ՀԲՄ | F96: դրամ | G96: 4500000 | H96: -1 | I96: =+ROUNDDOWN(H96*G96/1000,1) -> -4500
A97: 71241200-7 | B97: նախագծերի պատրաստում, ծախսերի գնահատում | E97: ՀԲՄ | F97: դրամ | G97: 4500000 | H97: -1 | I97: =+ROUNDDOWN(H97*G97/1000,1) -> -4500
A98: 71241200-8 | B98: նախագծերի պատրաստում, ծախսերի գնահատում | E98: ՀԲՄ | F98: դրամ | G98: 4500000 | H98: -1 | I98: =+ROUNDDOWN(H98*G98/1000,1) -> -4500
A99: 50531140-1 | B99: փորձաքննության ծառայություններ | E99: ՀԲՄ | F99: դրամ | G99: 400000 | H99: -1 | I99: =+ROUNDDOWN(H99*G99/1000,1) -> -400
A100: 50531140-2 | B100: փորձաքննության ծառայություններ | E100: ՀԲՄ | F100: դրամ | G100: 300000 | H100: -1 | I100: =+ROUNDDOWN(H100*G100/1000,1) -> -300
A101: 50531140-3 | B101: փորձաքննության ծառայություններ | E101: ՀԲՄ | F101: դրամ | G101: 300000 | H101: -1 | I101: =+ROUNDDOWN(H101*G101/1000,1) -> -300
A102: 50531140-4 | B102: փորձաքննության ծառայություններ | E102: ՀԲՄ | F102: դրամ | G102: 400000 | H102: -1 | I102: =+ROUNDDOWN(H102*G102/1000,1) -> -400
... A106: 50531140-8 | B106: փորձաքննության ծառայություններ | E106: ՀԲՄ | F106: դրամ | G106: 300000 | H106: -1 | I106: =+ROUNDDOWN(H106*G106/1000,1) -> -300
A108: ՀՀ քաղաքաշինության կոմիտե | I108: =+I109+I114+I145+I194 -> 402695
...
