Workbook
Name _tab10: #REF!
Name _tab11: #REF!
Name _tab12: #REF!
Name _tab13: #REF!
Name _tab14: #REF!
Name _tab15: #REF!
Name _tab16: #REF!
Name _tab17: #REF!
Name _tab18: #REF!
Name _tab19: #REF!
Name _tab20: #REF!
Name _tab21: #REF!
Name _tab22: #REF!
Name _tab23: #REF!
Name _tab24: #REF!
Name _tab5: #REF!
Name _tab6: #REF!
Name _tab7: #REF!
Name _tab8: #REF!
Name _tab9: #REF!
Name AgencyCode: #REF!
Name AgencyCode: #REF!
Name AgencyName: #REF!
Name AgencyName: #REF!
Name åû: #REF!
Name åû: #REF!
Name davit: #REF!
Name davit: #REF!
Name Functional1: #REF!
Name Functional1: #REF!
Name ggg: #REF!
Name ggg: #REF!
Name hav: #REF!
Name havelvac: #REF!
Name mas: #REF!
Name mas: #REF!
Name mass: #REF!
Name mass: #REF!
Name PANature: #REF!
Name PANature: #REF!
Name par_count: #REF!,#REF!,#REF!,#REF!,#REF!,#REF!,#REF!,#REF!,#REF!,#REF!,#REF!,#REF!,#REF!,#REF!,#REF!
Name par_qual: #REF!,#REF!,#REF!,#REF!,#REF!
Name par_time: #REF!,#REF!,#REF!,#REF!
Name par2.12s: #REF!
Name par2.4s: #REF!,#REF!,#REF!,#REF!,#REF!,#REF!,#REF!,#REF!,#REF!,#REF!,#REF!,#REF!,#REF!,#REF!,#REF!,#REF!
Name par2.5s: #REF!,#REF!
Name par2.6s: #REF!,#REF!,#REF!,#REF!
Name par2.7s: #REF!,#REF!
Name par2.9s: #REF!,#REF!,#REF!,#REF!,#REF!,#REF!,#REF!,#REF!,#REF!,#REF!,#REF!,#REF!,#REF!,#REF!,#REF!,#REF!
Name par4.10s: #REF!,#REF!
Name par4.11d: #REF!,#REF!,#REF!,#REF!,#REF!
Name par4.12d: #REF!
Name par4.13s: #REF!
Name par4.14: #REF!,#REF!,#REF!,#REF!,#REF!,#REF!
Name par4.15: #REF!,#REF!,#REF!
Name par4.16: #REF!,#REF!,#REF!
Name par4.17: #REF!,#REF!,#REF!,#REF!
Name par4.18d: #REF!,#REF!
Name par4.19s: #REF!
Name par4.20f: #REF!

Sheet h1
B1: Հավելված N 1
B2: ՀՀ կառավարության 2025 թվականի
B3: ______________ ի ___Ն որոշման
B6: «ՀԱՅԱՍՏԱՆԻ ՀԱՆՐԱՊԵՏՈՒԹՅԱՆ 2025 ԹՎԱԿԱՆԻ ՊԵՏԱԿԱՆ ԲՅՈՒՋԵԻ ՄԱՍԻՆ» ՕՐԵՆՔԻ 2-ՐԴ ՀՈԴՎԱԾԻ ԱՂՅՈՒՍԱԿՈՒՄ ԿԱՏԱՐՎՈՂ ԼՐԱՑՈՒՄՆԵՐԸ
C8: հազար դրամներով
C9: Ցուցանիշների փոփոխությունը (ավելացումները նշված են դրական նշանով)
B10: 1. Եկամուտների գծով | C10: =+'h2'!D12 -> 9575787.1
B11: 2. Ծախսերի գծով | C11: =C10 -> 9575787.1
B12: 3. Դեֆիցիտը (պակասուրդը) | C12: =C10-C11 -> 0
B16: ՀԱՅԱՍՏԱՆԻ ՀԱՆՐԱՊԵՏՈՒԹՅԱՆ ՎԱՐՉԱՊԵՏԻ ԱՇԽԱՏԱԿԱԶՄԻ ՂԵԿԱՎԱՐ | C16: Ա. ՀԱՐՈՒԹՅՈՒՆՅԱՆ

Sheet h2
B1: Հավելված N 2
B2: ՀՀ կառավարության 2025 թվականի
B3: ______________ ի ___Ն որոշման
B5: «ՀԱՅԱՍՏԱՆԻ ՀԱՆՐԱՊԵՏՈՒԹՅԱՆ 2025 ԹՎԱԿԱՆԻ ՊԵՏԱԿԱՆ ԲՅՈՒՋԵԻ ՄԱՍԻՆ» ՕՐԵՆՔԻ 6-ՐԴ ՀՈԴՎԱԾԻ ԱՂՅՈՒՍԱԿՈՒՄ ԵՎ ՀԱՅԱՍՏԱՆԻ ՀԱՆՐԱՊԵՏՈՒԹՅԱՆ ԿԱՌԱՎԱՐՈՒԹՅԱՆ 2024 ԹՎԱԿԱՆԻ ԴԵԿՏԵՄԲԵՐԻ 27-Ի N 2060-Ն ՈՐՈՇՄԱՆ N 2 ՀԱՎԵԼՎԱԾՈՒՄ ԿԱՏԱՐՎՈՂ ԼՐԱՑՈՒՄԸ
C7: հազար դրամներով
B8: Եկամտատեսակ | C8: Ցուցանիշների փոփոխությունը (ավելացումները նշված են դրական նշանով)
C9: Ինն ամիս | D9: Տարի
B10: ՊԵՏԱԿԱՆ ԲՅՈՒՋԵԻ ԵԿԱՄՈՒՏՆԵՐ | C10: =C12 -> 6764932.9 | D10: =D12 -> 9575787.1
B11: այդ թվում՝
B12: Այլ եկամուտներ | C12: =+'h6'!G12 -> 6764932.9 | D12: =+'h6'!J12 -> 9575787.1
B16: ՀԱՅԱՍՏԱՆԻ ՀԱՆՐԱՊԵՏՈՒԹՅԱՆ ՎԱՐՉԱՊԵՏԻ ԱՇԽԱՏԱԿԱԶՄԻ ՂԵԿԱՎԱՐ | C16: Ա. ՀԱՐՈՒԹՅՈՒՆՅԱՆ

Sheet h3
E1: Հավելված N 3
D2: ՀՀ կառավարության 2025 թվականի
D3: ______________ ի ___Ն որոշման
B5: ՀԱՅԱՍՏԱՆԻ ՀԱՆՐԱՊԵՏՈՒԹՅԱՆ ԿԱՌԱՎԱՐՈՒԹՅԱՆ 2024 ԹՎԱԿԱՆԻ ԴԵԿՏԵՄԲԵՐԻ 27-Ի N 2060-Ն ՈՐՈՇՄԱՆ N 6 ՀԱՎԵԼՎԱԾՈՒՄ ԿԱՏԱՐՎՈՂ ԼՐԱՑՈՒՄԸ
E6: հազար դրամներով
C7: եկամտատեսակը | D7: Գանձման համար պատասխանատու պետական կառավարման (մարմինները) | E7: Ցուցանիշների փոփոխությունը (ավելացումները նշված են դրական նշանով)
E8: Ինն ամիս | F8: Տարի
B9: Այլ եկամուտներ, ընդամենը | E9: =E11 -> 6764932.9 | F9: =F11 -> 9575787.1
C10: այդ թվում`
B11: 6 | C11: Օրենքով և այլ իրավական ակտերով սահմանված պետական բյուջե մուտքագրվող այլ եկամուտներ | E11: =E12 -> 6764932.9 | F11: =F12 -> 9575787.1
B12: 6.7 | C12: Այլ եկամուտներ | D12: ՀՀ պետական կառավարման մարմիններ | E12: ='h2'!C12 -> 6764932.9 | F12: ='h2'!D12 -> 9575787.1
B15: ՀԱՅԱՍՏԱՆԻ ՀԱՆՐԱՊԵՏՈՒԹՅԱՆ ՎԱՐՉԱՊԵՏԻ ԱՇԽԱՏԱԿԱԶՄԻ ՂԵԿԱՎԱՐ՝ | D15: Ա.ՀԱՐՈՒԹՅՈՒՆՅԱՆ

Sheet h4
H1: Հավելված N 4
H2: ՀՀ կառավարության 2025 թվականի
H3: N ------------ -Ն որոշման
A5: «ՀԱՅԱՍՏԱՆԻ ՀԱՆՐԱՊԵՏՈՒԹՅԱՆ 2025 ԹՎԱԿԱՆԻ ՊԵՏԱԿԱՆ ԲՅՈՒՋԵԻ ՄԱՍԻՆ» ՕՐԵՆՔԻ N 1 ՀԱՎԵԼՎԱԾԻ N 2 ԱՂՅՈՒՍԱԿՈՒՄ ԿԱՏԱՐՎՈՂ ՎԵՐԱԲԱՇԽՈՒՄԸ ԵՎ ՀԱՅԱՍՏԱՆԻ ՀԱՆՐԱՊԵՏՈՒԹՅԱՆ ԿԱՌԱՎԱՐՈՒԹՅԱՆ 2024 ԹՎԱԿԱՆԻ ԴԵԿՏԵՄԲԵՐԻ 27-Ի N 2060-Ն ՈՐՈՇՄԱՆ N 5 ՀԱՎԵԼՎԱԾԻ N 1 ԱՂՅՈՒՍԱԿՈՒՄ ԿԱՏԱՐՎՈՂ ՓՈՓՈԽՈՒԹՅՈՒՆՆԵՐԸ ԵՎ ԼՐԱՑՈՒՄՆԵՐԸ
A9: ԲԳԿ | B9: Ծրագրային դասիչը | D9: ԲԳԿ/Ծրագրի /միջոցառման անվանումը | E9: Ծրագրի նպատակը/Միջոցառման նկարագրությունը | F9: Վերջնական արդյունքի նկարագրությունը/Միջոցառման տեսակը | G9: Ցուցանիշների փոփոխությունը (ավելացումները նշված են դրական նշանով, իսկ նվազեցումները` փակագծերում)
B10: Ծրագիր | C10: Միջոցառում | G10: Ինն ամիս | H10: Տարի
A11: ԸՆԴԱՄԵՆԸ | G11: =G12 -> 6764932.9 | H11: =H12 -> 9575787.1
A12: ՀՀ տարածքային կառավարման և ենթակառուցվածքների նախարարություն | G12: =G13 -> 6764932.9 | H12: =H13 -> 9575787.1
B13: 1049 | D13: =+'h6'!D17 -> Ճանապարհային ցանցի բարելավում | E13: Ճանապարհային ցանցի բարելավում և անվտանգ երթևեկության ապահովում | F13: Ճանապարհների ծածկի որակի և փոխադրումների արդյունավետության բարելավում, ճանապարհների վիճակով պայմանավորված պատահարների նվազում | G13: =SUM(G14:G19) -> 6764932.9 | H13: =SUM(H14:H19) -> 9575787.1
C14: 1049 - 11011 | D14: Ասիական զարգացման բանկի աջակցությամբ իրականացվող Հյուսիս-հարավ միջանցքի զարգացման ծրագրի համակարգում և կառավարում (Տրանշ 3) | E14: Խորհրդատվական ծառայություններ և պահպանման ծախսեր | F14: Ծառայությունների մատուցում | G14: =+'h5'!H21 -> 10350 | H14: =+'h5'!I21 -> 14155
C15: 1049 - 11016 | D15: =+'h5'!G30 -> Ասիական զարգացման բանկի աջակցությամբ իրականացվող Հյուսիս-հարավ ճանապարհային միջանցքի զարգացման ծրագրի Սիսիան-Քաջարան 60կմ-ի ճանապարհի Հյուսիսային ենթահատվածի համակարգում և կառավարում | E15: Խորհրդատվական ծառայություններ և պահպանման ծախսեր | F15: Ծառայությունների մատուցում | G15: =+'h5'!H30 -> -84258 | H15: =+'h5'!I30 -> -192256
C16: 1049 - 21006 | D16: Ասիական զարգացման բանկի աջակցությամբ իրականացվող Հյուսիս-հարավ միջանցքի զարգացման վարկային ծրագիր, Տրանշ 2 | E16: Աշտարակ-Թալին 29+600կմ-71+500կմ հատվածի կառուցում | F16: Հանրության կողմից անմիջականորեն օգտագործվող ակտիվների հետ կապված միջոցառումներ | G16: =+'h5'!H39 -> 6176932.9 | H16: =+'h5'!I39 -> 8987787.1
C17: 1049 - 21009 | D17: Եվրոպական ներդրումային բանկի աջակցությամբ իրականացվող Հյուսիս-հարավ միջանցքի զարգացման վարկային ծրագիր, Տրանշ 3 | E17: Լանջիկ-Գյումրի 27.47 կմ երկարությամբ ճանապարհային հատվածի կառուցում | F17: Հանրության կողմից անմիջականորեն օգտագործվող ակտիվների հետ կապված միջոցառումներ | G17: =+'h5'!H50 -> 25050 | H17: =+'h5'!I50 -> 29050
C18: 1049 - 21011 | D18: Ասիական զարգացման բանկի աջակցությամբ իրականացվող Հյուսիս-հարավ միջանցքի զարգացման վարկային ծրագիր, Տրանշ 3 | E18: Հատված Թալին-Լանջիկ 71+500 կմ-90+200 կմ կառուցման շինարարական աշխատանքներ | F18: Հանրության կողմից անմիջականորեն օգտագործվող ակտիվների հետ կապված միջոցառումներ | G18: =+'h5'!H59 -> -314242 | H18: =+'h5'!I59 -> -214049
C19: 1049 - 21012 | D19: Եվրասիական զարգացման բանկի աջակցությամբ իրականացվող Հյուսիս-հարավ միջանցքի զարգացման ծրագիր | E19: Ճանապարհաշինական աշխատանքներ | F19: Հանրության կողմից անմիջականորեն օգտագործվող ակտիվների հետ կապված միջոցառումներ | G19: =+'h5'!H71 -> 951100 | H19: =+'h5'!I71 -> 951100
B23: ՀԱՅԱՍՏԱՆԻ ՀԱՆՐԱՊԵՏՈՒԹՅԱՆ
B24: ՎԱՐՉԱՊԵՏԻ ԱՇԽԱՏԱԿԱԶՄԻ
C25: ՂԵԿԱՎԱՐ ՝ Ա. ՀԱՐՈՒԹՅՈՒՆՅԱՆ

Sheet h5
I1: Հավելված N 5
F2: ՀՀ կառավարության 2025 թվականի
F3: -----------------ի N -----------Ն որոշման
B5: ՀԱՅԱՍՏԱՆԻ ՀԱՆՐԱՊԵՏՈՒԹՅԱՆ ԿԱՌԱՎԱՐՈՒԹՅԱՆ 2024 ԹՎԱԿԱՆԻ ԴԵԿՏԵՄԲԵՐԻ 27-Ի N 2060-Ն ՈՐՈՇՄԱՆ NN 3 ԵՎ 4 ՀԱՎԵԼՎԱԾՆԵՐՈՒՄ ԿԱՏԱՐՎՈՂ ՓՈՓՈԽՈՒԹՅՈՒՆՆԵՐԸ ԵՎ ԼՐԱՑՈՒՄՆԵՐԸ
I6: հազար դրամներով
B7: Գործառական դասիչը | E7: Ծրագրային դասիչը | G7: Բյուջետային ծախսերի գործառական դասակարգման բաժինների, խմբերի և դասերի, բյուջետային ծրագրերի միջոցառումների, բյուջետային հատկացումների գլխավոր կարգադրիչների անվանումները | H7: Ցուցանիշների փոփոխությունը (ավելացումները նշված են դրական նշանով, նվազեցումները` փակագծերում)
B8: Բաժինը | C8: Խումբը | D8: Դասը | E8: Ծրագիր | F8: Միջոցառում | H8: Ինն ամիս | I8: Տարի
G9: ԸՆԴԱՄԵՆԸ | H9: =H11 -> 6764932.9 | I9: =I11 -> 9575787.1
G10: այդ թվում՝
G11: ՀՀ ՏԱՐԱԾՔԱՅԻՆ ԿԱՌԱՎԱՐՄԱՆ ԵՎ ԵՆԹԱԿԱՌՈՒՑՎԱԾՔՆԵՐԻ ՆԱԽԱՐԱՐՈՒԹՅՈՒՆ | H11: =H13 -> 6764932.9 | I11: =I13 -> 9575787.1
G12: այդ թվում`
B13: 04 | G13: ՏՆՏԵՍԱԿԱՆ ՀԱՐԱԲԵՐՈՒԹՅՈՒՆՆԵՐ | H13: =H15 -> 6764932.9 | I13: =I15 -> 9575787.1
G14: այդ թվում`
C15: 05 | G15: Տրանսպորտ | H15: =H17 -> 6764932.9 | I15: =I17 -> 9575787.1
G16: այդ թվում`
D17: 01 | G17: Ճանապարհային տրանսպորտ | H17: =+H19 -> 6764932.9 | I17: =+I19 -> 9575787.1
G18: այդ թվում`
E19: =+'h6'!B17 -> 1049 | G19: =+'h6'!D17 -> Ճանապարհային ցանցի բարելավում | H19: =+H21++H39+H59+H30+H71+H50 -> 6764932.9 | I19: =+I21++I39+I59+I30+I71+I50 -> 9575787.1
G20: այդ թվում`
F21: =+'h6'!C19 -> 11011 | G21: =+'h6'!D19 -> Ասիական զարգացման բանկի աջակցությամբ իրականացվող Հյուսիս-հարավ միջանցքի զարգացման ծրագրի համակարգում և կառավարում (Տրանշ 3) | H21: =+'h6'!E19 -> 10350 | I21: =+'h6'!H19 -> 14155
G22: =+'h6'!D20 -> այդ թվում` ըստ կատարողների
G23: =+'h6'!D21 -> ՀՀ տարածքային կառավարման և ենթակառուցվածքների նախարարություն | H23: =+'h6'!E21 -> 10350 | I23: =+'h6'!H21 -> 14155
G24: =+'h6'!D22 -> այդ թվում` բյուջետային ծախսերի տնտեսագիտական դասակարգման հոդվածներ
G25: =+'h6'!D23 -> ԸՆԴԱՄԵՆԸ ԾԱԽՍԵՐ | H25: =+'h6'!E23 -> 10350 | I25: =+'h6'!H23 -> 14155
G26: =+'h6'!D24 -> ԸՆԹԱՑԻԿ ԾԱԽՍԵՐ | H26: =+'h6'!E24 -> 10350 | I26: =+'h6'!H24 -> 14155
G27: =+'h6'!D25 -> ԱՇԽԱՏԱՆՔԻ ՎԱՐՁԱՏՐՈՒԹՅՈՒՆ | H27: =+'h6'!E25 -> 10350 | I27: =+'h6'!H25 -> 14155
G28: =+'h6'!D26 -> Դրամով վճարվող աշխատավարձեր և հավելավճարներ | H28: =+'h6'!E26 -> 10350 | I28: =+'h6'!H26 -> 14155
G29: =+'h6'!D27 -> - Աշխատողների աշխատավարձեր և հավելավճարներ | H29: =+'h6'!E27 -> 10350 | I29: =+'h6'!H27 -> 14155
F30: =+'h6'!C28 -> 11016 | G30: =+'h6'!D28 -> Ասիական զարգացման բանկի աջակցությամբ իրականացվող Հյուսիս-հարավ ճանապարհային միջանցքի զարգացման ծրագրի Սիսիան-Քաջարան 60կմ-ի ճանապարհի Հյուսիսային ենթահատվածի համակարգում և կառավարում | H30: =+'h6'!E28 -> -84258 | I30: =+'h6'!H28 -> -192256
G31: =+'h6'!D29 -> այդ թվում` ըստ կատարողների
G32: =+'h6'!D30 -> ՀՀ տարածքային կառավարման և ենթակառուցվածքների նախարարություն | H32: =+'h6'!E30 -> -84258 | I32: =+'h6'!H30 -> -192256
G33: =+'h6'!D31 -> այդ թվում` բյուջետային ծախսերի տնտեսագիտական դասակարգման հոդվածներ
G34: =+'h6'!D32 -> ԸՆԴԱՄԵՆԸ ԾԱԽՍԵՐ | H34: =+'h6'!E32 -> -84258 | I34: =+'h6'!H32 -> -192256
G35: =+'h6'!D33 -> ԸՆԹԱՑԻԿ ԾԱԽՍԵՐ | H35: =+'h6'!E33 -> -84258 | I35: =+'h6'!H33 -> -192256
G36: =+'h6'!D34 -> ԴՐԱՄԱՇՆՈՐՀՆԵՐ | H36: =+'h6'!E34 -> -84258 | I36: =+'h6'!H34 -> -192256
G37: =+'h6'!D35 -> Կապիտալ դրամաշնորհներ պետական հատվածի այլ մակարդակներին | H37: =+'h6'!E35 -> -84258 | I37: =+'h6'!H35 -> -192256
G38: =+'h6'!D36 -> - Այլ կապիտալ դրամաշնորհներ | H38: =+'h6'!E36 -> -84258 | I38: =+'h6'!H36 -> -192256
F39: =+'h6'!C37 -> 21006 | G39: =+'h6'!D37 -> Ասիական զարգացման բանկի աջակցությամբ իրականացվող Հյուսիս-հարավ միջանցքի զարգացման վարկային ծրագիր, Տրանշ 2 | H39: =+'h6'!E37 -> 6176932.9 | I39: =+'h6'!H37 -> 8987787.1
G40: =+'h6'!D38 -> այդ թվում` ըստ կատարողների
G41: =+'h6'!D39 -> ՀՀ տարածքային կառավարման և ենթակառուցվածքների նախարարություն | H41: =+'h6'!E39 -> 6176932.9 | I41: =+'h6'!H39 -> 8987787.1
G42: =+'h6'!D40 -> այդ թվում` բյուջետային ծախսերի տնտեսագիտական դասակարգման հոդվածներ
G43: =+'h6'!D41 -> ԸՆԴԱՄԵՆԸ ԾԱԽՍԵՐ | H43: =+'h6'!E41 -> 6176932.9 | I43: =+'h6'!H41 -> 8987787.1
G44: =+'h6'!D42 -> ՈՉ ՖԻՆԱՆՍԱԿԱՆ ԱԿՏԻՎՆԵՐԻ ԳԾՈՎ ԾԱԽՍԵՐ | H44: =+'h6'!E42 -> 6176932.9 | I44: =+'h6'!H42 -> 8987787.1
G45: =+'h6'!D43 -> ՀԻՄՆԱԿԱՆ ՄԻՋՈՑՆԵՐ | H45: =+'h6'!E43 -> 6176932.9 | I45: =+'h6'!H43 -> 8987787.1
G46: =+'h6'!D44 -> ՇԵՆՔԵՐ ԵՎ ՇԻՆՈՒԹՅՈՒՆՆԵՐ | H46: =+'h6'!E44 -> 6468529 | I46: =+'h6'!H44 -> 9178719
G47: =+'h6'!D45 -> - Շենքերի և շինությունների շինարարություն | H47: =+'h6'!E45 -> 6468529 | I47: =+'h6'!H45 -> 9178719
G48: =+'h6'!D46 -> ԱՅԼ ՀԻՄՆԱԿԱՆ ՄԻՋՈՑՆԵՐ | H48: =+'h6'!E46 -> -291596.1 | I48: =+'h6'!H46 -> -190931.9
G49: =+'h6'!D47 -> - Նախագծահետազոտական ծախսեր | H49: =+'h6'!E47 -> -291596.1 | I49: =+'h6'!H47 -> -190931.9
F50: =+'h6'!C48 -> 21009 | G50: =+'h6'!D48 -> Եվրոպական ներդրումային բանկի աջակցությամբ իրականացվող Հյուսիս-հարավ միջանցքի զարգացման վարկային ծրագիր, Տրանշ 3 | H50: =+'h6'!E48 -> 25050 | I50: =+'h6'!H48 -> 29050
G51: =+'h6'!D49 -> այդ թվում` ըստ կատարողների
G52: =+'h6'!D50 -> ՀՀ տարածքային կառավարման և ենթակառուցվածքների նախարարություն | H52: =+'h6'!E50 -> 25050 | I52: =+'h6'!H50 -> 29050
G53: =+'h6'!D51 -> այդ թվում` բյուջետային ծախսերի տնտեսագիտական դասակարգման հոդվածներ
G54: =+'h6'!D52 -> ԸՆԴԱՄԵՆԸ ԾԱԽՍԵՐ | H54: =+'h6'!E52 -> 25050 | I54: =+'h6'!H52 -> 29050
G55: =+'h6'!D53 -> ՈՉ ՖԻՆԱՆՍԱԿԱՆ ԱԿՏԻՎՆԵՐԻ ԳԾՈՎ ԾԱԽՍԵՐ | H55: =+'h6'!E53 -> 25050 | I55: =+'h6'!H53 -> 29050
G56: =+'h6'!D54 -> ՀԻՄՆԱԿԱՆ ՄԻՋՈՑՆԵՐ | H56: =+'h6'!E54 -> 25050 | I56: =+'h6'!H54 -> 29050
G57: =+'h6'!D55 -> ԱՅԼ ՀԻՄՆԱԿԱՆ ՄԻՋՈՑՆԵՐ | H57: =+'h6'!E55 -> 25050 | I57: =+'h6'!H55 -> 29050
G58: =+'h6'!D56 -> - Նախագծահետազոտական ծախսեր | H58: =+'h6'!E56 -> 25050 | I58: =+'h6'!H56 -> 29050
F59: =+'h6'!C57 -> 21011 | G59: =+'h6'!D57 -> Ասիական զարգացման բանկի աջակցությամբ իրականացվող Հյուսիս-հարավ միջանցքի զարգացման վարկային ծրագիր, Տրանշ 3 | H59: =+'h6'!E57 -> -314242 | I59: =+'h6'!H57 -> -214049
G60: =+'h6'!D58 -> այդ թվում` ըստ կատարողների
G61: =+'h6'!D59 -> ՀՀ տարածքային կառավարման և ենթակառուցվածքների նախարարություն | H61: =+'h6'!E59 -> -314242 | I61: =+'h6'!H59 -> -214049
G62: =+'h6'!D60 -> այդ թվում` բյուջետային ծախսերի տնտեսագիտական դասակարգման հոդվածներ
G63: =+'h6'!D61 -> ԸՆԴԱՄԵՆԸ ԾԱԽՍԵՐ | H63: =+'h6'!E61 -> -314242 | I63: =+'h6'!H61 -> -214049
G64: =+'h6'!D62 -> ՈՉ ՖԻՆԱՆՍԱԿԱՆ ԱԿՏԻՎՆԵՐԻ ԳԾՈՎ ԾԱԽՍԵՐ | H64: =+'h6'!E62 -> -314242 | I64: =+'h6'!H62 -> -214049
G65: =+'h6'!D63 -> ՀԻՄՆԱԿԱՆ ՄԻՋՈՑՆԵՐ | H65: =+'h6'!E63 -> -314242 | I65: =+'h6'!H63 -> -214049
G66: =+'h6'!D64 -> ՇԵՆՔԵՐ ԵՎ ՇԻՆՈՒԹՅՈՒՆՆԵՐ | H66: =+'h6'!E64 -> -303842 | I66: =+'h6'!H64 -> -207549
G67: =+'h6'!D65 -> - Շենքերի և շինությունների շինարարություն | H67: =+'h6'!E65 -> -368842 | I67: =+'h6'!H65 -> -368842
G68: =+'h6'!D66 -> - Շենքերի և շինությունների կապիտալ վերանորոգում | H68: =+'h6'!E66 -> 65000 | I68: =+'h6'!H66 -> 161293
G69: =+'h6'!D67 -> ԱՅԼ ՀԻՄՆԱԿԱՆ ՄԻՋՈՑՆԵՐ | H69: =+'h6'!E67 -> -10400 | I69: =+'h6'!H67 -> -6500
G70: =+'h6'!D68 -> - Նախագծահետազոտական ծախսեր | H70: =+'h6'!E68 -> -10400 | I70: =+'h6'!H68 -> -6500
F71: =+'h6'!C69 -> 21012 | G71: =+'h6'!D69 -> Եվրասիական զարգացման բանկի աջակցությամբ իրականացվող Հյուսիս-հարավ միջանցքի զարգացման ծրագիր | H71: =+'h6'!E69 -> 951100 | I71: =+'h6'!H69 -> 951100
G72: =+'h6'!D70 -> այդ թվում` ըստ կատարողների
G73: =+'h6'!D71 -> ՀՀ տարածքային կառավարման և ենթակառուցվածքների նախարարություն | H73: =+'h6'!E71 -> 951100 | I73: =+'h6'!H71 -> 951100
G74: =+'h6'!D72 -> այդ թվում` բյուջետային ծախսերի տնտեսագիտական դասակարգման հոդվածներ
G75: =+'h6'!D73 -> ԸՆԴԱՄԵՆԸ ԾԱԽՍԵՐ | H75: =+'h6'!E73 -> 951100 | I75: =+'h6'!H73 -> 951100
G76: =+'h6'!D74 -> ՈՉ ՖԻՆԱՆՍԱԿԱՆ ԱԿՏԻՎՆԵՐԻ ԳԾՈՎ ԾԱԽՍԵՐ | H76: =+'h6'!E74 -> 951100 | I76: =+'h6'!H74 -> 951100
G77: =+'h6'!D75 -> ՀԻՄՆԱԿԱՆ ՄԻՋՈՑՆԵՐ | H77: =+'h6'!E75 -> 951100 | I77: =+'h6'!H75 -> 951100
G78: =+'h6'!D76 -> ՇԵՆՔԵՐ ԵՎ ՇԻՆՈՒԹՅՈՒՆՆԵՐ | H78: =+'h6'!E76 -> 951100 | I78: =+'h6'!H76 -> 951100
G79: =+'h6'!D77 -> - Շենքերի և շինությունների շինարարություն | H79: =+'h6'!E77 -> 951100 | I79: =+'h6'!H77 -> 951100
D84: ՀԱՅԱՍՏԱՆԻ ՀԱՆՐԱՊԵՏՈՒԹՅԱՆ
D85: ՎԱՐՉԱՊԵՏԻ ԱՇԽԱՏԱԿԱԶՄԻ
D86: ՂԵԿԱՎԱՐ | G86: Ա. ՀԱՐՈՒԹՅՈՒՆՅԱՆ

Sheet h6
B1: Հավելված 6
B2: ՀՀ կառավարության 2025 թվականի
B3: -----------------ի N -----------Ն որոշման
B5: «ՀԱՅԱՍՏԱՆԻ ՀԱՆՐԱՊԵՏՈՒԹՅԱՆ 2025 ԹՎԱԿԱՆԻ ՊԵՏԱԿԱՆ ԲՅՈՒՋԵԻ ՄԱՍԻՆ» ՀԱՅԱՍՏԱՆԻ ՀԱՆՐԱՊԵՏՈՒԹՅԱՆ ՕՐԵՆՔԻ N 1 ՀԱՎԵԼՎԱԾԻ N 4 ԱՂՅՈՒՍԱԿՈՒՄ ԵՎ ՀԱՅԱՍՏԱՆԻ ՀԱՆՐԱՊԵՏՈՒԹՅԱՆ ԿԱՌԱՎԱՐՈՒԹՅԱՆ 2024 ԹՎԱԿԱՆԻ ԴԵԿՏԵՄԲԵՐԻ 27-Ի N 2060-Ն ՈՐՈՇՄԱՆ N 5 ՀԱՎԵԼՎԱԾԻ N 3 ԱՂՅՈՒՍԱԿՈՒՄ ԿԱՏԱՐՎՈՂ ՓՈՓՈԽՈՒԹՅՈՒՆՆԵՐԸ ԵՎ ԼՐԱՑՈՒՄՆԵՐԸ
I7: հազար դրամներով
B8: Ծրագրային դասիչը | D8: Բյուջետային հատկացումների գլխավոր կարգադրիչների, ծրագրերի, միջոցառումների և միջոցառումները կատարող պետական մարմինների անվանումները | E8: Ցուցանիշների փոփոխությունը (ավելացումները նշված են դրական նշանով, իսկ նվազեցումները` փակագծերում)
E9: Ինն ամիս | H9: Տարի
B10: Ծրագիր | C10: Միջոցառում | E10: Ընդամենը | F10: այդ թվում` | H10: Ընդամենը | I10: այդ թվում`
F11: Վարկային միջոցներ | G11: Համաֆինանսավորում | I11: Վարկային միջոցներ | J11: Համաֆինանսավորում
D12: ԸՆԴԱՄԵՆԸ | E12: =E14+E15 -> 6764932.9 | F12: =F14+F15 -> 0 | G12: =G14+G15 -> 6764932.9 | H12: =H14+H15 -> 9575787.1 | I12: =I14+I15 -> 0 | J12: =J14+J15 -> 9575787.1
D13: այդ թվում`
D14: ԸՆԹԱՑԻԿ ԾԱԽՍԵՐ | E14: =+F14+G14 -> -73908 | F14: =+F19+F28 -> 0 | G14: =+G19+G28 -> -73908 | H14: =+I14+J14 -> -178101 | I14: =+I19+I28 -> 0 | J14: =+J19+J28 -> -178101
D15: ՈՉ ՖԻՆԱՆՍԱԿԱՆ ԱԿՏԻՎՆԵՐԻ ԳԾՈՎ ԾԱԽՍԵՐ | E15: =+F15+G15 -> 6838840.9 | F15: =+F37+F57+F69+F48 -> 0 | G15: =+G37+G57+G69+G48 -> 6838840.9 | H15: =+I15+J15 -> 9753888.1 | I15: =+I37+I57+I69+I48 -> 0 | J15: =+J37+J57+J69+J48 -> 9753888.1
D16: ՀՀ տարածքային կառավարման և ենթակառուցվածքների նախարարություն | E16: =E17 -> 6764932.9 | F16: =F17 -> 0 | G16: =G17 -> 6764932.9 | H16: =H17 -> 9575787.1 | I16: =I17 -> 0 | J16: =J17 -> 9575787.1
B17: 1049 | D17: Ճանապարհային ցանցի բարելավում | E17: =+F17+G17 -> 6764932.9 | F17: =+F19+F37+F57+F28+F69+F48 -> 0 | G17: =+G19+G37+G57+G28+G69+G48 -> 6764932.9 | H17: =+I17+J17 -> 9575787.1 | I17: =+I19+I37+I57+I28+I69+I48 -> 0 | J17: =+J19+J37+J57+J28+J69+J48 -> 9575787.1
D18: այդ թվում`
C19: 11011 | D19: Ասիական զարգացման բանկի աջակցությամբ իրականացվող Հյուսիս-հարավ միջանցքի զարգացման ծրագրի համակարգում և կառավարում (Տրանշ 3) | E19: =F19+G19 -> 10350 | F19: =F21 -> 0 | G19: =G21 -> 10350 | H19: =I19+J19 -> 14155 | I19: =I21 -> 0 | J19: =J21 -> 14155
D20: այդ թվում` ըստ կատարողների
D21: ՀՀ տարածքային կառավարման և ենթակառուցվածքների նախարարություն | E21: =F21+G21 -> 10350 | F21: =F23 -> 0 | G21: =G23 -> 10350 | H21: =I21+J21 -> 14155 | I21: =I23 -> 0 | J21: =J23 -> 14155
D22: այդ թվում` բյուջետային ծախսերի տնտեսագիտական դասակարգման հոդվածներ
D23: ԸՆԴԱՄԵՆԸ ԾԱԽՍԵՐ | E23: =F23+G23 -> 10350 | F23: =F24 -> 0 | G23: =G24 -> 10350 | H23: =I23+J23 -> 14155 | I23: =I24 -> 0 | J23: =J24 -> 14155
D24: ԸՆԹԱՑԻԿ ԾԱԽՍԵՐ | E24: =F24+G24 -> 10350 | F24: =+F25 -> 0 | G24: =+G25 -> 10350 | H24: =I24+J24 -> 14155 | I24: =+I25 -> 0 | J24: =+J25 -> 14155
D25: ԱՇԽԱՏԱՆՔԻ ՎԱՐՁԱՏՐՈՒԹՅՈՒՆ | E25: =F25+G25 -> 10350 | F25: =F26 -> 0 | G25: =G26 -> 10350 | H25: =I25+J25 -> 14155 | I25: =I26 -> 0 | J25: =J26 -> 14155
D26: Դրամով վճարվող աշխատավարձեր և հավելավճարներ | E26: =F26+G26 -> 10350 | F26: =F27 -> 0 | G26: =G27 -> 10350 | H26: =I26+J26 -> 14155 | I26: =I27 -> 0 | J26: =J27 -> 14155
D27: - Աշխատողների աշխատավարձեր և հավելավճարներ | E27: =F27+G27 -> 10350 | F27: 0 | G27: 10350 | H27: =I27+J27 -> 14155 | J27: =G27+3805 -> 14155
C28: 11016 | D28: Ասիական զարգացման բանկի աջակցությամբ իրականացվող Հյուսիս-հարավ ճանապարհային միջանցքի զարգացման ծրագրի Սիսիան-Քաջարան 60կմ-ի ճանապարհի Հյուսիսային ենթահատվածի համակարգում և կառավարում | E28: =F28+G28 -> -84258 | F28: =F30 -> 0 | G28: =G30 -> -84258 | H28: =I28+J28 -> -192256 | I28: =I30 -> 0 | J28: =J30 -> -192256
D29: այդ թվում` ըստ կատարողների
D30: ՀՀ տարածքային կառավարման և ենթակառուցվածքների նախարարություն | E30: =F30+G30 -> -84258 | F30: =F32 -> 0 | G30: =G32 -> -84258 | H30: =I30+J30 -> -192256 | I30: =I32 -> 0 | J30: =J32 -> -192256
D31: այդ թվում` բյուջետային ծախսերի տնտեսագիտական դասակարգման հոդվածներ
D32: ԸՆԴԱՄԵՆԸ ԾԱԽՍԵՐ | E32: =F32+G32 -> -84258 | F32: =F33 -> 0 | G32: =G33 -> -84258 | H32: =I32+J32 -> -192256 | I32: =I33 -> 0 | J32: =J33 -> -192256
D33: ԸՆԹԱՑԻԿ ԾԱԽՍԵՐ | E33: =F33+G33 -> -84258 | F33: =+F34 -> 0 | G33: =+G34 -> -84258 | H33: =I33+J33 -> -192256 | I33: =+I34 -> 0 | J33: =+J34 -> -192256
D34: ԴՐԱՄԱՇՆՈՐՀՆԵՐ | E34: =F34+G34 -> -84258 | F34: =F35 -> 0 | G34: =G35 -> -84258 | H34: =I34+J34 -> -192256 | I34: =I35 -> 0 | J34: =J35 -> -192256
D35: Կապիտալ դրամաշնորհներ պետական հատվածի այլ մակարդակներին | E35: =F35+G35 -> -84258 | F35: =F36 -> 0 | G35: =G36 -> -84258 | H35: =I35+J35 -> -192256 | I35: =I36 -> 0 | J35: =J36 -> -192256
D36: - Այլ կապիտալ դրամաշնորհներ | E36: =F36+G36 -> -84258 | F36: 0 | G36: -84258 | H36: =I36+J36 -> -192256 | I36: =F36 -> 0 | J36: =-184508-5898-1850 -> -192256
C37: 21006 | D37: Ասիական զարգացման բանկի աջակցությամբ իրականացվող Հյուսիս-հարավ միջանցքի զարգացման վարկային ծրագիր, Տրանշ 2 | E37: =F37+G37 -> 6176932.9 | F37: =F39 -> -588000 | G37: =G39 -> 6764932.9 | H37: =I37+J37 -> 8987787.1 | I37: =I39 -> -588000 | J37: =J39 -> 9575787.1
D38: այդ թվում` ըստ կատարողների
D39: ՀՀ տարածքային կառավարման և ենթակառուցվածքների նախարարություն | E39: =F39+G39 -> 6176932.9 | F39: =F41 -> -588000 | G39: =G41 -> 6764932.9 | H39: =I39+J39 -> 8987787.1 | I39: =I41 -> -588000 | J39: =J41 -> 9575787.1
D40: այդ թվում` բյուջետային ծախսերի տնտեսագիտական դասակարգման հոդվածներ
D41: ԸՆԴԱՄԵՆԸ ԾԱԽՍԵՐ | E41: =F41+G41 -> 6176932.9 | F41: =F42 -> -588000 | G41: =G42 -> 6764932.9 | H41: =I41+J41 -> 8987787.1 | I41: =I42 -> -588000 | J41: =J42 -> 9575787.1
D42: ՈՉ ՖԻՆԱՆՍԱԿԱՆ ԱԿՏԻՎՆԵՐԻ ԳԾՈՎ ԾԱԽՍԵՐ | E42: =F42+G42 -> 6176932.9 | F42: =F43 -> -588000 | G42: =G43 -> 6764932.9 | H42: =I42+J42 -> 8987787.1 | I42: =I43 -> -588000 | J42: =J43 -> 9575787.1
D43: ՀԻՄՆԱԿԱՆ ՄԻՋՈՑՆԵՐ | E43: =F43+G43 -> 6176932.9 | F43: =F44+F46 -> -588000 | G43: =G44+G46 -> 6764932.9 | H43: =I43+J43 -> 8987787.1 | I43: =I44+I46 -> -588000 | J43: =J44+J46 -> 9575787.1
D44: ՇԵՆՔԵՐ ԵՎ ՇԻՆՈՒԹՅՈՒՆՆԵՐ | E44: =F44+G44 -> 6468529 | F44: =F45 -> -110000 | G44: =G45 -> 6578529 | H44: =I44+J44 -> 9178719 | I44: =I45 -> -110000 | J44: =J45 -> 9288719
D45: - Շենքերի և շինությունների շինարարություն | E45: =F45+G45 -> 6468529 | F45: -110000 | G45: 6578529 | H45: =I45+J45 -> 9178719 | I45: =F45 -> -110000 | J45: =+G45+7000000*387.17/1000 -> 9288719
D46: ԱՅԼ ՀԻՄՆԱԿԱՆ ՄԻՋՈՑՆԵՐ | E46: =F46+G46 -> -291596.1 | F46: =F47 -> -478000 | G46: =G47 -> 186403.9 | H46: =I46+J46 -> -190931.9 | I46: =I47 -> -478000 | J46: =J47 -> 287068.1
D47: - Նախագծահետազոտական ծախսեր | E47: =F47+G47 -> -291596.1 | F47: -478000 | G47: 186403.9 | H47: =I47+J47 -> -190931.9 | I47: =F47 -> -478000 | J47: =G47+(210+50)*387.17 -> 287068.1
C48: 21009 | D48: Եվրոպական ներդրումային բանկի աջակցությամբ իրականացվող Հյուսիս-հարավ միջանցքի զարգացման վարկային ծրագիր, Տրանշ 3 | E48: =F48+G48 -> 25050 | F48: =F50 -> 10000 | G48: =G50 -> 15050 | H48: =I48+J48 -> 29050 | I48: =I50 -> 10000 | J48: =J50 -> 19050
D49: այդ թվում` ըստ կատարողների
D50: ՀՀ տարածքային կառավարման և ենթակառուցվածքների նախարարություն | E50: =F50+G50 -> 25050 | F50: =F52 -> 10000 | G50: =G52 -> 15050 | H50: =I50+J50 -> 29050 | I50: =I52 -> 10000 | J50: =J52 -> 19050
D51: այդ թվում` բյուջետային ծախսերի տնտեսագիտական դասակարգման հոդվածներ
D52: ԸՆԴԱՄԵՆԸ ԾԱԽՍԵՐ | E52: =F52+G52 -> 25050 | F52: =F53 -> 10000 | G52: =G53 -> 15050 | H52: =I52+J52 -> 29050 | I52: =I53 -> 10000 | J52: =J53 -> 19050
D53: ՈՉ ՖԻՆԱՆՍԱԿԱՆ ԱԿՏԻՎՆԵՐԻ ԳԾՈՎ ԾԱԽՍԵՐ | E53: =F53+G53 -> 25050 | F53: =F54 -> 10000 | G53: =G54 -> 15050 | H53: =I53+J53 -> 29050 | I53: =I54 -> 10000 | J53: =J54 -> 19050
D54: ՀԻՄՆԱԿԱՆ ՄԻՋՈՑՆԵՐ | E54: =F54+G54 -> 25050 | F54: =+F55 -> 10000 | G54: =+G55 -> 15050 | H54: =I54+J54 -> 29050 | I54: =+I55 -> 10000 | J54: =+J55 -> 19050
D55: ԱՅԼ ՀԻՄՆԱԿԱՆ ՄԻՋՈՑՆԵՐ | E55: =F55+G55 -> 25050 | F55: =F56 -> 10000 | G55: =G56 -> 15050 | H55: =I55+J55 -> 29050 | I55: =I56 -> 10000 | J55: =J56 -> 19050
D56: - Նախագծահետազոտական ծախսեր | E56: =F56+G56 -> 25050 | F56: 10000 | G56: 15050 | H56: =I56+J56 -> 29050 | I56: =+F56 -> 10000 | J56: =+G56+4000 -> 19050
C57: 21011 | D57: Ասիական զարգացման բանկի աջակցությամբ իրականացվող Հյուսիս-հարավ միջանցքի զարգացման վարկային ծրագիր, Տրանշ 3 | E57: =F57+G57 -> -314242 | F57: =F59 -> -373100 | G57: =G59 -> 58858 | H57: =I57+J57 -> -214049 | I57: =I59 -> -373100 | J57: =J59 -> 159051
D58: այդ թվում` ըստ կատարողների
D59: ՀՀ տարածքային կառավարման և ենթակառուցվածքների նախարարություն | E59: =F59+G59 -> -314242 | F59: =F61 -> -373100 | G59: =G61 -> 58858 | H59: =I59+J59 -> -214049 | I59: =I61 -> -373100 | J59: =J61 -> 159051
D60: այդ թվում` բյուջետային ծախսերի տնտեսագիտական դասակարգման հոդվածներ
D61: ԸՆԴԱՄԵՆԸ ԾԱԽՍԵՐ | E61: =F61+G61 -> -314242 | F61: =F62 -> -373100 | G61: =G62 -> 58858 | H61: =I61+J61 -> -214049 | I61: =I62 -> -373100 | J61: =J62 -> 159051
D62: ՈՉ ՖԻՆԱՆՍԱԿԱՆ ԱԿՏԻՎՆԵՐԻ ԳԾՈՎ ԾԱԽՍԵՐ | E62: =F62+G62 -> -314242 | F62: =F63 -> -373100 | G62: =G63 -> 58858 | H62: =I62+J62 -> -214049 | I62: =I63 -> -373100 | J62: =J63 -> 159051
D63: ՀԻՄՆԱԿԱՆ ՄԻՋՈՑՆԵՐ | E63: =F63+G63 -> -314242 | F63: =F64+F67 -> -373100 | G63: =G64+G67 -> 58858 | H63: =I63+J63 -> -214049 | I63: =I64+I67 -> -373100 | J63: =J64+J67 -> 159051
D64: ՇԵՆՔԵՐ ԵՎ ՇԻՆՈՒԹՅՈՒՆՆԵՐ | E64: =E66+E65 -> -303842 | F64: =F66+F65 -> -360100 | G64: =G66+G65 -> 56258 | H64: =H66+H65 -> -207549 | I64: =I66+I65 -> -360100 | J64: =J66+J65 -> 152551
D65: - Շենքերի և շինությունների շինարարություն | E65: =F65+G65 -> -368842 | F65: -360100 | G65: -8742 | H65: =I65+J65 -> -368842 | I65: =+F65 -> -360100 | J65: =+G65 -> -8742
D66: - Շենքերի և շինությունների կապիտալ վերանորոգում | E66: =F66+G66 -> 65000 | F66: 0 | G66: 65000 | H66: =I66+J66 -> 161293 | I66: 0 | J66: 161293
D67: ԱՅԼ ՀԻՄՆԱԿԱՆ ՄԻՋՈՑՆԵՐ | E67: =F67+G67 -> -10400 | F67: =F68 -> -13000 | G67: =G68 -> 2600 | H67: =I67+J67 -> -6500 | I67: =I68 -> -13000 | J67: =J68 -> 6500
D68: - Նախագծահետազոտական ծախսեր | E68: =F68+G68 -> -10400 | F68: -13000 | G68: 2600 | H68: =I68+J68 -> -6500 | I68: =+F68 -> -13000 | J68: =G68+3900 -> 6500
C69: 21012 | D69: Եվրասիական զարգացման բանկի աջակցությամբ իրականացվող Հյուսիս-հարավ միջանցքի զարգացման ծրագիր | E69: =F69+G69 -> 951100 | F69: =F71 -> 951100 | G69: =G71 -> 0 | H69: =I69+J69 -> 951100 | I69: =I71 -> 951100 | J69: =J71 -> 0
D70: այդ թվում` ըստ կատարողների
D71: ՀՀ տարածքային կառավարման և ենթակառուցվածքների նախարարություն | E71: =F71+G71 -> 951100 | F71: =F73 -> 951100 | G71: =G73 -> 0 | H71: =I71+J71 -> 951100 | I71: =I73 -> 951100 | J71: =J73 -> 0
D72: այդ թվում` բյուջետային ծախսերի տնտեսագիտական դասակարգման հոդվածներ
D73: ԸՆԴԱՄԵՆԸ ԾԱԽՍԵՐ | E73: =F73+G73 -> 951100 | F73: =F74 -> 951100 | G73: =G74 -> 0 | H73: =I73+J73 -> 951100 | I73: =I74 -> 951100 | J73: =J74 -> 0
D74: ՈՉ ՖԻՆԱՆՍԱԿԱՆ ԱԿՏԻՎՆԵՐԻ ԳԾՈՎ ԾԱԽՍԵՐ | E74: =F74+G74 -> 951100 | F74: =F75 -> 951100 | G74: =G75 -> 0 | H74: =I74+J74 -> 951100 | I74: =I75 -> 951100 | J74: =J75 -> 0
D75: ՀԻՄՆԱԿԱՆ ՄԻՋՈՑՆԵՐ | E75: =F75+G75 -> 951100 | F75: =F76 -> 951100 | G75: =G76 -> 0 | H75: =I75+J75 -> 951100 | I75: =I76 -> 951100 | J75: =J76 -> 0
D76: ՇԵՆՔԵՐ ԵՎ ՇԻՆՈՒԹՅՈՒՆՆԵՐ | E76: =F76+G76 -> 951100 | F76: =+F77 -> 951100 | G76: =+G77 -> 0 | H76: =I76+J76 -> 951100 | I76: =+I77 -> 951100 | J76: =+J77 -> 0
D77: - Շենքերի և շինությունների շինարարություն | E77: =F77+G77 -> 951100 | F77: 951100 | G77: 0 | H77: =I77+J77 -> 951100 | I77: =+F77 -> 951100 | J77: =+G77 -> 0
D80: ՀԱՅԱՍՏԱՆԻ ՀԱՆՐԱՊԵՏՈՒԹՅԱՆ ՎԱՐՉԱՊԵՏԻ ԱՇԽԱՏԱԿԱԶՄԻ ՂԵԿԱՎԱՐ
F81: Ա. ՀԱՐՈՒԹՅՈՒՆՅԱՆ

Sheet հ7
J1: Հավելված № 7
K2: ՀՀ կառավարության 2025 թվականի
K3: -----------------ի N -----------Ն որոշման
A5: ՀԱՅԱՍՏԱՆԻ ՀԱՆՐԱՊԵՏՈՒԹՅԱՆ ԿԱՌԱՎԱՐՈՒԹՅԱՆ 2024 ԹՎԱԿԱՆԻ ԴԵԿՏԵՄԲԵՐԻ 27-Ի № 2060-Ն ՈՐՈՇՄԱՆ № 9 ՀԱՎԵԼՎԱԾԻ ԱՂՅՈՒՍԱԿՆԵՐՈՒՄ ԿԱՏԱՐՎՈՂ ՓՈՓՈԽՈՒԹՅՈՒՆՆԵՐԸ ԵՎ ԼՐԱՑՈՒՄՆԵՐԸ
K7: հազար դրամներով
A8: ԲԳԿ | B8: Ծրագիր | D8: Միջոցառում | H8: Իրականացնողը/ ակտիվն օգտագործողը/ շահառուի ընտրության չափորոշիչը | I8: Արդյունքային չափորոշիչը | J8: Ցուցանիշների փոփոխությունը (ավելացումները նշված են դրական նշանով, իսկ նվազեցումները` փակագծերում)
B9: Դասիչը | C9: Անվանումը | D9: Դասիչը | E9: Անվանումը | F9: Նկարագրությունը | G9: Տեսակը | J9: Ինն ամիս | K9: Տարի
A10: ԸՆԴԱՄԵՆԸ | J10: =J11 -> 6764932.9 | K10: =K11 -> 9575787.1
A11: ՀՀ տարածքային կառավարման և ենթակառուցվածքների նախարարություն | J11: =+J12 -> 6764932.9 | K11: =+K12 -> 9575787.1
B12: 1049 | C12: Ճանապարհային ցանցի բարելավում | J12: =+J13++J22+J33+J17+J41+J26 -> 6764932.9 | K12: =+K13++K22+K33+K17+K41+K26 -> 9575787.1
D13: 1049 - 11011 | E13: Ասիական զարգացման բանկի աջակցությամբ իրականացվող Հյուսիս-հարավ միջանցքի զարգացման ծրագրի համակարգում և կառավարում (Տրանշ 3) | J13: =+'h5'!H21 -> 10350 | K13: =+'h5'!I21 -> 14155
F14: Խորհրդատվական ծառայություններ և պահպանման ծախսեր
G15: Ծառայությունների մատուցում
H16: Ծառայությունը մատուցողի անվանումը` Մասնագիտացված միավոր
D17: 1049 - 11016 | E17: =+հ8!E16 -> Ասիական զարգացման բանկի աջակցությամբ իրականացվող Հյուսիս-հարավ ճանապարհային միջանցքի զարգացման ծրագրի Սիսիան-Քաջարան 60կմ-ի ճանապարհի Հյուսիսային ենթահատվածի համակարգում և կառավարում | J17: =+'h5'!H30 -> -84258 | K17: =+'h5'!I30 -> -192256
F18: Խորհրդատվական ծառայություններ և պահպանման ծախսեր
G19: Ծառայությունների մատուցում
H20: Ծառայությունը մատուցողի անվանումը` Մասնագիտացված միավոր
I21: Միջոցառման շրջանակներում իրականացվող ծախսերի կատարման տոկոս (ծրագրի սկզբից ներառյալ հաշվետու տարին) | K21: -2.5
D22: 1049 - 21006 | E22: Ասիական զարգացման բանկի աջակցությամբ իրականացվող Հյուսիս-հարավ միջանցքի զարգացման վարկային ծրագիր, Տրանշ 2 | J22: =+'h5'!H39 -> 6176932.9 | K22: =+'h5'!I39 -> 8987787.1
F23: Աշտարակ-Թալին 29+600կմ-71+500կմ հատվածի կառուցում
G24: Հանրության կողմից անմիջականորեն օգտագործվող ակտիվների հետ կապված միջոցառումներ
H25: Միջոցառումն իրականացնողի անվանումը` Մասնագիտացված միավոր
D26: 1049 - 21009 | E26: Եվրոպական ներդրումային բանկի աջակցությամբ իրականացվող Հյուսիս-հարավ միջանցքի զարգացման վարկային ծրագիր, Տրանշ 3 | J26: =+'h5'!H50 -> 25050 | K26: =+'h5'!I50 -> 29050
F27: Լանջիկ-Գյումրի 27.47 կմ երկարությամբ ճանապարհային հատվածի կառուցում
G28: Հանրության կողմից անմիջականորեն օգտագործվող ակտիվների հետ կապված միջոցառումներ
H29: Միջոցառումն իրականացնողի անվանումը` Մասնագիտացված միավոր
I30: Պայմանագրերի քանակը, հատ այդ թվում՛ | K30: 3
I31: Տեխնիկական հսկողություն, հատ | K31: 1
I32: ՀՕՏԾ նախագծող, իրականացնող, հատ | K32: 1
D33: 1049 - 21011 | E33: Ասիական զարգացման բանկի աջակցությամբ իրականացվող Հյուսիս-հարավ միջանցքի զարգացման վարկային ծրագիր, Տրանշ 3 | J33: =+'h5'!H59 -> -314242 | K33: =+'h5'!I59 -> -214049
F34: Հատված Թալին-Լանջիկ 71+500 կմ-90+200 կմ կառուցման շինարարական աշխատանքներ
G35: Հանրության կողմից անմիջականորեն օգտագործվող ակտիվների հետ կապված միջոցառումներ
H36: Միջոցառումն իրականացնողի անվանումը` Մասնագիտացված միավոր
I37: Պայմանագրերի քանակը, հատ այդ թվում՛ | K37: 4
I38: Տեխնիկական հսկողություն, հատ | K38: 1
I39: Հեղինակային հսկողություն, հատ | K39: 1
I40: Կապալառուների քանակը, հատ | K40: 1
D41: 1049 - 21012 | E41: Եվրասիական զարգացման բանկի աջակցությամբ իրականացվող Հյուսիս-հարավ միջանցքի զարգացման ծրագիր | J41: =+'h5'!H71 -> 951100 | K41: =+'h5'!I71 -> 951100
F42: Ճանապարհաշինական աշխատանքներ
G43: Հանրության կողմից անմիջականորեն օգտագործվող ակտիվների հետ կապված միջոցառումներ
H44: Միջոցառումն իրականացնողի անվանումը` Մասնագիտացված միավոր
C47: ՀԱՅԱՍՏԱՆԻ ՀԱՆՐԱՊԵՏՈՒԹՅԱՆ
C48: ՎԱՐՉԱՊԵՏԻ ԱՇԽԱՏԱԿԱԶՄԻ
D49: ՂԵԿԱՎԱՐ ՝ Ա. ՀԱՐՈՒԹՅՈՒՆՅԱՆ

Sheet հ8
J1: Հավելված № 8
K2: ՀՀ կառավարության 2025 թվականի
K3: -----------------ի N -----------Ն որոշման
A5: ՀԱՅԱՍՏԱՆԻ ՀԱՆՐԱՊԵՏՈՒԹՅԱՆ ԿԱՌԱՎԱՐՈՒԹՅԱՆ 2024 ԹՎԱԿԱՆԻ ԴԵԿՏԵՄԲԵՐԻ 27-Ի № 2060-Ն ՈՐՈՇՄԱՆ № 9.1 ՀԱՎԵԼՎԱԾԻ ԱՂՅՈՒՍԱԿՆԵՐՈՒՄ ԿԱՏԱՐՎՈՂ ՓՈՓՈԽՈՒԹՅՈՒՆՆԵՐԸ ԵՎ ԼՐԱՑՈՒՄՆԵՐԸ
K6: հազար դրամներով
A7: ԲՍԿ | B7: Ծրագիր | D7: Միջոցառում | H7: Իրականացնողը/ ակտիվն օգտագործողը/ շահառուի ընտրության չափորոշիչը | I7: Արդյունքային չափորոշիչը | J7: Ցուցանիշների փոփոխությունը (ավելացումները նշված են դրական նշանով, իսկ նվազեցումները` փակագծերում)
B8: Դասիչը | C8: Անվանումը | D8: Դասիչը | E8: Անվանումը | F8: Նկարագրությունը | G8: Տեսակը | J8: Ինն ամիս | K8: Տարի
A9: ԸՆԴԱՄԵՆԸ | J9: =J10 -> 6764932.9 | K9: =K10 -> 9575787.1
A10: ՀՀ տարածքային կառավարման և ենթակառուցվածքների նախարարություն | J10: =+J11 -> 6764932.9 | K10: =+K11 -> 9575787.1
B11: 1049 | C11: Ճանապարհային ցանցի բարելավում | J11: =+J12+J21+J32+J16+J40+J25 -> 6764932.9 | K11: =+K12+K21+K32+K16+K40+K25 -> 9575787.1
D12: 1049 - 11011 | E12: Ասիական զարգացման բանկի աջակցությամբ իրականացվող Հյուսիս-հարավ միջանցքի զարգացման ծրագրի համակարգում և կառավարում (Տրանշ 3) | J12: =+'h5'!H21 -> 10350 | K12: =+'h5'!I21 -> 14155
F13: Խորհրդատվական ծառայություններ և պահպանման ծախսեր
G14: Ծառայությունների մատուցում
H15: Ծառայությունը մատուցողի անվանումը` Մասնագիտացված միավոր
D16: 1049 - 11016 | E16: Ասիական զարգացման բանկի աջակցությամբ իրականացվող Հյուսիս-հարավ ճանապարհային միջանցքի զարգացման ծրագրի Սիսիան-Քաջարան 60կմ-ի ճանապարհի Հյուսիսային ենթահատվածի համակարգում և կառավարում | J16: =+'h5'!H30 -> -84258 | K16: =+'h5'!I30 -> -192256
F17: Խորհրդատվական ծառայություններ և պահպանման ծախսեր
G18: Ծառայությունների մատուցում
H19: Ծառայությունը մատուցողի անվանումը` Մասնագիտացված միավոր
I20: Միջոցառման շրջանակներումիրականացվող ծախսերի կատարման տոկոս (ծրագրի սկզբից ներառյալ հաշվետու տարին) | K20: -2.5
D21: =+հ7!D22 -> 1049 - 21006 | E21: Ասիական զարգացման բանկի աջակցությամբ իրականացվող Հյուսիս-հարավ միջանցքի զարգացման վարկային ծրագիր, Տրանշ 2 | J21: =+'h5'!H39 -> 6176932.9 | K21: =+'h5'!I39 -> 8987787.1
F22: Աշտարակ-Թալին 29+600կմ-71+500կմ հատվածի կառուցում
G23: Հանրության կողմից անմիջականորեն օգտագործվող ակտիվների հետ կապված միջոցառումներ
H24: Միջոցառումն իրականացնողի անվանումը` Մասնագիտացված միավոր
D25: 1049 - 21009 | E25: Եվրոպական ներդրումային բանկի աջակցությամբ իրականացվող Հյուսիս-հարավ միջանցքի զարգացման վարկային ծրագիր, Տրանշ 3 | J25: =+'h5'!H50 -> 25050 | K25: =+'h5'!I50 -> 29050
F26: Լանջիկ-Գյումրի 27.47 կմ երկարությամբ ճանապարհային հատվածի կառուցում
G27: Հանրության կողմից անմիջականորեն օգտագործվող ակտիվների հետ կապված միջոցառումներ
H28: Միջոցառումն իրականացնողի անվանումը` Մասնագիտացված միավոր
I29: Պայմանագրերի քանակը, հատ այդ թվում՛ | K29: 3
I30: Տեխնիկական հսկողություն, հատ | K30: 1
I31: ՀՕՏԾ նախագծող, իրականացնող, հատ | K31: 1
D32: 1049 - 21011 | E32: Ասիական զարգացման բանկի աջակցությամբ իրականացվող Հյուսիս-հարավ միջանցքի զարգացման վարկային ծրագիր, Տրանշ 3 | J32: =+'h5'!H59 -> -314242 | K32: =+'h5'!I59 -> -214049
F33: Հատված Թալին-Լանջիկ 71+500 կմ-90+200 կմ կառուցման շինարարական աշխատանքներ
G34: Հանրության կողմից անմիջականորեն օգտագործվող ակտիվների հետ կապված միջոցառումներ
H35: Միջոցառումն իրականացնողի անվանումը` Մասնագիտացված միավոր
I36: Պայմանագրերի քանակը, հատ այդ թվում՛ | K36: 4
I37: Տեխնիկական հսկողություն, հատ | K37: 1
I38: Հեղինակային հսկողություն, հատ | K38: 1
I39: Կապալառուների քանակը, հատ | K39: 1
D40: 1049 - 21012 | E40: Եվրասիական զարգացման բանկի աջակցությամբ իրականացվող Հյուսիս-հարավ միջանցքի զարգացման ծրագիր | J40: =+'h5'!H71 -> 951100 | K40: =+'h5'!I71 -> 951100
F41: Ճանապարհաշինական աշխատանքներ
G42: Հանրության կողմից անմիջականորեն օգտագործվող ակտիվների հետ կապված միջոցառումներ
H43: Միջոցառումն իրականացնողի անվանումը` Մասնագիտացված միավոր
C47: ՀԱՅԱՍՏԱՆԻ ՀԱՆՐԱՊԵՏՈՒԹՅԱՆ
C48: ՎԱՐՉԱՊԵՏԻ ԱՇԽԱՏԱԿԱԶՄԻ
D49: ՂԵԿԱՎԱՐ ՝ Ա. ՀԱՐՈՒԹՅՈՒՆՅԱՆ
