Workbook
Name _tab10: #REF!
Name _tab11: #REF!
Name _tab12: #REF!
Name _tab13: #REF!
Name _tab14: #REF!
Name _tab15: #REF!
Name _tab16: #REF!
Name _tab17: #REF!
Name _tab18: #REF!
Name _tab19: #REF!
Name _tab20: #REF!
Name _tab21: #REF!
Name _tab22: #REF!
Name _tab23: #REF!
Name _tab24: #REF!
Name _tab5: #REF!
Name _tab6: #REF!
Name _tab7: #REF!
Name _tab8: #REF!
Name _tab9: #REF!
Name AgencyCode: #REF!
Name AgencyCode: #REF!
Name AgencyName: #REF!
Name AgencyName: #REF!
Name åû: #REF!
Name åû: #REF!
Name davit: #REF!
Name davit: #REF!
Name Functional1: #REF!
Name Functional1: #REF!
Name ggg: #REF!
Name ggg: #REF!
Name hav: #REF!
Name havelvac: #REF!
Name mas: #REF!
Name mas: #REF!
Name mass: #REF!
Name mass: #REF!
Name PANature: #REF!
Name PANature: #REF!
Name par_count: #REF!,#REF!,#REF!,#REF!,#REF!,#REF!,#REF!,#REF!,#REF!,#REF!,#REF!,#REF!,#REF!,#REF!,#REF!
Name par_qual: #REF!,#REF!,#REF!,#REF!,#REF!
Name par_time: #REF!,#REF!,#REF!,#REF!
Name par2.12s: #REF!
Name par2.4s: #REF!,#REF!,#REF!,#REF!,#REF!,#REF!,#REF!,#REF!,#REF!,#REF!,#REF!,#REF!,#REF!,#REF!,#REF!,#REF!
Name par2.5s: #REF!,#REF!
Name par2.6s: #REF!,#REF!,#REF!,#REF!
Name par2.7s: #REF!,#REF!
Name par2.9s: #REF!,#REF!,#REF!,#REF!,#REF!,#REF!,#REF!,#REF!,#REF!,#REF!,#REF!,#REF!,#REF!,#REF!,#REF!,#REF!
Name par4.10s: #REF!,#REF!
Name par4.11d: #REF!,#REF!,#REF!,#REF!,#REF!
Name par4.12d: #REF!
Name par4.13s: #REF!
Name par4.14: #REF!,#REF!,#REF!,#REF!,#REF!,#REF!
Name par4.15: #REF!,#REF!,#REF!
Name par4.16: #REF!,#REF!,#REF!
Name par4.17: #REF!,#REF!,#REF!,#REF!
Name par4.18d: #REF!,#REF!
Name par4.19s: #REF!
Name par4.20f: #REF!

Sheet h1
B1: Հավելված N 1
B2: ՀՀ կառավարության 2025 թվականի
B3: ______________ ի ___Ն որոշման
B6: «ՀԱՅԱՍՏԱՆԻ ՀԱՆՐԱՊԵՏՈՒԹՅԱՆ 2025 ԹՎԱԿԱՆԻ ՊԵՏԱԿԱՆ ԲՅՈՒՋԵԻ ՄԱՍԻՆ» ՕՐԵՆՔԻ 2-ՐԴ ՀՈԴՎԱԾԻ ԱՂՅՈՒՍԱԿՈՒՄ ԿԱՏԱՐՎՈՂ ԼՐԱՑՈՒՄՆԵՐԸ
C8: հազար դրամներով
C9: Ցուցանիշների փոփոխությունը (ավելացումները նշված են դրական նշանով)
B10: 1. Եկամուտների գծով | C10: =+'h2'!D12 -> 9575787.1
B11: 2. Ծախսերի գծով | C11: =C10 -> 9575787.1
B12: 3. Դեֆիցիտը (պակասուրդը) | C12: =C10-C11 -> 0
B16: ՀԱՅԱՍՏԱՆԻ ՀԱՆՐԱՊԵՏՈՒԹՅԱՆ ՎԱՐՉԱՊԵՏԻ ԱՇԽԱՏԱԿԱԶՄԻ ՂԵԿԱՎԱՐ | C16: Ա. ՀԱՐՈՒԹՅՈՒՆՅԱՆ

Sheet h2
B1: Հավելված N 2
B2: ՀՀ կառավարության 2025 թվականի
B3: ______________ ի ___Ն որոշման
B5: «ՀԱՅԱՍՏԱՆԻ ՀԱՆՐԱՊԵՏՈՒԹՅԱՆ 2025 ԹՎԱԿԱՆԻ ՊԵՏԱԿԱՆ ԲՅՈՒՋԵԻ ՄԱՍԻՆ» ՕՐԵՆՔԻ 6-ՐԴ ՀՈԴՎԱԾԻ ԱՂՅՈՒՍԱԿՈՒՄ ԵՎ ՀԱՅԱՍՏԱՆԻ ՀԱՆՐԱՊԵՏՈՒԹՅԱՆ ԿԱՌԱՎԱՐՈՒԹՅԱՆ 2024 ԹՎԱԿԱՆԻ ԴԵԿՏԵՄԲԵՐԻ 27-Ի N 2060-Ն ՈՐՈՇՄԱՆ N 2 ՀԱՎԵԼՎԱԾՈՒՄ ԿԱՏԱՐՎՈՂ ԼՐԱՑՈՒՄԸ
C7: հազար դրամներով
B8: Եկամտատեսակ | C8: Ցուցանիշների փոփոխությունը (ավելացումները նշված են դրական նշանով)
C9: Ինն ամիս | D9: Տարի
B10: ՊԵՏԱԿԱՆ ԲՅՈՒՋԵԻ ԵԿԱՄՈՒՏՆԵՐ | C10: =C12 -> 6764932.9 | D10: =D12 -> 9575787.1
B11: այդ թվում՝
B12: Այլ եկամուտներ | C12: =+'h6'!G12 -> 6764932.9 | D12: =+'h6'!J12 -> 9575787.1
B16: ՀԱՅԱՍՏԱՆԻ ՀԱՆՐԱՊԵՏՈՒԹՅԱՆ ՎԱՐՉԱՊԵՏԻ ԱՇԽԱՏԱԿԱԶՄԻ ՂԵԿԱՎԱՐ | C16: Ա. ՀԱՐՈՒԹՅՈՒՆՅԱՆ

Sheet h3
E1: Հավելված N 3
D2: ՀՀ կառավարության 2025 թվականի
D3: ______________ ի ___Ն որոշման
B5: ՀԱՅԱՍՏԱՆԻ ՀԱՆՐԱՊԵՏՈՒԹՅԱՆ ԿԱՌԱՎԱՐՈՒԹՅԱՆ 2024 ԹՎԱԿԱՆԻ ԴԵԿՏԵՄԲԵՐԻ 27-Ի N 2060-Ն ՈՐՈՇՄԱՆ N 6 ՀԱՎԵԼՎԱԾՈՒՄ ԿԱՏԱՐՎՈՂ ԼՐԱՑՈՒՄԸ
E6: հազար դրամներով
C7: եկամտատեսակը | D7: Գանձման համար պատասխանատու պետական կառավարման (մարմինները) | E7: Ցուցանիշների փոփոխությունը (ավելացումները նշված են դրական նշանով)
E8: Ինն ամիս | F8: Տարի
B9: Այլ եկամուտներ, ընդամենը | E9: =E11 -> 6764932.9 | F9: =F11 -> 9575787.1
C10: այդ թվում`
B11: 6 | C11: Օրենքով և այլ իրավական ակտերով սահմանված պետական բյուջե մուտքագրվող այլ եկամուտներ | E11: =E12 -> 6764932.9 | F11: =F12 -> 9575787.1
B12: 6.7 | C12: Այլ եկամուտներ | D12: ՀՀ պետական կառավարման մարմիններ | E12: ='h2'!C12 -> 6764932.9 | F12: ='h2'!D12 -> 9575787.1
B15: ՀԱՅԱՍՏԱՆԻ ՀԱՆՐԱՊԵՏՈՒԹՅԱՆ ՎԱՐՉԱՊԵՏԻ ԱՇԽԱՏԱԿԱԶՄԻ ՂԵԿԱՎԱՐ՝ | D15: Ա.ՀԱՐՈՒԹՅՈՒՆՅԱՆ

Sheet h4
H1: Հավելված N 4
H2: ՀՀ կառավարության 2025 թվականի
H3: N ------------ -Ն որոշման
A5: «ՀԱՅԱՍՏԱՆԻ ՀԱՆՐԱՊԵՏՈՒԹՅԱՆ 2025 ԹՎԱԿԱՆԻ ՊԵՏԱԿԱՆ ԲՅՈՒՋԵԻ ՄԱՍԻՆ» ՕՐԵՆՔԻ N 1 ՀԱՎԵԼՎԱԾԻ N 2 ԱՂՅՈՒՍԱԿՈՒՄ ԿԱՏԱՐՎՈՂ ՎԵՐԱԲԱՇԽՈՒՄԸ ԵՎ ՀԱՅԱՍՏԱՆԻ ՀԱՆՐԱՊԵՏՈՒԹՅԱՆ ԿԱՌԱՎԱՐՈՒԹՅԱՆ 2024 ԹՎԱԿԱՆԻ ԴԵԿՏԵՄԲԵՐԻ 27-Ի N 2060-Ն ՈՐՈՇՄԱՆ N 5 ՀԱՎԵԼՎԱԾԻ N 1 ԱՂՅՈՒՍԱԿՈՒՄ ԿԱՏԱՐՎՈՂ ՓՈՓՈԽՈՒԹՅՈՒՆՆԵՐԸ ԵՎ ԼՐԱՑՈՒՄՆԵՐԸ
A9: ԲԳԿ | B9: Ծրագրային դասիչը | D9: ԲԳԿ/Ծրագրի /միջոցառման անվանումը | E9: Ծրագրի նպատակը/Միջոցառման նկարագրությունը | F9: Վերջնական արդյունքի նկարագրությունը/Միջոցառման տեսակը | G9: Ցուցանիշների փոփոխությունը (ավելացումները նշված են դրական նշանով, իսկ նվազեցումները` փակագծերում)
B10: Ծրագիր | C10: Միջոցառում | G10: Ինն ամիս | H10: Տարի
A11: ԸՆԴԱՄԵՆԸ | G11: =G12 -> 6764932.9 | H11: =H12 -> 9575787.1
A12: ՀՀ տարածքային կառավարման և ենթակառուցվածքների նախարարություն | G12: =G13 -> 6764932.9 | H12: =H13 -> 9575787.1
B13: 1049 | D13: =+'h6'!D17 -> Ճանապարհային ցանցի բարելավում | E13: Ճանապարհային ցանցի բարելավում և անվտանգ երթևեկության ապահովում | F13: Ճանապարհների ծածկի որակի և փոխադրումների արդյունավետության բարելավում, ճանապարհների վիճակով պայմանավորված պատահարների նվազում | G13: =SUM(G14:G19) -> 6764932.9 | H13: =SUM(H14:H19) -> 9575787.1
C14: 1049 - 11011 | D14: Ասիական զարգացման բանկի աջակցությամբ իրականացվող Հյուսիս-հարավ միջանցքի զարգացման ծրագրի համակարգում և կառավարում (Տրանշ 3) | E14: Խորհրդատվական ծառայություններ և պահպանման ծախսեր | F14: Ծառայությունների մատուցում | G14: =+'h5'!H21 -> 10350 | H14: =+'h5'!I21 -> 14155
C15: 1049 - 11016 | D15: =+'h5'!G30 -> Ասիական զարգացման բանկի աջակցությամբ իրականացվող Հյուսիս-հարավ ճանապարհային միջանցքի զարգացման ծրագրի Սիսիան-Քաջարան 60կմ-ի ճանապարհի Հյուսիսային ենթահատվածի համակարգում և կառավարում | E15: Խորհրդատվական ծառայություններ և պահպանման ծախսեր | F15: Ծառայությունների մատուցում | G15: =+'h5'!H30 -> -84258 | H15: =+'h5'!I30 -> -192256
C16: 1049 - 21006 | D16: Ասիական զարգացման բանկի աջակցությամբ իրականացվող Հյուսիս-հարավ միջանցքի զարգացման վարկային ծրագիր, Տրանշ 2 | E16: Աշտարակ-Թալին 29+600կմ-71+500կմ հատվածի կառուցում | F16: Հանրության կողմից անմիջականորեն օգտագործվող ակտիվների հետ կապված միջոցառումներ | G16: =+'h5'!H39 -> 6176932.9 | H16: =+'h5'!I39 -> 8987787.1
C17: 1049 - 21009 | D17: Եվրոպական ներդրումային բանկի աջակցությամբ իրականացվող Հյուսիս-հարավ միջանցքի զարգացման վարկային ծրագիր, Տրանշ 3 | E17: Լանջիկ-Գյումրի 27.47 կմ երկարությամբ ճանապարհային հատվածի կառուցում | F17: Հանրության կողմից անմիջականորեն օգտագործվող ակտիվների հետ կապված միջոցառումներ | G17: =+'h5'!H50 -> 25050 | H17: =+'h5'!I50 -> 29050
C18: 1049 - 21011 | D18: Ասիական զարգացման բանկի աջակցությամբ իրականացվող Հյուսիս-հարավ միջանցքի զարգացման վարկային ծրագիր, Տրանշ 3 | E18: Հատված Թալին-Լանջիկ 71+500 կմ-90+200 կմ կառուցման շինարարական աշխատանքներ | F18: Հանրության կողմից անմիջականորեն օգտագործվող ակտիվների հետ կապված միջոցառումներ | G18: =+'h5'!H59 -> -314242 | H18: =+'h5'!I59 -> -214049
C19: 1049 - 21012 | D19: Եվրասիական զարգացման բանկի աջակցությամբ իրականացվող Հյուսիս-հարավ միջանցքի զարգացման ծրագիր | E19: Ճանապարհաշինական աշխատանքներ | F19: Հանրության կողմից անմիջականորեն օգտագործվող ակտիվների հետ կապված միջոցառումներ | G19: =+'h5'!H71 -> 951100 | H19: =+'h5'!I71 -> 951100
B23: ՀԱՅԱՍՏԱՆԻ ՀԱՆՐԱՊԵՏՈՒԹՅԱՆ
B24: ՎԱՐՉԱՊԵՏԻ ԱՇԽԱՏԱԿԱԶՄԻ
C25: ՂԵԿԱՎԱՐ ՝ Ա. ՀԱՐՈՒԹՅՈՒՆՅԱՆ

Sheet h5
I1: Հավելված N 5
F2: ՀՀ կառավարության 2025 թվականի
F3: -----------------ի N -----------Ն որոշման
B5: ՀԱՅԱՍՏԱՆԻ ՀԱՆՐԱՊԵՏՈՒԹՅԱՆ ԿԱՌԱՎԱՐՈՒԹՅԱՆ 2024 ԹՎԱԿԱՆԻ ԴԵԿՏԵՄԲԵՐԻ 27-Ի N 2060-Ն ՈՐՈՇՄԱՆ NN 3 ԵՎ 4 ՀԱՎԵԼՎԱԾՆԵՐՈՒՄ ԿԱՏԱՐՎՈՂ ՓՈՓՈԽՈՒԹՅՈՒՆՆԵՐԸ ԵՎ ԼՐԱՑՈՒՄՆԵՐԸ
I6: հազար դրամներով
B7: Գործառական դասիչը | E7: Ծրագրային դասիչը | G7: Բյուջետային ծախսերի գործառական դասակարգման բաժինների, խմբերի և դասերի, բյուջետային ծրագրերի միջոցառումների, բյուջետային հատկացումների գլխավոր կարգադրիչների անվանումները | H7: Ցուցանիշների փոփոխությունը (ավելացումները նշված են դրական նշանով, նվազեցումները` փակագծերում)
B8: Բաժինը | C8: Խումբը | D8: Դասը | E8: Ծրագիր | F8: Միջոցառում | H8: Ինն ամիս | I8: Տարի
G9: ԸՆԴԱՄԵՆԸ | H9: =H11 -> 6764932.9 | I9: =I11 -> 9575787.1
G10: այդ թվում՝
G11: ՀՀ ՏԱՐԱԾՔԱՅԻՆ ԿԱՌԱՎԱՐՄԱՆ ԵՎ ԵՆԹԱԿԱՌՈՒՑՎԱԾՔՆԵՐԻ ՆԱԽԱՐԱՐՈՒԹՅՈՒՆ | H11: =H13 -> 6764932.9 | I11: =I13 -> 9575787.1
G12: այդ թվում`
B13: 04 | G13: ՏՆՏԵՍԱԿԱՆ ՀԱՐԱԲԵՐՈՒԹՅՈՒՆՆԵՐ | H13: =H15 -> 6764932.9 | I13: =I15 -> 9575787.1
G14: այդ թվում`
C15: 05 | G15: Տրանսպորտ | H15: =H17 -> 6764932.9 | I15: =I17 -> 9575787.1
G16: այդ թվում`
D17: 01 | G17: Ճանապարհային տրանսպորտ | H17: =+H19 -> 6764932.9 | I17: =+I19 -> 9575787.1
G18: այդ թվում`
E19: =+'h6'!B17 -> 1049 | G19: =+'h6'!D17 -> Ճանապարհային ցանցի բարելավում | H19: =+H21++H39+H59+H30+H71+H50 -> 6764932.9 | I19: =+I21++I39+I59+I30+I71+I50 -> 9575787.1
G20: այդ թվում`
F21: =+'h6'!C19 -> 11011 | G21: =+'h6'!D19 -> Ասիական զարգացման բանկի աջակցությամբ իրականացվող Հյուսիս-հարավ միջանցքի զարգացման ծրագրի համակարգում և կառավարում (Տրանշ 3) | H21: =+'h6'!E19 -> 10350 | I21: =+'h6'!H19 -> 14155
G22: =+'h6'!D20 -> այդ թվում` ըստ կատարողների
G23: =+'h6'!D21 -> ՀՀ տարածքային կառավարման և ենթակառուցվածքների նախարարություն | H23: =+'h6'!E21 -> 10350 | I23: =+'h6'!H21 -> 14155
G24: =+'h6'!D22 -> այդ թվում` բյուջետային ծախսերի տնտեսագիտական դասակարգման հոդվածներ
G25: =+'h6'!D23 -> ԸՆԴԱՄԵՆԸ ԾԱԽՍԵՐ | H25: =+'h6'!E23 -> 10350 | I25: =+'h6'!H23 -> 14155
G26: =+'h6'!D24 -> ԸՆԹԱՑԻԿ ԾԱԽՍԵՐ | H26: =+'h6'!E24 -> 10350 | I26: =+'h6'!H24 -> 14155
G27: =+'h6'!D25 -> ԱՇԽԱՏԱՆՔԻ ՎԱՐՁԱՏՐՈՒԹՅՈՒՆ | H27: =+'h6'!E25 -> 10350 | I27: =+'h6'!H25 -> 14155
G28: =+'h6'!D26 -> Դրամով վճարվող աշխատավարձեր և հավելավճարներ | H28: =+'h6'!E26 -> 10350 | I28: =+'h6'!H26 -> 14155
G29: =+'h6'!D27 -> - Աշխատողների աշխատավարձեր և հավելավճարներ | H29: =+'h6'!E27 -> 10350 | I29: =+'h6'!H27 -> 14155
F30: =+'h6'!C28 -> 11016 | G30: =+'h6'!D28 -> Ասիական զարգացման բանկի աջակցությամբ իրականացվող Հյուսիս-հարավ ճանապարհային միջանցքի զարգացման ծրագրի Սիսիան-Քաջարան 60կմ-ի ճանապարհի Հյուսիսային ենթահատվածի համակարգում և կառավարում | H30: =+'h6'!E28 -> -84258 | I30: =+'h6'!H28 -> -192256
G31: =+'h6'!D29 -> այդ թվում` ըստ կատարողների
G32: =+'h6'!D30 -> ՀՀ տարածքային կառավարման և ենթակառուցվածքների նախարարություն | H32: =+'h6'!E30 -> -84258 | I32: =+'h6'!H30 -> -192256
G33: =+'h6'!D31 -> այդ թվում` բյուջետային ծախսերի տնտեսագիտական դասակարգման հոդվածներ
G34: =+'h6'!D32 -> ԸՆԴԱՄԵՆԸ ԾԱԽՍԵՐ | H34: =+'h6'!E32 -> -84258 | I34: =+'h6'!H32 -> -192256
G35: =+'h6'!D33 -> ԸՆԹԱՑԻԿ ԾԱԽՍԵՐ | H35: =+'h6'!E33 -> -84258 | I35: =+'h6'!H33 -> -192256
G36: =+'h6'!D34 -> ԴՐԱՄԱՇՆՈՐՀՆԵՐ | H36: =+'h6'!E34 -> -84258 | I36: =+'h6'!H34 -> -192256
G37: =+'h6'!D35 -> Կապիտալ դրամաշնորհներ պետական հատվածի այլ մակարդակներին | H37: =+'h6'!E35 -> -84258 | I37: =+'h6'!H35 -> -192256
G38: =+'h6'!D36 -> - Այլ կապիտալ դրամաշնորհներ | H38: =+'h6'!E36 -> -84258 | I38: =+'h6'!H36 -> -192256
F39: =+'h6'!C37 -> 21006 | G39: =+'h6'!D37 -> Ասիական զարգացման բանկի աջակցությամբ իրականացվող Հյուսիս-հարավ միջանցքի զարգացման վարկային ծրագիր, Տրանշ 2 | H39: =+'h6'!E37 -> 6176932.9 | I39: =+'h6'!H37 -> 8987787.1
G40: =+'h6'!D38 -> այդ թվում` ըստ կատարողների
G41: =+'h6'!D39 -> ՀՀ տարածքային կառավարման և ենթակառուցվածքների նախարարություն | H41: =+'h6'!E39 -> 6176932.9 | I41: =+'h6'!H39 -> 8987787.1
...

Sheet h6
B1: Հավելված 6
B2: ՀՀ կառավարության 2025 թվականի
B3: -----------------ի N -----------Ն որոշման
B5: «ՀԱՅԱՍՏԱՆԻ ՀԱՆՐԱՊԵՏՈՒԹՅԱՆ 2025 ԹՎԱԿԱՆԻ ՊԵՏԱԿԱՆ ԲՅՈՒՋԵԻ ՄԱՍԻՆ» ՀԱՅԱՍՏԱՆԻ ՀԱՆՐԱՊԵՏՈՒԹՅԱՆ ՕՐԵՆՔԻ N 1 ՀԱՎԵԼՎԱԾԻ N 4 ԱՂՅՈՒՍԱԿՈՒՄ ԵՎ ՀԱՅԱՍՏԱՆԻ ՀԱՆՐԱՊԵՏՈՒԹՅԱՆ ԿԱՌԱՎԱՐՈՒԹՅԱՆ 2024 ԹՎԱԿԱՆԻ ԴԵԿՏԵՄԲԵՐԻ 27-Ի N 2060-Ն ՈՐՈՇՄԱՆ N 5 ՀԱՎԵԼՎԱԾԻ N 3 ԱՂՅՈՒՍԱԿՈՒՄ ԿԱՏԱՐՎՈՂ ՓՈՓՈԽՈՒԹՅՈՒՆՆԵՐԸ ԵՎ ԼՐԱՑՈՒՄՆԵՐԸ
I7: հազար դրամներով
B8: Ծրագրային դասիչը | D8: Բյուջետային հատկացումների գլխավոր կարգադրիչների, ծրագրերի, միջոցառումների և միջոցառումները կատարող պետական մարմինների անվանումները | E8: Ցուցանիշների փոփոխությունը (ավելացումները նշված են դրական նշանով, իսկ նվազեցումները` փակագծերում)
E9: Ինն ամիս | H9: Տարի
B10: Ծրագիր | C10: Միջոցառում | E10: Ընդամենը | F10: այդ թվում` | H10: Ընդամենը | I10: այդ թվում`
F11: Վարկային միջոցներ | G11: Համաֆինանսավորում | I11: Վարկային միջոցներ | J11: Համաֆինանսավորում
D12: ԸՆԴԱՄԵՆԸ | E12: =E14+E15 -> 6764932.9 | F12: =F14+F15 -> 0 | G12: =G14+G15 -> 6764932.9 | H12: =H14+H15 -> 9575787.1 | I12: =I14+I15 -> 0 | J12: =J14+J15 -> 9575787.1
D13: այդ թվում`
D14: ԸՆԹԱՑԻԿ ԾԱԽՍԵՐ | E14: =+F14+G14 -> -73908 | F14: =+F19+F28 -> 0 | G14: =+G19+G28 -> -73908 | H14: =+I14+J14 -> -178101 | I14: =+I19+I28 -> 0 | J14: =+J19+J28 -> -178101
D15: ՈՉ ՖԻՆԱՆՍԱԿԱՆ ԱԿՏԻՎՆԵՐԻ ԳԾՈՎ ԾԱԽՍԵՐ | E15: =+F15+G15 -> 6838840.9 | F15: =+F37+F57+F69+F48 -> 0 | G15: =+G37+G57+G69+G48 -> 6838840.9 | H15: =+I15+J15 -> 9753888.1 | I15: =+I37+I57+I69+I48 -> 0 | J15: =+J37+J57+J69+J48 -> 9753888.1
D16: ՀՀ տարածքային կառավարման և ենթակառուցվածքների նախարարություն | E16: =E17 -> 6764932.9 | F16: =F17 -> 0 | G16: =G17 -> 6764932.9 | H16: =H17 -> 9575787.1 | I16: =I17 -> 0 | J16: =J17 -> 9575787.1
B17: 1049 | D17: Ճանապարհային ցանցի բարելավում | E17: =+F17+G17 -> 6764932.9 | F17: =+F19+F37+F57+F28+F69+F48 -> 0 | G17: =+G19+G37+G57+G28+G69+G48 -> 6764932.9 | H17: =+I17+J17 -> 9575787.1 | I17: =+I19+I37+I57+I28+I69+I48 -> 0 | J17: =+J19+J37+J57+J28+J69+J48 -> 9575787.1
D18: այդ թվում`
C19: 11011 | D19: Ասիական զարգացման բանկի աջակցությամբ իրականացվող Հյուսիս-հարավ միջանցքի զարգացման ծրագրի համակարգում և կառավարում (Տրանշ 3) | E19: =F19+G19 -> 10350 | F19: =F21 -> 0 | G19: =G21 -> 10350 | H19: =I19+J19 -> 14155 | I19: =I21 -> 0 | J19: =J21 -> 14155
D20: այդ թվում` ըստ կատարողների
D21: ՀՀ տարածքային կառավարման և ենթակառուցվածքների նախարարություն | E21: =F21+G21 -> 10350 | F21: =F23 -> 0 | G21: =G23 -> 10350 | H21: =I21+J21 -> 14155 | I21: =I23 -> 0 | J21: =J23 -> 14155
D22: այդ թվում` բյուջետային ծախսերի տնտեսագիտական դասակարգման հոդվածներ
D23: ԸՆԴԱՄԵՆԸ ԾԱԽՍԵՐ | E23: =F23+G23 -> 10350 | F23: =F24 -> 0 | G23: =G24 -> 10350 | H23: =I23+J23 -> 14155 | I23: =I24 -> 0 | J23: =J24 -> 14155
D24: ԸՆԹԱՑԻԿ ԾԱԽՍԵՐ | E24: =F24+G24 -> 10350 | F24: =+F25 -> 0 | G24: =+G25 -> 10350 | H24: =I24+J24 -> 14155 | I24: =+I25 -> 0 | J24: =+J25 -> 14155
D25: ԱՇԽԱՏԱՆՔԻ ՎԱՐՁԱՏՐՈՒԹՅՈՒՆ | E25: =F25+G25 -> 10350 | F25: =F26 -> 0 | G25: =G26 -> 10350 | H25: =I25+J25 -> 14155 | I25: =I26 -> 0 | J25: =J26 -> 14155
D26: Դրամով վճարվող աշխատավարձեր և հավելավճարներ | E26: =F26+G26 -> 10350 | F26: =F27 -> 0 | G26: =G27 -> 10350 | H26: =I26+J26 -> 14155 | I26: =I27 -> 0 | J26: =J27 -> 14155
D27: - Աշխատողների աշխատավարձեր և հավելավճարներ | E27: =F27+G27 -> 10350 | F27: 0 | G27: 10350 | H27: =I27+J27 -> 14155 | J27: =G27+3805 -> 14155
C28: 11016 | D28: Ասիական զարգացման բանկի աջակցությամբ իրականացվող Հյուսիս-հարավ ճանապարհային միջանցքի զարգացման ծրագրի Սիսիան-Քաջարան 60կմ-ի ճանապարհի Հյուսիսային ենթահատվածի համակարգում և կառավարում | E28: =F28+G28 -> -84258 | F28: =F30 -> 0 | G28: =G30 -> -84258 | H28: =I28+J28 -> -192256 | I28: =I30 -> 0 | J28: =J30 -> -192256
D29: այդ թվում` ըստ կատարողների
D30: ՀՀ տարածքային կառավարման և ենթակառուցվածքների նախարարություն | E30: =F30+G30 -> -84258 | F30: =F32 -> 0 | G30: =G32 -> -84258 | H30: =I30+J30 -> -192256 | I30: =I32 -> 0 | J30: =J32 -> -192256
D31: այդ թվում` բյուջետային ծախսերի տնտեսագիտական դասակարգման հոդվածներ
D32: ԸՆԴԱՄԵՆԸ ԾԱԽՍԵՐ | E32: =F32+G32 -> -84258 | F32: =F33 -> 0 | G32: =G33 -> -84258 | H32: =I32+J32 -> -192256 | I32: =I33 -> 0 | J32: =J33 -> -192256
D33: ԸՆԹԱՑԻԿ ԾԱԽՍԵՐ | E33: =F33+G33 -> -84258 | F33: =+F34 -> 0 | G33: =+G34 -> -84258 | H33: =I33+J33 -> -192256 | I33: =+I34 -> 0 | J33: =+J34 -> -192256
D34: ԴՐԱՄԱՇՆՈՐՀՆԵՐ | E34: =F34+G34 -> -84258 | F34: =F35 -> 0 | G34: =G35 -> -84258 | H34: =I34+J34 -> -192256 | I34: =I35 -> 0 | J34: =J35 -> -192256
D35: Կապիտալ դրամաշնորհներ պետական հատվածի այլ մակարդակներին | E35: =F35+G35 -> -84258 | F35: =F36 -> 0 | G35: =G36 -> -84258 | H35: =I35+J35 -> -192256 | I35: =I36 -> 0 | J35: =J36 -> -192256
D36: - Այլ կապիտալ դրամաշնորհներ | E36: =F36+G36 -> -84258 | F36: 0 | G36: -84258 | H36: =I36+J36 -> -192256 | I36: =F36 -> 0 | J36: =-184508-5898-1850 -> -192256
C37: 21006 | D37: Ասիական զարգացման բանկի աջակցությամբ իրականացվող Հյուսիս-հարավ միջանցքի զարգացման վարկային ծրագիր, Տրանշ 2 | E37: =F37+G37 -> 6176932.9 | F37: =F39 -> -588000 | G37: =G39 -> 6764932.9 | H37: =I37+J37 -> 8987787.1 | I37: =I39 -> -588000 | J37: =J39 -> 9575787.1
D38: այդ թվում` ըստ կատարողների
D39: ՀՀ տարածքային կառավարման և ենթակառուցվածքների նախարարություն | E39: =F39+G39 -> 6176932.9 | F39: =F41 -> -588000 | G39: =G41 -> 6764932.9 | H39: =I39+J39 -> 8987787.1 | I39: =I41 -> -588000 | J39: =J41 -> 9575787.1
D40: այդ թվում` բյուջետային ծախսերի տնտեսագիտական դասակարգման հոդվածներ
D41: ԸՆԴԱՄԵՆԸ ԾԱԽՍԵՐ | E41: =F41+G41 -> 6176932.9 | F41: =F42 -> -588000 | G41: =G42 -> 6764932.9 | H41: =I41+J41 -> 8987787.1 | I41: =I42 -> -588000 | J41: =J42 -> 9575787.1
D42: ՈՉ ՖԻՆԱՆՍԱԿԱՆ ԱԿՏԻՎՆԵՐԻ ԳԾՈՎ ԾԱԽՍԵՐ | E42: =F42+G42 -> 6176932.9 | F42: =F43 -> -588000 | G42: =G43 -> 6764932.9 | H42: =I42+J42 -> 8987787.1 | I42: =I43 -> -588000 | J42: =J43 -> 9575787.1
...

Sheet հ7
J1: Հավելված № 7
K2: ՀՀ կառավարության 2025 թվականի
K3: -----------------ի N -----------Ն որոշման
A5: ՀԱՅԱՍՏԱՆԻ ՀԱՆՐԱՊԵՏՈՒԹՅԱՆ ԿԱՌԱՎԱՐՈՒԹՅԱՆ 2024 ԹՎԱԿԱՆԻ ԴԵԿՏԵՄԲԵՐԻ 27-Ի № 2060-Ն ՈՐՈՇՄԱՆ № 9 ՀԱՎԵԼՎԱԾԻ ԱՂՅՈՒՍԱԿՆԵՐՈՒՄ ԿԱՏԱՐՎՈՂ ՓՈՓՈԽՈՒԹՅՈՒՆՆԵՐԸ ԵՎ ԼՐԱՑՈՒՄՆԵՐԸ
K7: հազար դրամներով
A8: ԲԳԿ | B8: Ծրագիր | D8: Միջոցառում | H8: Իրականացնողը/ ակտիվն օգտագործողը/ շահառուի ընտրության չափորոշիչը | I8: Արդյունքային չափորոշիչը | J8: Ցուցանիշների փոփոխությունը (ավելացումները նշված են դրական նշանով, իսկ նվազեցումները` փակագծերում)
B9: Դասիչը | C9: Անվանումը | D9: Դասիչը | E9: Անվանումը | F9: Նկարագրությունը | G9: Տեսակը | J9: Ինն ամիս | K9: Տարի
A10: ԸՆԴԱՄԵՆԸ | J10: =J11 -> 6764932.9 | K10: =K11 -> 9575787.1
A11: ՀՀ տարածքային կառավարման և ենթակառուցվածքների նախարարություն | J11: =+J12 -> 6764932.9 | K11: =+K12 -> 9575787.1
B12: 1049 | C12: Ճանապարհային ցանցի բարելավում | J12: =+J13++J22+J33+J17+J41+J26 -> 6764932.9 | K12: =+K13++K22+K33+K17+K41+K26 -> 9575787.1
D13: 1049 - 11011 | E13: Ասիական զարգացման բանկի աջակցությամբ իրականացվող Հյուսիս-հարավ միջանցքի զարգացման ծրագրի համակարգում և կառավարում (Տրանշ 3) | J13: =+'h5'!H21 -> 10350 | K13: =+'h5'!I21 -> 14155
F14: Խորհրդատվական ծառայություններ և պահպանման ծախսեր
G15: Ծառայությունների մատուցում
H16: Ծառայությունը մատուցողի անվանումը` Մասնագիտացված միավոր
D17: 1049 - 11016 | E17: =+հ8!E16 -> Ասիական զարգացման բանկի աջակցությամբ իրականացվող Հյուսիս-հարավ ճանապարհային միջանցքի զարգացման ծրագրի Սիսիան-Քաջարան 60կմ-ի ճանապարհի Հյուսիսային ենթահատվածի համակարգում և կառավարում | J17: =+'h5'!H30 -> -84258 | K17: =+'h5'!I30 -> -192256
F18: Խորհրդատվական ծառայություններ և պահպանման ծախսեր
G19: Ծառայությունների մատուցում
H20: Ծառայությունը մատուցողի անվանումը` Մասնագիտացված միավոր
I21: Միջոցառման շրջանակներում իրականացվող ծախսերի կատարման տոկոս (ծրագրի սկզբից ներառյալ հաշվետու տարին) | K21: -2.5
D22: 1049 - 21006 | E22: Ասիական զարգացման բանկի աջակցությամբ իրականացվող Հյուսիս-հարավ միջանցքի զարգացման վարկային ծրագիր, Տրանշ 2 | J22: =+'h5'!H39 -> 6176932.9 | K22: =+'h5'!I39 -> 8987787.1
F23: Աշտարակ-Թալին 29+600կմ-71+500կմ հատվածի կառուցում
G24: Հանրության կողմից անմիջականորեն օգտագործվող ակտիվների հետ կապված միջոցառումներ
H25: Միջոցառումն իրականացնողի անվանումը` Մասնագիտացված միավոր
D26: 1049 - 21009 | E26: Եվրոպական ներդրումային բանկի աջակցությամբ իրականացվող Հյուսիս-հարավ միջանցքի զարգացման վարկային ծրագիր, Տրանշ 3 | J26: =+'h5'!H50 -> 25050 | K26: =+'h5'!I50 -> 29050
F27: Լանջիկ-Գյումրի 27.47 կմ երկարությամբ ճանապարհային հատվածի կառուցում
G28: Հանրության կողմից անմիջականորեն օգտագործվող ակտիվների հետ կապված միջոցառումներ
H29: Միջոցառումն իրականացնողի անվանումը` Մասնագիտացված միավոր
I30: Պայմանագրերի քանակը, հատ այդ թվում՛ | K30: 3
I31: Տեխնիկական հսկողություն, հատ | K31: 1
I32: ՀՕՏԾ նախագծող, իրականացնող, հատ | K32: 1
D33: 1049 - 21011 | E33: Ասիական զարգացման բանկի աջակցությամբ իրականացվող Հյուսիս-հարավ միջանցքի զարգացման վարկային ծրագիր, Տրանշ 3 | J33: =+'h5'!H59 -> -314242 | K33: =+'h5'!I59 -> -214049
F34: Հատված Թալին-Լանջիկ 71+500 կմ-90+200 կմ կառուցման շինարարական աշխատանքներ
G35: Հանրության կողմից անմիջականորեն օգտագործվող ակտիվների հետ կապված միջոցառումներ
H36: Միջոցառումն իրականացնողի անվանումը` Մասնագիտացված միավոր
I37: Պայմանագրերի քանակը, հատ այդ թվում՛ | K37: 4
I38: Տեխնիկական հսկողություն, հատ | K38: 1
I39: Հեղինակային հսկողություն, հատ | K39: 1
I40: Կապալառուների քանակը, հատ | K40: 1
D41: 1049 - 21012 | E41: Եվրասիական զարգացման բանկի աջակցությամբ իրականացվող Հյուսիս-հարավ միջանցքի զարգացման ծրագիր | J41: =+'h5'!H71 -> 951100 | K41: =+'h5'!I71 -> 951100
F42: Ճանապարհաշինական աշխատանքներ
...

Sheet հ8
J1: Հավելված № 8
K2: ՀՀ կառավարության 2025 թվականի
K3: -----------------ի N -----------Ն որոշման
A5: ՀԱՅԱՍՏԱՆԻ ՀԱՆՐԱՊԵՏՈՒԹՅԱՆ ԿԱՌԱՎԱՐՈՒԹՅԱՆ 2024 ԹՎԱԿԱՆԻ ԴԵԿՏԵՄԲԵՐԻ 27-Ի № 2060-Ն ՈՐՈՇՄԱՆ № 9.1 ՀԱՎԵԼՎԱԾԻ ԱՂՅՈՒՍԱԿՆԵՐՈՒՄ ԿԱՏԱՐՎՈՂ ՓՈՓՈԽՈՒԹՅՈՒՆՆԵՐԸ ԵՎ ԼՐԱՑՈՒՄՆԵՐԸ
K6: հազար դրամներով
A7: ԲՍԿ | B7: Ծրագիր | D7: Միջոցառում | H7: Իրականացնողը/ ակտիվն օգտագործողը/ շահառուի ընտրության չափորոշիչը | I7: Արդյունքային չափորոշիչը | J7: Ցուցանիշների փոփոխությունը (ավելացումները նշված են դրական նշանով, իսկ նվազեցումները` փակագծերում)
B8: Դասիչը | C8: Անվանումը | D8: Դասիչը | E8: Անվանումը | F8: Նկարագրությունը | G8: Տեսակը | J8: Ինն ամիս | K8: Տարի
A9: ԸՆԴԱՄԵՆԸ | J9: =J10 -> 6764932.9 | K9: =K10 -> 9575787.1
A10: ՀՀ տարածքային կառավարման և ենթակառուցվածքների նախարարություն | J10: =+J11 -> 6764932.9 | K10: =+K11 -> 9575787.1
B11: 1049 | C11: Ճանապարհային ցանցի բարելավում | J11: =+J12+J21+J32+J16+J40+J25 -> 6764932.9 | K11: =+K12+K21+K32+K16+K40+K25 -> 9575787.1
D12: 1049 - 11011 | E12: Ասիական զարգացման բանկի աջակցությամբ իրականացվող Հյուսիս-հարավ միջանցքի զարգացման ծրագրի համակարգում և կառավարում (Տրանշ 3) | J12: =+'h5'!H21 -> 10350 | K12: =+'h5'!I21 -> 14155
F13: Խորհրդատվական ծառայություններ և պահպանման ծախսեր
G14: Ծառայությունների մատուցում
H15: Ծառայությունը մատուցողի անվանումը` Մասնագիտացված միավոր
D16: 1049 - 11016 | E16: Ասիական զարգացման բանկի աջակցությամբ իրականացվող Հյուսիս-հարավ ճանապարհային միջանցքի զարգացման ծրագրի Սիսիան-Քաջարան 60կմ-ի ճանապարհի Հյուսիսային ենթահատվածի համակարգում և կառավարում | J16: =+'h5'!H30 -> -84258 | K16: =+'h5'!I30 -> -192256
F17: Խորհրդատվական ծառայություններ և պահպանման ծախսեր
G18: Ծառայությունների մատուցում
H19: Ծառայությունը մատուցողի անվանումը` Մասնագիտացված միավոր
I20: Միջոցառման շրջանակներումիրականացվող ծախսերի կատարման տոկոս (ծրագրի սկզբից ներառյալ հաշվետու տարին) | K20: -2.5
D21: =+հ7!D22 -> 1049 - 21006 | E21: Ասիական զարգացման բանկի աջակցությամբ իրականացվող Հյուսիս-հարավ միջանցքի զարգացման վարկային ծրագիր, Տրանշ 2 | J21: =+'h5'!H39 -> 6176932.9 | K21: =+'h5'!I39 -> 8987787.1
F22: Աշտարակ-Թալին 29+600կմ-71+500կմ հատվածի կառուցում
G23: Հանրության կողմից անմիջականորեն օգտագործվող ակտիվների հետ կապված միջոցառումներ
H24: Միջոցառումն իրականացնողի անվանումը` Մասնագիտացված միավոր
D25: 1049 - 21009 | E25: Եվրոպական ներդրումային բանկի աջակցությամբ իրականացվող Հյուսիս-հարավ միջանցքի զարգացման վարկային ծրագիր, Տրանշ 3 | J25: =+'h5'!H50 -> 25050 | K25: =+'h5'!I50 -> 29050
F26: Լանջիկ-Գյումրի 27.47 կմ երկարությամբ ճանապարհային հատվածի կառուցում
G27: Հանրության կողմից անմիջականորեն օգտագործվող ակտիվների հետ կապված միջոցառումներ
H28: Միջոցառումն իրականացնողի անվանումը` Մասնագիտացված միավոր
I29: Պայմանագրերի քանակը, հատ այդ թվում՛ | K29: 3
I30: Տեխնիկական հսկողություն, հատ | K30: 1
I31: ՀՕՏԾ նախագծող, իրականացնող, հատ | K31: 1
D32: 1049 - 21011 | E32: Ասիական զարգացման բանկի աջակցությամբ իրականացվող Հյուսիս-հարավ միջանցքի զարգացման վարկային ծրագիր, Տրանշ 3 | J32: =+'h5'!H59 -> -314242 | K32: =+'h5'!I59 -> -214049
F33: Հատված Թալին-Լանջիկ 71+500 կմ-90+200 կմ կառուցման շինարարական աշխատանքներ
G34: Հանրության կողմից անմիջականորեն օգտագործվող ակտիվների հետ կապված միջոցառումներ
H35: Միջոցառումն իրականացնողի անվանումը` Մասնագիտացված միավոր
I36: Պայմանագրերի քանակը, հատ այդ թվում՛ | K36: 4
I37: Տեխնիկական հսկողություն, հատ | K37: 1
I38: Հեղինակային հսկողություն, հատ | K38: 1
I39: Կապալառուների քանակը, հատ | K39: 1
D40: 1049 - 21012 | E40: Եվրասիական զարգացման բանկի աջակցությամբ իրականացվող Հյուսիս-հարավ միջանցքի զարգացման ծրագիր | J40: =+'h5'!H71 -> 951100 | K40: =+'h5'!I71 -> 951100
F41: Ճանապարհաշինական աշխատանքներ
...
