Workbook
Name a: #REF!
Name a: #REF!
Name a: #REF!
Name a: #REF!
Name a: #REF!
Name AgencyCode: #REF!
Name AgencyCode: #REF!
Name AgencyCode: #REF!
Name AgencyCode: #REF!
Name AgencyCode: #REF!
Name AgencyCode: #REF!
Name AgencyCode: #REF!
Name AgencyCode: #REF!
Name AgencyName: #REF!
Name AgencyName: #REF!
Name AgencyName: #REF!
Name AgencyName: #REF!
Name AgencyName: #REF!
Name åû: #REF!
Name åû: #REF!
Name davit: #REF!
Name davit: #REF!
Name davit: #REF!
Name davit: #REF!
Name Functional1: #REF!
Name Functional1: #REF!
Name Functional1: #REF!
Name Functional1: #REF!
Name Functional1: #REF!
Name ggg: #REF!
Name ggg: #REF!
Name ggg: #REF!
Name ggg: #REF!
Name hav: #REF!
Name hav: #REF!
Name mas: #REF!
Name mas: #REF!
Name mass: #REF!
Name mass: #REF!
Name PANature: #REF!
Name PANature: #REF!
Name PANature: #REF!
Name PANature: #REF!
Name PANature: #REF!
Name PAType: #REF!
Name PAType: #REF!
Name PAType: #REF!
Name PAType: #REF!
Name PAType: #REF!
Name Performance2: #REF!
Name Performance2: #REF!
Name Performance2: #REF!
Name Performance2: #REF!
Name Performance2: #REF!
Name PerformanceType: #REF!
Name PerformanceType: #REF!
Name PerformanceType: #REF!
Name PerformanceType: #REF!
Name PerformanceType: #REF!
Name x: #REF!

Sheet Հավելված N 1
F1: Հավելված N 1
F2: ՀՀ կառավարության 2025 թվականի
F3: ______________ ի ___Ն որոշման
A6: «ՀԱՅԱUՏԱՆԻ ՀԱՆՐԱՊԵՏՈՒԹՅԱՆ 2025 ԹՎԱԿԱՆԻ ՊԵՏԱԿԱՆ ԲՅՈՒՋԵԻ ՄԱUԻՆ» ՀԱՅԱUՏԱՆԻ ՀԱՆՐԱՊԵՏՈՒԹՅԱՆ OՐԵՆՔԻ N 1 ՀԱՎԵԼՎԱԾԻ N 2 ԱՂՅՈՒՍԱԿՈՒՄ ԵՎ ՀԱՅԱՍՏԱՆԻ ՀԱՆՐԱՊԵՏՈՒԹՅԱՆ ԿԱՌԱՎԱՐՈՒԹՅԱՆ 2024 ԹՎԱԿԱՆԻ ԴԵԿՏԵՄԲԵՐԻ 27-Ի N 2060-Ն ՈՐՈՇՄԱՆ N 5 ՀԱՎԵԼՎԱԾԻ N 1 ԱՂՅՈՒՍԱԿՈՒՄ ԿԱՏԱՐՎՈՂ ՓՈՓՈԽՈՒԹՅՈՒՆԸ ԵՎ ԼՐԱՑՈՒՄՆԵՐԸ
H9: հազ. դրամներով
A10: ԲԳԿ | B10: Ծրագրային դասիչը | D10: ԲԳԿ/Ծրագրի /միջոցառման անվանումը | E10: Ծրագրի նպատակը/Միջոցառման նկարագրությունը | F10: Վերջնական արդյունքի նկարագրությունը/Միջոցառման տեսակը | G10: Ցուցանիշների փոփոխությունը (ավելացումները նշված են դրական նշանով, իսկ նվազեցումնեը՝ փակագծերում)
G11: Ինն ամիս | H11: Տարի
B12: Ծրագիր | C12: Միջոցառում
A13: ԸՆԴԱՄԵՆԸ | G13: =+G15 -> 0 | H13: =+H15 -> 0
A14: այդ թվում՝
A15: ՀՀ ԿՐԹՈՒԹՅԱՆ, ԳԻՏՈՒԹՅԱՆ, ՄՇԱԿՈՒՅԹԻ ԵՎ ՍՊՈՐՏԻ ՆԱԽԱՐԱՐՈՒԹՅՈՒՆ | G15: =+G16+G18+G20+G23 -> 0 | H15: =+H16+H18+H20+H23 -> 0
B16: 1162 | D16: Գիտական և գիտատեխնիկական հետազոտությունների ծրագիր | E16: Գիտական և գիտատեխնիկական գործունեության հիմնարար, կիրառական և թեմատիկ հետազոտությունների իրականացում, ենթակառուցվածքի և ազգային արժեք ներկայացնող գիտական օբյեկտների պահպանում և զարգացում, գիտական ներուժի վերարտադրության ապահովում£ | F16: Գիտության և տեխնիկայի զարգացման գերակա ուղղությունների հետազոտությունների իրականացում, գիտական ներուժի զարգացում, ազգային արժեք ներկայացնող գիտական օբյեկտների պահպանում | G16: =+G17 -> -2906353.9 | H16: =+H17 -> -3408199.8
C17: 1162 - 32004 | D17: Գիտական կենտրոնները ժամանակակից սարքավորումներով վերազինում ու համատեղ օգտագործման գիտական սարքավորումների կենտրոնների ստեղծում | E17: Գիտական կենտրոնները վերազինված են ոլորտային համալիր հետազոտությունների համար անհարժեշտ սարքավորումներով | F17: Այլ պետական կազմակերպությունների կողմից օգտագործվող ոչ ֆինանսական ակտիվների հետ գործառնություններ | G17: =+'Հավելված N 2'!G26 -> -2906353.9 | H17: =+'Հավելված N 2'!H26 -> -3408199.8
B18: 1183 | D18: Ապահով դպրոց | E18: Դպրոցներին սպառնացող աղետների ռիսկի կառավարման կարողությունների հզորացում, դպրոցի անձնակազմի և աշակերտների անվտանգության ապահովման մակարդակի բարձրացում՛ կիրառելով ներառական և երեխայակենտրոն մոտեցում | F18: Դպրոցական միջավայրի բարելավում | G18: =+G19 -> 30000 | H18: =+H19 -> 40000
C19: 1183 - 11002 | D19: Աջակցություն դպրոցներին «Արագ արձագանքման ֆոնդի» շրջանակում՛ հրատապ խնդիրների լուծման համար | E19: Դպրոցներում արտակարգ իրավիճակների և չնախատեսված հանգամանքների հետևանքով առաջացած խնդիրների լուծման նպատակով ընթացիկ աշխատանքների իրականացում | F19: Ծառայությունների մատուցում | G19: =+'Հավելված N 2'!G45 -> 30000 | H19: =+'Հավելված N 2'!H45 -> 40000
B20: 1192 | D20: Կրթության որակի ապահովում | E20: Ընթացիկ աշխատանքների, բարեփոխումների և նոր նախաձեռնությունների միջոցով ֆորմալ և ոչ-ֆորմալ կրթության ոլորտում իրականացվող միջոցառումների, մատուցվող ծառայությունների բովանդակության և կազմակերպման որակի շարունակական բարելավում | F20: Նախադպրոցականից մինչև հետբուհական կրթության որակի, այն է սովորողների, միջավայրի, ծրագրերի և ուսումնական նյութերի բովանդակության, գործընթացների, ինչպես նաև վերջնարդյունքների որակի բարելավում ըստ ներպետական և միջազգային ցուցիչների | G20: =+G21+G22 -> 755791.1 | H20: =+H21+H22 -> 1247637
C21: 1192 - 32006 | D21: Համաշխարհային բանկի աջակցությամբ իրականացվող «Կրթության բարելավման ծրագրի լրացուցիչ ֆինանսավորում» վարկային ծրագրի շրջանակներում կապիտալ ներդրումներ հանրակրթական ուսումնական հաստատություններում | E21: Կապիտալ ներդրումներ ավագ, միջնակարգ և հիմնական դպրոցներում | F21: Այլ պետական կազմակերպությունների կողմից օգտագործվող ոչ ֆինանսական ակտիվների հետ գործառնություններ | G21: =+'Հավելված N 2'!G146 -> 545000 | H21: =+'Հավելված N 2'!H146 -> 545000
C22: 1193 - 32007 | D22: ՀՀ պետական դպրոցների` ԳՏՃՄ լաբորատորիաներով ապահովում | E22: ՀՀ պետական դպրոցների համար ԳՏՃՄ առարկաների լաբորատոր սարքավարումների և կահույքի ձեռքբերում | F22: Այլ պետական կազմակերպությունների կողմից օգտագործվող ոչ ֆինանսական ակտիվների հետ գործառնություններ | G22: =+'Հավելված N 2'!G58 -> 210791.1 | H22: =+'Հավելված N 2'!H58 -> 702637
B23: 1236 | D23: Հանրակրթական և նախադպրոցական հաստատությունների հիմնում, կառուցում, բարելավում | E23: Առնվազն 300 դպրոցի և 500 մանկապարտեզի կառուցման, վերակառուցման, հիմնանորոգման ծրագրերի իրականացում ՀՀ պետական բյուջեի միջոցների շրջանակներում | F23: Կրթական միջավայրի բարելավում | G23: =+G24+G25+G26 -> 2120562.8 | H23: =+H24+H25+H26 -> 2120562.8
C24: 1236 - 32003 | D24: Հանրակրթական դպրոցների նոր շենքերի կառուցում | E24: ՀՀ մարզերում կրթական որակյալ ծառայությունների հասանելիության ապահովման ծրագրի շրջանակներում հանրակրթական և նախադպրոցական կրթության հասանելիության ապահովման նպատակով կրթական կենտրոնների կառուցում | F24: Այլ պետական կազմակերպությունների կողմից օգտագործվող ոչ ֆինանսական ակտիվների հետ գործառնություններ | G24: =+'Հավելված N 2'!G69 -> 1300000 | H24: =+'Հավելված N 2'!H69 -> 1300000
C25: 1236 - 32005 | D25: Կրթահամալիրների կառուցում | E25: ՀՀ մարզերում կրթական որակյալ ծառայությունների հասանելիության ապահովման ծրագրի շրջանակներում հանրակրթական և նախադպրոցական կրթության հասանելիության ապահովման նպատակով կրթական կենտրոնների կառուցում | F25: Այլ պետական կազմակերպությունների կողմից օգտագործվող ոչ ֆինանսական ակտիվների հետ գործառնություններ | G25: =+'Հավելված N 2'!G78 -> 700000 | H25: =+'Հավելված N 2'!H78 -> 700000
C26: 1236 - 32006 | D26: Հանրակրթական դպրոցների, մանկապարտեզների և կրթահամալիրների գույքով և տեխնիկայով ապահովում | E26: Կրթական ժամանակակից նորմերին և կրթական չափորոշիչներին համապատասխան ուսուցման ծրագրերն իրականացնելու նպատակով հանրակրթական և նախադպրոցական հաստատությունների համար գույքի և տեխնիկայի ձեռքբերում | F26: Այլ պետական կազմակերպությունների կողմից օգտագործվող ոչ ֆինանսական ակտիվների հետ գործառնություններ | G26: =+'Հավելված N 2'!G87 -> 120562.8 | H26: =+'Հավելված N 2'!H87 -> 120562.8

Sheet Հավելված N 2
F1: Հավելված N 2
F2: ՀՀ կառավարության 2025 թվականի
F3: ______________ ի ___Ն որոշման
A7: ՀԱՅԱՍՏԱՆԻ ՀԱՆՐԱՊԵՏՈՒԹՅԱՆ ԿԱՌԱՎԱՐՈՒԹՅԱՆ 2024 ԹՎԱԿԱՆԻ ԴԵԿՏԵՄԲԵՐԻ 27-Ի N 2060-Ն ՈՐՈՇՄԱՆ N 3 ԵՎ N 4 ՀԱՎԵԼՎԱԾՆԵՐՈՒՄ ԿԱՏԱՐՎՈՂ ՓՈՓՈԽՈՒԹՅՈՒՆԸ ԵՎ ԼՐԱՑՈՒՄՆԵՐԸ
H10: հազ. դրամներով
A11: Գործառական դասիչը | D11: Ծրագրային դասիչը | F11: Բյուջետային հատկացումների գլխավոր կարգադրիչների, ծրագրերի, միջոցառումների և միջոցառումները կատարող պետական մարմինների անվանումները | G11: Ցուցանիշների փոփոխությունը (ավելացումները նշված են դրական նշանով, իսկ նվազեցումները՝ փակագծերում)
A12: Բաժին | B12: Խումբ | C12: Դաս | D12: Ծրագիր | E12: Միջոցառում | G12: Ինն ամիս | H12: Տարի
F13: ԸՆԴԱՄԵՆԸ | G13: =+G15 -> 0 | H13: =+H15 -> 0
F14: այդ թվում՝
F15: ՀՀ ԿՐԹՈՒԹՅԱՆ, ԳԻՏՈՒԹՅԱՆ, ՄՇԱԿՈՒՅԹԻ ԵՎ ՍՊՈՐՏԻ ՆԱԽԱՐԱՐՈՒԹՅՈՒՆ | G15: =+G16+G35 -> 0 | H15: =+H16+H35 -> 0
A16: 01 | F16: ԸՆԴՀԱՆՈՒՐ ԲՆՈՒՅԹԻ ՀԱՆՐԱՅԻՆ ԾԱՌԱՅՈՒԹՅՈՒՆՆԵՐ | G16: =+G18 -> -2906353.9 | H16: =+H18 -> -3408199.8
F17: այդ թվում`
B18: 04 | F18: Ընդհանուր բնույթի հետազոտական աշխատանք | G18: =+G20 -> -2906353.9 | H18: =+H20 -> -3408199.8
F19: այդ թվում`
C20: 01 | F20: Ընդհանուր բնույթի հետազոտական աշխատանք | G20: =+G22 -> -2906353.9 | H20: =+H22 -> -3408199.8
F21: այդ թվում`
F22: ՀՀ կրթության, գիտության, մշակույթի և սպորտի նախարարություն | G22: =+G24 -> -2906353.9 | H22: =+H24 -> -3408199.8
F23: այդ թվում`
D24: 1162 | E24: Գիտական և գիտատեխնիկական հետազոտությունների ծրագիր | G24: =+G26 -> -2906353.9 | H24: =+H26 -> -3408199.8
F25: այդ թվում`
E26: 32004 | F26: Գիտական կենտրոնները ժամանակակից սարքավորումներով վերազինում ու համատեղ օգտագործման գիտական սարքավորումների կենտրոնների ստեղծում | G26: =+G28 -> -2906353.9 | H26: =+H28 -> -3408199.8
F27: այդ թվում` ըստ կատարողների
F28: ՀՀ կրթության, գիտության, մշակույթի և սպորտի նախարարության բարձրագույն կրթության և գիտության կոմիտե | G28: =+G30 -> -2906353.9 | H28: =+H30 -> -3408199.8
F29: այդ թվում՝ բյուջետային ծախսերի տնտեսագիտական դասակարգման հոդվածներ
F30: ԸՆԴԱՄԵՆԸ ԾԱԽՍԵՐ | G30: =+G31 -> -2906353.9 | H30: =+H31 -> -3408199.8
F31: ՈՉ ՖԻՆԱՆՍԱԿԱՆ ԱԿՏԻՎՆԵՐԻ ԳԾՈՎ ԾԱԽՍԵՐ | G31: =+G32 -> -2906353.9 | H31: =+H32 -> -3408199.8
F32: ՀԻՄՆԱԿԱՆ ՄԻՋՈՑՆԵՐ | G32: =+G33 -> -2906353.9 | H32: =+H33 -> -3408199.8
F33: ՄԵՔԵՆԱՆԵՐ ԵՎ ՍԱՐՔԱՎՈՐՈՒՄՆԵՐ | G33: =+G34 -> -2906353.9 | H33: =+H34 -> -3408199.8
F34: - Այլ մեքենաներ և սարքավորումներ | G34: =+'Հավելված N 4'!E15 -> -2906353.9 | H34: =+'Հավելված N 4'!F15 -> -3408199.8
A35: 09 | F35: ԿՐԹՈՒԹՅՈՒՆ | G35: =+G37+G138 -> 2906353.9 | H35: =+H37+H138 -> 3408199.8
F36: այդ թվում`
B37: 02 | F37: Միջնակարգ ընդհանուր կրթություն | G37: =+G39 -> 2361353.9 | H37: =+H39 -> 2863199.8
F38: այդ թվում`
C39: 01 | F39: Հիմնական ընդհանուր կրթություն | G39: =+G41 -> 2361353.9 | H39: =+H41 -> 2863199.8
F40: այդ թվում`
F41: ՀՀ կրթության, գիտության, մշակույթի և սպորտի նախարարություն | G41: =+G43+G56+G67 -> 2361353.9 | H41: =+H43+H56+H67 -> 2863199.8
F42: այդ թվում`
D43: 1183 | E43: Ապահով դպրոց | G43: =+G45 -> 30000 | H43: =+H45 -> 40000
F44: այդ թվում`
E45: 11002 | F45: Աջակցություն դպրոցներին «Արագ արձագանքման ֆոնդի» շրջանակում հրատապ խնդիրների լուծման համար | G45: =+G47 -> 30000 | H45: =+H47 -> 40000
...

Sheet Հավելված N 3
F1: Հավելված N 3
F2: ՀՀ կառավարության 2025 թվականի
F3: ______________ ի ___Ն որոշման
A5: «ՀԱՅԱUՏԱՆԻ ՀԱՆՐԱՊԵՏՈՒԹՅԱՆ 2025 ԹՎԱԿԱՆԻ ՊԵՏԱԿԱՆ ԲՅՈՒՋԵԻ ՄԱUԻՆ» ՀԱՅԱUՏԱՆԻ ՀԱՆՐԱՊԵՏՈՒԹՅԱՆ OՐԵՆՔԻ N 1 ՀԱՎԵԼՎԱԾԻ N 3 ԱՂՅՈՒՍԱԿՈՒՄ ԿԱՏԱՐՎՈՂ ՓՈՓՈԽՈՒԹՅՈՒՆԸ ԵՎ ԼՐԱՑՈՒՄՆԵՐԸ
G8: հազ. դրամներով
A9: Ծրագրային դասիչ | C9: Բյուջետային գլխավոր կարգադրիչների, ծրագրերի, միջոցառումների, միջոցառումները կատարող պետական մարմինների և ուղղությունների անվանումները | D9: Ընդամենը | E9: Ցուցանիշների փոփոխությունը (ավելացումները նշված են դրական նշանով, իսկ նվազեցումները՝ փակագծերում)
A10: Ծրագիր | B10: Միջոցառում | E10: Կառուցման աշխատանքներ | F10: Վերակառուցման, վերանորոգման և վերականգնման աշխատանքներ | G10: Նախագծահե- տազոտական, գեոդեզիա- քարտեզագրա- կան աշխա- տանքներ | H10: Ոչ ֆինանսական այլ ակտիվների ձեռքբերում
C11: ԸՆԴԱՄԵՆԸ | D11: =SUM(E11:H11) -> -585000 | E11: =+E13 -> 2000000 | F11: =+F13 -> 0 | G11: =+G13 -> 0 | H11: =+H13 -> -2585000
C12: այդ թվում՝
C13: ՀՀ ԿՐԹՈՒԹՅԱՆ, ԳԻՏՈՒԹՅԱՆ, ՄՇԱԿՈՒՅԹԻ ԵՎ ՍՊՈՐՏԻ ՆԱԽԱՐԱՐՈՒԹՅՈՒՆ | D13: =SUM(E13:H13) -> -585000 | E13: =+E15+E16+E17+E20+E23 -> 2000000 | F13: =+F15+F16+F17+F20+F23 -> 0 | G13: =+G15+G16+G17+G20+G23 -> 0 | H13: =+H15+H16+H17+H20+H23 -> -2585000
C14: այդ թվում`
A15: 1162 | B15: 32004 | C15: Գիտական կենտրոնները ժամանակակից սարքավորումներով վերազինում ու համատեղ օգտագործման գիտական սարքավորումների կենտրոնների ստեղծում | D15: =SUM(E15:H15) -> -3408199.8 | E15: 0 | F15: 0 | G15: 0 | H15: =+'Հավելված N 9'!I23 -> -3408199.8
A16: 1192 | B16: 32007 | C16: ՀՀ պետական դպրոցների՝ ԳՏՃՄ լաբորատորիաներով ապահովում | D16: =SUM(E16:H16) -> 702637 | E16: 0 | F16: 0 | G16: 0 | H16: =+'Հավելված N 9'!I16 -> 702637
A17: 1236 | B17: 32003 | C17: Հանրակրթական դպրոցների նոր շենքերի կառուցում | D17: =SUM(E17:H17) -> 1300000 | E17: =+E19 -> 1300000 | F17: =+F19 -> 0 | G17: =+G19 -> 0 | H17: =+H19 -> 0
C18: այդ թվում`
C19: Հանրակրթական դպրոցների նոր շենքերի կառուցում | D19: =SUM(E19:H19) -> 1300000 | E19: 1300000 | F19: 0 | G19: 0 | H19: 0
A20: 1236 | B20: 32005 | C20: Կրթահամալիրների կառուցում | D20: =SUM(E20:H20) -> 700000 | E20: =+E22 -> 700000 | F20: =+F22 -> 0 | G20: =+G22 -> 0 | H20: =+H22 -> 0
C21: այդ թվում`
C22: Կրթահամալիրների կառուցում | D22: =SUM(E22:H22) -> 700000 | E22: 700000 | F22: 0 | G22: 0 | H22: 0
A23: 1236 | B23: 32006 | C23: Հանրակրթական դպրոցների, մանկապարտեզների և կրթահամալիրների գույքով և տեխնիկայով ապահովում | D23: =SUM(E23:H23) -> 120562.8 | E23: =+E25+E32+E34+E64+E68+E80+E84 -> 0 | F23: =+F25+F32+F34+F64+F68+F80+F84 -> 0 | G23: =+G25+G32+G34+G64+G68+G80+G84 -> 0 | H23: =+H25+H32+H34+H64+H68+H80+H84 -> 120562.8
C24: այդ թվում`
C25: ՀՀ Արագածոտնի մարզ | D25: =SUM(E25:H25) -> 25402 | E25: =SUM(E26:E31) -> 0 | F25: =SUM(F26:F31) -> 0 | G25: =SUM(G26:G31) -> 0 | H25: =SUM(H26:H31) -> 25402
C26: Արտաշավան բնակավայրի «Կակաչ» մանկապարտեզ | D26: =+E26+F26+G26+H26 -> 1928.1 | H26: 1928.1
C27: Ապարան համայնքի Շենավան գյուղի մանկապարտեզ | D27: =+E27+F27+G27+H27 -> 1928.1 | H27: 1928.1
C28: Ապարան համայնքի Արագածի Լիա Տեր–Ղևոնդյանի անվան մանկապարտեզ | D28: =+E28+F28+G28+H28 -> 1928.1 | H28: 1928.1
C29: Ալագյազ համայնքի «Մոդուլային» տիպի 144 տեղ հզորությամբ մսուր-մանկապարտեզ | D29: =+E29+F29+G29+H29 -> 2058.8 | H29: 2058.8
C30: Աշտարակի թիվ 4 «Հասմիկ» մանկապարտեզ | D30: =+E30+F30+G30+H30 -> 2058.8 | H30: 2058.8
C31: Աշտարակ համայնքի Ուշի բնակավայրի մանկապարտեզ | D31: =+E31+F31+G31+H31 -> 15500.1 | H31: =+SUM('Հավելված N 9'!I66:I155) -> 15500.1
C32: ՀՀ Արարատի մարզ | D32: =SUM(E32:H32) -> 10005.8 | E32: =+E33 -> 0 | F32: =+F33 -> 0 | G32: =+G33 -> 0 | H32: =+H33 -> 10005.8
C33: Արալեզ համայնքի «Մոդուլային» տիպի 144 տեղ հզորությամբ մսուր-մանկապարտեզ | D33: =+E33+F33+G33+H33 -> 10005.8 | H33: =+'Հավելված N 9'!I170 -> 10005.8
C34: ՀՀ Արմավիրի մարզ | D34: =SUM(E34:H34) -> 43483.1 | E34: =SUM(E35:E63) -> 0 | F34: =SUM(F35:F63) -> 0 | G34: =SUM(G35:G63) -> 0 | H34: =SUM(H35:H63) -> 43483.1
C35: Արաքս համայնքի Խորոնք գյուղի մանկապարտեզ | D35: =+E35+F35+G35+H35 -> 1094.5 | H35: 1094.5
C36: Արաքս համայնքի Ջրառատ գյուղի մանկապարտեզ | D36: =+E36+F36+G36+H36 -> 1094.5 | H36: 1094.5
C37: Արաքս համայնքի Մեծամոր գյուղի մանկապարտեզ | D37: =+E37+F37+G37+H37 -> 1094.5 | H37: 1094.5
C38: Բաղրամյան համայնքի Հուշակերտ գյուղի մանկապարտեզ | D38: =+E38+F38+G38+H38 -> 1094.5 | H38: 1094.5
C39: Արմավիր համայնքի Սարդարապատ գյուղի մանկապարտեզ | D39: =+E39+F39+G39+H39 -> 489.1 | H39: 489.1
C40: Արմավիր համայնքի Արաքս գյուղի մանկապարտեզ | D40: =+E40+F40+G40+H40 -> 489.1 | H40: 489.1
C41: Մեծամոր համայնքի Ջանֆիդա գյուղի Վազգեն Սարգսյանի անվան մանկապարտեզ | D41: =+E41+F41+G41+H41 -> 605.4 | H41: 605.4
C42: Մեծամոր համայնքի Զարթոնք գյուղի մանկապարտեզ | D42: =+E42+F42+G42+H42 -> 876.6 | H42: 876.6
C43: Մեծամոր համայնքի Արևիկ գյուղի «Մոդուլային» տիպի 144 տեղ հզորությամբ մսուր-մանկապարտեզ | D43: =+E43+F43+G43+H43 -> 714.8 | H43: 714.8
...

Sheet Հավելված N 4
E1: Հավելված N 4
D2: ՀՀ կառավարության 2025 թվականի
E3: ______________ ի ___Ն որոշման
B6: ՀԱՅԱՍՏԱՆԻ ՀԱՆՐԱՊԵՏՈՒԹՅԱՆ ԿԱՌԱՎԱՐՈՒԹՅԱՆ 2024 ԹՎԱԿԱՆԻ ԴԵԿՏԵՄԲԵՐԻ 27-Ի N 2060-Ն ՈՐՈՇՄԱՆ N 5 ՀԱՎԵԼՎԱԾԻ N 2 ԱՂՅՈՒՍԱԿՈՒՄ ԿԱՏԱՐՎՈՂ ԼՐԱՑՈՒՄՆԵՐԸ
F8: հազ. դրամներով
B9: Ծրագրային դասիչ | D9: Բյուջետային գլխավոր կարգադրիչների, ծրագրերի, միջոցառումների, միջոցառումները կատարող պետական մարմինների և ուղղությունների անվանումները | E9: Ցուցանիշների փոփոխությունը (ավելացումները նշված են դրական նշանով, իսկ նվազեցումները՝ փակագծերում)
B10: Ծրագիր | C10: Միջոցառում | E10: Ինն ամիս | F10: Տարի
D11: ՀՀ ԿՐԹՈՒԹՅԱՆ, ԳԻՏՈՒԹՅԱՆ, ՄՇԱԿՈՒՅԹԻ ԵՎ ՍՊՈՐՏԻ ՆԱԽԱՐԱՐՈՒԹՅՈՒՆ | E11: =+E13+E16+E19+E22+E25 -> -575000 | F11: =+F13+F16+F19+F22+F25 -> -585000
D12: այդ թվում՝
B13: 1162 | C13: 32004 | D13: Գիտական կենտրոնները ժամանակակից սարքավորումներով վերազինում ու համատեղ օգտագործման գիտական սարքավորումների կենտրոնների ստեղծում | E13: =+E15 -> -2906353.9 | F13: =+F15 -> -3408199.8
D14: այդ թվում` ըստ կատարողների
D15: ՀՀ կրթության, գիտության, մշակույթի և սպորտի նախարարության բարձրագույն կրթության և գիտության կոմիտե | E15: =-E16-E19-E22-E25-'Հավելված N 5'!D13-30000 -> -2906353.9 | F15: =+'Հավելված N 3'!D15 -> -3408199.8
B16: 1192 | C16: 32007 | D16: ՀՀ պետական դպրոցների՝ ԳՏՃՄ լաբորատորիաներով ապահովում | E16: =+E18 -> 210791.1 | F16: =+F18 -> 702637
D17: այդ թվում` ըստ կատարողների
D18: ՀՀ կրթության, գիտության, մշակույթի և սպորտի նախարարություն | E18: =+ROUND(F18*0.3,1) -> 210791.1 | F18: =+'Հավելված N 3'!D16 -> 702637
B19: 1236 | C19: 32003 | D19: Հանրակրթական դպրոցների նոր շենքերի կառուցում | E19: =+E21 -> 1300000 | F19: =+F21 -> 1300000
D20: այդ թվում` ըստ կատարողների
D21: ՀՀ կրթության, գիտության, մշակույթի և սպորտի նախարարություն | E21: =+F21 -> 1300000 | F21: =+'Հավելված N 3'!D19 -> 1300000
B22: 1236 | C22: 32005 | D22: Կրթահամալիրների կառուցում | E22: =+E24 -> 700000 | F22: =+F24 -> 700000
D23: այդ թվում` ըստ կատարողների
D24: ՀՀ կրթության, գիտության, մշակույթի և սպորտի նախարարություն | E24: =+F24 -> 700000 | F24: =+'Հավելված N 3'!D22 -> 700000
B25: 1236 | C25: 32006 | D25: Հանրակրթական դպրոցների, մանկապարտեզների և կրթահամալիրների գույքով և տեխնիկայով ապահովում | E25: =+E27+E36+E40+E72+E78+E92+E98 -> 120562.8 | F25: =+F27+F36+F40+F72+F78+F92+F98 -> 120562.8
D26: այդ թվում` ըստ կատարողների
D27: ՀՀ Արագածոտնի մարզպետի աշխատակազմ | E27: =+E29 -> 25402 | F27: =+F29 -> 25402
D28: այդ թվում`ըստ ուղղությունների
D29: ՀՀ Արագածոտնի մարզ | E29: =SUM(E30:E35) -> 25402 | F29: =SUM(F30:F35) -> 25402
D30: =+'Հավելված N 3'!C26 -> Արտաշավան բնակավայրի «Կակաչ» մանկապարտեզ | E30: =+F30 -> 1928.1 | F30: =+'Հավելված N 3'!D26 -> 1928.1
D31: =+'Հավելված N 3'!C27 -> Ապարան համայնքի Շենավան գյուղի մանկապարտեզ | E31: =+F31 -> 1928.1 | F31: =+'Հավելված N 3'!D27 -> 1928.1
D32: =+'Հավելված N 3'!C28 -> Ապարան համայնքի Արագածի Լիա Տեր–Ղևոնդյանի անվան մանկապարտեզ | E32: =+F32 -> 1928.1 | F32: =+'Հավելված N 3'!D28 -> 1928.1
D33: =+'Հավելված N 3'!C29 -> Ալագյազ համայնքի «Մոդուլային» տիպի 144 տեղ հզորությամբ մսուր-մանկապարտեզ | E33: =+F33 -> 2058.8 | F33: =+'Հավելված N 3'!D29 -> 2058.8
D34: =+'Հավելված N 3'!C30 -> Աշտարակի թիվ 4 «Հասմիկ» մանկապարտեզ | E34: =+F34 -> 2058.8 | F34: =+'Հավելված N 3'!D30 -> 2058.8
D35: =+'Հավելված N 3'!C31 -> Աշտարակ համայնքի Ուշի բնակավայրի մանկապարտեզ | E35: =+F35 -> 15500.1 | F35: =+'Հավելված N 3'!D31 -> 15500.1
D36: ՀՀ Արարատի մարզպետի աշխատակազմ | E36: =+E38 -> 10005.8 | F36: =+F38 -> 10005.8
D37: այդ թվում`ըստ ուղղությունների
D38: ՀՀ Արարատի մարզ | E38: =+E39 -> 10005.8 | F38: =+F39 -> 10005.8
D39: =+'Հավելված N 3'!C33 -> Արալեզ համայնքի «Մոդուլային» տիպի 144 տեղ հզորությամբ մսուր-մանկապարտեզ | E39: =+F39 -> 10005.8 | F39: =+'Հավելված N 3'!D33 -> 10005.8
D40: ՀՀ Արմավիրի մարզպետի աշխատակազմ | E40: =+E42 -> 43483.1 | F40: =+F42 -> 43483.1
D41: այդ թվում`ըստ ուղղությունների
D42: ՀՀ Արմավիրի մարզ | E42: =SUM(E43:E71) -> 43483.1 | F42: =SUM(F43:F71) -> 43483.1
D43: =+'Հավելված N 3'!C35 -> Արաքս համայնքի Խորոնք գյուղի մանկապարտեզ | E43: =+F43 -> 1094.5 | F43: =+'Հավելված N 3'!D35 -> 1094.5
...

Sheet Հավելված N 5
H1: Հավելված N 5
F2: ՀՀ կառավարության 2025 թվականի
H3: ______________ ի ___Ն որոշման
A6: «ՀԱՅԱՍՏԱՆԻ ՀԱՆՐԱՊԵՏՈՒԹՅԱՆ 2025 ԹՎԱԿԱՆԻ ՊԵՏԱԿԱՆ ԲՅՈՒՋԵԻ ՄԱՍԻՆ» ՕՐԵՆՔԻ N 1 ՀԱՎԵԼՎԱԾԻ N 4 ԱՂՅՈՒՍԱԿՈՒՄ ԵՎ ՀԱՅԱՍՏԱՆԻ ՀԱՆՐԱՊԵՏՈՒԹՅԱՆ ԿԱՌԱՎԱՐՈՒԹՅԱՆ 2024 ԹՎԱԿԱՆԻ ԴԵԿՏԵՄԲԵՐԻ 27-Ի N 2060-Ն ՈՐՈՇՄԱՆ N 5 ՀԱՎԵԼՎԱԾԻ N 3 ԱՂՅՈՒՍԱԿՈՒՄ ԿԱՏԱՐՎՈՂ ԼՐԱՑՈՒՄԸ
I8: հազ. դրամներով
A9: Ծրագրային դասիչը | C9: Բյուջետային հատկացումների գլխավոր կարգադրիչների, ծրագրերի, միջոցառումների և միջոցառումները կատարող պետական մարմինների անվանումները | D9: Ցուցանիշների փոփոխությունը (ավելացումները նշված են դրական նշանով)
D10: Ինն ամիս | G10: Տարի
D11: Ընդամենը | E11: այդ թվում` | G11: Ընդամենը | H11: այդ թվում`
A12: Ծրագիր | B12: Միջոցառում | E12: Վարկային միջոցներ | F12: Համաֆինան սավորում | H12: Վարկային միջոցներ | I12: Համաֆինան սավորում
C13: ԸՆԴԱՄԵՆԸ | D13: =+E13+F13 -> 545000 | E13: =+E15 -> 0 | F13: =+F15 -> 545000 | G13: =+H13+I13 -> 545000 | H13: =+H15 -> 0 | I13: =+I15 -> 545000
C14: այդ թվում`
C15: ՈՉ ՖԻՆԱՆՍԱԿԱՆ ԱԿՏԻՎՆԵՐԻ ԳԾՈՎ ԾԱԽՍԵՐ | D15: =+E15+F15 -> 545000 | E15: =+E16 -> 0 | F15: =+F16 -> 545000 | G15: =+H15+I15 -> 545000 | H15: =+H16 -> 0 | I15: =+I16 -> 545000
C16: ՀՀ կրթության, գիտության, մշակույթի և սպորտի նախարարություն | D16: =+E16+F16 -> 545000 | E16: =+E18 -> 0 | F16: =+F18 -> 545000 | G16: =+H16+I16 -> 545000 | H16: =+H18 -> 0 | I16: =+I18 -> 545000
C17: այդ թվում`
A18: 1192 | C18: Կրթության որակի ապահովում | D18: =+E18+F18 -> 545000 | E18: =+E20 -> 0 | F18: =+F20 -> 545000 | G18: =+H18+I18 -> 545000 | H18: =+H20 -> 0 | I18: =+I20 -> 545000
C19: այդ թվում`
B20: 32006 | C20: Համաշխարհային բանկի աջակցությամբ իրականացվող «Կրթության բարելավման ծրագրի լրացուցիչ ֆինանսավորում» վարկային ծրագրի շրջանակներում կապիտալ ներդրումներ հանրակրթական ուսումնական հաստատություններում | D20: =+E20+F20 -> 545000 | E20: =+E22 -> 0 | F20: =+F22 -> 545000 | G20: =+H20+I20 -> 545000 | H20: =+H22 -> 0 | I20: =+I22 -> 545000
C21: այդ թվում` ըստ կատարողների
C22: ՀՀ կրթության, գիտության, մշակույթի և սպորտի նախարարություն | D22: =+E22+F22 -> 545000 | E22: =+E24 -> 0 | F22: =+F24 -> 545000 | G22: =+H22+I22 -> 545000 | H22: =+H24 -> 0 | I22: =+I24 -> 545000
C23: այդ թվում` բյուջետային ծախսերի տնտեսագիտական դասակարգման հոդվածներ
C24: ԸՆԴԱՄԵՆԸ ԾԱԽՍԵՐ | D24: =+E24+F24 -> 545000 | E24: =+E25 -> 0 | F24: =+F25 -> 545000 | G24: =+H24+I24 -> 545000 | H24: =+H25 -> 0 | I24: =+I25 -> 545000
C25: ՈՉ ՖԻՆԱՆՍԱԿԱՆ ԱԿՏԻՎՆԵՐԻ ԳԾՈՎ ԾԱԽՍԵՐ | D25: =+E25+F25 -> 545000 | E25: =+E26 -> 0 | F25: =+F26 -> 545000 | G25: =+H25+I25 -> 545000 | H25: =+H26 -> 0 | I25: =+I26 -> 545000
C26: ՀԻՄՆԱԿԱՆ ՄԻՋՈՑՆԵՐ | D26: =+E26+F26 -> 545000 | E26: =+E27+E29 -> 0 | F26: =+F27+F29 -> 545000 | G26: =+H26+I26 -> 545000 | H26: =+H27+H29 -> 0 | I26: =+I27+I29 -> 545000
C27: ՇԵՆՔԵՐ ԵՎ ՇԻՆՈՒԹՅՈՒՆՆԵՐ | D27: =+E27+F27 -> 45000 | E27: =+E28 -> 0 | F27: =+F28 -> 45000 | G27: =+H27+I27 -> 45000 | H27: =+H28 -> 0 | I27: =+I28 -> 45000
C28: - Շենքերի և շինությունների կապիտալ վերանորոգում | D28: =+E28+F28 -> 45000 | F28: 45000 | G28: =+H28+I28 -> 45000 | I28: 45000
C29: ՄԵՔԵՆԱՆԵՐ ԵՎ ՍԱՐՔԱՎՈՐՈՒՄՆԵՐ | D29: =+E29+F29 -> 500000 | E29: =+E30 -> 0 | F29: =+F30 -> 500000 | G29: =+H29+I29 -> 500000 | H29: =+H30 -> 0 | I29: =+I30 -> 500000
C30: - Այլ մեքենաներ և սարքավորումներ | D30: =+E30+F30 -> 500000 | F30: 500000 | G30: =+H30+I30 -> 500000 | I30: 500000

Sheet Հավելված N 6
F1: Հավելված 6
F2: ՀՀ կառավարության 2025 թվականի
F3: ______________ ի ___Ն որոշման
A6: ՀԱՅԱՍՏԱՆԻ ՀԱՆՐԱՊԵՏՈՒԹՅԱՆ ԿԱՌԱՎԱՐՈՒԹՅԱՆ 2024 ԹՎԱԿԱՆԻ ԴԵԿՏԵՄԲԵՐԻ 27-Ի N 2060-Ն ՈՐՈՇՄԱՆ N 5 ՀԱՎԵԼՎԱԾԻ N 7 ԱՂՅՈՒՍԱԿՈՒՄ ԿԱՏԱՐՎՈՂ ԼՐԱՑՈՒՄԸ
A7: հազար դրամ
A8: Ծրագրային դասիչը | C8: Բյուջետային հատկացումների գլխավոր կարգադրիչների, ծրագրերի, միջոցառումների, ծախսային ուղղությունների անվանումները | F8: Միջոցառումները կատարող պետական մարմինների և դրամաշնորհ ստացող տնտեսվարող սուբյեկտների անվանումները | G8: Ցուցանիշների փոփոխությունը (ավելացումները նշված են դրական նշանով)
A9: Ծրագիր | B9: Միջոցառում | G9: Տարի
A10: ՀՀ կրթության, գիտության, մշակույթի և սպորտի նախարարություն | G10: =+G11 -> 40000
A11: 1183 | B11: Ապահով դպրոց | G11: =+G12 -> 40000
B12: 11002 | C12: Աջակցություն դպրոցներին «Արագ արձագանքման ֆոնդի» շրջանակում հրատապ խնդիրների լուծման համար | G12: =+G13 -> 40000
F13: ՀՀ կրթության, գիտության, մշակույթի և սպորտի նախարարություն | G13: =+G14 -> 40000
F14: Հանրակրթական դպրոցներ | G14: 40000

Sheet Հավելված N 7
J1: Հավելված 7
J2: ՀՀ կառավարության 2025 թվականի
J3: ______________ ի ___Ն որոշման
A6: ՀԱՅԱՍՏԱՆԻ ՀԱՆՐԱՊԵՏՈՒԹՅԱՆ ԿԱՌԱՎԱՐՈՒԹՅԱՆ 2024 ԹՎԱԿԱՆԻ ԴԵԿՏԵՄԲԵՐԻ 27-Ի N 2060-Ն ՈՐՈՇՄԱՆ N 9 ՀԱՎԵԼՎԱԾՈՒՄ ԿԱՏԱՐՎՈՂ ԼՐԱՑՈՒՄՆԵՐԸ
A9: ԲԳԿ | B9: Ծրագիր | D9: Միջոցառում | H9: Իրականացնողը/ ակտիվն օգտագործողը/ շահառուի ընտրության չափորոշիչը | I9: Արդյունքային չափորոշիչը | J9: Ցուցանիշների փոփոխությունը (ավելացումները նշված են դրական նշանով, իսկ նվազեցումները՝ փակագծերում)
B10: Դասիչը | C10: Անվանումը | D10: Դասիչը | E10: Անվանումը | F10: Նկարագրությունը | G10: Տեսակը | J10: Ինն ամիս | K10: Տարի
A11: ԸՆԴԱՄԵՆԸ | J11: =+J13 -> 0 | K11: =+K13 -> 0
A12: այդ թվում՝
A13: ՀՀ ԿՐԹՈՒԹՅԱՆ, ԳԻՏՈՒԹՅԱՆ, ՄՇԱԿՈԻՅԹԻ ԵՎ ՍՊՈՐՏԻ ՆԱԽԱՐԱՐՈՒԹՅՈՒՆ | J13: =+J14+J20+J26+J39 -> 0 | K13: =+K14+K20+K26+K39 -> 0
B14: 1162 | C14: Գիտական և գիտատեխնիկական հետազոտությունների ծրագիր | J14: =+J15 -> -2906353.9 | K14: =+K15 -> -3408199.8
D15: 1162 - 32004 | E15: Գիտական կենտրոնները ժամանակակից սարքավորումներով վերազինում ու համատեղ օգտագործման գիտական սարքավորումների կենտրոնների ստեղծում | J15: =+'Հավելված N 1'!G17 -> -2906353.9 | K15: =+'Հավելված N 1'!H17 -> -3408199.8
F16: Գիտական կենտրոնները վերազինված են ոլորտային համալիր հետազոտությունների համար անհարժեշտ սարքավորումներով
G17: Այլ պետական կազմակերպությունների կողմից օգտագործվող ոչ ֆինանսական ակտիվների հետ գործառնություններ
H18: Ակտիվն օգտագործող կազմակերպության անվանումը` գիտական կենտրոններ
I19: Վերազինված գիտական կենտրոններում արքավորումների թիվ, հատ | K19: -8
B20: 1183 | C20: Ապահով դպրոց | J20: =+J21 -> 30000 | K20: =+K21 -> 40000
D21: 1183 - 11002 | E21: Աջակցություն դպրոցներին «Արագ արձագանքման ֆոնդի» շրջանակում՛ հրատապ խնդիրների լուծման համար | J21: =+'Հավելված N 1'!G19 -> 30000 | K21: =+'Հավելված N 1'!H19 -> 40000
F22: Դպրոցներում արտակարգ իրավիճակների և չնախատեսված հանգամանքների հետևանքով առաջացած խնդիրների լուծման նպատակով ընթացիկ աշխատանքների իրականացում
G23: Ծառայությունների մատուցում
H24: Ծառայությունը մատուցողի անվանումը` Մասնագիտացված կազմակերպություններ
I25: Շահառու դպրոցների թիվը | K25: =44-15 -> 29
B26: 1192 | C26: Կրթության որակի ապահովում | J26: =+J27+J31 -> 755791.1 | K26: =+K27+K31 -> 1247637
D27: 1192 - 32006 | E27: Համաշխարհային բանկի աջակցությամբ իրականացվող «Կրթության բարելավման ծրագրի լրացուցիչ ֆինանսավորում» վարկային ծրագրի շրջանակներում կապիտալ ներդրումներ հանրակրթական ուսումնական հաստատություններում | J27: =+'Հավելված N 1'!G21 -> 545000 | K27: =+'Հավելված N 1'!H21 -> 545000
F28: Կապիտալ ներդրումներ ավագ, միջնակարգ և հիմնական դպրոցներում
G29: Այլ պետական կազմակերպությունների կողմից օգտագործվող ոչ ֆինանսական ակտիվների հետ գործառնություններ
H30: Ակտիվն օգտագործող կազմակերպության անվանումը` Հանրակրթական ուսումնական հաստատություններ
D31: 1192 - 32007 | E31: ՀՀ պետական դպրոցների` ԳՏՃՄ լաբորատորիաներով ապահովում | J31: =+'Հավելված N 1'!G22 -> 210791.1 | K31: =+'Հավելված N 1'!H22 -> 702637
F32: ՀՀ պետական դպրոցների համար ԳՏՃՄ առարկաների լաբորատոր սարքավարումների և կահույքի ձեռքբերում
G33: Այլ պետական կազմակերպությունների կողմից օգտագործվող ոչ ֆինանսական ակտիվների հետ գործառնություններ
H34: Ակտիվն օգտագործող կազմակերպության անվանումը` Հանրակրթական ուսումնական հաստատություններ
I35: Ժամանակակից ԳՏՃՄ լաբորատորիաներով հագեցած դպրոցների թիվը, հատ | K35: 25
I36: Ժամանակակից ԳՏՃՄ լաբորատորիաներով հագեցած Արարատի, Գեղարքունիքի, Կոտայքի մարզերի դպրոցների թիվը, հատ | K36: -72
I37: Հայաստանի գիտության և տեխնոլոգիաների հիմնադրամի (FAST) աջակցությամբ իրականացվող ,ԱԲ սերունդե դպրոցական ծրագրի շրջանակներում համակարգչային տեխնիկայով հագեցած դպրոցների թիվը, հատ | K37: -14
I38: Հայաստանի գիտության և տեխնոլոգիաների հիմնադրամի (FAST) աջակցությամբ իրականացվող «ԱԲ սերունդ» դպրոցական ծրագրի շրջանակներում, ինչպես նաև ուսուցիչների կամավոր ատեստավորման համար քննական կենտրոնի ձևավորման նպատակով համակարգչային տեխնիկայով հագեցած դպրոցների թիվը, հատ | K38: 42
B39: 1236 | C39: Հանրակրթական և նախադպրոցական հաստատությունների հիմնում, կառուցում, բարելավում | J39: =+J40+J44+J48 -> 2120562.8 | K39: =+K40+K44+K48 -> 2120562.8
D40: 1236 - 32003 | E40: Հանրակրթական դպրոցների նոր շենքերի կառուցում | J40: =+'Հավելված N 1'!G24 -> 1300000 | K40: =+'Հավելված N 1'!H24 -> 1300000
F41: ՀՀ մարզերում կրթական որակյալ ծառայությունների հասանելիության ապահովման ծրագրի շրջանակներում հանրակրթական և նախադպրոցական կրթության հասանելիության ապահովման նպատակով կրթական կենտրոնների կառուցում
G42: Այլ պետական կազմակերպությունների կողմից օգտագործվող ոչ ֆինանսական ակտիվների հետ գործառնություններ
H43: Ակտիվն օգտագործող կազմակերպությունների անվանումները` Հանրակրթական դպրոցներ
D44: 1236 - 32005 | E44: Կրթահամալիրների կառուցում | J44: =+'Հավելված N 1'!G25 -> 700000 | K44: =+'Հավելված N 1'!H25 -> 700000
...

Sheet Հավելված N 8
J1: Հավելված 8
J2: ՀՀ կառավարության 2025 թվականի
J3: ______________ ի ___Ն որոշման
A6: ՀԱՅԱՍՏԱՆԻ ՀԱՆՐԱՊԵՏՈՒԹՅԱՆ ԿԱՌԱՎԱՐՈՒԹՅԱՆ 2024 ԹՎԱԿԱՆԻ ԴԵԿՏԵՄԲԵՐԻ 27-Ի N 2060-Ն ՈՐՈՇՄԱՆ N 9.1 ՀԱՎԵԼՎԱԾՈՒՄ ԿԱՏԱՐՎՈՂ ԼՐԱՑՈՒՄՆԵՐԸ
A9: ԲՍԿ | B9: Ծրագիր | D9: Միջոցառում | H9: Իրականացնողը/ ակտիվն օգտագործողը/ շահառուի ընտրության չափորոշիչը | I9: Արդյունքային չափորոշիչը | J9: Ցուցանիշների փոփոխությունը (ավելացումները նշված են դրական նշանով, իսկ նվազեցումները՝ փակագծերում)
B10: Դասիչը | C10: Անվանումը | D10: Դասիչը | E10: Անվանումը | F10: Նկարագրությունը | G10: Տեսակը | J10: Ինն ամիս | K10: Տարի
A11: ԸՆԴԱՄԵՆԸ | J11: =+J13+J43+J51+J59+J67+J76+J83+J92+J99 -> 1.891749e-10 | K11: =+K13+K43+K51+K59+K67+K76+K83+K92+K99 -> 1.891749e-10
A12: այդ թվում՝
A13: ՀՀ ԿՐԹՈՒԹՅԱՆ, ԳԻՏՈՒԹՅԱՆ, ՄՇԱԿՈԻՅԹԻ ԵՎ ՍՊՈՐՏԻ ՆԱԽԱՐԱՐՈՒԹՅՈՒՆ | J13: =+J14+J20+J33 -> 2785791.1 | K13: =+K14+K20+K33 -> 3287637
B14: 1183 | C14: Ապահով դպրոց | J14: =+J15 -> 30000 | K14: =+K15 -> 40000
D15: 1183 - 11002 | E15: Աջակցություն դպրոցներին «Արագ արձագանքման ֆոնդի» շրջանակում՛ հրատապ խնդիրների լուծման համար | J15: =+'Հավելված N 2'!G47 -> 30000 | K15: =+'Հավելված N 2'!H47 -> 40000
F16: Դպրոցներում արտակարգ իրավիճակների և չնախատեսված հանգամանքների հետևանքով առաջացած խնդիրների լուծման նպատակով ընթացիկ աշխատանքների իրականացում
G17: Ծառայությունների մատուցում
H18: Ծառայությունը մատուցողի անվանումը` Մասնագիտացված կազմակերպություններ
I19: Շահառու դպրոցների թիվը | K19: =44-15 -> 29
B20: 1192 | C20: Կրթության որակի ապահովում | J20: =+J21+J25 -> 755791.1 | K20: =+K21+K25 -> 1247637
D21: 1192 - 32006 | E21: Համաշխարհային բանկի աջակցությամբ իրականացվող «Կրթության բարելավման ծրագրի լրացուցիչ ֆինանսավորում» վարկային ծրագրի շրջանակներում կապիտալ ներդրումներ հանրակրթական ուսումնական հաստատություններում | J21: =+'Հավելված N 2'!G148 -> 545000 | K21: =+'Հավելված N 2'!H148 -> 545000
F22: Կապիտալ ներդրումներ ավագ, միջնակարգ և հիմնական դպրոցներում
G23: Այլ պետական կազմակերպությունների կողմից օգտագործվող ոչ ֆինանսական ակտիվների հետ գործառնություններ
H24: Ակտիվն օգտագործող կազմակերպության անվանումը` Հանրակրթական ուսումնական հաստատություններ
D25: 1192 - 32007 | E25: ՀՀ պետական դպրոցների` ԳՏՃՄ լաբորատորիաներով ապահովում | J25: =+'Հավելված N 2'!G60 -> 210791.1 | K25: =+'Հավելված N 2'!H60 -> 702637
F26: ՀՀ պետական դպրոցների համար ԳՏՃՄ առարկաների լաբորատոր սարքավարումների և կահույքի ձեռքբերում
G27: Այլ պետական կազմակերպությունների կողմից օգտագործվող ոչ ֆինանսական ակտիվների հետ գործառնություններ
H28: Ակտիվն օգտագործող կազմակերպության անվանումը` Հանրակրթական ուսումնական հաստատություններ
I29: Ժամանակակից ԳՏՃՄ լաբորատորիաներով հագեցած դպրոցների թիվը, հատ | K29: 25
I30: Ժամանակակից ԳՏՃՄ լաբորատորիաներով հագեցած Արարատի, Գեղարքունիքի, Կոտայքի մարզերի դպրոցների թիվը, հատ | K30: -72
I31: Հայաստանի գիտության և տեխնոլոգիաների հիմնադրամի (FAST) աջակցությամբ իրականացվող ,ԱԲ սերունդե դպրոցական ծրագրի շրջանակներում համակարգչային տեխնիկայով հագեցած դպրոցների թիվը, հատ | K31: -14
I32: Հայաստանի գիտության և տեխնոլոգիաների հիմնադրամի (FAST) աջակցությամբ իրականացվող «ԱԲ սերունդ» դպրոցական ծրագրի շրջանակներում, ինչպես նաև ուսուցիչների կամավոր ատեստավորման համար քննական կենտրոնի ձևավորման նպատակով համակարգչային տեխնիկայով հագեցած դպրոցների թիվը, հատ | K32: 42
B33: 1236 | C33: Հանրակրթական և նախադպրոցական հաստատությունների հիմնում, կառուցում, բարելավում | J33: =+J34+J38 -> 2000000 | K33: =+K34+K38 -> 2000000
D34: 1236 - 32003 | E34: Հանրակրթական դպրոցների նոր շենքերի կառուցում | J34: =+'Հավելված N 2'!G71 -> 1300000 | K34: =+'Հավելված N 2'!H71 -> 1300000
F35: ՀՀ մարզերում կրթական որակյալ ծառայությունների հասանելիության ապահովման ծրագրի շրջանակներում հանրակրթական և նախադպրոցական կրթության հասանելիության ապահովման նպատակով կրթական կենտրոնների կառուցում
G36: Այլ պետական կազմակերպությունների կողմից օգտագործվող ոչ ֆինանսական ակտիվների հետ գործառնություններ
H37: Ակտիվն օգտագործող կազմակերպությունների անվանումները` Հանրակրթական դպրոցներ
D38: 1236 - 32005 | E38: Կրթահամալիրների կառուցում | J38: =+'Հավելված N 2'!G80 -> 700000 | K38: =+'Հավելված N 2'!H80 -> 700000
F39: ՀՀ մարզերում կրթական որակյալ ծառայությունների հասանելիության ապահովման ծրագրի շրջանակներում հանրակրթական և նախադպրոցական կրթության հասանելիության ապահովման նպատակով կրթական կենտրոնների կառուցում
G40: Այլ պետական կազմակերպությունների կողմից օգտագործվող ոչ ֆինանսական ակտիվների հետ գործառնություններ
H41: Ակտիվն օգտագործող կազմակերպությունների անվանումները` Ստեղծվող կրթահամալիրներ
A43: ՀՀ ԿՐԹՈՒԹՅԱՆ, ԳԻՏՈՒԹՅԱՆ, ՄՇԱԿՈԻՅԹԻ ԵՎ ՍՊՈՐՏԻ ՆԱԽԱՐԱՐՈՒԹՅԱՆ ԲԱՐՁՐԱԳՈՒՅՆ ԿՐԹՈՒԹՅԱՆ ԵՎ ԳԻՏՈՒԹՅԱՆ ԿՈՄԻՏԵ | J43: =+J44 -> -2906353.9 | K43: =+K44 -> -3408199.8
B44: 1162 | C44: Գիտական և գիտատեխնիկական հետազոտությունների ծրագիր | J44: =+J45 -> -2906353.9 | K44: =+K45 -> -3408199.8
D45: 1162 - 32004 | E45: Գիտական կենտրոնները ժամանակակից սարքավորումներով վերազինում ու համատեղ օգտագործման գիտական սարքավորումների կենտրոնների ստեղծում | J45: =+'Հավելված N 2'!G28 -> -2906353.9 | K45: =+'Հավելված N 2'!H28 -> -3408199.8
...

Sheet Հավելված N 9
H1: Հավելված N 9
H2: ՀՀ կառավարության 2024 թվականի
H3: ______________ ի ___Ն որոշման
A6: ՀԱՅԱՍՏԱՆԻ ՀԱՆՐԱՊԵՏՈՒԹՅԱՆ ԿԱՌԱՎԱՐՈՒԹՅԱՆ 2023 ԹՎԱԿԱՆԻ ԴԵԿՏԵՄԲԵՐԻ 28-Ի N 2323-Ն N 10 ՀԱՎԵԼՎԱԾՈՒՄ ԿԱՏԱՐՎՈՂ ԼՐԱՑՈՒՄՆԵՐԸ
A10: Կոդը | B10: Անվանումը | E10: Գնման ձևը | F10: Չափման միավորը | G10: Միավորի գինը | H10: Ցուցանիշների փոփոխությունը (ավելացումները նշված են դրական նշանով)
H11: Քանակը | I11: Գումարը (հազար դրամ)
A12: 1 | B12: 2 | E12: 3 | F12: 4 | G12: 5 | H12: 6 | I12: 7
A13: ՀՀ կրթության, գիտության, մշակույթի և սպորտի նախարարություն | I13: =+I14 -> 702637
A14: Բաժին N 09 | B14: Խումբ N 02 | C14: Դաս N 01 | D14: Հիմնական ընդհանուր կրթություն | I14: =+I15 -> 702637
A15: 1192-32007 | B15: ՀՀ պետական դպրոցների՝ ԳՏՃՄ լաբորատորիաներով ապահովում | I15: =+I16 -> 702637
B16: ՄԱՍ I. ԱՊՐԱՆՔՆԵՐ | I16: =SUM(I17:I19) -> 702637
A17: 30211300-502 | B17: համակարգչային սարքավորումներ և պարագաներ | E17: ԷԱՃ | F17: լրակազմ | G17: 277200000 | H17: 1 | I17: =+ROUNDUP(H17*G17/1000,1) -> 277200
A18: 30211300-503 | B18: համակարգչային սարքավորումներ և պարագաներ | E18: ԷԱՃ | F18: լրակազմ | G18: 169200000 | H18: 1 | I18: =+ROUNDUP(H18*G18/1000,1) -> 169200
A19: 48821600 | B19: ցանցային համակարգ | E19: ԷԱՃ | F19: լրակազմ | G19: 256237000 | H19: 1 | I19: =+ROUNDUP(H19*G19/1000,1) -> 256237
A21: ՀՀ կրթության, գիտության, մշակույթի և սպորտի նախարարության բարձրագույն կրթության և գիտության կոմիտե | I21: =+I22 -> -3408199.8
A22: Բաժին N 01 | B22: Խումբ N 04 | C22: Դաս N 01 | D22: Ընդհանուր բնույթի հետազոտական աշխատանք | I22: =+I23 -> -3408199.8
A23: 1162-32004 | B23: Գիտական կենտրոնները ժամանակակից սարքավորումներով վերազինում ու համատեղ օգտագործման գիտական սարքավորումների կենտրոնների ստեղծում | I23: =+I24 -> -3408199.8
B24: ՄԱՍ I. ԱՊՐԱՆՔՆԵՐ | I24: =SUM(I25:I60) -> -3408199.8
A25: 35121340-2 | B25: հատուկ մասնագիտական սարքեր ― նյութեր | E25: ԷԱՃ | F25: հատ | G25: 55000000 | H25: -1 | I25: =+ROUND(H25*G25/1000,1) -> -55000
A26: 35121340-3 | B26: հատուկ մասնագիտական սարքեր ― նյութեր | E26: ԷԱՃ | F26: հատ | G26: 38830000 | H26: -1 | I26: =+ROUND(H26*G26/1000,1) -> -38830
A27: 35121340-4 | B27: հատուկ մասնագիտական սարքեր ― նյութեր | E27: ԷԱՃ | F27: հատ | G27: 22000000 | H27: -1 | I27: =+ROUND(H27*G27/1000,1) -> -22000
A28: 35121340-5 | B28: հատուկ մասնագիտական սարքեր ― նյութեր | E28: ԷԱՃ | F28: հատ | G28: 42000000 | H28: -1 | I28: =+ROUND(H28*G28/1000,1) -> -42000
A29: 35121340-6 | B29: հատուկ մասնագիտական սարքեր ― նյութեր | E29: ԷԱՃ | F29: հատ | G29: 45000000 | H29: -1 | I29: =+ROUND(H29*G29/1000,1) -> -45000
A30: 35121340-7 | B30: հատուկ մասնագիտական սարքեր ― նյութեր | E30: ԷԱՃ | F30: հատ | G30: 18500000 | H30: -1 | I30: =+ROUND(H30*G30/1000,1) -> -18500
A31: 35121340-8 | B31: հատուկ մասնագիտական սարքեր ― նյութեր | E31: ԷԱՃ | F31: հատ | G31: 59700000 | H31: -1 | I31: =+ROUND(H31*G31/1000,1) -> -59700
A32: 35121340-14 | B32: հատուկ մասնագիտական սարքեր ― նյութեր | E32: ԷԱՃ | F32: հատ | G32: 19000000 | H32: -1 | I32: =+ROUND(H32*G32/1000,1) -> -19000
A33: 35121340-15 | B33: հատուկ մասնագիտական սարքեր ― նյութեր | E33: ԷԱՃ | F33: հատ | G33: 133500000 | H33: -1 | I33: =+ROUND(H33*G33/1000,1) -> -133500
A34: 35121340-18 | B34: հատուկ մասնագիտական սարքեր ― նյութեր | E34: ԷԱՃ | F34: հատ | G34: 89000000 | H34: -1 | I34: =+ROUND(H34*G34/1000,1) -> -89000
A35: 35121340-19 | B35: հատուկ մասնագիտական սարքեր ― նյութեր | E35: ԷԱՃ | F35: հատ | G35: 144570000 | H35: -1 | I35: =+ROUND(H35*G35/1000,1) -> -144570
A36: 35121340-23 | B36: հատուկ մասնագիտական սարքեր ― նյութեր | E36: ԷԱՃ | F36: հատ | G36: 7900000 | H36: -1 | I36: =+ROUND(H36*G36/1000,1) -> -7900
... A59: 71351200-1 | B59: գիտահետազոտական ծառայություններ | E59: ԲՄ | F59: հատ | G59: 1.45443e+09 | H59: -1 | I59: =+ROUND(H59*G59/1000,1) -> -1454430
A60: 71351200 | B60: գիտահետազոտական ծառայություններ | E60: ԲՄ | F60: հատ | G60: 1208993800 | H60: 1 | I60: =+ROUND(H60*G60/1000,1) -> 1208993.8
A62: ՀՀ Արագածոտնի մարզպետի աշխատակազմ | I62: =+I63 -> 25402
A63: Բաժին N 09 | B63: Խումբ N 02 | C63: Դաս N 01 | D63: Հիմնական ընդհանուր կրթություն | I63: =+I64 -> 25402
A64: 1236-32006 | B64: Հանրակրթական դպրոցների, մանկապարտեզների և կրթահամալիրների գույքով և տեխնիկայով ապահովում | I64: =+I65 -> 25402
B65: ՄԱՍ I. ԱՊՐԱՆՔՆԵՐ | I65: =SUM(I66:I165) -> 25402
A66: 39141260-501 | B66: զգեստապահարաններ | E66: ԷԱՃ | F66: հատ | G66: 59760 | H66: 5 | I66: =+ROUNDUP(H66*G66/1000,1) -> 298.8
A67: 39111320-502 | B67: նստարաններ | E67: ԷԱՃ | F67: հատ | G67: 24000 | H67: 2 | I67: =+ROUNDUP(H67*G67/1000,1) -> 48
A68: 39121200-502 | B68: սեղաններ | E68: ԷԱՃ | F68: հատ | G68: 28500 | H68: 8 | I68: =+ROUNDUP(H68*G68/1000,1) -> 228
A69: 39121200-503 | B69: սեղաններ | E69: ԷԱՃ | F69: հատ | G69: 21999.99 | H69: 8 | I69: =+ROUNDUP(H69*G69/1000,1) -> 176
...
