Workbook
Name a: #REF!
Name a: #REF!
Name a: #REF!
Name a: #REF!
Name a: #REF!
Name AgencyCode: #REF!
Name AgencyCode: #REF!
Name AgencyCode: #REF!
Name AgencyCode: #REF!
Name AgencyCode: #REF!
Name AgencyCode: #REF!
Name AgencyCode: #REF!
Name AgencyCode: #REF!
Name AgencyName: #REF!
Name AgencyName: #REF!
Name AgencyName: #REF!
Name AgencyName: #REF!
Name AgencyName: #REF!
Name åû: #REF!
Name åû: #REF!
Name davit: #REF!
Name davit: #REF!
Name davit: #REF!
Name davit: #REF!
Name Functional1: #REF!
Name Functional1: #REF!
Name Functional1: #REF!
Name Functional1: #REF!
Name Functional1: #REF!
Name ggg: #REF!
Name ggg: #REF!
Name ggg: #REF!
Name ggg: #REF!
Name hav: #REF!
Name hav: #REF!
Name mas: #REF!
Name mas: #REF!
Name mass: #REF!
Name mass: #REF!
Name PANature: #REF!
Name PANature: #REF!
Name PANature: #REF!
Name PANature: #REF!
Name PANature: #REF!
Name PAType: #REF!
Name PAType: #REF!
Name PAType: #REF!
Name PAType: #REF!
Name PAType: #REF!
Name Performance2: #REF!
Name Performance2: #REF!
Name Performance2: #REF!
Name Performance2: #REF!
Name Performance2: #REF!
Name PerformanceType: #REF!
Name PerformanceType: #REF!
Name PerformanceType: #REF!
Name PerformanceType: #REF!
Name PerformanceType: #REF!
Name x: #REF!

Sheet Հավելված N 1
F1: Հավելված N 1
F2: ՀՀ կառավարության 2025 թվականի
F3: ______________ ի ___Ն որոշման
A6: «ՀԱՅԱUՏԱՆԻ ՀԱՆՐԱՊԵՏՈՒԹՅԱՆ 2025 ԹՎԱԿԱՆԻ ՊԵՏԱԿԱՆ ԲՅՈՒՋԵԻ ՄԱUԻՆ» ՀԱՅԱUՏԱՆԻ ՀԱՆՐԱՊԵՏՈՒԹՅԱՆ OՐԵՆՔԻ N 1 ՀԱՎԵԼՎԱԾԻ N 2 ԱՂՅՈՒՍԱԿՈՒՄ ԵՎ ՀԱՅԱՍՏԱՆԻ ՀԱՆՐԱՊԵՏՈՒԹՅԱՆ ԿԱՌԱՎԱՐՈՒԹՅԱՆ 2024 ԹՎԱԿԱՆԻ ԴԵԿՏԵՄԲԵՐԻ 27-Ի N 2060-Ն ՈՐՈՇՄԱՆ N 5 ՀԱՎԵԼՎԱԾԻ N 1 ԱՂՅՈՒՍԱԿՈՒՄ ԿԱՏԱՐՎՈՂ ՓՈՓՈԽՈՒԹՅՈՒՆԸ ԵՎ ԼՐԱՑՈՒՄՆԵՐԸ
H9: հազ. դրամներով
A10: ԲԳԿ | B10: Ծրագրային դասիչը | D10: ԲԳԿ/Ծրագրի /միջոցառման անվանումը | E10: Ծրագրի նպատակը/Միջոցառման նկարագրությունը | F10: Վերջնական արդյունքի նկարագրությունը/Միջոցառման տեսակը | G10: Ցուցանիշների փոփոխությունը (ավելացումները նշված են դրական նշանով, իսկ նվազեցումնեը՝ փակագծերում)
G11: Ինն ամիս | H11: Տարի
B12: Ծրագիր | C12: Միջոցառում
A13: ԸՆԴԱՄԵՆԸ | G13: =+G15 -> 0 | H13: =+H15 -> 0
A14: այդ թվում՝
A15: ՀՀ ԿՐԹՈՒԹՅԱՆ, ԳԻՏՈՒԹՅԱՆ, ՄՇԱԿՈՒՅԹԻ ԵՎ ՍՊՈՐՏԻ ՆԱԽԱՐԱՐՈՒԹՅՈՒՆ | G15: =+G16+G18+G20+G23 -> 0 | H15: =+H16+H18+H20+H23 -> 0
B16: 1162 | D16: Գիտական և գիտատեխնիկական հետազոտությունների ծրագիր | E16: Գիտական և գիտատեխնիկական գործունեության հիմնարար, կիրառական և թեմատիկ հետազոտությունների իրականացում, ենթակառուցվածքի և ազգային արժեք ներկայացնող գիտական օբյեկտների պահպանում և զարգացում, գիտական ներուժի վերարտադրության ապահովում£ | F16: Գիտության և տեխնիկայի զարգացման գերակա ուղղությունների հետազոտությունների իրականացում, գիտական ներուժի զարգացում, ազգային արժեք ներկայացնող գիտական օբյեկտների պահպանում | G16: =+G17 -> -2906353.9 | H16: =+H17 -> -3408199.8
C17: 1162 - 32004 | D17: Գիտական կենտրոնները ժամանակակից սարքավորումներով վերազինում ու համատեղ օգտագործման գիտական սարքավորումների կենտրոնների ստեղծում | E17: Գիտական կենտրոնները վերազինված են ոլորտային համալիր հետազոտությունների համար անհարժեշտ սարքավորումներով | F17: Այլ պետական կազմակերպությունների կողմից օգտագործվող ոչ ֆինանսական ակտիվների հետ գործառնություններ | G17: =+'Հավելված N 2'!G26 -> -2906353.9 | H17: =+'Հավելված N 2'!H26 -> -3408199.8
B18: 1183 | D18: Ապահով դպրոց | E18: Դպրոցներին սպառնացող աղետների ռիսկի կառավարման կարողությունների հզորացում, դպրոցի անձնակազմի և աշակերտների անվտանգության ապահովման մակարդակի բարձրացում՛ կիրառելով ներառական և երեխայակենտրոն մոտեցում | F18: Դպրոցական միջավայրի բարելավում | G18: =+G19 -> 30000 | H18: =+H19 -> 40000
C19: 1183 - 11002 | D19: Աջակցություն դպրոցներին «Արագ արձագանքման ֆոնդի» շրջանակում՛ հրատապ խնդիրների լուծման համար | E19: Դպրոցներում արտակարգ իրավիճակների և չնախատեսված հանգամանքների հետևանքով առաջացած խնդիրների լուծման նպատակով ընթացիկ աշխատանքների իրականացում | F19: Ծառայությունների մատուցում | G19: =+'Հավելված N 2'!G45 -> 30000 | H19: =+'Հավելված N 2'!H45 -> 40000
B20: 1192 | D20: Կրթության որակի ապահովում | E20: Ընթացիկ աշխատանքների, բարեփոխումների և նոր նախաձեռնությունների միջոցով ֆորմալ և ոչ-ֆորմալ կրթության ոլորտում իրականացվող միջոցառումների, մատուցվող ծառայությունների բովանդակության և կազմակերպման որակի շարունակական բարելավում | F20: Նախադպրոցականից մինչև հետբուհական կրթության որակի, այն է սովորողների, միջավայրի, ծրագրերի և ուսումնական նյութերի բովանդակության, գործընթացների, ինչպես նաև վերջնարդյունքների որակի բարելավում ըստ ներպետական և միջազգային ցուցիչների | G20: =+G21+G22 -> 755791.1 | H20: =+H21+H22 -> 1247637
C21: 1192 - 32006 | D21: Համաշխարհային բանկի աջակցությամբ իրականացվող «Կրթության բարելավման ծրագրի լրացուցիչ ֆինանսավորում» վարկային ծրագրի շրջանակներում կապիտալ ներդրումներ հանրակրթական ուսումնական հաստատություններում | E21: Կապիտալ ներդրումներ ավագ, միջնակարգ և հիմնական դպրոցներում | F21: Այլ պետական կազմակերպությունների կողմից օգտագործվող ոչ ֆինանսական ակտիվների հետ գործառնություններ | G21: =+'Հավելված N 2'!G146 -> 545000 | H21: =+'Հավելված N 2'!H146 -> 545000
C22: 1193 - 32007 | D22: ՀՀ պետական դպրոցների` ԳՏՃՄ լաբորատորիաներով ապահովում | E22: ՀՀ պետական դպրոցների համար ԳՏՃՄ առարկաների լաբորատոր սարքավարումների և կահույքի ձեռքբերում | F22: Այլ պետական կազմակերպությունների կողմից օգտագործվող ոչ ֆինանսական ակտիվների հետ գործառնություններ | G22: =+'Հավելված N 2'!G58 -> 210791.1 | H22: =+'Հավելված N 2'!H58 -> 702637
B23: 1236 | D23: Հանրակրթական և նախադպրոցական հաստատությունների հիմնում, կառուցում, բարելավում | E23: Առնվազն 300 դպրոցի և 500 մանկապարտեզի կառուցման, վերակառուցման, հիմնանորոգման ծրագրերի իրականացում ՀՀ պետական բյուջեի միջոցների շրջանակներում | F23: Կրթական միջավայրի բարելավում | G23: =+G24+G25+G26 -> 2120562.8 | H23: =+H24+H25+H26 -> 2120562.8
C24: 1236 - 32003 | D24: Հանրակրթական դպրոցների նոր շենքերի կառուցում | E24: ՀՀ մարզերում կրթական որակյալ ծառայությունների հասանելիության ապահովման ծրագրի շրջանակներում հանրակրթական և նախադպրոցական կրթության հասանելիության ապահովման նպատակով կրթական կենտրոնների կառուցում | F24: Այլ պետական կազմակերպությունների կողմից օգտագործվող ոչ ֆինանսական ակտիվների հետ գործառնություններ | G24: =+'Հավելված N 2'!G69 -> 1300000 | H24: =+'Հավելված N 2'!H69 -> 1300000
C25: 1236 - 32005 | D25: Կրթահամալիրների կառուցում | E25: ՀՀ մարզերում կրթական որակյալ ծառայությունների հասանելիության ապահովման ծրագրի շրջանակներում հանրակրթական և նախադպրոցական կրթության հասանելիության ապահովման նպատակով կրթական կենտրոնների կառուցում | F25: Այլ պետական կազմակերպությունների կողմից օգտագործվող ոչ ֆինանսական ակտիվների հետ գործառնություններ | G25: =+'Հավելված N 2'!G78 -> 700000 | H25: =+'Հավելված N 2'!H78 -> 700000
C26: 1236 - 32006 | D26: Հանրակրթական դպրոցների, մանկապարտեզների և կրթահամալիրների գույքով և տեխնիկայով ապահովում | E26: Կրթական ժամանակակից նորմերին և կրթական չափորոշիչներին համապատասխան ուսուցման ծրագրերն իրականացնելու նպատակով հանրակրթական և նախադպրոցական հաստատությունների համար գույքի և տեխնիկայի ձեռքբերում | F26: Այլ պետական կազմակերպությունների կողմից օգտագործվող ոչ ֆինանսական ակտիվների հետ գործառնություններ | G26: =+'Հավելված N 2'!G87 -> 120562.8 | H26: =+'Հավելված N 2'!H87 -> 120562.8

Sheet Հավելված N 2
F1: Հավելված N 2
F2: ՀՀ կառավարության 2025 թվականի
F3: ______________ ի ___Ն որոշման
A7: ՀԱՅԱՍՏԱՆԻ ՀԱՆՐԱՊԵՏՈՒԹՅԱՆ ԿԱՌԱՎԱՐՈՒԹՅԱՆ 2024 ԹՎԱԿԱՆԻ ԴԵԿՏԵՄԲԵՐԻ 27-Ի N 2060-Ն ՈՐՈՇՄԱՆ N 3 ԵՎ N 4 ՀԱՎԵԼՎԱԾՆԵՐՈՒՄ ԿԱՏԱՐՎՈՂ ՓՈՓՈԽՈՒԹՅՈՒՆԸ ԵՎ ԼՐԱՑՈՒՄՆԵՐԸ
H10: հազ. դրամներով
A11: Գործառական դասիչը | D11: Ծրագրային դասիչը | F11: Բյուջետային հատկացումների գլխավոր կարգադրիչների, ծրագրերի, միջոցառումների և միջոցառումները կատարող պետական մարմինների անվանումները | G11: Ցուցանիշների փոփոխությունը (ավելացումները նշված են դրական նշանով, իսկ նվազեցումները՝ փակագծերում)
A12: Բաժին | B12: Խումբ | C12: Դաս | D12: Ծրագիր | E12: Միջոցառում | G12: Ինն ամիս | H12: Տարի
F13: ԸՆԴԱՄԵՆԸ | G13: =+G15 -> 0 | H13: =+H15 -> 0
F14: այդ թվում՝
F15: ՀՀ ԿՐԹՈՒԹՅԱՆ, ԳԻՏՈՒԹՅԱՆ, ՄՇԱԿՈՒՅԹԻ ԵՎ ՍՊՈՐՏԻ ՆԱԽԱՐԱՐՈՒԹՅՈՒՆ | G15: =+G16+G35 -> 0 | H15: =+H16+H35 -> 0
A16: 01 | F16: ԸՆԴՀԱՆՈՒՐ ԲՆՈՒՅԹԻ ՀԱՆՐԱՅԻՆ ԾԱՌԱՅՈՒԹՅՈՒՆՆԵՐ | G16: =+G18 -> -2906353.9 | H16: =+H18 -> -3408199.8
F17: այդ թվում`
B18: 04 | F18: Ընդհանուր բնույթի հետազոտական աշխատանք | G18: =+G20 -> -2906353.9 | H18: =+H20 -> -3408199.8
F19: այդ թվում`
C20: 01 | F20: Ընդհանուր բնույթի հետազոտական աշխատանք | G20: =+G22 -> -2906353.9 | H20: =+H22 -> -3408199.8
F21: այդ թվում`
F22: ՀՀ կրթության, գիտության, մշակույթի և սպորտի նախարարություն | G22: =+G24 -> -2906353.9 | H22: =+H24 -> -3408199.8
F23: այդ թվում`
D24: 1162 | E24: Գիտական և գիտատեխնիկական հետազոտությունների ծրագիր | G24: =+G26 -> -2906353.9 | H24: =+H26 -> -3408199.8
F25: այդ թվում`
E26: 32004 | F26: Գիտական կենտրոնները ժամանակակից սարքավորումներով վերազինում ու համատեղ օգտագործման գիտական սարքավորումների կենտրոնների ստեղծում | G26: =+G28 -> -2906353.9 | H26: =+H28 -> -3408199.8
F27: այդ թվում` ըստ կատարողների
F28: ՀՀ կրթության, գիտության, մշակույթի և սպորտի նախարարության բարձրագույն կրթության և գիտության կոմիտե | G28: =+G30 -> -2906353.9 | H28: =+H30 -> -3408199.8
F29: այդ թվում՝ բյուջետային ծախսերի տնտեսագիտական դասակարգման հոդվածներ
F30: ԸՆԴԱՄԵՆԸ ԾԱԽՍԵՐ | G30: =+G31 -> -2906353.9 | H30: =+H31 -> -3408199.8
F31: ՈՉ ՖԻՆԱՆՍԱԿԱՆ ԱԿՏԻՎՆԵՐԻ ԳԾՈՎ ԾԱԽՍԵՐ | G31: =+G32 -> -2906353.9 | H31: =+H32 -> -3408199.8
F32: ՀԻՄՆԱԿԱՆ ՄԻՋՈՑՆԵՐ | G32: =+G33 -> -2906353.9 | H32: =+H33 -> -3408199.8
F33: ՄԵՔԵՆԱՆԵՐ ԵՎ ՍԱՐՔԱՎՈՐՈՒՄՆԵՐ | G33: =+G34 -> -2906353.9 | H33: =+H34 -> -3408199.8
F34: - Այլ մեքենաներ և սարքավորումներ | G34: =+'Հավելված N 4'!E15 -> -2906353.9 | H34: =+'Հավելված N 4'!F15 -> -3408199.8
A35: 09 | F35: ԿՐԹՈՒԹՅՈՒՆ | G35: =+G37+G138 -> 2906353.9 | H35: =+H37+H138 -> 3408199.8
F36: այդ թվում`
B37: 02 | F37: Միջնակարգ ընդհանուր կրթություն | G37: =+G39 -> 2361353.9 | H37: =+H39 -> 2863199.8
F38: այդ թվում`
C39: 01 | F39: Հիմնական ընդհանուր կրթություն | G39: =+G41 -> 2361353.9 | H39: =+H41 -> 2863199.8
F40: այդ թվում`
F41: ՀՀ կրթության, գիտության, մշակույթի և սպորտի նախարարություն | G41: =+G43+G56+G67 -> 2361353.9 | H41: =+H43+H56+H67 -> 2863199.8
F42: այդ թվում`
D43: 1183 | E43: Ապահով դպրոց | G43: =+G45 -> 30000 | H43: =+H45 -> 40000
F44: այդ թվում`
E45: 11002 | F45: Աջակցություն դպրոցներին «Արագ արձագանքման ֆոնդի» շրջանակում հրատապ խնդիրների լուծման համար | G45: =+G47 -> 30000 | H45: =+H47 -> 40000
F46: այդ թվում` ըստ կատարողների
F47: ՀՀ կրթության, գիտության, մշակույթի և սպորտի նախարարություն | G47: =+G49 -> 30000 | H47: =+H49 -> 40000
F48: այդ թվում՝ բյուջետային ծախսերի տնտեսագիտական դասակարգման հոդվածներ
F49: ԸՆԴԱՄԵՆԸ ԾԱԽՍԵՐ | G49: =+G50 -> 30000 | H49: =+H50 -> 40000
F50: ԸՆԹԱՑԻԿ ԾԱԽՍԵՐ | G50: =+G51 -> 30000 | H50: =+H51 -> 40000
F51: ԴՐԱՄԱՇՆՈՐՀՆԵՐ | G51: =+G52+G54 -> 30000 | H51: =+H52+H54 -> 40000
F52: ԸՆԹԱՑԻԿ ԴՐԱՄԱՇՆՈՐՀՆԵՐ ՊԵՏԱԿԱՆ ՀԱՏՎԱԾԻ ԱՅԼ ՄԱԿԱՐԴԱԿՆԵՐԻՆ | G52: =+G53 -> 12000 | H52: =+H53 -> 17000
F53: - Ընթացիկ դրամաշնորհներ պետական և համայնքների ոչ առևտրային կազմակերպություններին | G53: 12000 | H53: 17000
F54: ԿԱՊԻՏԱԼ ԴՐԱՄԱՇՆՈՐՀՆԵՐ ՊԵՏԱԿԱՆ ՀԱՏՎԱԾԻ ԱՅԼ ՄԱԿԱՐԴԱԿՆԵՐԻՆ | G54: =+G55 -> 18000 | H54: =+H55 -> 23000
F55: - Կապիտալ դրամաշնորհներ պետական և համայնքային ոչ առևտրային կազմակերպություններին | G55: 18000 | H55: 23000
D56: 1192 | E56: Կրթության որակի ապահովում | G56: =+G58 -> 210791.1 | H56: =+H58 -> 702637
F57: այդ թվում`
E58: 32007 | F58: ՀՀ պետական դպրոցների՝ ԳՏՃՄ լաբորատորիաներով ապահովում | G58: =+G60 -> 210791.1 | H58: =+H60 -> 702637
F59: այդ թվում` ըստ կատարողների
F60: ՀՀ կրթության, գիտության, մշակույթի և սպորտի նախարարություն | G60: =+G62 -> 210791.1 | H60: =+H62 -> 702637
F61: այդ թվում՝ բյուջետային ծախսերի տնտեսագիտական դասակարգման հոդվածներ
F62: ԸՆԴԱՄԵՆԸ ԾԱԽՍԵՐ | G62: =+G63 -> 210791.1 | H62: =+H63 -> 702637
F63: ՈՉ ՖԻՆԱՆՍԱԿԱՆ ԱԿՏԻՎՆԵՐԻ ԳԾՈՎ ԾԱԽՍԵՐ | G63: =+G64 -> 210791.1 | H63: =+H64 -> 702637
F64: ՀԻՄՆԱԿԱՆ ՄԻՋՈՑՆԵՐ | G64: =+G65 -> 210791.1 | H64: =+H65 -> 702637
F65: ՄԵՔԵՆԱՆԵՐ ԵՎ ՍԱՐՔԱՎՈՐՈՒՄՆԵՐ | G65: =+G66 -> 210791.1 | H65: =+H66 -> 702637
F66: - Այլ մեքենաներ և սարքավորումներ | G66: =+'Հավելված N 4'!E18 -> 210791.1 | H66: =+'Հավելված N 4'!F18 -> 702637
D67: 1236 | E67: Հանրակրթական և նախադպրոցական հաստատությունների հիմնում, կառուցում, բարելավում | G67: =+G69+G78+G87 -> 2120562.8 | H67: =+H69+H78+H87 -> 2120562.8
F68: այդ թվում`
E69: 32003 | F69: Հանրակրթական դպրոցների նոր շենքերի կառուցում | G69: =+G71 -> 1300000 | H69: =+H71 -> 1300000
F70: այդ թվում` ըստ կատարողների
F71: ՀՀ կրթության, գիտության, մշակույթի և սպորտի նախարարություն | G71: =+G73 -> 1300000 | H71: =+H73 -> 1300000
F72: այդ թվում՝ բյուջետային ծախսերի տնտեսագիտական դասակարգման հոդվածներ
F73: ԸՆԴԱՄԵՆԸ ԾԱԽՍԵՐ | G73: =+G74 -> 1300000 | H73: =+H74 -> 1300000
F74: ՈՉ ՖԻՆԱՆՍԱԿԱՆ ԱԿՏԻՎՆԵՐԻ ԳԾՈՎ ԾԱԽՍԵՐ | G74: =+G75 -> 1300000 | H74: =+H75 -> 1300000
F75: ՀԻՄՆԱԿԱՆ ՄԻՋՈՑՆԵՐ | G75: =+G76 -> 1300000 | H75: =+H76 -> 1300000
F76: ՇԵՆՔԵՐ ԵՎ ՇԻՆՈՒԹՅՈՒՆՆԵՐ | G76: =+G77 -> 1300000 | H76: =+H77 -> 1300000
F77: - Շենքերի և շինությունների շինարարություն | G77: =+'Հավելված N 4'!E21 -> 1300000 | H77: =+'Հավելված N 4'!F21 -> 1300000
E78: 32005 | F78: Կրթահամալիրների կառուցում | G78: =+G80 -> 700000 | H78: =+H80 -> 700000
F79: այդ թվում` ըստ կատարողների
F80: ՀՀ կրթության, գիտության, մշակույթի և սպորտի նախարարություն | G80: =+G82 -> 700000 | H80: =+H82 -> 700000
F81: այդ թվում՝ բյուջետային ծախսերի տնտեսագիտական դասակարգման հոդվածներ
F82: ԸՆԴԱՄԵՆԸ ԾԱԽՍԵՐ | G82: =+G83 -> 700000 | H82: =+H83 -> 700000
F83: ՈՉ ՖԻՆԱՆՍԱԿԱՆ ԱԿՏԻՎՆԵՐԻ ԳԾՈՎ ԾԱԽՍԵՐ | G83: =+G84 -> 700000 | H83: =+H84 -> 700000
F84: ՀԻՄՆԱԿԱՆ ՄԻՋՈՑՆԵՐ | G84: =+G85 -> 700000 | H84: =+H85 -> 700000
F85: ՇԵՆՔԵՐ ԵՎ ՇԻՆՈՒԹՅՈՒՆՆԵՐ | G85: =+G86 -> 700000 | H85: =+H86 -> 700000
F86: - Շենքերի և շինությունների շինարարություն | G86: =+'Հավելված N 4'!E24 -> 700000 | H86: =+'Հավելված N 4'!F24 -> 700000
E87: 32006 | F87: Հանրակրթական դպրոցների, մանկապարտեզների և կրթահամալիրների գույքով և տեխնիկայով ապահովում | G87: =+G89+G96+G103+G110+G117+G124+G131 -> 120562.8 | H87: =+H89+H96+H103+H110+H117+H124+H131 -> 120562.8
F88: այդ թվում` ըստ կատարողների
F89: ՀՀ Արագածոտնի մարզպետի աշխատակազմ | G89: =+G91 -> 25402 | H89: =+H91 -> 25402
F90: այդ թվում՝ բյուջետային ծախսերի տնտեսագիտական դասակարգման հոդվածներ
F91: ԸՆԴԱՄԵՆԸ ԾԱԽՍԵՐ | G91: =+G92 -> 25402 | H91: =+H92 -> 25402
F92: ՈՉ ՖԻՆԱՆՍԱԿԱՆ ԱԿՏԻՎՆԵՐԻ ԳԾՈՎ ԾԱԽՍԵՐ | G92: =+G93 -> 25402 | H92: =+H93 -> 25402
F93: ՀԻՄՆԱԿԱՆ ՄԻՋՈՑՆԵՐ | G93: =+G94 -> 25402 | H93: =+H94 -> 25402
F94: ՄԵՔԵՆԱՆԵՐ ԵՎ ՍԱՐՔԱՎՈՐՈՒՄՆԵՐ | G94: =+G95 -> 25402 | H94: =+H95 -> 25402
F95: - Այլ մեքենաներ և սարքավորումներ | G95: =+'Հավելված N 4'!E27 -> 25402 | H95: =+'Հավելված N 4'!F27 -> 25402
F96: ՀՀ Արարատի մարզպետի աշխատակազմ | G96: =+G98 -> 10005.8 | H96: =+H98 -> 10005.8
F97: այդ թվում՝ բյուջետային ծախսերի տնտեսագիտական դասակարգման հոդվածներ
F98: ԸՆԴԱՄԵՆԸ ԾԱԽՍԵՐ | G98: =+G99 -> 10005.8 | H98: =+H99 -> 10005.8
F99: ՈՉ ՖԻՆԱՆՍԱԿԱՆ ԱԿՏԻՎՆԵՐԻ ԳԾՈՎ ԾԱԽՍԵՐ | G99: =+G100 -> 10005.8 | H99: =+H100 -> 10005.8
F100: ՀԻՄՆԱԿԱՆ ՄԻՋՈՑՆԵՐ | G100: =+G101 -> 10005.8 | H100: =+H101 -> 10005.8
F101: ՄԵՔԵՆԱՆԵՐ ԵՎ ՍԱՐՔԱՎՈՐՈՒՄՆԵՐ | G101: =+G102 -> 10005.8 | H101: =+H102 -> 10005.8
F102: - Այլ մեքենաներ և սարքավորումներ | G102: =+'Հավելված N 4'!E36 -> 10005.8 | H102: =+'Հավելված N 4'!F36 -> 10005.8
F103: ՀՀ Արմավիրի մարզպետի աշխատակազմ | G103: =+G105 -> 43483.1 | H103: =+H105 -> 43483.1
F104: այդ թվում՝ բյուջետային ծախսերի տնտեսագիտական դասակարգման հոդվածներ
F105: ԸՆԴԱՄԵՆԸ ԾԱԽՍԵՐ | G105: =+G106 -> 43483.1 | H105: =+H106 -> 43483.1
...

Sheet Հավելված N 3
F1: Հավելված N 3
F2: ՀՀ կառավարության 2025 թվականի
F3: ______________ ի ___Ն որոշման
A5: «ՀԱՅԱUՏԱՆԻ ՀԱՆՐԱՊԵՏՈՒԹՅԱՆ 2025 ԹՎԱԿԱՆԻ ՊԵՏԱԿԱՆ ԲՅՈՒՋԵԻ ՄԱUԻՆ» ՀԱՅԱUՏԱՆԻ ՀԱՆՐԱՊԵՏՈՒԹՅԱՆ OՐԵՆՔԻ N 1 ՀԱՎԵԼՎԱԾԻ N 3 ԱՂՅՈՒՍԱԿՈՒՄ ԿԱՏԱՐՎՈՂ ՓՈՓՈԽՈՒԹՅՈՒՆԸ ԵՎ ԼՐԱՑՈՒՄՆԵՐԸ
G8: հազ. դրամներով
A9: Ծրագրային դասիչ | C9: Բյուջետային գլխավոր կարգադրիչների, ծրագրերի, միջոցառումների, միջոցառումները կատարող պետական մարմինների և ուղղությունների անվանումները | D9: Ընդամենը | E9: Ցուցանիշների փոփոխությունը (ավելացումները նշված են դրական նշանով, իսկ նվազեցումները՝ փակագծերում)
A10: Ծրագիր | B10: Միջոցառում | E10: Կառուցման աշխատանքներ | F10: Վերակառուցման, վերանորոգման և վերականգնման աշխատանքներ | G10: Նախագծահե- տազոտական, գեոդեզիա- քարտեզագրա- կան աշխա- տանքներ | H10: Ոչ ֆինանսական այլ ակտիվների ձեռքբերում
C11: ԸՆԴԱՄԵՆԸ | D11: =SUM(E11:H11) -> -585000 | E11: =+E13 -> 2000000 | F11: =+F13 -> 0 | G11: =+G13 -> 0 | H11: =+H13 -> -2585000
C12: այդ թվում՝
C13: ՀՀ ԿՐԹՈՒԹՅԱՆ, ԳԻՏՈՒԹՅԱՆ, ՄՇԱԿՈՒՅԹԻ ԵՎ ՍՊՈՐՏԻ ՆԱԽԱՐԱՐՈՒԹՅՈՒՆ | D13: =SUM(E13:H13) -> -585000 | E13: =+E15+E16+E17+E20+E23 -> 2000000 | F13: =+F15+F16+F17+F20+F23 -> 0 | G13: =+G15+G16+G17+G20+G23 -> 0 | H13: =+H15+H16+H17+H20+H23 -> -2585000
C14: այդ թվում`
A15: 1162 | B15: 32004 | C15: Գիտական կենտրոնները ժամանակակից սարքավորումներով վերազինում ու համատեղ օգտագործման գիտական սարքավորումների կենտրոնների ստեղծում | D15: =SUM(E15:H15) -> -3408199.8 | E15: 0 | F15: 0 | G15: 0 | H15: =+'Հավելված N 9'!I23 -> -3408199.8
A16: 1192 | B16: 32007 | C16: ՀՀ պետական դպրոցների՝ ԳՏՃՄ լաբորատորիաներով ապահովում | D16: =SUM(E16:H16) -> 702637 | E16: 0 | F16: 0 | G16: 0 | H16: =+'Հավելված N 9'!I16 -> 702637
A17: 1236 | B17: 32003 | C17: Հանրակրթական դպրոցների նոր շենքերի կառուցում | D17: =SUM(E17:H17) -> 1300000 | E17: =+E19 -> 1300000 | F17: =+F19 -> 0 | G17: =+G19 -> 0 | H17: =+H19 -> 0
C18: այդ թվում`
C19: Հանրակրթական դպրոցների նոր շենքերի կառուցում | D19: =SUM(E19:H19) -> 1300000 | E19: 1300000 | F19: 0 | G19: 0 | H19: 0
A20: 1236 | B20: 32005 | C20: Կրթահամալիրների կառուցում | D20: =SUM(E20:H20) -> 700000 | E20: =+E22 -> 700000 | F20: =+F22 -> 0 | G20: =+G22 -> 0 | H20: =+H22 -> 0
C21: այդ թվում`
C22: Կրթահամալիրների կառուցում | D22: =SUM(E22:H22) -> 700000 | E22: 700000 | F22: 0 | G22: 0 | H22: 0
A23: 1236 | B23: 32006 | C23: Հանրակրթական դպրոցների, մանկապարտեզների և կրթահամալիրների գույքով և տեխնիկայով ապահովում | D23: =SUM(E23:H23) -> 120562.8 | E23: =+E25+E32+E34+E64+E68+E80+E84 -> 0 | F23: =+F25+F32+F34+F64+F68+F80+F84 -> 0 | G23: =+G25+G32+G34+G64+G68+G80+G84 -> 0 | H23: =+H25+H32+H34+H64+H68+H80+H84 -> 120562.8
C24: այդ թվում`
C25: ՀՀ Արագածոտնի մարզ | D25: =SUM(E25:H25) -> 25402 | E25: =SUM(E26:E31) -> 0 | F25: =SUM(F26:F31) -> 0 | G25: =SUM(G26:G31) -> 0 | H25: =SUM(H26:H31) -> 25402
C26: Արտաշավան բնակավայրի «Կակաչ» մանկապարտեզ | D26: =+E26+F26+G26+H26 -> 1928.1 | H26: 1928.1
C27: Ապարան համայնքի Շենավան գյուղի մանկապարտեզ | D27: =+E27+F27+G27+H27 -> 1928.1 | H27: 1928.1
C28: Ապարան համայնքի Արագածի Լիա Տեր–Ղևոնդյանի անվան մանկապարտեզ | D28: =+E28+F28+G28+H28 -> 1928.1 | H28: 1928.1
C29: Ալագյազ համայնքի «Մոդուլային» տիպի 144 տեղ հզորությամբ մսուր-մանկապարտեզ | D29: =+E29+F29+G29+H29 -> 2058.8 | H29: 2058.8
C30: Աշտարակի թիվ 4 «Հասմիկ» մանկապարտեզ | D30: =+E30+F30+G30+H30 -> 2058.8 | H30: 2058.8
C31: Աշտարակ համայնքի Ուշի բնակավայրի մանկապարտեզ | D31: =+E31+F31+G31+H31 -> 15500.1 | H31: =+SUM('Հավելված N 9'!I66:I155) -> 15500.1
C32: ՀՀ Արարատի մարզ | D32: =SUM(E32:H32) -> 10005.8 | E32: =+E33 -> 0 | F32: =+F33 -> 0 | G32: =+G33 -> 0 | H32: =+H33 -> 10005.8
C33: Արալեզ համայնքի «Մոդուլային» տիպի 144 տեղ հզորությամբ մսուր-մանկապարտեզ | D33: =+E33+F33+G33+H33 -> 10005.8 | H33: =+'Հավելված N 9'!I170 -> 10005.8
C34: ՀՀ Արմավիրի մարզ | D34: =SUM(E34:H34) -> 43483.1 | E34: =SUM(E35:E63) -> 0 | F34: =SUM(F35:F63) -> 0 | G34: =SUM(G35:G63) -> 0 | H34: =SUM(H35:H63) -> 43483.1
C35: Արաքս համայնքի Խորոնք գյուղի մանկապարտեզ | D35: =+E35+F35+G35+H35 -> 1094.5 | H35: 1094.5
C36: Արաքս համայնքի Ջրառատ գյուղի մանկապարտեզ | D36: =+E36+F36+G36+H36 -> 1094.5 | H36: 1094.5
C37: Արաքս համայնքի Մեծամոր գյուղի մանկապարտեզ | D37: =+E37+F37+G37+H37 -> 1094.5 | H37: 1094.5
C38: Բաղրամյան համայնքի Հուշակերտ գյուղի մանկապարտեզ | D38: =+E38+F38+G38+H38 -> 1094.5 | H38: 1094.5
C39: Արմավիր համայնքի Սարդարապատ գյուղի մանկապարտեզ | D39: =+E39+F39+G39+H39 -> 489.1 | H39: 489.1
C40: Արմավիր համայնքի Արաքս գյուղի մանկապարտեզ | D40: =+E40+F40+G40+H40 -> 489.1 | H40: 489.1
C41: Մեծամոր համայնքի Ջանֆիդա գյուղի Վազգեն Սարգսյանի անվան մանկապարտեզ | D41: =+E41+F41+G41+H41 -> 605.4 | H41: 605.4
C42: Մեծամոր համայնքի Զարթոնք գյուղի մանկապարտեզ | D42: =+E42+F42+G42+H42 -> 876.6 | H42: 876.6
C43: Մեծամոր համայնքի Արևիկ գյուղի «Մոդուլային» տիպի 144 տեղ հզորությամբ մսուր-մանկապարտեզ | D43: =+E43+F43+G43+H43 -> 714.8 | H43: 714.8
C44: Վաղարշապատ համայնքի թիվ 10 «Ոսկեհատ» մանկապարտեզ | D44: =+E44+F44+G44+H44 -> 326.9 | H44: 326.9
C45: Վաղարշապատ համայնքի թիվ 3 Ծիծեռնակ մսուր-մանկապարտեզ | D45: =+E45+F45+G45+H45 -> 837.4 | H45: 837.4
C46: Արաքս համայնքի Գայ գյուղի մանկապարտեզ | D46: =+E46+F46+G46+H46 -> 955 | H46: 955
... C62: Փարաքար համայնքի Բաղրամյան գյուղի մանկապարտեզ | D62: =+E62+F62+G62+H62 -> 1252.9 | H62: 1252.9
C63: Այգևան համայնքի «Մոդուլային» տիպի 144 տեղ հզորությամբ մսուր-մանկապարտեզ | D63: =+E63+F63+G63+H63 -> 16526.9 | H63: =+SUM('Հավելված N 9'!I259:I341) -> 16526.9
C64: ՀՀ Գեղարքունիքի մարզ | D64: =SUM(E64:H64) -> 1169.9 | E64: =SUM(E65:E67) -> 0 | F64: =SUM(F65:F67) -> 0 | G64: =SUM(G65:G67) -> 0 | H64: =SUM(H65:H67) -> 1169.9
C65: Մարտունու համայնքի Ծովասար գյուղի մանկապարտեզ | D65: =+E65+F65+G65+H65 -> 528.4 | H65: 528.4
C66: Մարտունու համայնքի Վարդենիկ բնակավայրի Բանավան թաղամասի թիվ 1 մանկապարտեզ | D66: =+E66+F66+G66+H66 -> 442.5 | H66: 442.5
C67: ՀՀ Գեղարքունիքի մարզի Աստղաձոր համայնքում «Մոդուլային» տիպի 144 տեղ հզորությամբ մսուր-մանկապարտեզ | D67: =+E67+F67+G67+H67 -> 199 | H67: 199
C68: ՀՀ Կոտայքի մարզ | D68: =SUM(E68:H68) -> 15954.6 | E68: =SUM(E69:E79) -> 0 | F68: =SUM(F69:F79) -> 0 | G68: =SUM(G69:G79) -> 0 | H68: =SUM(H69:H79) -> 15954.6
C69: Հրազդան համայնքի թիվ 6 մանկապարտեզ | D69: =+E69+F69+G69+H69 -> 767.9 | H69: 767.9
C70: Հրազդան համայնքի թիվ 8 մանկապարտեզ | D70: =+E70+F70+G70+H70 -> 767.9 | H70: 767.9
C71: Հրազդան համայնքի թիվ 11 մանկապարտեզ | D71: =+E71+F71+G71+H71 -> 767.9 | H71: 767.9
C72: Աբովյան համայնքի Արամուս գյուղի մանկապարտեզ | D72: =+E72+F72+G72+H72 -> 1166.8 | H72: 1166.8
C73: Աբովյան համայնքի Բալահովիտ գյուղի մանկապարտեզ | D73: =+E73+F73+G73+H73 -> 1166.8 | H73: 1166.8
C74: Նաիրի համայնքի Արագյուղ գյուղի մանկապարտեզ | D74: =+E74+F74+G74+H74 -> 1166.8 | H74: 1166.8
C75: Նաիրի համայնքի Բուժական գյուղի մանկապարտեզ | D75: =+E75+F75+G75+H75 -> 1166.8 | H75: 1166.8
C76: Նաիրի համայնքի Պռոշյանի թիվ 1 մսուր մանկապարտեզ | D76: =+E76+F76+G76+H76 -> 1166.8 | H76: 1166.8
C77: Նաիրի համայնքի Զովունի բնակավայրի մանկապարտեզ | D77: =+E77+F77+G77+H77 -> 239.8 | H77: 239.8
C78: Ակունք համայնքի Նոր Գյուղ բնակավայրի մանկապարտեզ | D78: =+E78+F78+G78+H78 -> 767.8 | H78: 767.8
C79: Հրազդան համայնքում «Մոդուլային» տիպի 144 տեղ հզորությամբ մսուր-մանկապարտեզ | D79: =+E79+F79+G79+H79 -> 6809.3 | H79: =+SUM('Հավելված N 9'!I358:I420) -> 6809.3
C80: ՀՀ Սյունիքի մարզ | D80: =SUM(E80:H80) -> 1500 | E80: =SUM(E81:E83) -> 0 | F80: =SUM(F81:F83) -> 0 | G80: =SUM(G81:G83) -> 0 | H80: =SUM(H81:H83) -> 1500
C81: Ագարակի մանկապարտեզի Ալվանք գյուղի մասնաճյուղ | D81: =+E81+F81+G81+H81 -> 500 | H81: 500
C82: Կապան քաղաքի թիվ 2 մանկապարտեզ | D82: =+E82+F82+G82+H82 -> 500 | H82: 500
C83: Կապան քաղաքի թիվ 1 մանկապարտեզ | D83: =+E83+F83+G83+H83 -> 500 | H83: 500
C84: ՀՀ Տավուշի մարզ | D84: =SUM(E84:H84) -> 23047.4 | E84: =SUM(E85:E92) -> 0 | F84: =SUM(F85:F92) -> 0 | G84: =SUM(G85:G92) -> 0 | H84: =SUM(H85:H92) -> 23047.4
C85: Նոյեմբերյան համայնքի Հաղթանակ գյուղի մանկապարտեզ | D85: =+E85+F85+G85+H85 -> 4707.4 | H85: 4707.4
C86: Իջևան քաղաքի թիվ 5 մանկապարտեզ | D86: =+E86+F86+G86+H86 -> 1838.1 | H86: 1838.1
C87: Իջևան համայնքի գ. Ծաղկավանի մանկապարտեզ | D87: =+E87+F87+G87+H87 -> 500 | H87: 500
C88: Բերդ համայնքի Արծվաբերդ գյուղի մանկապարտեզ | D88: =+E88+F88+G88+H88 -> 8449.6 | H88: 8449.6
C89: Բերդ համայնքի Այգեձոր գյուղի մանկապարտեզ | D89: =+E89+F89+G89+H89 -> 1404.6 | H89: 1404.6
C90: Իջևան համայնքի Խաշթառակ գյուղի մանկապարտեզ | D90: =+E90+F90+G90+H90 -> 5127.8 | H90: 5127.8
C91: Գանձաքարի մանկապարտեզ ՀՈԱԿ | D91: =+E91+F91+G91+H91 -> 523.6 | H91: 523.6
C92: Այրումի մանկապարտեզ ՀՈԱԿ | D92: =+E92+F92+G92+H92 -> 496.3 | H92: 496.3

Sheet Հավելված N 4
E1: Հավելված N 4
D2: ՀՀ կառավարության 2025 թվականի
E3: ______________ ի ___Ն որոշման
B6: ՀԱՅԱՍՏԱՆԻ ՀԱՆՐԱՊԵՏՈՒԹՅԱՆ ԿԱՌԱՎԱՐՈՒԹՅԱՆ 2024 ԹՎԱԿԱՆԻ ԴԵԿՏԵՄԲԵՐԻ 27-Ի N 2060-Ն ՈՐՈՇՄԱՆ N 5 ՀԱՎԵԼՎԱԾԻ N 2 ԱՂՅՈՒՍԱԿՈՒՄ ԿԱՏԱՐՎՈՂ ԼՐԱՑՈՒՄՆԵՐԸ
F8: հազ. դրամներով
B9: Ծրագրային դասիչ | D9: Բյուջետային գլխավոր կարգադրիչների, ծրագրերի, միջոցառումների, միջոցառումները կատարող պետական մարմինների և ուղղությունների անվանումները | E9: Ցուցանիշների փոփոխությունը (ավելացումները նշված են դրական նշանով, իսկ նվազեցումները՝ փակագծերում)
B10: Ծրագիր | C10: Միջոցառում | E10: Ինն ամիս | F10: Տարի
D11: ՀՀ ԿՐԹՈՒԹՅԱՆ, ԳԻՏՈՒԹՅԱՆ, ՄՇԱԿՈՒՅԹԻ ԵՎ ՍՊՈՐՏԻ ՆԱԽԱՐԱՐՈՒԹՅՈՒՆ | E11: =+E13+E16+E19+E22+E25 -> -575000 | F11: =+F13+F16+F19+F22+F25 -> -585000
D12: այդ թվում՝
B13: 1162 | C13: 32004 | D13: Գիտական կենտրոնները ժամանակակից սարքավորումներով վերազինում ու համատեղ օգտագործման գիտական սարքավորումների կենտրոնների ստեղծում | E13: =+E15 -> -2906353.9 | F13: =+F15 -> -3408199.8
D14: այդ թվում` ըստ կատարողների
D15: ՀՀ կրթության, գիտության, մշակույթի և սպորտի նախարարության բարձրագույն կրթության և գիտության կոմիտե | E15: =-E16-E19-E22-E25-'Հավելված N 5'!D13-30000 -> -2906353.9 | F15: =+'Հավելված N 3'!D15 -> -3408199.8
B16: 1192 | C16: 32007 | D16: ՀՀ պետական դպրոցների՝ ԳՏՃՄ լաբորատորիաներով ապահովում | E16: =+E18 -> 210791.1 | F16: =+F18 -> 702637
D17: այդ թվում` ըստ կատարողների
D18: ՀՀ կրթության, գիտության, մշակույթի և սպորտի նախարարություն | E18: =+ROUND(F18*0.3,1) -> 210791.1 | F18: =+'Հավելված N 3'!D16 -> 702637
B19: 1236 | C19: 32003 | D19: Հանրակրթական դպրոցների նոր շենքերի կառուցում | E19: =+E21 -> 1300000 | F19: =+F21 -> 1300000
D20: այդ թվում` ըստ կատարողների
D21: ՀՀ կրթության, գիտության, մշակույթի և սպորտի նախարարություն | E21: =+F21 -> 1300000 | F21: =+'Հավելված N 3'!D19 -> 1300000
B22: 1236 | C22: 32005 | D22: Կրթահամալիրների կառուցում | E22: =+E24 -> 700000 | F22: =+F24 -> 700000
D23: այդ թվում` ըստ կատարողների
D24: ՀՀ կրթության, գիտության, մշակույթի և սպորտի նախարարություն | E24: =+F24 -> 700000 | F24: =+'Հավելված N 3'!D22 -> 700000
B25: 1236 | C25: 32006 | D25: Հանրակրթական դպրոցների, մանկապարտեզների և կրթահամալիրների գույքով և տեխնիկայով ապահովում | E25: =+E27+E36+E40+E72+E78+E92+E98 -> 120562.8 | F25: =+F27+F36+F40+F72+F78+F92+F98 -> 120562.8
D26: այդ թվում` ըստ կատարողների
D27: ՀՀ Արագածոտնի մարզպետի աշխատակազմ | E27: =+E29 -> 25402 | F27: =+F29 -> 25402
D28: այդ թվում`ըստ ուղղությունների
D29: ՀՀ Արագածոտնի մարզ | E29: =SUM(E30:E35) -> 25402 | F29: =SUM(F30:F35) -> 25402
D30: =+'Հավելված N 3'!C26 -> Արտաշավան բնակավայրի «Կակաչ» մանկապարտեզ | E30: =+F30 -> 1928.1 | F30: =+'Հավելված N 3'!D26 -> 1928.1
D31: =+'Հավելված N 3'!C27 -> Ապարան համայնքի Շենավան գյուղի մանկապարտեզ | E31: =+F31 -> 1928.1 | F31: =+'Հավելված N 3'!D27 -> 1928.1
D32: =+'Հավելված N 3'!C28 -> Ապարան համայնքի Արագածի Լիա Տեր–Ղևոնդյանի անվան մանկապարտեզ | E32: =+F32 -> 1928.1 | F32: =+'Հավելված N 3'!D28 -> 1928.1
D33: =+'Հավելված N 3'!C29 -> Ալագյազ համայնքի «Մոդուլային» տիպի 144 տեղ հզորությամբ մսուր-մանկապարտեզ | E33: =+F33 -> 2058.8 | F33: =+'Հավելված N 3'!D29 -> 2058.8
D34: =+'Հավելված N 3'!C30 -> Աշտարակի թիվ 4 «Հասմիկ» մանկապարտեզ | E34: =+F34 -> 2058.8 | F34: =+'Հավելված N 3'!D30 -> 2058.8
D35: =+'Հավելված N 3'!C31 -> Աշտարակ համայնքի Ուշի բնակավայրի մանկապարտեզ | E35: =+F35 -> 15500.1 | F35: =+'Հավելված N 3'!D31 -> 15500.1
D36: ՀՀ Արարատի մարզպետի աշխատակազմ | E36: =+E38 -> 10005.8 | F36: =+F38 -> 10005.8
D37: այդ թվում`ըստ ուղղությունների
D38: ՀՀ Արարատի մարզ | E38: =+E39 -> 10005.8 | F38: =+F39 -> 10005.8
D39: =+'Հավելված N 3'!C33 -> Արալեզ համայնքի «Մոդուլային» տիպի 144 տեղ հզորությամբ մսուր-մանկապարտեզ | E39: =+F39 -> 10005.8 | F39: =+'Հավելված N 3'!D33 -> 10005.8
D40: ՀՀ Արմավիրի մարզպետի աշխատակազմ | E40: =+E42 -> 43483.1 | F40: =+F42 -> 43483.1
D41: այդ թվում`ըստ ուղղությունների
D42: ՀՀ Արմավիրի մարզ | E42: =SUM(E43:E71) -> 43483.1 | F42: =SUM(F43:F71) -> 43483.1
D43: =+'Հավելված N 3'!C35 -> Արաքս համայնքի Խորոնք գյուղի մանկապարտեզ | E43: =+F43 -> 1094.5 | F43: =+'Հավելված N 3'!D35 -> 1094.5
D44: =+'Հավելված N 3'!C36 -> Արաքս համայնքի Ջրառատ գյուղի մանկապարտեզ | E44: =+F44 -> 1094.5 | F44: =+'Հավելված N 3'!D36 -> 1094.5
D45: =+'Հավելված N 3'!C37 -> Արաքս համայնքի Մեծամոր գյուղի մանկապարտեզ | E45: =+F45 -> 1094.5 | F45: =+'Հավելված N 3'!D37 -> 1094.5
D46: =+'Հավելված N 3'!C38 -> Բաղրամյան համայնքի Հուշակերտ գյուղի մանկապարտեզ | E46: =+F46 -> 1094.5 | F46: =+'Հավելված N 3'!D38 -> 1094.5
D47: =+'Հավելված N 3'!C39 -> Արմավիր համայնքի Սարդարապատ գյուղի մանկապարտեզ | E47: =+F47 -> 489.1 | F47: =+'Հավելված N 3'!D39 -> 489.1
D48: =+'Հավելված N 3'!C40 -> Արմավիր համայնքի Արաքս գյուղի մանկապարտեզ | E48: =+F48 -> 489.1 | F48: =+'Հավելված N 3'!D40 -> 489.1
D49: =+'Հավելված N 3'!C41 -> Մեծամոր համայնքի Ջանֆիդա գյուղի Վազգեն Սարգսյանի անվան մանկապարտեզ | E49: =+F49 -> 605.4 | F49: =+'Հավելված N 3'!D41 -> 605.4
D50: =+'Հավելված N 3'!C42 -> Մեծամոր համայնքի Զարթոնք գյուղի մանկապարտեզ | E50: =+F50 -> 876.6 | F50: =+'Հավելված N 3'!D42 -> 876.6
D51: =+'Հավելված N 3'!C43 -> Մեծամոր համայնքի Արևիկ գյուղի «Մոդուլային» տիպի 144 տեղ հզորությամբ մսուր-մանկապարտեզ | E51: =+F51 -> 714.8 | F51: =+'Հավելված N 3'!D43 -> 714.8
D52: =+'Հավելված N 3'!C44 -> Վաղարշապատ համայնքի թիվ 10 «Ոսկեհատ» մանկապարտեզ | E52: =+F52 -> 326.9 | F52: =+'Հավելված N 3'!D44 -> 326.9
D53: =+'Հավելված N 3'!C45 -> Վաղարշապատ համայնքի թիվ 3 Ծիծեռնակ մսուր-մանկապարտեզ | E53: =+F53 -> 837.4 | F53: =+'Հավելված N 3'!D45 -> 837.4
D54: =+'Հավելված N 3'!C46 -> Արաքս համայնքի Գայ գյուղի մանկապարտեզ | E54: =+F54 -> 955 | F54: =+'Հավելված N 3'!D46 -> 955
... D71: =+'Հավելված N 3'!C63 -> Այգևան համայնքի «Մոդուլային» տիպի 144 տեղ հզորությամբ մսուր-մանկապարտեզ | E71: =+F71 -> 16526.9 | F71: =+'Հավելված N 3'!D63 -> 16526.9
D72: ՀՀ Գեղարքունիքի մարզպետի աշխատակազմ | E72: =+E74 -> 1169.9 | F72: =+F74 -> 1169.9
D73: այդ թվում`ըստ ուղղությունների
D74: ՀՀ Գեղարքունիքի մարզ | E74: =SUM(E75:E77) -> 1169.9 | F74: =SUM(F75:F77) -> 1169.9
D75: =+'Հավելված N 3'!C65 -> Մարտունու համայնքի Ծովասար գյուղի մանկապարտեզ | E75: =+F75 -> 528.4 | F75: =+'Հավելված N 3'!D65 -> 528.4
D76: =+'Հավելված N 3'!C66 -> Մարտունու համայնքի Վարդենիկ բնակավայրի Բանավան թաղամասի թիվ 1 մանկապարտեզ | E76: =+F76 -> 442.5 | F76: =+'Հավելված N 3'!D66 -> 442.5
D77: =+'Հավելված N 3'!C67 -> ՀՀ Գեղարքունիքի մարզի Աստղաձոր համայնքում «Մոդուլային» տիպի 144 տեղ հզորությամբ մսուր-մանկապարտեզ | E77: =+F77 -> 199 | F77: =+'Հավելված N 3'!D67 -> 199
D78: ՀՀ Կոտայքի մարզպետի աշխատակազմ | E78: =+E80 -> 15954.6 | F78: =+F80 -> 15954.6
D79: այդ թվում`ըստ ուղղությունների
D80: ՀՀ Կոտայքի մարզ | E80: =SUM(E81:E91) -> 15954.6 | F80: =SUM(F81:F91) -> 15954.6
D81: =+'Հավելված N 3'!C69 -> Հրազդան համայնքի թիվ 6 մանկապարտեզ | E81: =+F81 -> 767.9 | F81: =+'Հավելված N 3'!D69 -> 767.9
D82: =+'Հավելված N 3'!C70 -> Հրազդան համայնքի թիվ 8 մանկապարտեզ | E82: =+F82 -> 767.9 | F82: =+'Հավելված N 3'!D70 -> 767.9
D83: =+'Հավելված N 3'!C71 -> Հրազդան համայնքի թիվ 11 մանկապարտեզ | E83: =+F83 -> 767.9 | F83: =+'Հավելված N 3'!D71 -> 767.9
D84: =+'Հավելված N 3'!C72 -> Աբովյան համայնքի Արամուս գյուղի մանկապարտեզ | E84: =+F84 -> 1166.8 | F84: =+'Հավելված N 3'!D72 -> 1166.8
D85: =+'Հավելված N 3'!C73 -> Աբովյան համայնքի Բալահովիտ գյուղի մանկապարտեզ | E85: =+F85 -> 1166.8 | F85: =+'Հավելված N 3'!D73 -> 1166.8
D86: =+'Հավելված N 3'!C74 -> Նաիրի համայնքի Արագյուղ գյուղի մանկապարտեզ | E86: =+F86 -> 1166.8 | F86: =+'Հավելված N 3'!D74 -> 1166.8
D87: =+'Հավելված N 3'!C75 -> Նաիրի համայնքի Բուժական գյուղի մանկապարտեզ | E87: =+F87 -> 1166.8 | F87: =+'Հավելված N 3'!D75 -> 1166.8
D88: =+'Հավելված N 3'!C76 -> Նաիրի համայնքի Պռոշյանի թիվ 1 մսուր մանկապարտեզ | E88: =+F88 -> 1166.8 | F88: =+'Հավելված N 3'!D76 -> 1166.8
D89: =+'Հավելված N 3'!C77 -> Նաիրի համայնքի Զովունի բնակավայրի մանկապարտեզ | E89: =+F89 -> 239.8 | F89: =+'Հավելված N 3'!D77 -> 239.8
D90: =+'Հավելված N 3'!C78 -> Ակունք համայնքի Նոր Գյուղ բնակավայրի մանկապարտեզ | E90: =+F90 -> 767.8 | F90: =+'Հավելված N 3'!D78 -> 767.8
D91: =+'Հավելված N 3'!C79 -> Հրազդան համայնքում «Մոդուլային» տիպի 144 տեղ հզորությամբ մսուր-մանկապարտեզ | E91: =+F91 -> 6809.3 | F91: =+'Հավելված N 3'!D79 -> 6809.3
D92: ՀՀ Սյունիքի մարզպետի աշխատակազմ | E92: =+E94 -> 1500 | F92: =+F94 -> 1500
D93: այդ թվում`ըստ ուղղությունների
D94: ՀՀ Սյունիքի մարզ | E94: =SUM(E95:E97) -> 1500 | F94: =SUM(F95:F97) -> 1500
D95: =+'Հավելված N 3'!C81 -> Ագարակի մանկապարտեզի Ալվանք գյուղի մասնաճյուղ | E95: =+F95 -> 500 | F95: =+'Հավելված N 3'!D81 -> 500
D96: =+'Հավելված N 3'!C82 -> Կապան քաղաքի թիվ 2 մանկապարտեզ | E96: =+F96 -> 500 | F96: =+'Հավելված N 3'!D82 -> 500
D97: =+'Հավելված N 3'!C83 -> Կապան քաղաքի թիվ 1 մանկապարտեզ | E97: =+F97 -> 500 | F97: =+'Հավելված N 3'!D83 -> 500
D98: ՀՀ Տավուշի մարզպետի աշխատակազմ | E98: =+E100 -> 23047.4 | F98: =+F100 -> 23047.4
D99: այդ թվում`ըստ ուղղությունների
D100: ՀՀ Տավուշի մարզ | E100: =SUM(E101:E108) -> 23047.4 | F100: =SUM(F101:F108) -> 23047.4
D101: =+'Հավելված N 3'!C85 -> Նոյեմբերյան համայնքի Հաղթանակ գյուղի մանկապարտեզ | E101: =+F101 -> 4707.4 | F101: =+'Հավելված N 3'!D85 -> 4707.4
D102: =+'Հավելված N 3'!C86 -> Իջևան քաղաքի թիվ 5 մանկապարտեզ | E102: =+F102 -> 1838.1 | F102: =+'Հավելված N 3'!D86 -> 1838.1
D103: =+'Հավելված N 3'!C87 -> Իջևան համայնքի գ. Ծաղկավանի մանկապարտեզ | E103: =+F103 -> 500 | F103: =+'Հավելված N 3'!D87 -> 500
D104: =+'Հավելված N 3'!C88 -> Բերդ համայնքի Արծվաբերդ գյուղի մանկապարտեզ | E104: =+F104 -> 8449.6 | F104: =+'Հավելված N 3'!D88 -> 8449.6
D105: =+'Հավելված N 3'!C89 -> Բերդ համայնքի Այգեձոր գյուղի մանկապարտեզ | E105: =+F105 -> 1404.6 | F105: =+'Հավելված N 3'!D89 -> 1404.6
D106: =+'Հավելված N 3'!C90 -> Իջևան համայնքի Խաշթառակ գյուղի մանկապարտեզ | E106: =+F106 -> 5127.8 | F106: =+'Հավելված N 3'!D90 -> 5127.8
D107: =+'Հավելված N 3'!C91 -> Գանձաքարի մանկապարտեզ ՀՈԱԿ | E107: =+F107 -> 523.6 | F107: =+'Հավելված N 3'!D91 -> 523.6
D108: =+'Հավելված N 3'!C92 -> Այրումի մանկապարտեզ ՀՈԱԿ | E108: =+F108 -> 496.3 | F108: =+'Հավելված N 3'!D92 -> 496.3

Sheet Հավելված N 5
H1: Հավելված N 5
F2: ՀՀ կառավարության 2025 թվականի
H3: ______________ ի ___Ն որոշման
A6: «ՀԱՅԱՍՏԱՆԻ ՀԱՆՐԱՊԵՏՈՒԹՅԱՆ 2025 ԹՎԱԿԱՆԻ ՊԵՏԱԿԱՆ ԲՅՈՒՋԵԻ ՄԱՍԻՆ» ՕՐԵՆՔԻ N 1 ՀԱՎԵԼՎԱԾԻ N 4 ԱՂՅՈՒՍԱԿՈՒՄ ԵՎ ՀԱՅԱՍՏԱՆԻ ՀԱՆՐԱՊԵՏՈՒԹՅԱՆ ԿԱՌԱՎԱՐՈՒԹՅԱՆ 2024 ԹՎԱԿԱՆԻ ԴԵԿՏԵՄԲԵՐԻ 27-Ի N 2060-Ն ՈՐՈՇՄԱՆ N 5 ՀԱՎԵԼՎԱԾԻ N 3 ԱՂՅՈՒՍԱԿՈՒՄ ԿԱՏԱՐՎՈՂ ԼՐԱՑՈՒՄԸ
I8: հազ. դրամներով
A9: Ծրագրային դասիչը | C9: Բյուջետային հատկացումների գլխավոր կարգադրիչների, ծրագրերի, միջոցառումների և միջոցառումները կատարող պետական մարմինների անվանումները | D9: Ցուցանիշների փոփոխությունը (ավելացումները նշված են դրական նշանով)
D10: Ինն ամիս | G10: Տարի
D11: Ընդամենը | E11: այդ թվում` | G11: Ընդամենը | H11: այդ թվում`
A12: Ծրագիր | B12: Միջոցառում | E12: Վարկային միջոցներ | F12: Համաֆինան սավորում | H12: Վարկային միջոցներ | I12: Համաֆինան սավորում
C13: ԸՆԴԱՄԵՆԸ | D13: =+E13+F13 -> 545000 | E13: =+E15 -> 0 | F13: =+F15 -> 545000 | G13: =+H13+I13 -> 545000 | H13: =+H15 -> 0 | I13: =+I15 -> 545000
C14: այդ թվում`
C15: ՈՉ ՖԻՆԱՆՍԱԿԱՆ ԱԿՏԻՎՆԵՐԻ ԳԾՈՎ ԾԱԽՍԵՐ | D15: =+E15+F15 -> 545000 | E15: =+E16 -> 0 | F15: =+F16 -> 545000 | G15: =+H15+I15 -> 545000 | H15: =+H16 -> 0 | I15: =+I16 -> 545000
C16: ՀՀ կրթության, գիտության, մշակույթի և սպորտի նախարարություն | D16: =+E16+F16 -> 545000 | E16: =+E18 -> 0 | F16: =+F18 -> 545000 | G16: =+H16+I16 -> 545000 | H16: =+H18 -> 0 | I16: =+I18 -> 545000
C17: այդ թվում`
A18: 1192 | C18: Կրթության որակի ապահովում | D18: =+E18+F18 -> 545000 | E18: =+E20 -> 0 | F18: =+F20 -> 545000 | G18: =+H18+I18 -> 545000 | H18: =+H20 -> 0 | I18: =+I20 -> 545000
C19: այդ թվում`
B20: 32006 | C20: Համաշխարհային բանկի աջակցությամբ իրականացվող «Կրթության բարելավման ծրագրի լրացուցիչ ֆինանսավորում» վարկային ծրագրի շրջանակներում կապիտալ ներդրումներ հանրակրթական ուսումնական հաստատություններում | D20: =+E20+F20 -> 545000 | E20: =+E22 -> 0 | F20: =+F22 -> 545000 | G20: =+H20+I20 -> 545000 | H20: =+H22 -> 0 | I20: =+I22 -> 545000
C21: այդ թվում` ըստ կատարողների
C22: ՀՀ կրթության, գիտության, մշակույթի և սպորտի նախարարություն | D22: =+E22+F22 -> 545000 | E22: =+E24 -> 0 | F22: =+F24 -> 545000 | G22: =+H22+I22 -> 545000 | H22: =+H24 -> 0 | I22: =+I24 -> 545000
C23: այդ թվում` բյուջետային ծախսերի տնտեսագիտական դասակարգման հոդվածներ
C24: ԸՆԴԱՄԵՆԸ ԾԱԽՍԵՐ | D24: =+E24+F24 -> 545000 | E24: =+E25 -> 0 | F24: =+F25 -> 545000 | G24: =+H24+I24 -> 545000 | H24: =+H25 -> 0 | I24: =+I25 -> 545000
C25: ՈՉ ՖԻՆԱՆՍԱԿԱՆ ԱԿՏԻՎՆԵՐԻ ԳԾՈՎ ԾԱԽՍԵՐ | D25: =+E25+F25 -> 545000 | E25: =+E26 -> 0 | F25: =+F26 -> 545000 | G25: =+H25+I25 -> 545000 | H25: =+H26 -> 0 | I25: =+I26 -> 545000
C26: ՀԻՄՆԱԿԱՆ ՄԻՋՈՑՆԵՐ | D26: =+E26+F26 -> 545000 | E26: =+E27+E29 -> 0 | F26: =+F27+F29 -> 545000 | G26: =+H26+I26 -> 545000 | H26: =+H27+H29 -> 0 | I26: =+I27+I29 -> 545000
C27: ՇԵՆՔԵՐ ԵՎ ՇԻՆՈՒԹՅՈՒՆՆԵՐ | D27: =+E27+F27 -> 45000 | E27: =+E28 -> 0 | F27: =+F28 -> 45000 | G27: =+H27+I27 -> 45000 | H27: =+H28 -> 0 | I27: =+I28 -> 45000
C28: - Շենքերի և շինությունների կապիտալ վերանորոգում | D28: =+E28+F28 -> 45000 | F28: 45000 | G28: =+H28+I28 -> 45000 | I28: 45000
C29: ՄԵՔԵՆԱՆԵՐ ԵՎ ՍԱՐՔԱՎՈՐՈՒՄՆԵՐ | D29: =+E29+F29 -> 500000 | E29: =+E30 -> 0 | F29: =+F30 -> 500000 | G29: =+H29+I29 -> 500000 | H29: =+H30 -> 0 | I29: =+I30 -> 500000
C30: - Այլ մեքենաներ և սարքավորումներ | D30: =+E30+F30 -> 500000 | F30: 500000 | G30: =+H30+I30 -> 500000 | I30: 500000

Sheet Հավելված N 6
F1: Հավելված 6
F2: ՀՀ կառավարության 2025 թվականի
F3: ______________ ի ___Ն որոշման
A6: ՀԱՅԱՍՏԱՆԻ ՀԱՆՐԱՊԵՏՈՒԹՅԱՆ ԿԱՌԱՎԱՐՈՒԹՅԱՆ 2024 ԹՎԱԿԱՆԻ ԴԵԿՏԵՄԲԵՐԻ 27-Ի N 2060-Ն ՈՐՈՇՄԱՆ N 5 ՀԱՎԵԼՎԱԾԻ N 7 ԱՂՅՈՒՍԱԿՈՒՄ ԿԱՏԱՐՎՈՂ ԼՐԱՑՈՒՄԸ
A7: հազար դրամ
A8: Ծրագրային դասիչը | C8: Բյուջետային հատկացումների գլխավոր կարգադրիչների, ծրագրերի, միջոցառումների, ծախսային ուղղությունների անվանումները | F8: Միջոցառումները կատարող պետական մարմինների և դրամաշնորհ ստացող տնտեսվարող սուբյեկտների անվանումները | G8: Ցուցանիշների փոփոխությունը (ավելացումները նշված են դրական նշանով)
A9: Ծրագիր | B9: Միջոցառում | G9: Տարի
A10: ՀՀ կրթության, գիտության, մշակույթի և սպորտի նախարարություն | G10: =+G11 -> 40000
A11: 1183 | B11: Ապահով դպրոց | G11: =+G12 -> 40000
B12: 11002 | C12: Աջակցություն դպրոցներին «Արագ արձագանքման ֆոնդի» շրջանակում հրատապ խնդիրների լուծման համար | G12: =+G13 -> 40000
F13: ՀՀ կրթության, գիտության, մշակույթի և սպորտի նախարարություն | G13: =+G14 -> 40000
F14: Հանրակրթական դպրոցներ | G14: 40000

Sheet Հավելված N 7
J1: Հավելված 7
J2: ՀՀ կառավարության 2025 թվականի
J3: ______________ ի ___Ն որոշման
A6: ՀԱՅԱՍՏԱՆԻ ՀԱՆՐԱՊԵՏՈՒԹՅԱՆ ԿԱՌԱՎԱՐՈՒԹՅԱՆ 2024 ԹՎԱԿԱՆԻ ԴԵԿՏԵՄԲԵՐԻ 27-Ի N 2060-Ն ՈՐՈՇՄԱՆ N 9 ՀԱՎԵԼՎԱԾՈՒՄ ԿԱՏԱՐՎՈՂ ԼՐԱՑՈՒՄՆԵՐԸ
A9: ԲԳԿ | B9: Ծրագիր | D9: Միջոցառում | H9: Իրականացնողը/ ակտիվն օգտագործողը/ շահառուի ընտրության չափորոշիչը | I9: Արդյունքային չափորոշիչը | J9: Ցուցանիշների փոփոխությունը (ավելացումները նշված են դրական նշանով, իսկ նվազեցումները՝ փակագծերում)
B10: Դասիչը | C10: Անվանումը | D10: Դասիչը | E10: Անվանումը | F10: Նկարագրությունը | G10: Տեսակը | J10: Ինն ամիս | K10: Տարի
A11: ԸՆԴԱՄԵՆԸ | J11: =+J13 -> 0 | K11: =+K13 -> 0
A12: այդ թվում՝
A13: ՀՀ ԿՐԹՈՒԹՅԱՆ, ԳԻՏՈՒԹՅԱՆ, ՄՇԱԿՈԻՅԹԻ ԵՎ ՍՊՈՐՏԻ ՆԱԽԱՐԱՐՈՒԹՅՈՒՆ | J13: =+J14+J20+J26+J39 -> 0 | K13: =+K14+K20+K26+K39 -> 0
B14: 1162 | C14: Գիտական և գիտատեխնիկական հետազոտությունների ծրագիր | J14: =+J15 -> -2906353.9 | K14: =+K15 -> -3408199.8
D15: 1162 - 32004 | E15: Գիտական կենտրոնները ժամանակակից սարքավորումներով վերազինում ու համատեղ օգտագործման գիտական սարքավորումների կենտրոնների ստեղծում | J15: =+'Հավելված N 1'!G17 -> -2906353.9 | K15: =+'Հավելված N 1'!H17 -> -3408199.8
F16: Գիտական կենտրոնները վերազինված են ոլորտային համալիր հետազոտությունների համար անհարժեշտ սարքավորումներով
G17: Այլ պետական կազմակերպությունների կողմից օգտագործվող ոչ ֆինանսական ակտիվների հետ գործառնություններ
H18: Ակտիվն օգտագործող կազմակերպության անվանումը` գիտական կենտրոններ
I19: Վերազինված գիտական կենտրոններում արքավորումների թիվ, հատ | K19: -8
B20: 1183 | C20: Ապահով դպրոց | J20: =+J21 -> 30000 | K20: =+K21 -> 40000
D21: 1183 - 11002 | E21: Աջակցություն դպրոցներին «Արագ արձագանքման ֆոնդի» շրջանակում՛ հրատապ խնդիրների լուծման համար | J21: =+'Հավելված N 1'!G19 -> 30000 | K21: =+'Հավելված N 1'!H19 -> 40000
F22: Դպրոցներում արտակարգ իրավիճակների և չնախատեսված հանգամանքների հետևանքով առաջացած խնդիրների լուծման նպատակով ընթացիկ աշխատանքների իրականացում
G23: Ծառայությունների մատուցում
H24: Ծառայությունը մատուցողի անվանումը` Մասնագիտացված կազմակերպություններ
I25: Շահառու դպրոցների թիվը | K25: =44-15 -> 29
B26: 1192 | C26: Կրթության որակի ապահովում | J26: =+J27+J31 -> 755791.1 | K26: =+K27+K31 -> 1247637
D27: 1192 - 32006 | E27: Համաշխարհային բանկի աջակցությամբ իրականացվող «Կրթության բարելավման ծրագրի լրացուցիչ ֆինանսավորում» վարկային ծրագրի շրջանակներում կապիտալ ներդրումներ հանրակրթական ուսումնական հաստատություններում | J27: =+'Հավելված N 1'!G21 -> 545000 | K27: =+'Հավելված N 1'!H21 -> 545000
F28: Կապիտալ ներդրումներ ավագ, միջնակարգ և հիմնական դպրոցներում
G29: Այլ պետական կազմակերպությունների կողմից օգտագործվող ոչ ֆինանսական ակտիվների հետ գործառնություններ
H30: Ակտիվն օգտագործող կազմակերպության անվանումը` Հանրակրթական ուսումնական հաստատություններ
D31: 1192 - 32007 | E31: ՀՀ պետական դպրոցների` ԳՏՃՄ լաբորատորիաներով ապահովում | J31: =+'Հավելված N 1'!G22 -> 210791.1 | K31: =+'Հավելված N 1'!H22 -> 702637
F32: ՀՀ պետական դպրոցների համար ԳՏՃՄ առարկաների լաբորատոր սարքավարումների և կահույքի ձեռքբերում
G33: Այլ պետական կազմակերպությունների կողմից օգտագործվող ոչ ֆինանսական ակտիվների հետ գործառնություններ
H34: Ակտիվն օգտագործող կազմակերպության անվանումը` Հանրակրթական ուսումնական հաստատություններ
I35: Ժամանակակից ԳՏՃՄ լաբորատորիաներով հագեցած դպրոցների թիվը, հատ | K35: 25
I36: Ժամանակակից ԳՏՃՄ լաբորատորիաներով հագեցած Արարատի, Գեղարքունիքի, Կոտայքի մարզերի դպրոցների թիվը, հատ | K36: -72
I37: Հայաստանի գիտության և տեխնոլոգիաների հիմնադրամի (FAST) աջակցությամբ իրականացվող ,ԱԲ սերունդե դպրոցական ծրագրի շրջանակներում համակարգչային տեխնիկայով հագեցած դպրոցների թիվը, հատ | K37: -14
I38: Հայաստանի գիտության և տեխնոլոգիաների հիմնադրամի (FAST) աջակցությամբ իրականացվող «ԱԲ սերունդ» դպրոցական ծրագրի շրջանակներում, ինչպես նաև ուսուցիչների կամավոր ատեստավորման համար քննական կենտրոնի ձևավորման նպատակով համակարգչային տեխնիկայով հագեցած դպրոցների թիվը, հատ | K38: 42
B39: 1236 | C39: Հանրակրթական և նախադպրոցական հաստատությունների հիմնում, կառուցում, բարելավում | J39: =+J40+J44+J48 -> 2120562.8 | K39: =+K40+K44+K48 -> 2120562.8
D40: 1236 - 32003 | E40: Հանրակրթական դպրոցների նոր շենքերի կառուցում | J40: =+'Հավելված N 1'!G24 -> 1300000 | K40: =+'Հավելված N 1'!H24 -> 1300000
F41: ՀՀ մարզերում կրթական որակյալ ծառայությունների հասանելիության ապահովման ծրագրի շրջանակներում հանրակրթական և նախադպրոցական կրթության հասանելիության ապահովման նպատակով կրթական կենտրոնների կառուցում
G42: Այլ պետական կազմակերպությունների կողմից օգտագործվող ոչ ֆինանսական ակտիվների հետ գործառնություններ
H43: Ակտիվն օգտագործող կազմակերպությունների անվանումները` Հանրակրթական դպրոցներ
D44: 1236 - 32005 | E44: Կրթահամալիրների կառուցում | J44: =+'Հավելված N 1'!G25 -> 700000 | K44: =+'Հավելված N 1'!H25 -> 700000
F45: ՀՀ մարզերում կրթական որակյալ ծառայությունների հասանելիության ապահովման ծրագրի շրջանակներում հանրակրթական և նախադպրոցական կրթության հասանելիության ապահովման նպատակով կրթական կենտրոնների կառուցում
G46: Այլ պետական կազմակերպությունների կողմից օգտագործվող ոչ ֆինանսական ակտիվների հետ գործառնություններ
H47: Ակտիվն օգտագործող կազմակերպությունների անվանումները` Ստեղծվող կրթահամալիրներ
D48: 1236 - 32006 | E48: Հանրակրթական դպրոցների, մանկապարտեզների և կրթահամալիրների գույքով և տեխնիկայով ապահովում | J48: =+'Հավելված N 1'!G26 -> 120562.8 | K48: =+'Հավելված N 1'!H26 -> 120562.8
F49: Կրթական ժամանակակից նորմերին և կրթական չափորոշիչներին համապատասխան ուսուցման ծրագրերն իրականացնելու նպատակով հանրակրթական և նախադպրոցական հաստատությունների համար գույքի և տեխնիկայի ձեռքբերում
G50: Այլ պետական կազմակերպությունների կողմից օգտագործվող ոչ ֆինանսական ակտիվների հետ գործառնություններ
H51: Ակտիվն օգտագործող կազմակերպությունների անվանումները` Հանրակրթական դպրոցներ, մանկապարտեզներ և կրթահամալիրներ
I52: Սուբվենցիոն ծրագրերի շրջանակներում կառուցվող(ած), վերակառուցվող(ած) և հիմնանորոգվող(ած) մանկապարտեզների թիվը, որոնք ապահովվում են գույքով, հատ | K52: =+'Հավելված N 8'!K73+'Հավելված N 8'!K89 -> 2
I53: Անհետաձգելի ծրագրերի շրջանակներում կառուցվող(ած), վերակառուցվող(ած) և հիմնանորոգվող(ած) մանկապարտեզների թիվը, որոնք ապահովվում են գույքով, հատ | K53: =+'Հավելված N 8'!K57 -> 1
I54: «Մոդուլային» տիպի 144 տեղ հզորությամբ կառուցվող(ած) մսուր–մանկապարտեզների թիվը, որոնք ապահովվում են գույքով, հատ | K54: =+'Հավելված N 8'!K65+'Հավելված N 8'!K74+'Հավելված N 8'!K90 -> 3
I55: Բարեգործական ծրագրերով կառուցվող(ած), վերակառուցվող(ած) և հիմնանորոգվող(ած) մանկապարտեզների թիվը, որոնք ապահովվում են գույքով, հատ | K55: =+'Հավելված N 8'!K105 -> 2

Sheet Հավելված N 8
J1: Հավելված 8
J2: ՀՀ կառավարության 2025 թվականի
J3: ______________ ի ___Ն որոշման
A6: ՀԱՅԱՍՏԱՆԻ ՀԱՆՐԱՊԵՏՈՒԹՅԱՆ ԿԱՌԱՎԱՐՈՒԹՅԱՆ 2024 ԹՎԱԿԱՆԻ ԴԵԿՏԵՄԲԵՐԻ 27-Ի N 2060-Ն ՈՐՈՇՄԱՆ N 9.1 ՀԱՎԵԼՎԱԾՈՒՄ ԿԱՏԱՐՎՈՂ ԼՐԱՑՈՒՄՆԵՐԸ
A9: ԲՍԿ | B9: Ծրագիր | D9: Միջոցառում | H9: Իրականացնողը/ ակտիվն օգտագործողը/ շահառուի ընտրության չափորոշիչը | I9: Արդյունքային չափորոշիչը | J9: Ցուցանիշների փոփոխությունը (ավելացումները նշված են դրական նշանով, իսկ նվազեցումները՝ փակագծերում)
B10: Դասիչը | C10: Անվանումը | D10: Դասիչը | E10: Անվանումը | F10: Նկարագրությունը | G10: Տեսակը | J10: Ինն ամիս | K10: Տարի
A11: ԸՆԴԱՄԵՆԸ | J11: =+J13+J43+J51+J59+J67+J76+J83+J92+J99 -> 1.891749e-10 | K11: =+K13+K43+K51+K59+K67+K76+K83+K92+K99 -> 1.891749e-10
A12: այդ թվում՝
A13: ՀՀ ԿՐԹՈՒԹՅԱՆ, ԳԻՏՈՒԹՅԱՆ, ՄՇԱԿՈԻՅԹԻ ԵՎ ՍՊՈՐՏԻ ՆԱԽԱՐԱՐՈՒԹՅՈՒՆ | J13: =+J14+J20+J33 -> 2785791.1 | K13: =+K14+K20+K33 -> 3287637
B14: 1183 | C14: Ապահով դպրոց | J14: =+J15 -> 30000 | K14: =+K15 -> 40000
D15: 1183 - 11002 | E15: Աջակցություն դպրոցներին «Արագ արձագանքման ֆոնդի» շրջանակում՛ հրատապ խնդիրների լուծման համար | J15: =+'Հավելված N 2'!G47 -> 30000 | K15: =+'Հավելված N 2'!H47 -> 40000
F16: Դպրոցներում արտակարգ իրավիճակների և չնախատեսված հանգամանքների հետևանքով առաջացած խնդիրների լուծման նպատակով ընթացիկ աշխատանքների իրականացում
G17: Ծառայությունների մատուցում
H18: Ծառայությունը մատուցողի անվանումը` Մասնագիտացված կազմակերպություններ
I19: Շահառու դպրոցների թիվը | K19: =44-15 -> 29
B20: 1192 | C20: Կրթության որակի ապահովում | J20: =+J21+J25 -> 755791.1 | K20: =+K21+K25 -> 1247637
D21: 1192 - 32006 | E21: Համաշխարհային բանկի աջակցությամբ իրականացվող «Կրթության բարելավման ծրագրի լրացուցիչ ֆինանսավորում» վարկային ծրագրի շրջանակներում կապիտալ ներդրումներ հանրակրթական ուսումնական հաստատություններում | J21: =+'Հավելված N 2'!G148 -> 545000 | K21: =+'Հավելված N 2'!H148 -> 545000
F22: Կապիտալ ներդրումներ ավագ, միջնակարգ և հիմնական դպրոցներում
G23: Այլ պետական կազմակերպությունների կողմից օգտագործվող ոչ ֆինանսական ակտիվների հետ գործառնություններ
H24: Ակտիվն օգտագործող կազմակերպության անվանումը` Հանրակրթական ուսումնական հաստատություններ
D25: 1192 - 32007 | E25: ՀՀ պետական դպրոցների` ԳՏՃՄ լաբորատորիաներով ապահովում | J25: =+'Հավելված N 2'!G60 -> 210791.1 | K25: =+'Հավելված N 2'!H60 -> 702637
F26: ՀՀ պետական դպրոցների համար ԳՏՃՄ առարկաների լաբորատոր սարքավարումների և կահույքի ձեռքբերում
G27: Այլ պետական կազմակերպությունների կողմից օգտագործվող ոչ ֆինանսական ակտիվների հետ գործառնություններ
H28: Ակտիվն օգտագործող կազմակերպության անվանումը` Հանրակրթական ուսումնական հաստատություններ
I29: Ժամանակակից ԳՏՃՄ լաբորատորիաներով հագեցած դպրոցների թիվը, հատ | K29: 25
I30: Ժամանակակից ԳՏՃՄ լաբորատորիաներով հագեցած Արարատի, Գեղարքունիքի, Կոտայքի մարզերի դպրոցների թիվը, հատ | K30: -72
I31: Հայաստանի գիտության և տեխնոլոգիաների հիմնադրամի (FAST) աջակցությամբ իրականացվող ,ԱԲ սերունդե դպրոցական ծրագրի շրջանակներում համակարգչային տեխնիկայով հագեցած դպրոցների թիվը, հատ | K31: -14
I32: Հայաստանի գիտության և տեխնոլոգիաների հիմնադրամի (FAST) աջակցությամբ իրականացվող «ԱԲ սերունդ» դպրոցական ծրագրի շրջանակներում, ինչպես նաև ուսուցիչների կամավոր ատեստավորման համար քննական կենտրոնի ձևավորման նպատակով համակարգչային տեխնիկայով հագեցած դպրոցների թիվը, հատ | K32: 42
B33: 1236 | C33: Հանրակրթական և նախադպրոցական հաստատությունների հիմնում, կառուցում, բարելավում | J33: =+J34+J38 -> 2000000 | K33: =+K34+K38 -> 2000000
D34: 1236 - 32003 | E34: Հանրակրթական դպրոցների նոր շենքերի կառուցում | J34: =+'Հավելված N 2'!G71 -> 1300000 | K34: =+'Հավելված N 2'!H71 -> 1300000
F35: ՀՀ մարզերում կրթական որակյալ ծառայությունների հասանելիության ապահովման ծրագրի շրջանակներում հանրակրթական և նախադպրոցական կրթության հասանելիության ապահովման նպատակով կրթական կենտրոնների կառուցում
G36: Այլ պետական կազմակերպությունների կողմից օգտագործվող ոչ ֆինանսական ակտիվների հետ գործառնություններ
H37: Ակտիվն օգտագործող կազմակերպությունների անվանումները` Հանրակրթական դպրոցներ
D38: 1236 - 32005 | E38: Կրթահամալիրների կառուցում | J38: =+'Հավելված N 2'!G80 -> 700000 | K38: =+'Հավելված N 2'!H80 -> 700000
F39: ՀՀ մարզերում կրթական որակյալ ծառայությունների հասանելիության ապահովման ծրագրի շրջանակներում հանրակրթական և նախադպրոցական կրթության հասանելիության ապահովման նպատակով կրթական կենտրոնների կառուցում
G40: Այլ պետական կազմակերպությունների կողմից օգտագործվող ոչ ֆինանսական ակտիվների հետ գործառնություններ
H41: Ակտիվն օգտագործող կազմակերպությունների անվանումները` Ստեղծվող կրթահամալիրներ
A43: ՀՀ ԿՐԹՈՒԹՅԱՆ, ԳԻՏՈՒԹՅԱՆ, ՄՇԱԿՈԻՅԹԻ ԵՎ ՍՊՈՐՏԻ ՆԱԽԱՐԱՐՈՒԹՅԱՆ ԲԱՐՁՐԱԳՈՒՅՆ ԿՐԹՈՒԹՅԱՆ ԵՎ ԳԻՏՈՒԹՅԱՆ ԿՈՄԻՏԵ | J43: =+J44 -> -2906353.9 | K43: =+K44 -> -3408199.8
B44: 1162 | C44: Գիտական և գիտատեխնիկական հետազոտությունների ծրագիր | J44: =+J45 -> -2906353.9 | K44: =+K45 -> -3408199.8
D45: 1162 - 32004 | E45: Գիտական կենտրոնները ժամանակակից սարքավորումներով վերազինում ու համատեղ օգտագործման գիտական սարքավորումների կենտրոնների ստեղծում | J45: =+'Հավելված N 2'!G28 -> -2906353.9 | K45: =+'Հավելված N 2'!H28 -> -3408199.8
F46: Գիտական կենտրոնները վերազինված են ոլորտային համալիր հետազոտությունների համար անհարժեշտ սարքավորումներով
G47: Այլ պետական կազմակերպությունների կողմից օգտագործվող ոչ ֆինանսական ակտիվների հետ գործառնություններ
H48: Ակտիվն օգտագործող կազմակերպության անվանումը` գիտական կենտրոններ
I49: Վերազինված գիտական կենտրոններում արքավորումների թիվ, հատ | K49: -8
A51: ՀՀ ԱՐԱԳԱԾՈՏՆԻ ՄԱՐԶՊԵՏԻ ԱՇԽԱՏԱԿԱԶՄ | J51: =+J52 -> 25402 | K51: =+K52 -> 25402
B52: 1236 | C52: Հանրակրթական և նախադպրոցական հաստատությունների հիմնում, կառուցում, բարելավում | J52: =+J53 -> 25402 | K52: =+K53 -> 25402
D53: 1236 - 32006 | E53: Հանրակրթական դպրոցների, մանկապարտեզների և կրթահամալիրների գույքով և տեխնիկայով ապահովում | J53: =+'Հավելված N 2'!G89 -> 25402 | K53: =+'Հավելված N 2'!H89 -> 25402
F54: Կրթական ժամանակակից նորմերին և կրթական չափորոշիչներին համապատասխան ուսուցման ծրագրերն իրականացնելու նպատակով հանրակրթական և նախադպրոցական հաստատությունների համար գույքի և տեխնիկայի ձեռքբերում
G55: Այլ պետական կազմակերպությունների կողմից օգտագործվող ոչ ֆինանսական ակտիվների հետ գործառնություններ
H56: Ակտիվն օգտագործող կազմակերպությունների անվանումները` Հանրակրթական դպրոցներ, մանկապարտեզներ և կրթահամալիրներ
I57: Անհետաձգելի ծրագրերի շրջանակներում կառուցվող(ած), վերակառուցվող(ած) և հիմնանորոգվող(ած) մանկապարտեզների թիվը, որոնք ապահովվում են գույքով, հատ | K57: 1
A59: ՀՀ ԱՐԱՐԱՏԻ ՄԱՐԶՊԵՏԻ ԱՇԽԱՏԱԿԱԶՄ | J59: =+J60 -> 10005.8 | K59: =+K60 -> 10005.8
B60: 1236 | C60: Հանրակրթական և նախադպրոցական հաստատությունների հիմնում, կառուցում, բարելավում | J60: =+J61 -> 10005.8 | K60: =+K61 -> 10005.8
D61: 1236 - 32006 | E61: Հանրակրթական դպրոցների, մանկապարտեզների և կրթահամալիրների գույքով և տեխնիկայով ապահովում | J61: =+'Հավելված N 2'!G96 -> 10005.8 | K61: =+'Հավելված N 2'!H96 -> 10005.8
F62: Կրթական ժամանակակից նորմերին և կրթական չափորոշիչներին համապատասխան ուսուցման ծրագրերն իրականացնելու նպատակով հանրակրթական և նախադպրոցական հաստատությունների համար գույքի և տեխնիկայի ձեռքբերում
G63: Այլ պետական կազմակերպությունների կողմից օգտագործվող ոչ ֆինանսական ակտիվների հետ գործառնություններ
H64: Ակտիվն օգտագործող կազմակերպությունների անվանումները` Հանրակրթական դպրոցներ, մանկապարտեզներ և կրթահամալիրներ
I65: «Մոդուլային» տիպի 144 տեղ հզորությամբ կառուցվող(ած) մսուր–մանկապարտեզների թիվը, որոնք ապահովվում են գույքով, հատ | K65: 1
A67: ՀՀ ԱՐՄԱՎԻՐԻ ՄԱՐԶՊԵՏԻ ԱՇԽԱՏԱԿԱԶՄ | J67: =+J68 -> 43483.1 | K67: =+K68 -> 43483.1
B68: 1236 | C68: Հանրակրթական և նախադպրոցական հաստատությունների հիմնում, կառուցում, բարելավում | J68: =+J69 -> 43483.1 | K68: =+K69 -> 43483.1
D69: 1236 - 32006 | E69: Հանրակրթական դպրոցների, մանկապարտեզների և կրթահամալիրների գույքով և տեխնիկայով ապահովում | J69: =+'Հավելված N 2'!G103 -> 43483.1 | K69: =+'Հավելված N 2'!H103 -> 43483.1
F70: Կրթական ժամանակակից նորմերին և կրթական չափորոշիչներին համապատասխան ուսուցման ծրագրերն իրականացնելու նպատակով հանրակրթական և նախադպրոցական հաստատությունների համար գույքի և տեխնիկայի ձեռքբերում
G71: Այլ պետական կազմակերպությունների կողմից օգտագործվող ոչ ֆինանսական ակտիվների հետ գործառնություններ
H72: Ակտիվն օգտագործող կազմակերպությունների անվանումները` Հանրակրթական դպրոցներ, մանկապարտեզներ և կրթահամալիրներ
I73: Սուբվենցիոն ծրագրերի շրջանակներում կառուցվող(ած), վերակառուցվող(ած) և հիմնանորոգվող(ած) մանկապարտեզների թիվը, որոնք ապահովվում են գույքով, հատ | K73: 1
I74: «Մոդուլային» տիպի 144 տեղ հզորությամբ կառուցվող(ած) մսուր–մանկապարտեզների թիվը, որոնք ապահովվում են գույքով, հատ | K74: 1
A76: ՀՀ ԳԵՂԱՐՔՈՒՆԻՔԻ ՄԱՐԶՊԵՏԻ ԱՇԽԱՏԱԿԱԶՄ | J76: =+J77 -> 1169.9 | K76: =+K77 -> 1169.9
B77: 1236 | C77: Հանրակրթական և նախադպրոցական հաստատությունների հիմնում, կառուցում, բարելավում | J77: =+J78 -> 1169.9 | K77: =+K78 -> 1169.9
D78: 1236 - 32006 | E78: Հանրակրթական դպրոցների, մանկապարտեզների և կրթահամալիրների գույքով և տեխնիկայով ապահովում | J78: =+'Հավելված N 2'!G110 -> 1169.9 | K78: =+'Հավելված N 2'!H110 -> 1169.9
F79: Կրթական ժամանակակից նորմերին և կրթական չափորոշիչներին համապատասխան ուսուցման ծրագրերն իրականացնելու նպատակով հանրակրթական և նախադպրոցական հաստատությունների համար գույքի և տեխնիկայի ձեռքբերում
G80: Այլ պետական կազմակերպությունների կողմից օգտագործվող ոչ ֆինանսական ակտիվների հետ գործառնություններ
H81: Ակտիվն օգտագործող կազմակերպությունների անվանումները` Հանրակրթական դպրոցներ, մանկապարտեզներ և կրթահամալիրներ
A83: ՀՀ ԿՈՏԱՅՔԻ ՄԱՐԶՊԵՏԻ ԱՇԽԱՏԱԿԱԶՄ | J83: =+J84 -> 15954.6 | K83: =+K84 -> 15954.6
B84: 1236 | C84: Հանրակրթական և նախադպրոցական հաստատությունների հիմնում, կառուցում, բարելավում | J84: =+J85 -> 15954.6 | K84: =+K85 -> 15954.6
D85: 1236 - 32006 | E85: Հանրակրթական դպրոցների, մանկապարտեզների և կրթահամալիրների գույքով և տեխնիկայով ապահովում | J85: =+'Հավելված N 2'!G117 -> 15954.6 | K85: =+'Հավելված N 2'!H117 -> 15954.6
F86: Կրթական ժամանակակից նորմերին և կրթական չափորոշիչներին համապատասխան ուսուցման ծրագրերն իրականացնելու նպատակով հանրակրթական և նախադպրոցական հաստատությունների համար գույքի և տեխնիկայի ձեռքբերում
G87: Այլ պետական կազմակերպությունների կողմից օգտագործվող ոչ ֆինանսական ակտիվների հետ գործառնություններ
H88: Ակտիվն օգտագործող կազմակերպությունների անվանումները` Հանրակրթական դպրոցներ, մանկապարտեզներ և կրթահամալիրներ
I89: Սուբվենցիոն ծրագրերի շրջանակներում կառուցվող(ած), վերակառուցվող(ած) և հիմնանորոգվող(ած) մանկապարտեզների թիվը, որոնք ապահովվում են գույքով, հատ | K89: 1
I90: «Մոդուլային» տիպի 144 տեղ հզորությամբ կառուցվող(ած) մսուր–մանկապարտեզների թիվը, որոնք ապահովվում են գույքով, հատ | K90: 1
A92: ՀՀ ՍՅՈՒՆԻՔԻ ՄԱՐԶՊԵՏԻ ԱՇԽԱՏԱԿԱԶՄ | J92: =+J93 -> 1500 | K92: =+K93 -> 1500
B93: 1236 | C93: Հանրակրթական և նախադպրոցական հաստատությունների հիմնում, կառուցում, բարելավում | J93: =+J94 -> 1500 | K93: =+K94 -> 1500
D94: 1236 - 32006 | E94: Հանրակրթական դպրոցների, մանկապարտեզների և կրթահամալիրների գույքով և տեխնիկայով ապահովում | J94: =+'Հավելված N 2'!G124 -> 1500 | K94: =+'Հավելված N 2'!H124 -> 1500
F95: Կրթական ժամանակակից նորմերին և կրթական չափորոշիչներին համապատասխան ուսուցման ծրագրերն իրականացնելու նպատակով հանրակրթական և նախադպրոցական հաստատությունների համար գույքի և տեխնիկայի ձեռքբերում
G96: Այլ պետական կազմակերպությունների կողմից օգտագործվող ոչ ֆինանսական ակտիվների հետ գործառնություններ
H97: Ակտիվն օգտագործող կազմակերպությունների անվանումները` Հանրակրթական դպրոցներ, մանկապարտեզներ և կրթահամալիրներ
A99: ՀՀ ՏԱՎՈՒՇԻ ՄԱՐԶՊԵՏԻ ԱՇԽԱՏԱԿԱԶՄ | J99: =+J100 -> 23047.4 | K99: =+K100 -> 23047.4
B100: 1236 | C100: Հանրակրթական և նախադպրոցական հաստատությունների հիմնում, կառուցում, բարելավում | J100: =+J101 -> 23047.4 | K100: =+K101 -> 23047.4
D101: 1236 - 32006 | E101: Հանրակրթական դպրոցների, մանկապարտեզների և կրթահամալիրների գույքով և տեխնիկայով ապահովում | J101: =+'Հավելված N 2'!G131 -> 23047.4 | K101: =+'Հավելված N 2'!H131 -> 23047.4
F102: Կրթական ժամանակակից նորմերին և կրթական չափորոշիչներին համապատասխան ուսուցման ծրագրերն իրականացնելու նպատակով հանրակրթական և նախադպրոցական հաստատությունների համար գույքի և տեխնիկայի ձեռքբերում
G103: Այլ պետական կազմակերպությունների կողմից օգտագործվող ոչ ֆինանսական ակտիվների հետ գործառնություններ
H104: Ակտիվն օգտագործող կազմակերպությունների անվանումները` Հանրակրթական դպրոցներ, մանկապարտեզներ և կրթահամալիրներ
I105: Բարեգործական ծրագրերով կառուցվող(ած), վերակառուցվող(ած) և հիմնանորոգվող(ած) մանկապարտեզների թիվը, որոնք ապահովվում են գույքով, հատ | K105: 2

Sheet Հավելված N 9
H1: Հավելված N 9
H2: ՀՀ կառավարության 2024 թվականի
H3: ______________ ի ___Ն որոշման
A6: ՀԱՅԱՍՏԱՆԻ ՀԱՆՐԱՊԵՏՈՒԹՅԱՆ ԿԱՌԱՎԱՐՈՒԹՅԱՆ 2023 ԹՎԱԿԱՆԻ ԴԵԿՏԵՄԲԵՐԻ 28-Ի N 2323-Ն N 10 ՀԱՎԵԼՎԱԾՈՒՄ ԿԱՏԱՐՎՈՂ ԼՐԱՑՈՒՄՆԵՐԸ
A10: Կոդը | B10: Անվանումը | E10: Գնման ձևը | F10: Չափման միավորը | G10: Միավորի գինը | H10: Ցուցանիշների փոփոխությունը (ավելացումները նշված են դրական նշանով)
H11: Քանակը | I11: Գումարը (հազար դրամ)
A12: 1 | B12: 2 | E12: 3 | F12: 4 | G12: 5 | H12: 6 | I12: 7
A13: ՀՀ կրթության, գիտության, մշակույթի և սպորտի նախարարություն | I13: =+I14 -> 702637
A14: Բաժին N 09 | B14: Խումբ N 02 | C14: Դաս N 01 | D14: Հիմնական ընդհանուր կրթություն | I14: =+I15 -> 702637
A15: 1192-32007 | B15: ՀՀ պետական դպրոցների՝ ԳՏՃՄ լաբորատորիաներով ապահովում | I15: =+I16 -> 702637
B16: ՄԱՍ I. ԱՊՐԱՆՔՆԵՐ | I16: =SUM(I17:I19) -> 702637
A17: 30211300-502 | B17: համակարգչային սարքավորումներ և պարագաներ | E17: ԷԱՃ | F17: լրակազմ | G17: 277200000 | H17: 1 | I17: =+ROUNDUP(H17*G17/1000,1) -> 277200
A18: 30211300-503 | B18: համակարգչային սարքավորումներ և պարագաներ | E18: ԷԱՃ | F18: լրակազմ | G18: 169200000 | H18: 1 | I18: =+ROUNDUP(H18*G18/1000,1) -> 169200
A19: 48821600 | B19: ցանցային համակարգ | E19: ԷԱՃ | F19: լրակազմ | G19: 256237000 | H19: 1 | I19: =+ROUNDUP(H19*G19/1000,1) -> 256237
A21: ՀՀ կրթության, գիտության, մշակույթի և սպորտի նախարարության բարձրագույն կրթության և գիտության կոմիտե | I21: =+I22 -> -3408199.8
A22: Բաժին N 01 | B22: Խումբ N 04 | C22: Դաս N 01 | D22: Ընդհանուր բնույթի հետազոտական աշխատանք | I22: =+I23 -> -3408199.8
A23: 1162-32004 | B23: Գիտական կենտրոնները ժամանակակից սարքավորումներով վերազինում ու համատեղ օգտագործման գիտական սարքավորումների կենտրոնների ստեղծում | I23: =+I24 -> -3408199.8
B24: ՄԱՍ I. ԱՊՐԱՆՔՆԵՐ | I24: =SUM(I25:I60) -> -3408199.8
A25: 35121340-2 | B25: հատուկ մասնագիտական սարքեր ― նյութեր | E25: ԷԱՃ | F25: հատ | G25: 55000000 | H25: -1 | I25: =+ROUND(H25*G25/1000,1) -> -55000
A26: 35121340-3 | B26: հատուկ մասնագիտական սարքեր ― նյութեր | E26: ԷԱՃ | F26: հատ | G26: 38830000 | H26: -1 | I26: =+ROUND(H26*G26/1000,1) -> -38830
A27: 35121340-4 | B27: հատուկ մասնագիտական սարքեր ― նյութեր | E27: ԷԱՃ | F27: հատ | G27: 22000000 | H27: -1 | I27: =+ROUND(H27*G27/1000,1) -> -22000
A28: 35121340-5 | B28: հատուկ մասնագիտական սարքեր ― նյութեր | E28: ԷԱՃ | F28: հատ | G28: 42000000 | H28: -1 | I28: =+ROUND(H28*G28/1000,1) -> -42000
A29: 35121340-6 | B29: հատուկ մասնագիտական սարքեր ― նյութեր | E29: ԷԱՃ | F29: հատ | G29: 45000000 | H29: -1 | I29: =+ROUND(H29*G29/1000,1) -> -45000
A30: 35121340-7 | B30: հատուկ մասնագիտական սարքեր ― նյութեր | E30: ԷԱՃ | F30: հատ | G30: 18500000 | H30: -1 | I30: =+ROUND(H30*G30/1000,1) -> -18500
A31: 35121340-8 | B31: հատուկ մասնագիտական սարքեր ― նյութեր | E31: ԷԱՃ | F31: հատ | G31: 59700000 | H31: -1 | I31: =+ROUND(H31*G31/1000,1) -> -59700
A32: 35121340-14 | B32: հատուկ մասնագիտական սարքեր ― նյութեր | E32: ԷԱՃ | F32: հատ | G32: 19000000 | H32: -1 | I32: =+ROUND(H32*G32/1000,1) -> -19000
A33: 35121340-15 | B33: հատուկ մասնագիտական սարքեր ― նյութեր | E33: ԷԱՃ | F33: հատ | G33: 133500000 | H33: -1 | I33: =+ROUND(H33*G33/1000,1) -> -133500
A34: 35121340-18 | B34: հատուկ մասնագիտական սարքեր ― նյութեր | E34: ԷԱՃ | F34: հատ | G34: 89000000 | H34: -1 | I34: =+ROUND(H34*G34/1000,1) -> -89000
A35: 35121340-19 | B35: հատուկ մասնագիտական սարքեր ― նյութեր | E35: ԷԱՃ | F35: հատ | G35: 144570000 | H35: -1 | I35: =+ROUND(H35*G35/1000,1) -> -144570
A36: 35121340-23 | B36: հատուկ մասնագիտական սարքեր ― նյութեր | E36: ԷԱՃ | F36: հատ | G36: 7900000 | H36: -1 | I36: =+ROUND(H36*G36/1000,1) -> -7900
... A59: 71351200-1 | B59: գիտահետազոտական ծառայություններ | E59: ԲՄ | F59: հատ | G59: 1.45443e+09 | H59: -1 | I59: =+ROUND(H59*G59/1000,1) -> -1454430
A60: 71351200 | B60: գիտահետազոտական ծառայություններ | E60: ԲՄ | F60: հատ | G60: 1208993800 | H60: 1 | I60: =+ROUND(H60*G60/1000,1) -> 1208993.8
A62: ՀՀ Արագածոտնի մարզպետի աշխատակազմ | I62: =+I63 -> 25402
A63: Բաժին N 09 | B63: Խումբ N 02 | C63: Դաս N 01 | D63: Հիմնական ընդհանուր կրթություն | I63: =+I64 -> 25402
A64: 1236-32006 | B64: Հանրակրթական դպրոցների, մանկապարտեզների և կրթահամալիրների գույքով և տեխնիկայով ապահովում | I64: =+I65 -> 25402
B65: ՄԱՍ I. ԱՊՐԱՆՔՆԵՐ | I65: =SUM(I66:I165) -> 25402
A66: 39141260-501 | B66: զգեստապահարաններ | E66: ԷԱՃ | F66: հատ | G66: 59760 | H66: 5 | I66: =+ROUNDUP(H66*G66/1000,1) -> 298.8
A67: 39111320-502 | B67: նստարաններ | E67: ԷԱՃ | F67: հատ | G67: 24000 | H67: 2 | I67: =+ROUNDUP(H67*G67/1000,1) -> 48
A68: 39121200-502 | B68: սեղաններ | E68: ԷԱՃ | F68: հատ | G68: 28500 | H68: 8 | I68: =+ROUNDUP(H68*G68/1000,1) -> 228
A69: 39121200-503 | B69: սեղաններ | E69: ԷԱՃ | F69: հատ | G69: 21999.99 | H69: 8 | I69: =+ROUNDUP(H69*G69/1000,1) -> 176
A70: 39121200-504 | B70: սեղաններ | E70: ԷԱՃ | F70: հատ | G70: 27500 | H70: 16 | I70: =+ROUNDUP(H70*G70/1000,1) -> 440
A71: 39111140-501 | B71: աթոռներ | E71: ԷԱՃ | F71: հատ | G71: 5625 | H71: 32 | I71: =+ROUNDUP(H71*G71/1000,1) -> 180
A72: 39111140-502 | B72: աթոռներ | E72: ԷԱՃ | F72: հատ | G72: 8681.25 | H72: 32 | I72: =+ROUNDUP(H72*G72/1000,1) -> 277.8
A73: 39111140-503 | B73: աթոռներ | E73: ԷԱՃ | F73: հատ | G73: 16875 | H73: 64 | I73: =+ROUNDUP(H73*G73/1000,1) -> 1080
A74: 39121100-502 | B74: գրասեղաններ | E74: ԷԱՃ | F74: հատ | G74: 67500 | H74: 4 | I74: =+ROUNDUP(H74*G74/1000,1) -> 270
A75: 39111140-504 | B75: աթոռներ | E75: ԷԱՃ | F75: հատ | G75: 14750 | H75: 8 | I75: =+ROUNDUP(H75*G75/1000,1) -> 118
A76: 39121520-501 | B76: գրապահարաններ | E76: ԷԱՃ | F76: հատ | G76: 11625 | H76: 8 | I76: =+ROUNDUP(H76*G76/1000,1) -> 93
A77: 39141260-502 | B77: զգեստապահարաններ | E77: ԷԱՃ | F77: հատ | G77: 97800 | H77: 4 | I77: =+ROUNDUP(H77*G77/1000,1) -> 391.2
... A165: 39713210-501 | B165: լվացքի մեքենաներ համակցված չորանոցների հետ | E165: ԷԱՃ | F165: հատ | G165: 298266.48 | H165: 5 | I165: =+ROUNDUP(H165*G165/1000,1) -> 1491.4
A167: ՀՀ Արարատի մարզպետի աշխատակազմ | I167: =+I168 -> 10005.8
A168: Բաժին N 09 | B168: Խումբ N 02 | C168: Դաս N 01 | D168: Հիմնական ընդհանուր կրթություն | I168: =+I169 -> 10005.8
A169: 1236-32006 | B169: Հանրակրթական դպրոցների, մանկապարտեզների և կրթահամալիրների գույքով և տեխնիկայով ապահովում | I169: =+I170 -> 10005.8
B170: ՄԱՍ I. ԱՊՐԱՆՔՆԵՐ | I170: =SUM(I171:I246) -> 10005.8
A171: 39121520-504 | B171: գրապահարաններ | E171: ԷԱՃ | F171: հատ | G171: 55714.28 | H171: 7 | I171: =+ROUNDUP(H171*G171/1000,1) -> 390
A172: 39141120-514 | B172: դարակներով պահարաններ | E172: ԷԱՃ | F172: հատ | G172: 35760 | H172: 10 | I172: =+ROUNDUP(H172*G172/1000,1) -> 357.6
A173: 44411760-502 | B173: զուգարանի թղթի բռնակ | E173: ԷԱՃ | F173: հատ | G173: 1875 | H173: 8 | I173: =+ROUNDUP(H173*G173/1000,1) -> 15
A174: 39221312-507 | B174: կաթսա մետաղական | E174: ԷԱՃ | F174: հատ | G174: 18500 | H174: 1 | I174: =+ROUNDUP(H174*G174/1000,1) -> 18.5
A175: 39221100-514 | B175: խոհանոցային սարքեր | E175: ԷԱՃ | F175: հատ | G175: 1880 | H175: 2 | I175: =+ROUNDUP(H175*G175/1000,1) -> 3.8
A176: 39221100-515 | B176: խոհանոցային սարքեր | E176: ԷԱՃ | F176: հատ | G176: 1000 | H176: 1 | I176: =+ROUNDUP(H176*G176/1000,1) -> 1
A177: 39221370-502 | B177: շերեփ | E177: ԷԱՃ | F177: հատ | G177: 1325 | H177: 4 | I177: =+ROUNDUP(H177*G177/1000,1) -> 5.3
A178: 39221380-502 | B178: գդալներ | E178: ԷԱՃ | F178: հատ | G178: 750 | H178: 2 | I178: =+ROUNDUP(H178*G178/1000,1) -> 1.5
A179: 39221100-517 | B179: խոհանոցային սարքեր | E179: ԷԱՃ | F179: հատ | G179: 750 | H179: 2 | I179: =+ROUNDUP(H179*G179/1000,1) -> 1.5
A180: 39221100-518 | B180: խոհանոցային սարքեր | E180: ԷԱՃ | F180: հատ | G180: 750 | H180: 2 | I180: =+ROUNDUP(H180*G180/1000,1) -> 1.5
A181: 39221100-519 | B181: խոհանոցային սարքեր | E181: ԷԱՃ | F181: հատ | G181: 1000 | H181: 1 | I181: =+ROUNDUP(H181*G181/1000,1) -> 1
A182: 39221130-504 | B182: բաժակներ | E182: ԷԱՃ | F182: հատ | G182: 600 | H182: 1 | I182: =+ROUNDUP(H182*G182/1000,1) -> 0.6
... A246: 38651200-502 | B246: պրոյեկտորներ | E246: ԷԱՃ | F246: հատ | G246: 196800 | H246: 1 | I246: =+ROUNDUP(H246*G246/1000,1) -> 196.8
A248: ՀՀ Արմավիրի մարզպետի աշխատակազմ | I248: =+I249 -> 43483.1
A249: Բաժին N 09 | B249: Խումբ N 02 | C249: Դաս N 01 | D249: Հիմնական ընդհանուր կրթություն | I249: =+I250 -> 43483.1
A250: 1236-32006 | B250: Հանրակրթական դպրոցների, մանկապարտեզների և կրթահամալիրների գույքով և տեխնիկայով ապահովում | I250: =+I251 -> 43483.1
B251: ՄԱՍ I. ԱՊՐԱՆՔՆԵՐ | I251: =SUM(I252:I341) -> 43483.1
A252: 39121200-502 | B252: սեղաններ | E252: ԷԱՃ | F252: հատ | G252: 39228.19 | H252: 93 | I252: =+ROUNDUP(H252*G252/1000,1) -> 3648.3
A253: 39714200-503 | B253: օդորակիչ | E253: ԷԱՃ | F253: հատ | G253: 299200 | H253: 27 | I253: =+ROUNDUP(H253*G253/1000,1) -> 8078.4
A254: 37311100-501 | B254: դաշնամուր | E254: ԳՀ | F254: հատ | G254: 309000 | H254: 22 | I254: =+ROUNDUP(H254*G254/1000,1) -> 6798
A255: 37421170-502 | B255: մարմնամարզական օղակներ | E255: ԷԱՃ | F255: հատ | G255: 923.07 | H255: 30 | I255: =+ROUNDUP(H255*G255/1000,1) -> 27.7
A256: 42911150-504 | B256: օդափոխման սարքավորումներ | E256: ԳՀ | F256: հատ | G256: 108000 | H256: 19 | I256: =+ROUNDUP(H256*G256/1000,1) -> 2052
A257: 39132210-501 | B257: տեսակավորման դարակաշարեր | E257: ԷԱՃ | F257: հատ | G257: 70717.5 | H257: 20 | I257: =+ROUNDUP(H257*G257/1000,1) -> 1414.4
A258: 30239150-503 | B258: տպիչ սարք, բազմաֆունկցիոնալ, A4, 35 էջ/րոպե արագության | E258: ԷԱՃ | F258: հատ | G258: 189900 | H258: 26 | I258: =+ROUNDUP(H258*G258/1000,1) -> 4937.4
A259: 33141211-501 | B259: բժշկական այլ գործիքներ―պարագաներ | E259: ԷԱՃ | F259: հատ | G259: 45000 | H259: 1 | I259: =+ROUNDUP(H259*G259/1000,1) -> 45
A260: 33191120-501 | B260: բժշկական կահույք | E260: ԷԱՃ | F260: հատ | G260: 99600 | H260: 1 | I260: =+ROUNDUP(H260*G260/1000,1) -> 99.6
A261: 39121520-507 | B261: գրապահարաններ | E261: ԷԱՃ | F261: հատ | G261: 118114.28 | H261: 7 | I261: =+ROUNDUP(H261*G261/1000,1) -> 826.8
A262: 39141120-529 | B262: դարակներով պահարաններ | E262: ԷԱՃ | F262: հատ | G262: 60000 | H262: 10 | I262: =+ROUNDUP(H262*G262/1000,1) -> 600
A263: 39141120-530 | B263: դարակներով պահարաններ | E263: ԷԱՃ | F263: հատ | G263: 50000 | H263: 3 | I263: =+ROUNDUP(H263*G263/1000,1) -> 150
... A341: 39713100-501 | B341: սպասք լվացող սարքեր | E341: ԷԱՃ | F341: հատ | G341: 770880 | H341: 1 | I341: =+ROUNDUP(H341*G341/1000,1) -> 770.9
A343: ՀՀ Գեղարքունիքի մարզպետի աշխատակազմ | I343: =+I344 -> 1169.9
A344: Բաժին N 09 | B344: Խումբ N 02 | C344: Դաս N 01 | D344: Հիմնական ընդհանուր կրթություն | I344: =+I345 -> 1169.9
A345: 1236-32006 | B345: Հանրակրթական դպրոցների, մանկապարտեզների և կրթահամալիրների գույքով և տեխնիկայով ապահովում | I345: =+I346 -> 1169.9
B346: ՄԱՍ I. ԱՊՐԱՆՔՆԵՐ | I346: =SUM(I347:I349) -> 1169.9
A347: 39121200-504 | B347: սեղաններ | E347: ԷԱՃ | F347: հատ | G347: 88500 | H347: 8 | I347: =+ROUNDUP(H347*G347/1000,1) -> 708
A348: 37311100-501 | B348: դաշնամուրներ | E348: ԳՀ | F348: հատ | G348: 262900 | H348: 1 | I348: =+ROUNDUP(H348*G348/1000,1) -> 262.9
A349: 32331300-503 | B349: ձայներիզների նվագարկիչներ | E349: ԷԱՃ | F349: հատ | G349: 199000 | H349: 1 | I349: =+ROUNDUP(H349*G349/1000,1) -> 199
A351: ՀՀ Կոտայքի մարզպետի աշխատակազմ | I351: =+I352 -> 15954.6
A352: Բաժին N 09 | B352: Խումբ N 02 | C352: Դաս N 01 | D352: Հիմնական ընդհանուր կրթություն | I352: =+I353 -> 15954.6
A353: 1236-32006 | B353: Հանրակրթական դպրոցների, մանկապարտեզների և կրթահամալիրների գույքով և տեխնիկայով ապահովում | I353: =+I354 -> 15954.6
B354: ՄԱՍ I. ԱՊՐԱՆՔՆԵՐ | I354: =SUM(I355:I420) -> 15954.6
A355: 373111001-503 | B355: դաշնամուրներ | E355: ԳՀ | F355: հատ | G355: 239880 | H355: 10 | I355: =+ROUNDUP(H355*G355/1000,1) -> 2398.8
A356: 39711350-502 | B356: մսաղաց | E356: ԷԱՃ | F356: հատ | G356: 528000 | H356: 9 | I356: =+ROUNDUP(H356*G356/1000,1) -> 4752
A357: 42911150-501 | B357: օդափոխման սարքավորումներ | E357: ԳՀ | F357: հատ | G357: 398900 | H357: 5 | I357: =+ROUNDUP(H357*G357/1000,1) -> 1994.5
A358: 33191180-505 | B358: բժշկական թախտեր | E358: ԷԱՃ | F358: հատ | G358: 60000 | H358: 1 | I358: =+ROUNDUP(H358*G358/1000,1) -> 60
A359: 39132100-503 | B359: փաստաթղթերի պահման պահարաններ | E359: ԷԱՃ | F359: հատ | G359: 138000 | H359: 1 | I359: =+ROUNDUP(H359*G359/1000,1) -> 138
A360: 39111220-503 | B360: բազկաթոռ` ղեկավարի | E360: ԷԱՃ | F360: հատ | G360: 90000 | H360: 1 | I360: =+ROUNDUP(H360*G360/1000,1) -> 90
...
