Workbook

Sheet 1
H2: Հավելված N 1
H3: ՀՀ կառավարության 2025 թվականի
H4: ___________ ___-ի N _______ որոշման
A5: «ՀԱՅԱՍՏԱՆԻ ՀԱՆՐԱՊԵՏՈՒԹՅԱՆ 2025 ԹՎԱԿԱՆԻ ՊԵՏԱԿԱՆ ԲՅՈՒՋԵԻ ՄԱՍԻՆ» ՀԱՅԱՍՏԱՆԻ ՀԱՆՐԱՊԵՏՈՒԹՅԱՆ ՕՐԵՆՔԻ N 1 ՀԱՎԵԼՎԱԾԻ N 2 ԱՂՅՈՒՍԱԿՈՒՄ ԿԱՏԱՐՎՈՂ ՎԵՐԱԲԱՇԽՈՒՄԸ, ԼՐԱՑՈՒՄԸ ԵՎ ՀԱՅԱՍՏԱՆԻ ՀԱՆՐԱՊԵՏՈՒԹՅԱՆ ԿԱՌԱՎԱՐՈՒԹՅԱՆ 2024 ԹՎԱԿԱՆԻ ԴԵԿՏԵՄԲԵՐԻ 27-Ի N 2060-Ն ՈՐՈՇՄԱՆ N 5 ՀԱՎԵԼՎԱԾԻ N 1 ԱՂՅՈՒՍԱԿՈՒՄ ԿԱՏԱՐՎՈՂ ՓՈՓՈԽՈՒԹՅՈՒՆՆԵՐԸ ԵՎ ԼՐԱՑՈՒՄՆԵՐԸ
G7: հազար դրամներով
A8: ԲԳԿ | B8: Ծրագրային դասիչը | D8: ԲԳԿ/Ծրագրի /միջոցառման անվանումը | E8: Ծրագրի նպատակը/Միջոցառման նկարագրությունը | F8: Վերջնական արդյունքի նկարագրությունը/Միջոցառման տեսակը | G8: Ցուցանիշների փոփոխությունը (ավելացումները նշված են դրական նշանով, իսկ նվազեցումները՝ փակագծերում)
B9: Ծրագիր | C9: Միջոցառում | G9: Ինն ամիս | H9: Տարի
A10: ԸՆԴԱՄԵՆԸ | G10: 0 | H10: 0
A11: ՀՀ վարչապետի աշխատակազմ | G11: =+G12 -> 1,084,825.25 ԱՄՆ դոլարին համարժեք դրամ | H11: =+H12 -> 1,084,825.25 ԱՄՆ դոլարին համարժեք դրամ
B12: 1223 | D12: Միջազգային դատարաններում, միջազգային արբիտրաժներում և այլ միջազգային ատյաններում ՀՀ շահերի ներկայացում և պաշտպանություն, դրանց կողմից ընդունված վճիռների և որոշումների կատարման ապահովում | E12: Միջազգային դատարաններում, միջազգային արբիտրաժներում և այլ միջազգային ատյաններում ՀՀ վերաբերյալ գործընթացներում մասնակցություն, դրանց կողմից ընդունված վճիռների և որոշումների կատարման ապահովում | F12: ՀՀ շահերի ներկայացում և պաշտպանություն , ՀՀ վերաբերյալ վճռի կամ որոշման կատարման գործընթացի ապահովում | G12: =G13 -> 1,084,825.25 ԱՄՆ դոլարին համարժեք դրամ | H12: =H13 -> 1,084,825.25 ԱՄՆ դոլարին համարժեք դրամ
C13: 1223 - 12003 | D13: Արբիտրաժային և այլ վեճերի շրջանակներում միջազգային արբիտրաժների և այլ միջազգային ատյանների կողմից ընդունված վճիռների և որոշումների կատարման ապահովում | E13: Միջազգային արբիտրաժների և այլ միջազգային ատյանների կողմից ընդունված վճիռների և որոշումների հիման վրա ՀՀ շահերի պաշտպանության համար ներգրավված իրավախորհրդատուների վճարների և ծախսերի փոխհատուցում | F13: Տրանսֆերտների տրամադրում | G13: 1,084,825.25 ԱՄՆ դոլարին համարժեք դրամ | H13: 1,084,825.25 ԱՄՆ դոլարին համարժեք դրամ
A14: ՀՀ կառավարություն | G14: =+G15 -> (1,084,825.25 ԱՄՆ դոլարին համարժեք դրամ) | H14: =+H15 -> (1,084,825.25 ԱՄՆ դոլարին համարժեք դրամ)
B15: 1139 | D15: ՀՀ կառավարության պահուստային ֆոնդ | E15: Պետական բյուջեում չկանխատեսված, ինչպես նաեւ բյուջետային երաշխիքների ապահովման ծախսերի ֆինանսավորման ապահովում | F15: Պահուստային ֆոնդի կառավարման արդյունավետության և թափանցիկության ապահովում | G15: (1,084,825.25 ԱՄՆ դոլարին համարժեք դրամ) | H15: (1,084,825.25 ԱՄՆ դոլարին համարժեք դրամ)
C16: 1139 - 11001 | D16: ՀՀ կառավարության պահուստային ֆոնդ | E16: ՀՀ պետական բյուջեում նախատեսված ելքերի լրացուցիչ ֆինանսավորման, պետական բյուջեում չկանխատեսված ելքերի, ինչպես նաև բյուջետային երաշխիքների ապահովման ելքերի ֆինանսավորման ապահովում | F16: Ծառայությունների մատուցում | G16: (1,084,825.25 ԱՄՆ դոլարին համարժեք դրամ) | H16: (1,084,825.25 ԱՄՆ դոլարին համարժեք դրամ)

Sheet 2
H1: Հավելված N 2
H2: ՀՀ կառավարության 2025 թվականի
H3: ___________ ___-ի N _______ որոշման
A6: ՀԱՅԱՍՏԱՆԻ ՀԱՆՐԱՊԵՏՈՒԹՅԱՆ ԿԱՌԱՎԱՐՈՒԹՅԱՆ 2024 ԹՎԱԿԱՆԻ ԴԵԿՏԵՄԲԵՐԻ 27-Ի N 2060-Ն ՈՐՈՇՄԱՆ NN 3 ԵՎ 4 ՀԱՎԵԼՎԱԾՆԵՐՈՒՄ ԿԱՏԱՐՎՈՂ ՓՈՓՈԽՈՒԹՅՈՒՆՆԵՐԸ ԵՎ ԼՐԱՑՈՒՄՆԵՐԸ
G8: հազար դրամներով
A9: Գործառական դասիչը | D9: Ծրագրային դասիչը | F9: Բյուջետային ծախսերի գործառական դասակարգման բաժինների, խմբերի և դասերի, բյուջետային ծրագրերի, միջոցառումների բյուջետային հատկացումների գլխավոր կարգադրիչների անվանումները | G9: Ցուցանիշների փոփոխությունը (ավելացումները նշված են դրական նշանով,իսկ նվազեցումները՝ փակագծերում)
A10: Բաժին | B10: Խումբ | C10: Դաս | D10: Ծրագիր | E10: Միջոցառում | G10: Ինն ամիս | H10: Տարի
F11: ԸՆԴԱՄԵՆԸ ԾԱԽՍԵՐ | G11: ='1'!G10 -> 0 | H11: ='1'!H10 -> 0
F12: այդ թվում`
F13: ՀՀ վարչապետի աշխատակազմ | G13: =G15 -> 1,084,825.25 ԱՄՆ դոլարին համարժեք դրամ | H13: =H15 -> 1,084,825.25 ԱՄՆ դոլարին համարժեք դրամ
F14: այդ թվում`
A15: 03 | F15: ՀԱՍԱՐԱԿԱԿԱՆ ԿԱՐԳ, ԱՆՎՏԱՆԳՈՒԹՅՈՒՆ ԵՎ ԴԱՏԱԿԱՆ ԳՈՐԾՈՒՆԵՈՒԹՅՈՒՆ | G15: =G17 -> 1,084,825.25 ԱՄՆ դոլարին համարժեք դրամ | H15: =H17 -> 1,084,825.25 ԱՄՆ դոլարին համարժեք դրամ
F16: այդ թվում`
B17: 03 | F17: Դատական գործունեություն և իրավական պաշտպանություն | G17: =G19 -> 1,084,825.25 ԱՄՆ դոլարին համարժեք դրամ | H17: =H19 -> 1,084,825.25 ԱՄՆ դոլարին համարժեք դրամ
F18: այդ թվում`
C19: 02 | F19: Իրավական պաշտպանություն | G19: =G21 -> 1,084,825.25 ԱՄՆ դոլարին համարժեք դրամ | H19: =H21 -> 1,084,825.25 ԱՄՆ դոլարին համարժեք դրամ
F20: այդ թվում`
D21: ='1'!B12 -> 1223 | F21: ='1'!D12 -> Միջազգային դատարաններում, միջազգային արբիտրաժներում և այլ միջազգային ատյաններում ՀՀ շահերի ներկայացում և պաշտպանություն, դրանց կողմից ընդունված վճիռների և որոշումների կատարման ապահովում | G21: =G23 -> 1,084,825.25 ԱՄՆ դոլարին համարժեք դրամ | H21: =H23 -> 1,084,825.25 ԱՄՆ դոլարին համարժեք դրամ
F22: այդ թվում`
E23: 12003 | F23: ='1'!D13 -> Արբիտրաժային և այլ վեճերի շրջանակներում միջազգային արբիտրաժների և այլ միջազգային ատյանների կողմից ընդունված վճիռների և որոշումների կատարման ապահովում | G23: =G25 -> 1,084,825.25 ԱՄՆ դոլարին համարժեք դրամ | H23: =H25 -> 1,084,825.25 ԱՄՆ դոլարին համարժեք դրամ
F24: այդ թվում` ըստ կատարողների
F25: ՀՀ վարչապետի աշխատակազմ | G25: =G27 -> 1,084,825.25 ԱՄՆ դոլարին համարժեք դրամ | H25: =H27 -> 1,084,825.25 ԱՄՆ դոլարին համարժեք դրամ
F26: այդ թվում` բյուջետային ծախսերի տնտեսագիտական դասակարգման հոդվածներ
F27: ԸՆԴԱՄԵՆԸ ԾԱԽՍԵՐ | G27: =G28 -> 1,084,825.25 ԱՄՆ դոլարին համարժեք դրամ | H27: =H28 -> 1,084,825.25 ԱՄՆ դոլարին համարժեք դրամ
F28: ԸՆԹԱՑԻԿ ԾԱԽՍԵՐ | G28: =G29 -> 1,084,825.25 ԱՄՆ դոլարին համարժեք դրամ | H28: =H29 -> 1,084,825.25 ԱՄՆ դոլարին համարժեք դրամ
F29: ԱՅԼ ԾԱԽՍԵՐ | G29: =G30 -> 1,084,825.25 ԱՄՆ դոլարին համարժեք դրամ | H29: =H30 -> 1,084,825.25 ԱՄՆ դոլարին համարժեք դրամ
F30: Կառավարման մարմինների գործունեության հետևանքով առաջացած վնասների կամ վնասվածքների վերականգնում | G30: =G31 -> 1,084,825.25 ԱՄՆ դոլարին համարժեք դրամ | H30: =H31 -> 1,084,825.25 ԱՄՆ դոլարին համարժեք դրամ
F31: - Կառավարման մարմինների գործունեության հետևանքով առաջացած վնասվածքների կամ վնասների վերականգնում | G31: ='1'!G13 -> 1,084,825.25 ԱՄՆ դոլարին համարժեք դրամ | H31: ='1'!H13 -> 1,084,825.25 ԱՄՆ դոլարին համարժեք դրամ
F32: ՀՀ կառավարություն | G32: =G34 -> (1,084,825.25 ԱՄՆ դոլարին համարժեք դրամ) | H32: =H34 -> (1,084,825.25 ԱՄՆ դոլարին համարժեք դրամ)
F33: այդ թվում`
A34: 11 | F34: ՀԻՄՆԱԿԱՆ ԲԱԺԻՆՆԵՐԻՆ ՉԴԱՍՎՈՂ ՊԱՀՈՒՍՏԱՅԻՆ ՖՈՆԴԵՐ | G34: =G36 -> (1,084,825.25 ԱՄՆ դոլարին համարժեք դրամ) | H34: =H36 -> (1,084,825.25 ԱՄՆ դոլարին համարժեք դրամ)
F35: այդ թվում`
B36: 01 | F36: ՀՀ կառավարության և համայնքների պահուստային ֆոնդ | G36: =G38 -> (1,084,825.25 ԱՄՆ դոլարին համարժեք դրամ) | H36: =H38 -> (1,084,825.25 ԱՄՆ դոլարին համարժեք դրամ)
F37: այդ թվում`
C38: 01 | F38: ՀՀ կառավարության պահուստային ֆոնդ | G38: =G40 -> (1,084,825.25 ԱՄՆ դոլարին համարժեք դրամ) | H38: =H40 -> (1,084,825.25 ԱՄՆ դոլարին համարժեք դրամ)
F39: այդ թվում`
F40: ՀՀ կառավարություն | G40: =G42 -> (1,084,825.25 ԱՄՆ դոլարին համարժեք դրամ) | H40: =H42 -> (1,084,825.25 ԱՄՆ դոլարին համարժեք դրամ)
F41: այդ թվում`
D42: 1139 | F42: ՀՀ կառավարության պահուստային ֆոնդ | G42: ='1'!G15 -> (1,084,825.25 ԱՄՆ դոլարին համարժեք դրամ) | H42: ='1'!H15 -> (1,084,825.25 ԱՄՆ դոլարին համարժեք դրամ)
F43: այդ թվում`
...

Sheet 3
K1: Հավելված N 3
K2: ՀՀ կառավարության 2025թվականի
K3: ___________ ___-ի N _______ որոշման
A5: ՀԱՅԱՍՏԱՆԻ ՀԱՆՐԱՊԵՏՈՒԹՅԱՆ ԿԱՌԱՎԱՐՈՒԹՅԱՆ 2024 ԹՎԱԿԱՆԻ ԴԵԿՏԵՄԲԵՐԻ 27-Ի N 2060-Ն ՈՐՈՇՄԱՆ N 9 ՀԱՎԵԼՎԱԾՈՒՄ ԿԱՏԱՐՎՈՂ ՓՈՓՈԽՈՒԹՅՈՒՆՆԵՐԸ ԵՎ ԼՐԱՑՈՒՄՆԵՐԸ
K8: հազար դրամներով
A9: ԲԳԿ | B9: Ծրագիր | D9: Միջոցառում | H9: Իրականացնողը/ ակտիվն օգտագործողը/ շահառուի ընտրության չափորոշիչը | I9: Արդյունքային չափորոշիչը | J9: Ցուցանիշների փոփոխությունը(ավելացումները նշված են դրական նշանով,իսկ նվազեցումները՝ փակագծերում)
B10: Դասիչը | C10: Անվա-նումը | D10: Դասիչը | E10: Անվա-նումը | F10: Նկարագրու-թյունը | G10: Տեսակը | J10: Ինն ամիս | K10: Տարի
A11: ԸՆԴԱՄԵՆԸ | J11: ='1'!G10 -> 0 | K11: ='1'!H10 -> 0
A12: ='1'!A11:F11 -> ՀՀ վարչապետի աշխատակազմ | J12: ='1'!G11 -> 1,084,825.25 ԱՄՆ դոլարին համարժեք դրամ | K12: ='1'!H11 -> 1,084,825.25 ԱՄՆ դոլարին համարժեք դրամ
B13: ='1'!B12 -> 1223 | C13: ='1'!D12 -> Միջազգային դատարաններում, միջազգային արբիտրաժներում և այլ միջազգային ատյաններում ՀՀ շահերի ներկայացում և պաշտպանություն, դրանց կողմից ընդունված վճիռների և որոշումների կատարման ապահովում | J13: =J14 -> 1,084,825.25 ԱՄՆ դոլարին համարժեք դրամ | K13: =K14 -> 1,084,825.25 ԱՄՆ դոլարին համարժեք դրամ
D14: ='1'!C13 -> 1223 - 12003 | E14: ='1'!D13 -> Արբիտրաժային և այլ վեճերի շրջանակներում միջազգային արբիտրաժների և այլ միջազգային ատյանների կողմից ընդունված վճիռների և որոշումների կատարման ապահովում | J14: ='1'!G13 -> 1,084,825.25 ԱՄՆ դոլարին համարժեք դրամ | K14: ='1'!H13 -> 1,084,825.25 ԱՄՆ դոլարին համարժեք դրամ
F15: ='1'!E13 -> Միջազգային արբիտրաժների և այլ միջազգային ատյանների կողմից ընդունված վճիռների և որոշումների հիման վրա ՀՀ շահերի պաշտպանության համար ներգրավված իրավախորհրդատուների վճարների և ծախսերի փոխհատուցում
G16: ='1'!F13 -> Տրանսֆերտների տրամադրում
H17: Շահառուների ընտրության չափորոշիչները` Միջազգային արբիտրաժների և այլ միջազգային ատյանների կողմից ընդունված վճիռների և որոշումների հիման վրա ՀՀ շահերի պաշտպանության համար ներգրավված իրավախորհրդատուներ
I18: Միջազգային արբիտրաժների և այլ միջազգային ատյանների կողմից ընդունված վճիռների, որոշումների քանակ | K18: 1
I19: Ներգրավված իրավախորհրդատու ընկերությունների քանակ | K19: 1
A20: ='1'!A14:F14 -> ՀՀ կառավարություն | J20: =J21 -> (1,084,825.25 ԱՄՆ դոլարին համարժեք դրամ) | K20: =K21 -> (1,084,825.25 ԱՄՆ դոլարին համարժեք դրամ)
B21: ='1'!B15 -> 1139 | C21: ='1'!D15 -> ՀՀ կառավարության պահուստային ֆոնդ | J21: ='1'!G15 -> (1,084,825.25 ԱՄՆ դոլարին համարժեք դրամ) | K21: ='1'!H15 -> (1,084,825.25 ԱՄՆ դոլարին համարժեք դրամ)
D22: ='1'!C16 -> 1139 - 11001 | E22: ='1'!D16 -> ՀՀ կառավարության պահուստային ֆոնդ | J22: ='1'!G16 -> (1,084,825.25 ԱՄՆ դոլարին համարժեք դրամ) | K22: ='1'!H16 -> (1,084,825.25 ԱՄՆ դոլարին համարժեք դրամ)
F23: ='1'!E16 -> ՀՀ պետական բյուջեում նախատեսված ելքերի լրացուցիչ ֆինանսավորման, պետական բյուջեում չկանխատեսված ելքերի, ինչպես նաև բյուջետային երաշխիքների ապահովման ելքերի ֆինանսավորման ապահովում
G24: ='1'!F16 -> Ծառայությունների մատուցում
H25: Ծառայությունը մատուցողի անվանումը` ՀՀ կառավարություն

Sheet 4
K1: Հավելված N 4
K2: ՀՀ կառավարության 2025 թվականի
K3: ___________ ___-ի N _______ որոշման
A6: ՀԱՅԱՍՏԱՆԻ ՀԱՆՐԱՊԵՏՈՒԹՅԱՆ ԿԱՌԱՎԱՐՈՒԹՅԱՆ 2024 ԹՎԱԿԱՆԻ ԴԵԿՏԵՄԲԵՐԻ 27-Ի N 2060-Ն ՈՐՈՇՄԱՆ N 9.1 ՀԱՎԵԼՎԱԾՈՒՄ ԿԱՏԱՐՎՈՂ ՓՈՓՈԽՈՒԹՅՈՒՆՆԵՐԸ ԵՎ ԼՐԱՑՈՒՄՆԵՐԸ
K10: հազար դրամներով
A11: ԲՍԿ | B11: Ծրագիր | D11: Միջոցառում | H11: Իրականացնողը/ ակտիվն օգտագործողը/ շահառուի ընտրության չափորոշիչը | I11: Արդյունքային չափորոշիչը | J11: Ցուցանիշների փոփոխությունը(ավելացումները նշված են դրական նշանով,իսկ նվազեցումները՝ փակագծերում)
B12: Դասիչը | C12: Անվանումը | D12: Դասիչը | E12: Անվանումը | F12: Նկարագրությունը | G12: Տեսակը | J12: Ինն ամիս | K12: Տարի
A13: ԸՆԴԱՄԵՆԸ | J13: ='3'!J11 -> 0 | K13: ='3'!K11 -> 0
A14: ='3'!A12:I12 -> ՀՀ վարչապետի աշխատակազմ | J14: =J15 -> 1,084,825.25 ԱՄՆ դոլարին համարժեք դրամ | K14: =K15 -> 1,084,825.25 ԱՄՆ դոլարին համարժեք դրամ
B15: ='3'!B13 -> 1223 | C15: ='3'!C13:I13 -> Միջազգային դատարաններում, միջազգային արբիտրաժներում և այլ միջազգային ատյաններում ՀՀ շահերի ներկայացում և պաշտպանություն, դրանց կողմից ընդունված վճիռների և որոշումների կատարման ապահովում | J15: =J16 -> 1,084,825.25 ԱՄՆ դոլարին համարժեք դրամ | K15: =K16 -> 1,084,825.25 ԱՄՆ դոլարին համարժեք դրամ
D16: ='3'!D14 -> 1223 - 12003 | E16: ='3'!E14:I14 -> Արբիտրաժային և այլ վեճերի շրջանակներում միջազգային արբիտրաժների և այլ միջազգային ատյանների կողմից ընդունված վճիռների և որոշումների կատարման ապահովում | J16: ='3'!J14 -> 1,084,825.25 ԱՄՆ դոլարին համարժեք դրամ | K16: ='3'!K14 -> 1,084,825.25 ԱՄՆ դոլարին համարժեք դրամ
F17: ='3'!F15:K15 -> Միջազգային արբիտրաժների և այլ միջազգային ատյանների կողմից ընդունված վճիռների և որոշումների հիման վրա ՀՀ շահերի պաշտպանության համար ներգրավված իրավախորհրդատուների վճարների և ծախսերի փոխհատուցում
G18: ='3'!G16:K16 -> Տրանսֆերտների տրամադրում
H19: ='3'!H17:K17 -> Շահառուների ընտրության չափորոշիչները` Միջազգային արբիտրաժների և այլ միջազգային ատյանների կողմից ընդունված վճիռների և որոշումների հիման վրա ՀՀ շահերի պաշտպանության համար ներգրավված իրավախորհրդատուներ
I20: Միջազգային արբիտրաժների և այլ միջազգային ատյանների կողմից ընդունված վճիռների, որոշումների քանակ | K20: 1
I21: Ներգրավված իրավախորհրդատու ընկերությունների քանակ | K21: 1
A22: ='3'!A20:I20 -> ՀՀ կառավարություն | J22: =J23 -> (1,084,825.25 ԱՄՆ դոլարին համարժեք դրամ) | K22: =K23 -> (1,084,825.25 ԱՄՆ դոլարին համարժեք դրամ)
B23: ='3'!B21 -> 1139 | C23: ='3'!C21:I21 -> ՀՀ կառավարության պահուստային ֆոնդ | J23: ='3'!J21 -> (1,084,825.25 ԱՄՆ դոլարին համարժեք դրամ) | K23: ='3'!K21 -> (1,084,825.25 ԱՄՆ դոլարին համարժեք դրամ)
D24: ='3'!D22 -> 1139 - 11001 | E24: ='3'!E22:I22 -> ՀՀ կառավարության պահուստային ֆոնդ | J24: ='3'!J22 -> (1,084,825.25 ԱՄՆ դոլարին համարժեք դրամ) | K24: ='3'!K22 -> (1,084,825.25 ԱՄՆ դոլարին համարժեք դրամ)
F25: ='3'!F23:K23 -> ՀՀ պետական բյուջեում նախատեսված ելքերի լրացուցիչ ֆինանսավորման, պետական բյուջեում չկանխատեսված ելքերի, ինչպես նաև բյուջետային երաշխիքների ապահովման ելքերի ֆինանսավորման ապահովում
G26: ='3'!G24:K24 -> Ծառայությունների մատուցում
H27: ='3'!H25:K25 -> Ծառայությունը մատուցողի անվանումը` ՀՀ կառավարություն
