Workbook

Sheet Հավելված 1
I1: Հավելված N 1
H2: ՀՀ կառավարության 2025 թվականի
H3: ___________ ___-ի N _______ որոշման
A4: «ՀԱՅԱՍՏԱՆԻ ՀԱՆՐԱՊԵՏՈՒԹՅԱՆ 2025 ԹՎԱԿԱՆԻ ՊԵՏԱԿԱՆ ԲՅՈՒՋԵԻ ՄԱՍԻՆ» ՀԱՅԱՍՏԱՆԻ ՀԱՆՐԱՊԵՏՈՒԹՅԱՆ ՕՐԵՆՔԻ N 1 ՀԱՎԵԼՎԱԾԻ N 2 ԱՂՅՈՒՍԱԿՈՒՄ ԿԱՏԱՐՎՈՂ ՎԵՐԱԲԱՇԽՈՒՄԸ, ՓՈՓՈԽՈՒԹՅՈՒՆՆԵՐԸ ԵՎ ՀԱՅԱՍՏԱՆԻ ՀԱՆՐԱՊԵՏՈՒԹՅԱՆ ԿԱՌԱՎԱՐՈՒԹՅԱՆ 2024 ԹՎԱԿԱՆԻ ԴԵԿՏԵՄԲԵՐԻ 27-Ի N 2060-Ն ՈՐՈՇՄԱՆ N 5 ՀԱՎԵԼՎԱԾԻ N 1 ԱՂՅՈՒՍԱԿՈՒՄ ԿԱՏԱՐՎՈՂ ՓՈՓՈԽՈՒԹՅՈՒՆՆԵՐԸ
I5: հազար դրամներով
A6: ԲԳԿ | B6: Ծրագրային դասիչը | D6: ԲԳԿ/Ծրագրի /միջոցառման անվանումը | E6: Ծրագրի նպատակը/Միջոցառման նկարագրությունը | F6: Վերջնական արդյունքի նկարագրությունը/Միջոցառման տեսակը | G6: Ցուցանիշների փոփոխությունը (ավելացումները նշված են դրական նշանով, իսկ նվազեցումները՝ փակագծերում)
B7: Ծրագիր | C7: Միջոցառում | G7: Առաջին կիսամյակ | H7: Ինն ամիս | I7: Տարի
A8: ԸՆԴԱՄԵՆԸ | G8: =G9+G13 -> 0 | H8: =H9+H13 -> 0 | I8: =I9+I13 -> 0
A9: ՀՀ պետական եկամուտների կոմիտե | G9: =G10 -> -3460.4 | H9: =H10 -> -3460.4 | I9: =I10 -> -3460.4
B10: 1023 | D10: Հարկային և մաքսային ծառայություններ | E10: Հարկային և մաքսային միասնական պետական քաղաքականության իրականացում, հարկային և մաքսային օրենսդրության ամբողջական և համահավասար կիրառում | F10: Արդյունավետ հարկային և մաքսային հսկողության իրականացում, պետական բյուջեի եկամուտների ապահովում | G10: =SUM(G11:G12) -> -3460.4 | H10: =SUM(H11:H12) -> -3460.4 | I10: =SUM(I11:I12) -> -3460.4
C11: 1023 - 11001 | D11: Հարկային և մաքսային ծառայություններ | E11: Հարկային և մաքսային քաղաքականության մշակման, պլանավորման, մոնիտորինգի, ծրագրերի համակարգման, գանձման, վերահսկողության և աջակցության ծառայություններ | F11: Ծառայությունների մատուցում | G11: ='Հավելված 3'!G20 -> -6341.5 | H11: ='Հավելված 3'!H20 -> -6341.5 | I11: ='Հավելված 3'!I20 -> -6341.5
C12: 1023 - 31001 | D12: ՀՀ պետական եկամուտների կոմիտեի տեխնիկական հագեցվածության բարելավում | E12: ՀՀ պետական եկամուտների կոմիտեի տեխնիկական հագեցվածության բարելավում | F12: Պետական մարմինների կողմից օգտագործվող ոչ ֆինանսական ակտիվների հետ գործառնություններ | G12: ='Հավելված 3'!G31 -> 2881.1 | H12: ='Հավելված 3'!H31 -> 2881.1 | I12: ='Հավելված 3'!I31 -> 2881.1
A13: ՀՀ արտաքին գործերի նախարարություն | G13: =G14 -> 3460.4 | H13: =H14 -> 3460.4 | I13: =I14 -> 3460.4
B14: 1118 | D14: Համագործակցություն միջազգային կազմակերպությունների հետ | E14: Միջազգային կազմակերպություններում ներգրավման միջոցով ՀՀ առաջնահերթությունների սպասարկում | F14: Միջազգային կազմակերպություններում արտաքին քաղաքական, անվտանգային, սոցիալ-տնտեսական, մշակութային և այլ ոլորտներին առնչվող ՀՀ հետաքրքրությունների առաջմղում | G14: =G15 -> 3460.4 | H14: =H15 -> 3460.4 | I14: =I15 -> 3460.4
C15: 1118 - 12001 | D15: Միջազգային կազմակերպություններին ՀՀ անդամակցության վճարներ | E15: Միջազգային կազմակերպությունների աշխատանքներին ՀՀ մասնակցության, Հայաստանում նրանց կողմից տարբեր ծրագրերի իրականացման ապահովում | F15: Տրանսֆերտների տրամադրում | G15: ='Հավելված 3'!G46 -> 3460.4 | H15: ='Հավելված 3'!H46 -> 3460.4 | I15: ='Հավելված 3'!I46 -> 3460.4

Sheet Հավելված 2
H1: Հավելված N 2
G2: ՀՀ կառավարության 2025 թվականի
G3: ___________ ___-ի N _______ որոշման
A4: «ՀԱՅԱՍՏԱՆԻ ՀԱՆՐԱՊԵՏՈՒԹՅԱՆ 2025 ԹՎԱԿԱՆԻ ՊԵՏԱԿԱՆ ԲՅՈՒՋԵԻ ՄԱՍԻՆ» ՀԱՅԱՍՏԱՆԻ ՀԱՆՐԱՊԵՏՈՒԹՅԱՆ ՕՐԵՆՔԻ N 1 ՀԱՎԵԼՎԱԾԻ N 3 ԱՂՅՈՒՍԱԿՈՒՄ ԿԱՏԱՐՎՈՂ ՓՈՓՈԽՈՒԹՅՈՒՆՆԵՐԸ
H5: հազար դրամներով
A6: Ծրագրային դասիչ | C6: Բյուջետային գլխավոր կարգադրիչների, ծրագրերի, միջոցառումների և ուղղությունների անվանումները | D6: Ցուցանիշների փոփոխությունը (ավելացումները նշված են դրական նշանով)
D7: Ընդամենը | E7: այդ թվում՝
E8: Կառուցման աշխատանքներ | F8: Վերակառուցման, վերանորոգման և վերականգնման աշխատանքներ | G8: Նախագծահետազոտական, գեոդեզա-քարտեզագրական աշխատանքներ | H8: Ոչ ֆինանսական այլ ակտիվների ձեռքբերում
A9: Ծրագիր | B9: Միջոցառում
C10: ԸՆԴԱՄԵՆԸ | D10: =D12 -> 2881.1 | E10: =E12 -> 0 | F10: =F12 -> 0 | G10: =G12 -> 0 | H10: =H12 -> 2881.1
C11: այդ թվում՝
C12: ՀՀ պետական եկամուտների կոմիտե | D12: =D14 -> 2881.1 | E12: =E14 -> 0 | F12: =F14 -> 0 | G12: =G14 -> 0 | H12: =H14 -> 2881.1
C13: այդ թվում`
A14: 1023 | B14: 31001 | C14: ՀՀ պետական եկամուտների կոմիտեի տեխնիկական հագեցվածության բարելավում | D14: =E14+F14+G14+H14 -> 2881.1 | E14: 0 | F14: 0 | G14: 0 | H14: ='Հավելված 3'!I31 -> 2881.1

Sheet Հավելված 3
I1: Հավելված N 3
H2: ՀՀ կառավարության 2025 թվականի
H3: ___________ ___-ի N _______ որոշման
A4: ՀԱՅԱՍՏԱՆԻ ՀԱՆՐԱՊԵՏՈՒԹՅԱՆ ԿԱՌԱՎԱՐՈՒԹՅԱՆ 2024 ԹՎԱԿԱՆԻ ԴԵԿՏԵՄԲԵՐԻ 27-Ի N 2060-Ն ՈՐՈՇՄԱՆ NN 3 ԵՎ 4 ՀԱՎԵԼՎԱԾՆԵՐԻ ԱՂՅՈՒՍԱԿՆԵՐՈՒՄ ԿԱՏԱՐՎՈՂ ՓՈՓՈԽՈՒԹՅՈՒՆՆԵՐԸ
I5: հազար դրամներով
A6: Գործառնական դասիչը | D6: Ծրագրային դասիչը | F6: Բյուջետային ծախսերի գործառնական դասակարգման բաժինների, խմբերի և դասերի, բյուջետային ծրագրերի միջոցառումների, բյուջետային հատկացումների գլխավոր կարգադրիչների անվանումները | G6: Ցուցանիշների փոփոխությունը (ավելացումները նշված են դրական նշանով, իսկ նվազեցումները՝ փակագծերում)
A7: բաժին | B7: խումբ | C7: դաս | D7: ծրագիր | E7: միջոցառում | G7: Առաջին կիսամյակ | H7: Ինն ամիս | I7: Տարի
F8: ԸՆԴԱՄԵՆԸ ԾԱԽՍԵՐ | G8: =G10 -> 0 | H8: =H10 -> 0 | I8: =I10 -> 0
F9: այդ թվում՝
A10: 01 | F10: ԸՆԴՀԱՆՈՒՐ ԲՆՈՒՅԹԻ ՀԱՆՐԱՅԻՆ ԾԱՌԱՅՈՒԹՅՈՒՆՆԵՐ | G10: =G12 -> 0 | H10: =H12 -> 0 | I10: =I12 -> 0
F11: այդ թվում՝
B12: 01 | F12: Օրենսդիր և գործադիր մարմիններ, պետական կառավարում, ֆինանսական և հարկաբյուջետային հարաբերություններ, արտաքին հարաբերություններ | G12: =G14+G40 -> 0 | H12: =H14+H40 -> 0 | I12: =I14+I40 -> 0
F13: այդ թվում՝
C14: 02 | F14: Ֆինանսական և հարկաբյուջետային հարաբերություններ | G14: =G16 -> -3460.4 | H14: =H16 -> -3460.4 | I14: =I16 -> -3460.4
F15: այդ թվում՝
F16: ՀՀ պետական եկամուտների կոմիտե | G16: =G18 -> -3460.4 | H16: =H18 -> -3460.4 | I16: =I18 -> -3460.4
F17: այդ թվում`
D18: 1023 | F18: Հարկային և մաքսային ծառայություններ | G18: =G20+G31 -> -3460.4 | H18: =H20+H31 -> -3460.4 | I18: =I20+I31 -> -3460.4
F19: այդ թվում՝
E20: 11001 | F20: Հարկային և մաքսային ծառայություններ | G20: =G22 -> -6341.5 | H20: =H22 -> -6341.5 | I20: =I22 -> -6341.5
F21: այդ թվում` ըստ կատարողների | O21: =+L21+L20 -> 0
F22: ՀՀ պետական եկամուտների կոմիտե | G22: =G24 -> -6341.5 | H22: =H24 -> -6341.5 | I22: =I24 -> -6341.5
F23: այդ թվում` բյուջետային ծախսերի տնտեսագիտական դասակարգման հոդվածներ
F24: ԸՆԴԱՄԵՆԸ ԾԱԽՍԵՐ | G24: =G25 -> -6341.5 | H24: =H25 -> -6341.5 | I24: =I25 -> -6341.5
F25: ԸՆԹԱՑԻԿ ԾԱԽՍԵՐ | G25: =G26 -> -6341.5 | H25: =H26 -> -6341.5 | I25: =I26 -> -6341.5
F26: ԾԱՌԱՅՈՒԹՅՈՒՆՆԵՐԻ ԵՎ ԱՊՐԱՆՔՆԵՐԻ ՁԵՌՔԲԵՐՈՒՄ | G26: =G27+G29 -> -6341.5 | H26: =H27+H29 -> -6341.5 | I26: =I27+I29 -> -6341.5
F27: Շարունակական ծախսեր | G27: =G28 -> -2881.1 | H27: =H28 -> -2881.1 | I27: =I28 -> -2881.1
F28: - Արտագերատեսչական ծախսեր | G28: -2881.1 | H28: -2881.1 | I28: -2881.1
F29: Պայմանագրային այլ ծառայությունների ձեռքբերում | G29: =+G30 -> -3460.4 | H29: =+H30 -> -3460.4 | I29: =+I30 -> -3460.4
F30: - Համակարգչային ծառայություններ | G30: =-G54 -> -3460.4 | H30: =-H54 -> -3460.4 | I30: -3460.4
E31: 31001 | F31: ՀՀ պետական եկամուտների կոմիտեի տեխնիկական հագեցվածության բարելավում | G31: =G33 -> 2881.1 | H31: =H33 -> 2881.1 | I31: =I33 -> 2881.1
F32: այդ թվում` ըստ կատարողների
F33: ՀՀ պետական եկամուտների կոմիտե | G33: =G35 -> 2881.1 | H33: =H35 -> 2881.1 | I33: =I35 -> 2881.1
F34: այդ թվում` բյուջետային ծախսերի տնտեսագիտական դասակարգման հոդվածներ
F35: ԸՆԴԱՄԵՆԸ ԾԱԽՍԵՐ | G35: =G36 -> 2881.1 | H35: =H36 -> 2881.1 | I35: =I36 -> 2881.1
F36: ՈՉ ՖԻՆԱՆՍԱԿԱՆ ԱԿՏԻՎՆԵՐԻ ԳԾՈՎ ԾԱԽՍԵՐ | G36: =G37 -> 2881.1 | H36: =H37 -> 2881.1 | I36: =I37 -> 2881.1
F37: ՀԻՄՆԱԿԱՆ ՄԻՋՈՑՆԵՐ | G37: =G38 -> 2881.1 | H37: =H38 -> 2881.1 | I37: =I38 -> 2881.1
F38: ՄԵՔԵՆԱՆԵՐ ԵՎ ՍԱՐՔԱՎՈՐՈՒՄՆԵՐ | G38: =G39 -> 2881.1 | H38: =H39 -> 2881.1 | I38: =I39 -> 2881.1
F39: - Վարչական սարքավորումներ | G39: 2881.1 | H39: 2881.1 | I39: 2881.1
C40: 03 | F40: Արտաքին հարաբերություններ | G40: =G42 -> 3460.4 | H40: =H42 -> 3460.4 | I40: =I42 -> 3460.4
...

Sheet Հավելված 4
F1: Հավելված N 4
E2: ՀՀ կառավարության 2025 թվականի
E3: ___________ ___-ի N _______ որոշման
A4: ՀԱՅԱՍՏԱՆԻ ՀԱՆՐԱՊԵՏՈՒԹՅԱՆ ԿԱՌԱՎԱՐՈՒԹՅԱՆ 2024 ԹՎԱԿԱՆԻ ԴԵԿՏԵՄԲԵՐԻ 27-Ի N 2060-Ն ՈՐՈՇՄԱՆ N 5 ՀԱՎԵԼՎԱԾԻ N 2 ԱՂՅՈՒՍԱԿՈՒՄ ԿԱՏԱՐՎՈՂ ՓՈՓՈԽՈՒԹՅՈՒՆՆԵՐԸ
F5: հազար դրամներով
A6: Ծրագրային դասիչը | C6: Բյուջետային գլխավոր կարգադրիչների, ծրագրերի, միջոցառումների, միջոցառումները կատարող պետական մարմինների և ուղղությունների անվանումները | D6: Ցուցանիշների փոփոխությունը (ավելացումները նշված են դրական նշանով, իսկ նվազեցումները՝ փակագծերում)
A7: Ծրագիրը | B7: Միջոցառումը | D7: Առաջին կիսամյակ | E7: Ինն ամիս | F7: Տարի
C8: ԸՆԴԱՄԵՆԸ | D8: =D10+D15 -> 2881.1 | E8: =E10+E15 -> 2881.1 | F8: =F10+F15 -> 2881.1
C9: այդ թվում՝
C10: ՀՀ պետական եկամուտների կոմիտե | D10: =D12 -> 2881.1 | E10: =E12 -> 2881.1 | F10: =F12 -> 2881.1
C11: այդ թվում`
A12: 1023 | B12: 31001 | C12: ՀՀ պետական եկամուտների կոմիտեի տեխնիկական հագեցվածության բարելավում | D12: =D14 -> 2881.1 | E12: =E14 -> 2881.1 | F12: =F14 -> 2881.1
C13: այդ թվում` ըստ կատարողների
C14: ՀՀ պետական եկամուտների կոմիտե | D14: ='Հավելված 3'!G31 -> 2881.1 | E14: ='Հավելված 3'!H31 -> 2881.1 | F14: ='Հավելված 3'!I31 -> 2881.1
C15: ՀՀ բարձր տեխնոլոգիական արդյունաբերության նախարարություն | D15: =D17 -> 0 | E15: =E17 -> 0 | F15: =F17 -> 0
C16: այդ թվում`
A17: 1235 | B17: 31001 | C17: Միասնական թվային միջավայրի ձևավորում | D17: =D19+D20 -> 0 | E17: =E19+E20 -> 0 | F17: =F19+F20 -> 0
C18: այդ թվում` ըստ կատարողների
C19: ՀՀ կառավարություն | D19: ='Հավելված 3'!G65 -> 0 | E19: ='Հավելված 3'!H65 -> 0 | F19: ='Հավելված 3'!I65 -> -84180
C20: ՀՀ պետական եկամուտների կոմիտե | D20: ='Հավելված 3'!G72 -> 0 | E20: ='Հավելված 3'!H72 -> 0 | F20: ='Հավելված 3'!I72 -> 84180

Sheet Հավելված 5 
L1: Հավելված N 5
K2: ՀՀ կառավարության 2025 թվականի
K3: ___________ ___-ի N _______ որոշման
L4: Աղյուսակ N 1
A5: ՀԱՅԱՍՏԱՆԻ ՀԱՆՐԱՊԵՏՈՒԹՅԱՆ ԿԱՌԱՎԱՐՈՒԹՅԱՆ 2024 ԹՎԱԿԱՆԻ ԴԵԿՏԵՄԲԵՐԻ 27-Ի N 2060-Ն ՈՐՈՇՄԱՆ N 9 ՀԱՎԵԼՎԱԾԻ ԱՂՅՈՒՍԱԿՈՒՄ ԿԱՏԱՐՎՈՂ ՓՈՓՈԽՈՒԹՅՈՒՆՆԵՐԸ
L6: հազար դրամներով
A7: ԲԳԿ | B7: Ծրագիր | D7: Միջոցառում | H7: Իրականացնողը/ ակտիվն օգտագործողը/ շահառուի ընտրության չափորոշիչը | I7: Արդյունքային չափորոշիչը | J7: Ցուցանիշների փոփոխությունը (ավելացումները նշված են դրական նշանով, իսկ նվազեցումները՝ փակագծերում)
B8: Դասիչը | C8: Անվանումը | D8: Դասիչը | E8: Անվա-նումը | F8: Նկարագրու-թյունը | G8: Տեսակը | J8: Առաջին կիսամյակ | K8: Ինն ամիս | L8: Տարի
A9: ԸՆԴԱՄԵՆԸ | J9: =J10+J27+J33 -> 0 | K9: =K10+K27+K33 -> 0 | L9: =L10+L27+L33 -> 0
A10: ՀՀ պետական եկամուտների կոմիտե | J10: =J11 -> -3460.4 | K10: =K11 -> -3460.4 | L10: =L11 -> -3460.4
B11: 1023 | C11: Հարկային և մաքսային ծառայություններ | J11: =J12+J16+J22 -> -3460.4 | K11: =K12+K16+K22 -> -3460.4 | L11: =L12+L16+L22 -> -3460.4
D12: 1023 - 11001 | E12: Հարկային և մաքսային ծառայություններ | J12: ='Հավելված 3'!G20 -> -6341.5 | K12: ='Հավելված 3'!H20 -> -6341.5 | L12: ='Հավելված 3'!I20 -> -6341.5
F13: Հարկային և մաքսային քաղաքականության մշակման, պլանավորման, մոնիտորինգի, ծրագրերի համակարգման, գանձման, վերահսկողության և աջակցության ծառայություններ
G14: Ծառայությունների մատուցում
H15: Ծառայությունը մատուցողի անվանումը` ՀՀ պետական եկամուտների կոմիտե
D16: 1023 - 12001 | E16: Օտարերկրյա պետությունների ուսումնական հաստատություններ գործուղված մաքսային ծառայողների ուսուցում և վերապատրաստում | J16: 0 | K16: 0 | L16: 0
F17: ՀՀ պետական եկամուտների կոմիտեի մաքսանենգության դեմ պայքարի վարչության շնագիտական կենտրոնի մաքսային ծառայողների ուսուցում (կինոլոգ) և վերապատրաստում (անասնաբույժ)
G18: Տրանսֆերտների տրամադրում
H19: Շահառուների ընտրության չափորոշիչները` Ուսուցում և վերապատրաստում ստացող ունկնդիրներ (մաքսային ծառայողներ)
I20: Մեկ դասընթացի միջին տևողություն, (կինոլոգներ) օր | J20: -165 | L20: -165
I21: Մեկ դասընթացի միջին տևողություն, (անասնաբույժ) օր | J21: -40 | L21: -40
D22: 1023 - 31001 | E22: ՀՀ պետական եկամուտների կոմիտեի տեխնիկական հագեցվածության բարելավում | J22: ='Հավելված 3'!G31 -> 2881.1 | K22: ='Հավելված 3'!H31 -> 2881.1 | L22: ='Հավելված 3'!I31 -> 2881.1
F23: ՀՀ պետական եկամուտների կոմիտեի տեխնիկական հագեցվածության բարելավում
G24: Պետական մարմինների կողմից օգտագործվող ոչ ֆինանսական ակտիվների հետ գործառնություններ
H25: Ակտիվն օգտագործող կազմակերպության անվանումը` ՀՀ պետական եկամուտների կոմիտե
I26: Այլ սարքավորումների քանակ, հատ | J26: 52 | L26: 52
A27: ՀՀ արտաքին գործերի նախարարություն | J27: =J28 -> 3460.4 | K27: =K28 -> 3460.4 | L27: =L28 -> 3460.4
B28: 1118 | C28: Համագործակցություն միջազգային կազմակերպությունների հետ | J28: =J29 -> 3460.4 | K28: =K29 -> 3460.4 | L28: =L29 -> 3460.4
D29: 1118 - 12001 | E29: Միջազգային կազմակերպություններին ՀՀ անդամակցության վճարներ | J29: ='Հավելված 3'!G46 -> 3460.4 | K29: ='Հավելված 3'!H46 -> 3460.4 | L29: ='Հավելված 3'!I46 -> 3460.4
F30: Միջազգային կազմակերպությունների աշխատանքներին ՀՀ մասնակցության, Հայաստանում նրանց կողմից տարբեր ծրագրերի իրականացման ապահովում
G31: Տրանսֆերտների տրամադրում
H32: Շահառուների ընտրության չափորոշիչները` ՀՀ անդամակցող միջազգային կազմակերպություններ
A33: ՀՀ բարձր տեխնոլոգիական արդյունաբերության նախարարություն | J33: =J34 -> 0 | K33: =K34 -> 0 | L33: =L34 -> 0
B34: 1235 | C34: Թվային փոխակերպման գործընթացի իրականացում | J34: =J35 -> 0 | K34: =K35 -> 0 | L34: =L35 -> 0
D35: 1235 - 31001 | E35: Միասնական թվային միջավայրի ձևավորում | J35: ='Հավելված 3'!G59 -> 0 | K35: ='Հավելված 3'!H59 -> 0 | L35: ='Հավելված 3'!I59 -> 0
F36: Թվային փոխակերպման գործընթացի շրջանակներում թվայնացման համակարգերի ներդրում և կայքերի արդիականացում
G37: Պետական մարմինների կողմից օգտագործվող ոչ ֆինանսական ակտիվների հետ գործառնություններ
H38: Ակտիվն օգտագործող կազմակերպության անվանումը` Հանրային իշխանության մարմիններ
I39: Թվայնացվող ծրագրեր, հատ | L39: 2
L41: Աղյուսակ N 2
...

Sheet Հավելված 6
G1: Հավելված N 6
F2: ՀՀ կառավարության 2025 թվականի
F3: ___________ ___-ի N _______ որոշման
A5: ՀԱՅԱՍՏԱՆԻ ՀԱՆՐԱՊԵՏՈՒԹՅԱՆ ԿԱՌԱՎԱՐՈՒԹՅԱՆ 2024 ԹՎԱԿԱՆԻ ԴԵԿՏԵՄԲԵՐԻ 27-Ի N 2060-Ն ՈՐՈՇՄԱՆ N 10 ՀԱՎԵԼՎԱԾԻ ԱՂՅՈՒՍԱԿՈՒՄ ԿԱՏԱՐՎՈՂ ՓՈՓՈԽՈՒԹՅՈՒՆՆԵՐԸ ԵՎ ԼՐԱՑՈՒՄՆԵՐԸ
A6: Գնման առարկայի | E6: Ցուցանիշների փոփոխությունը (ավելացումները նշված են դրական նշանով, իսկ նվազեցումները՝ փակագծերում)
A7: կոդը | B7: անվանումը | C7: գնման ձևը | D7: չափի միավորը | E7: միավորի գինը | F7: քանակը | G7: Գումարը (հազար դրամ)
A8: ՀՀ պետական եկամուտների կոմիտե | G8: =G9+G19 -> 80719.6
A9: Բաժին N 01 | B9: Խումբ N 01 | C9: Դաս N 02 | D9: Ֆինանսական և հարկաբյուջետային հարաբերություններ | G9: =G10+G14 -> -3460.4
A10: 1023 11001 | B10: Հարկային և մաքսային ծառայություններ | G10: =G12+G13 -> -6341.54
A12: 98341140/1 | B12: շենքի պահպանման ծառայություններ | C12: ԲՄ | D12: դրամ | G12: -2881.14
A13: 72261160/6 | B13: ծրագրային ապահովման սպասարկման ծառայություններ | C13: ԲՄ | D13: դրամ | G13: -3460.4
A14: 1023 31001 | B14: ՀՀ պետական եկամուտների կոմիտեի տեխնիկական հագեցվածության բարելավում | G14: =G16+G17+G18 -> 2881.14
C15: ՄԱՍ 1. ԱՊՐԱՆՔՆԵՐ
A16: 35121320 | B16: անվտանգության տեսախցիկներ | C16: ԷԱՃ | D16: հատ | E16: 66499.2 | F16: 25 | G16: =E16*F16/1000 -> 1662.48
A17: 35121320 | B17: անվտանգության տեսախցիկներ | C17: ԷԱՃ | D17: հատ | E17: 30314.4 | F17: 25 | G17: =E17*F17/1000 -> 757.86
A18: 31151120 | B18: անխափան սնուցման աղբյուր | C18: ԷԱՃ | D18: հատ | E18: 230400 | F18: 2 | G18: =E18*F18/1000 -> 460.8
A19: Բաժին N 01 | B19: Խումբ N 03 | C19: Դաս N 02 | D19: Ծրագրման և վիճակագրական ընդհանուր ծառայություններ | G19: =G20 -> 84180
A20: 1235 31001 | B20: Միասնական թվային միջավայրի ձևավորում | G20: =G21 -> 84180
B21: ՄԱՍ 3. ԾԱՌԱՅՈՒԹՅՈՒՆՆԵՐ | G21: =G22+G23 -> 84180
A22: 72261110/501 | B22: ծրագրային ապահովման մշակման ծառայություններ | C22: ԲՄ | D22: դրամ | E22: 18180000 | F22: 1 | G22: =E22*F22/1000 -> 18180
A23: 72261110/502 | B23: ծրագրային ապահովման մշակման ծառայություններ | C23: ԲՄ | D23: դրամ | E23: 66000000 | F23: 1 | G23: 66000
