Workbook
Name a: #REF!
Name a: #REF!
Name a: #REF!
Name a: #REF!
Name a: #REF!
Name a: #REF!
Name AgencyCode: #REF!
Name AgencyCode: #REF!
Name AgencyCode: #REF!
Name AgencyCode: #REF!
Name AgencyCode: #REF!
Name AgencyCode: #REF!
Name AgencyCode: #REF!
Name AgencyCode: #REF!
Name AgencyCode: #REF!
Name AgencyCode: #REF!
Name AgencyCode: #REF!
Name AgencyName: #REF!
Name AgencyName: #REF!
Name AgencyName: #REF!
Name AgencyName: #REF!
Name AgencyName: #REF!
Name AgencyName: #REF!
Name AgencyName: #REF!
Name åû: #REF!
Name åû: #REF!
Name davit: #REF!
Name davit: #REF!
Name davit: #REF!
Name davit: #REF!
Name davit: #REF!
Name davit: #REF!
Name Functional1: #REF!
Name Functional1: #REF!
Name Functional1: #REF!
Name Functional1: #REF!
Name Functional1: #REF!
Name Functional1: #REF!
Name Functional1: #REF!
Name ggg: #REF!
Name ggg: #REF!
Name ggg: #REF!
Name ggg: #REF!
Name ggg: #REF!
Name ggg: #REF!
Name hav: #REF!
Name mas: #REF!
Name mas: #REF!
Name mass: #REF!
Name mass: #REF!
Name PANature: #REF!
Name PANature: #REF!
Name PANature: #REF!
Name PANature: #REF!
Name PANature: #REF!
Name PANature: #REF!
Name PANature: #REF!
Name PAType: #REF!
Name PAType: #REF!
Name PAType: #REF!

Sheet Հավելված N 1
F1: Հավելված N 1
F2: ՀՀ կառավարության 2025 թվականի
F3: ______________ ի ___Ն որոշման
A6: «ՀԱՅԱUՏԱՆԻ ՀԱՆՐԱՊԵՏՈՒԹՅԱՆ 2025 ԹՎԱԿԱՆԻ ՊԵՏԱԿԱՆ ԲՅՈՒՋԵԻ ՄԱUԻՆ» ՀԱՅԱUՏԱՆԻ ՀԱՆՐԱՊԵՏՈՒԹՅԱՆ OՐԵՆՔԻ N 1 ՀԱՎԵԼՎԱԾԻ N 2 ԱՂՅՈՒՍԱԿՈՒՄ ԿԱՏԱՐՎՈՂ ՎԵՐԱԲԱՇԽՈՒՄԸ ԵՎ ՀԱՅԱՍՏԱՆԻ ՀԱՆՐԱՊԵՏՈՒԹՅԱՆ ԿԱՌԱՎԱՐՈՒԹՅԱՆ 2024 ԹՎԱԿԱՆԻ ԴԵԿՏԵՄԲԵՐԻ 27-Ի N 2060-Ն ՈՐՈՇՄԱՆ N 5 ՀԱՎԵԼՎԱԾԻ N 1 ԱՂՅՈՒՍԱԿՈՒՄ ԿԱՏԱՐՎՈՂ ՓՈՓՈԽՈՒԹՅՈՒՆՆԵՐԸ ԵՎ ԼՐԱՑՈՒՄՆԵՐԸ
I9: հազ. դրամներով
A10: ԲԳԿ | B10: Ծրագրային դասիչը | D10: ԲԳԿ/Ծրագրի /միջոցառման անվանումը | E10: Ծրագրի նպատակը/Միջոցառման նկարագրությունը | F10: Վերջնական արդյունքի նկարագրությունը/Միջոցառման տեսակը | G10: Ցուցանիշների փոփոխությունը (ավելացումները նշված են դրական նշանով, իսկ նվազեցումները փակագծերում)
G11: Առաջին կիսամյակ | H11: Ինն ամիս | I11: Տարի
B12: Ծրագիր | C12: Միջոցառում
A13: ԸՆԴԱՄԵՆԸ | G13: =+G15+G37 -> 0 | H13: =+H15+H37 -> 0 | I13: =+I15+I37 -> 0
A14: այդ թվում՝
A15: ՀՀ ԿՐԹՈՒԹՅԱՆ, ԳԻՏՈՒԹՅԱՆ, ՄՇԱԿՈՒՅԹԻ ԵՎ ՍՊՈՐՏԻ ՆԱԽԱՐԱՐՈՒԹՅՈՒՆ | G15: =+G16+G18+G20+G22+G24+G27+G30+G32 -> 0 | H15: =+H16+H18+H20+H22+H24+H27+H30+H32 -> 0 | I15: =+I16+I18+I20+I22+I24+I27+I30+I32 -> 0
B16: 1045 | D16: Մասնագիտական կրթության և ուսուցման ծրագիր | E16: Աշխատաշուկայի արդի պահանջներին համապատասխան արհեստագործական և միջին մասնագիտական կրթության որակավորում ունեցող մասնագետների պատրաստում, կրթության մատչելիության ապահովում: | F16: Արհեստագործական և միջին մասնագիտական կրթության գրավչության բարձրացում, մատչելի և մրցունակ արհեստագործական և միջին մասնագիտական կրթության ապահովում | G16: =+G17 -> 0 | H16: =+H17 -> 152054.6 | I16: =+I17 -> 251174.5
C17: 1045 - 32001 | D17: Մասնագիտական ուսումնական հաստատությունների շենքային պայմանների բարելավում | E17: Մասնագիտական ուսումնական հաստատությունների շենքերի հիմնանորոգման և նախագծման (շինարարական աշխատանքներ, ջեռուցման համակարգի ստեղծում, ներքին հարդարում, տարածքի բարեկարգում) աշխատանքների իրականացում | F17: Այլ պետական կազմակերպությունների կողմից օգտագործվող ոչ ֆինանսական ակտիվների հետ գործառնություններ | G17: =+'Հավելված N 2'!G172 -> 0 | H17: =+'Հավելված N 2'!H172 -> 152054.6 | I17: =+'Հավելված N 2'!I172 -> 251174.5
B18: 1075 | D18: Մշակութային ժառանգության ծրագիր | E18: Մշակութային ժառանգության պահպանում, օգտագործում, համալրում և հանրահռչակում | F18: Մշակութային ժառանգության շարունակական պահպանում, մշակութային զբոսաշրջության զարգացում և խթանում | G18: =+G19 -> 4890.5 | H18: =+H19 -> 4890.5 | I18: =+I19 -> 4890.5
C19: 1075 - 32010 | D19: Տեղեկատվական մոդուլային կենտրոնների ստեղծում | E19: Տեղեկատվական մոդուլային կենտրոնների կառուցում և տեղադրումարգելոց-թանգարանների տարածքումԱյլ պետական կազմակերպությունների կողմից օգտագործվող ոչֆինանսական ակտիվների հետ գործառնություններ | F19: Այլ պետական կազմակերպությունների կողմից օգտագործվող ոչ ֆինանսական ակտիվների հետ գործառնություններ | G19: =+'Հավելված N 2'!G86 -> 4890.5 | H19: =+'Հավելված N 2'!H86 -> 4890.5 | I19: =+'Հավելված N 2'!I86 -> 4890.5
B20: 1148 | D20: Արտադպրոցական դաստիարակության ծրագիր | E20: Նպաստել հանրակրթական ուսուցման համակարգում ընդգրկված երեխաների ֆիզիկական, հոգևոր և գեղագիտական զարգացմանը, բնապահպանական և կիրառական գիտելիքների ձեռքբերմանը | F20: Ստեղծել պայմաններ սովորողների ազատ ժամանացի կազմակերպան միջոցով նրանց հետաքրքրությունների բացահայտման, ձևավորման և զարգացման համար | G20: =+G21 -> 26253.5 | H20: =+H21 -> 26253.5 | I20: =+I21 -> 26253.5
C21: 1148 - 32004 | D21: Արտադպրոցական հաստատությունների գույքային և տեխնիկական ապահովվածության բարելավում | E21: Գույքային և տեխնիկական ապահովվածության բարելավման արդյունքում կիրառական գիտելիքների ձեռքբերման արդյունավետության բարձրացում | F21: Այլ պետական կազմակերպությունների կողմից օգտագործվող ոչ ֆինանսական ակտիվների հետ գործառնություններ | G21: =+'Հավելված N 2'!G155 -> 26253.5 | H21: =+'Հավելված N 2'!H155 -> 26253.5 | I21: =+'Հավելված N 2'!I155 -> 26253.5
B22: 1163 | D22: Մասսայական սպորտ | E22: Բնակչության շրջանում առողջ ապրելակերպի արմատավորում, անհատի բազմակողմանի ու ներդաշնակ զարգացման գործում ֆիզիկական կուլտուրայի և սպորտի դերի բարձրացում | F22: Սպորտի նկատմամբ հետաքրքրվածության և մասնակցության ընդլայնում | G22: =+G23 -> -140891 | H22: =+H23 -> -295664.5 | I22: =+I23 -> -394784.4
C23: 1163 - 32003 | D23: Թեթև կոնստրուկցիաներով մարզադահլիճների հիմնում | E23: ՀՀ մարզերում արագ հավաքվող, թեթև կոնստրուկցիաներով, օդահենային պնևմատիկ, եվրոպական ստանդարտներին համապատասխան մարզադահլիճների հիմնում | F23: Այլ պետական կազմակերպությունների կողմից օգտագործվող ոչ ֆինանսական ակտիվների հետ գործառնություններ | G23: =+'Հավելված N 2'!G26 -> -140891 | H23: =+'Հավելված N 2'!H26 -> -295664.5 | I23: =+'Հավելված N 2'!I26 -> -394784.4
B24: 1168 | D24: Արվեստների ծրագիր | E24: Նպաստել ազգային հենքի վրա ժամանակակից թատերարվեստի, երաժշտարվեստի, կերպարվեստի և պարարվեստի զարգացմանը և հանրահռչակմանը | F24: Մրցունակ արվեստային արտադրանքի ստեղծում, ստեղծագործական գործընթացների խթանում, արվեստի նոր նախագծերի ներդրում և մշակութային կյանքում հասարակության ներգրավում | G24: =+G25+G26 -> -30915 | H24: =+H25+H26 -> 6544.2 | I24: =+I25+I26 -> 6544.2
C25: 1168 - 32001 | D25: Ներդրումներ թատրոնների և համերգային կազմակերպությունների շենքերի կապիտալ վերանորոգման համար | E25: Թատրոնների և համերգային կազմակերպությունների շենքերի մասնաշենքերի հիմնանորոգում, համաշինարարական աշխատանքներ, ջեռուցման համակարգի իրականացում, ներքին հարդարում, տարածքի բարեկարգում և նախագծում | F25: Այլ պետական կազմակերպությունների կողմից օգտագործվող ոչ ֆինանսական ակտիվների հետ գործառնություններ | G25: =+'Հավելված N 2'!G58 -> -30915 | H25: =+'Հավելված N 2'!H58 -> -2400.9 | I25: =+'Հավելված N 2'!I58 -> -2400.9
C26: 1168 - 32007 | D26: Թատերահամերգային կազմակերպությունների նյութատեխնիկական բազայի համալրում | E26: Թատերահամերգային կազմակերպությունների համար անհրաժեշտ տեխնիկայի և սարքավորումների ձեռքբերում | F26: Այլ պետական կազմակերպությունների կողմից օգտագործվող ոչ ֆինանսական ակտիվների հետ գործառնություններ | G26: =+'Հավելված N 2'!G71 -> 0 | H26: =+'Հավելված N 2'!H71 -> 8945.1 | I26: =+'Հավելված N 2'!I71 -> 8945.1
B27: 1183 | D27: Ապահով դպրոց | E27: Դպրոցներին սպառնացող աղետների ռիսկի կառավարման կարողությունների հզորացում, դպրոցի անձնակազմի և աշակերտների անվտանգության ապահովման մակարդակի բարձրացում՛ կիրառելով ներառական և երեխայակենտրոն մոտեցում | F27: Դպրոցական միջավայրի բարելավում | G27: =+G28+G29 -> 0 | H27: =+H28+H29 -> 75585.6 | I27: =+I28+I29 -> 75585.6
C28: 1183 - 32001 | D28: Կրթական օբյեկտների շենքային պայմանների բարելավում | E28: Կրթական օբյեկտների շենքերի (մասնաշենքերի) հիմնանորոգում (համաշինարարական աշխատանքներ, ջեռուցման համակարգի իրականացում, ներքին հարդարում, տարածքի բարեկարգում) և նախագծում | F28: Այլ պետական կազմակերպությունների կողմից օգտագործվող ոչ ֆինանսական ակտիվների հետ գործառնություններ | G28: =+'Հավելված N 2'!G183 -> 0 | H28: =+'Հավելված N 2'!H183 -> 289.4 | I28: =+'Հավելված N 2'!I183 -> 289.4
C29: 1183 - 32007 | D29: Հանրակրթական կրթություն իրականացնող ուսումնական հաստատությունների նոր մարզադահլիճների կառուցում | E29: Հանրակրթական ուսուցում իրականացնող ուսումնական հաստատությունների նոր մարզադահլիճների կառուցման նախագծանախահաշվային փաստաթղթերի մշակում | F29: Այլ պետական կազմակերպությունների կողմից օգտագործվող ոչ ֆինանսական ակտիվների հետ գործառնություններ | G29: =+'Հավելված N 2'!G192 -> 0 | H29: =+'Հավելված N 2'!H192 -> 75296.2 | I29: =+'Հավելված N 2'!I192 -> 75296.2
B30: 1196 | D30: Մարզերի մշակութային զարգացման ծրագիր | E30: Մարզերում մշակութային կյանքի և մշակութաստեղծ գործունեության ակտիվացում | F30: Համայնքներում մշակույթի հասանելիության և մշակութային կյանքին մարզային բնակչության ընդգրկվածության ընդլայնում | G30: =+G31 -> 0 | H30: =+H31 -> 3560.2 | I30: =+I31 -> 3560.2
C31: 1196 - 12001 | D31: Աջակցություն համայնքներին մշակութային հաստատությունների շենքային պայմանների բարելավման համար | E31: Համայնքային ենթակայության մշակույթի տների՝ ակումբների և կենտրոնների հիմնանորոգում՝ կառուցում և նախագծում | F31: Տրանսֆերտների տրամադրում | G31: =+'Հավելված N 2'!G43 -> 0 | H31: =+'Հավելված N 2'!H43 -> 3560.2 | I31: =+'Հավելված N 2'!I43 -> 3560.2
B32: 1236 | D32: Հանրակրթական և նախադպրոցական հաստատությունների հիմնում, կառուցում, բարելավում | E32: Առնվազն 300 դպրոցի և 500 մանկապարտեզի կառուցման, վերակառուցման, հիմնանորոգման ծրագրերի իրականացում ՀՀ պետական բյուջեի միջոցների շրջանակներում | F32: Կրթական միջավայրի բարելավում | G32: =+G33+G34+G35 -> 140662 | H32: =+H33+H34+H35 -> 26775.9 | I32: =+I33+I34+I35 -> 26775.9
C33: 1236 - 12001 | D33: Նախադպրոցական կրթության շրջանակներում մսուրային խմբերի ձևավորման համար շենքային պայմանների ապահովում | E33: Նախադպրոցական կրթության հասանելիության ապահովման նպատակով՛ մանկապարտեզներում մսուրային խմբերի (վաղ տարիքի առաջին, երկրորդ, կրտսեր տարիքի առաջին խմբերի) ձևավորման համար նախատեսված տարածքների վերանորոգում/հիմնանորոգում, նախագծում | F33: Տրանսֆերտների տրամադրում | G33: =+'Հավելված N 2'!G105 -> 0 | H33: =+'Հավելված N 2'!H105 -> 26265.9 | I33: =+'Հավելված N 2'!I105 -> 26265.9
C34: 1236 - 32004 | D34: Հանրակրթական դպրոցների շենքերի վերակառուցում, հիմնանորոգում | E34: Դպրոցական պարտադիր կրթության հասանելիության ապահովման նպատակով՛ հանրակրթական դպրոցների շենքերի (մասնաշենքերի), վերակառուցում, հիմնանորոգում և նախագծում | F34: Այլ պետական կազմակերպությունների կողմից օգտագործվող ոչ ֆինանսական ակտիվների հետ գործառնություններ | G34: =+'Հավելված N 2'!G130 -> 140662 | H34: =+'Հավելված N 2'!H130 -> 0 | I34: =+'Հավելված N 2'!I130 -> 0
C35: 1236 - 32006 | D35: Հանրակրթական դպրոցների, մանկապարտեզների և կրթահամալիրների գույքով և տեխնիկայով ապահովում | E35: Կրթական ժամանակակից նորմերին և կրթական չափորոշիչներին համապատասխան ուսուցման ծրագրերն իրականացնելու նպատակով հանրակրթական և նախադպրոցական հաստատությունների համար գույքի և տեխնիկայի ձեռքբերում | F35: Այլ պետական կազմակերպությունների կողմից օգտագործվող ոչ ֆինանսական ակտիվների հետ գործառնություններ | G35: =+'Հավելված N 2'!G131 -> 0 | H35: =+'Հավելված N 2'!H131 -> 510 | I35: =+'Հավելված N 2'!I131 -> 510
A37: ՀՀ ԿԱՌԱՎԱՐՈՒԹՅՈՒՆ | G37: =+G38+G41+G43 -> 0 | H37: =+H38+H41+H43 -> 0 | I37: =+I38+I41+I43 -> 0
B38: 1139 | D38: ՀՀ կառավարության պահուստային ֆոնդ | E38: Պետական բյուջեում չկանխատեսված, ինչպես նաեւ բյուջետային երաշխիքների ապահովման ծախսերի ֆինանսավորման ապահովում | F38: Պահուստային ֆոնդի կառավարման արդյունավետության և թափանցիկության ապահովում | G38: =+G39+G40 -> 0 | H38: =+H39+H40 -> 0 | I38: =+I39+I40 -> 0
C39: 1139 - 11001 | D39: ՀՀ կառավարության պահուստային ֆոնդ | E39: ՀՀ պետական բյուջեում նախատեսված ելքերի լրացուցիչ ֆինանսավորման, պետական բյուջեում չկանխատեսված ելքերի, ինչպես նաև բյուջետային երաշխիքների ապահովման ելքերի ֆինանսավորման ապահովում | F39: Ծառայությունների մատուցում | G39: =+'Հավելված N 2'!G213 -> 26253.5 | H39: =+'Հավելված N 2'!H213 -> 56079.6 | I39: =+'Հավելված N 2'!I213 -> 56079.6
C40: 1139 - 11001 | D40: ՀՀ կառավարության պահուստային ֆոնդ | E40: ՀՀ պետական բյուջեում նախատեսված ելքերի լրացուցիչ ֆինանսավորման, պետական բյուջեում չկանխատեսված ելքերի, ինչպես նաև բյուջետային երաշխիքների ապահովման ելքերի ֆինանսավորման ապահովում | F40: Ծառայությունների մատուցում | G40: =+'Հավելված N 2'!G221 -> -26253.5 | H40: =+'Հավելված N 2'!H221 -> -56079.6 | I40: =+'Հավելված N 2'!I221 -> -56079.6

Sheet Հավելված N 2
F1: Հավելված N 2
F2: ՀՀ կառավարության 2025 թվականի
F3: ______________ ի ___Ն որոշման
A7: ՀԱՅԱՍՏԱՆԻ ՀԱՆՐԱՊԵՏՈՒԹՅԱՆ ԿԱՌԱՎԱՐՈՒԹՅԱՆ 2024 ԹՎԱԿԱՆԻ ԴԵԿՏԵՄԲԵՐԻ 27-Ի N 2060-Ն ՈՐՈՇՄԱՆ N 3 ԵՎ N 4 ՀԱՎԵԼՎԱԾՆԵՐՈՒՄ ԿԱՏԱՐՎՈՂ ՓՈՓՈԽՈՒԹՅՈՒՆՆԵՐԸ ԵՎ ԼՐԱՑՈՒՄՆԵՐԸ
I10: հազ. դրամներով
A11: Գործառական դասիչը | D11: Ծրագրային դասիչը | F11: Բյուջետային հատկացումների գլխավոր կարգադրիչների, ծրագրերի, միջոցառումների և միջոցառումները կատարող պետական մարմինների անվանումները | G11: Ցուցանիշների փոփոխությունը (ավելացումները նշված են դրական նշանով, իսկ նվազեցումները փակագծերում)
A12: Բաժին | B12: Խումբ | C12: Դաս | D12: Ծրագիր | E12: Միջոցառում | G12: Առաջին կիսամյակ | H12: Ինն ամիս | I12: Տարի
F13: ԸՆԴԱՄԵՆԸ | G13: =+G15+G202 -> 0 | H13: =+H15+H202 -> 0 | I13: =+I15+I202 -> 0
F14: այդ թվում՝
F15: ՀՀ ԿՐԹՈՒԹՅԱՆ, ԳԻՏՈՒԹՅԱՆ, ՄՇԱԿՈՒՅԹԻ ԵՎ ՍՊՈՐՏԻ ՆԱԽԱՐԱՐՈՒԹՅՈՒՆ | G15: =+G16+G95 -> 0 | H15: =+H16+H95 -> 0 | I15: =+I16+I95 -> 0
A16: 08 | F16: ՀԱՆԳԻՍՏ, ՄՇԱԿՈՒՅԹ ԵՎ ԿՐՈՆ | G16: =+G18+G35 -> -166915.5 | H16: =+H18+H35 -> -280669.6 | I16: =+I18+I35 -> -379789.5
F17: այդ թվում`
B18: 01 | F18: Հանգստի և սպորտի ծառայություններ | G18: =+G20 -> -140891 | H18: =+H20 -> -295664.5 | I18: =+I20 -> -394784.4
F19: այդ թվում`
C20: 01 | F20: Հանգստի և սպորտի ծառայություններ | G20: =+G22 -> -140891 | H20: =+H22 -> -295664.5 | I20: =+I22 -> -394784.4
F21: այդ թվում`
F22: ՀՀ կրթության, գիտության, մշակույթի և սպորտի նախարարություն | G22: =+G24 -> -140891 | H22: =+H24 -> -295664.5 | I22: =+I24 -> -394784.4
F23: այդ թվում`
D24: 1163 | E24: Մասսայական սպորտ | G24: =+G26 -> -140891 | H24: =+H26 -> -295664.5 | I24: =+I26 -> -394784.4
F25: այդ թվում`
E26: 32003 | F26: Թեթև կոնստրուկցիաներով մարզադահլիճների հիմնում | G26: =+G28 -> -140891 | H26: =+H28 -> -295664.5 | I26: =+I28 -> -394784.4
F27: այդ թվում` ըստ կատարողների
F28: ՀՀ կրթության, գիտության, մշակույթի և սպորտի նախարարություն | G28: =+G30 -> -140891 | H28: =+H30 -> -295664.5 | I28: =+I30 -> -394784.4
F29: այդ թվում՝ բյուջետային ծախսերի տնտեսագիտական դասակարգման հոդվածներ
F30: ԸՆԴԱՄԵՆԸ ԾԱԽՍԵՐ | G30: =+G31 -> -140891 | H30: =+H31 -> -295664.5 | I30: =+I31 -> -394784.4
F31: ՈՉ ՖԻՆԱՆՍԱԿԱՆ ԱԿՏԻՎՆԵՐԻ ԳԾՈՎ ԾԱԽՍԵՐ | G31: =+G32 -> -140891 | H31: =+H32 -> -295664.5 | I31: =+I32 -> -394784.4
F32: ՀԻՄՆԱԿԱՆ ՄԻՋՈՑՆԵՐ | G32: =+G33 -> -140891 | H32: =+H33 -> -295664.5 | I32: =+I33 -> -394784.4
F33: ՇԵՆՔԵՐ ԵՎ ՇԻՆՈՒԹՅՈՒՆՆԵՐ | G33: =+G34 -> -140891 | H33: =+H34 -> -295664.5 | I33: =+I34 -> -394784.4
F34: - Շենքերի և շինությունների շինարարություն | G34: =+'Հավելված N 4'!E32 -> -140891 | H34: =+'Հավելված N 4'!F32 -> -295664.5 | I34: =+'Հավելված N 4'!G32-'Հավելված N 3'!G24 -> -394784.4
B35: 02 | F35: Մշակութային ծառայություններ | G35: =+G37+G52+G80 -> -26024.5 | H35: =+H37+H52+H80 -> 14994.9 | I35: =+I37+I52+I80 -> 14994.9
F36: այդ թվում`
C37: 03 | F37: Մշակույթի տներ, ակումբներ, կենտրոններ | G37: =+G39 -> 0 | H37: =+H39 -> 3560.2 | I37: =+I39 -> 3560.2
F38: այդ թվում`
F39: ՀՀ կրթության, գիտության, մշակույթի և սպորտի նախարարություն | G39: =+G41 -> 0 | H39: =+H41 -> 3560.2 | I39: =+I41 -> 3560.2
F40: այդ թվում`
D41: 1196 | E41: Մարզերի մշակութային զարգացման ծրագիր | G41: =+G43 -> 0 | H41: =+H43 -> 3560.2 | I41: =+I43 -> 3560.2
F42: այդ թվում`
E43: 12001 | F43: Աջակցություն համայնքներին մշակութային հաստատությունների շենքային պայմանների բարելավման համար | G43: =+G45 -> 0 | H43: =+H45 -> 3560.2 | I43: =+I45 -> 3560.2
F44: այդ թվում` ըստ կատարողների
F45: ՀՀ Լոռու մարզպետի աշխատակազմ | G45: =+G47 -> 0 | H45: =+H47 -> 3560.2 | I45: =+I47 -> 3560.2
...

Sheet Հավելված N 3
F1: Հավելված N 3
F2: ՀՀ կառավարության 2025 թվականի
F3: ______________ ի ___Ն որոշման
A5: «ՀԱՅԱUՏԱՆԻ ՀԱՆՐԱՊԵՏՈՒԹՅԱՆ 2025 ԹՎԱԿԱՆԻ ՊԵՏԱԿԱՆ ԲՅՈՒՋԵԻ ՄԱUԻՆ» ՀԱՅԱUՏԱՆԻ ՀԱՆՐԱՊԵՏՈՒԹՅԱՆ OՐԵՆՔԻ N 1 ՀԱՎԵԼՎԱԾԻ N 3 ԱՂՅՈՒՍԱԿՈՒՄ ԿԱՏԱՐՎՈՂ ՓՈՓՈԽՈՒԹՅՈՒՆՆԵՐԸ ԵՎ ԼՐԱՑՈՒՄՆԵՐԸ
G8: հազ. դրամներով
A9: Ծրագրային դասիչ | C9: Բյուջետային գլխավոր կարգադրիչների, ծրագրերի, միջոցառումների, միջոցառումները կատարող պետական մարմինների և ուղղությունների անվանումները | D9: Ընդամենը | E9: Ցուցանիշների փոփոխությունը (ավելացումները նշված են դրական նշանով, իսկ նվազեցումները՝ փակագծերում)
A10: Ծրագիր | B10: Միջոցառում | E10: Կառուցման աշխատանքներ | F10: Վերակառուցման, վերանորոգման և վերականգնման աշխատանքներ | G10: Նախագծահե- տազոտական, գեոդեզիա- քարտեզագրա- կան աշխա- տանքներ | H10: Ոչ ֆինանսական այլ ակտիվների ձեռքբերում
C11: ԸՆԴԱՄԵՆԸ | D11: =SUM(E11:H11) -> -45492.9 | E11: =+E13 -> -319488.2 | F11: =+F13 -> 238796.7 | G11: =+G13 -> 0 | H11: =+H13 -> 35198.6
C12: այդ թվում՝
C13: ՀՀ ԿՐԹՈՒԹՅԱՆ, ԳԻՏՈՒԹՅԱՆ, ՄՇԱԿՈՒՅԹԻ ԵՎ ՍՊՈՐՏԻ ՆԱԽԱՐԱՐՈՒԹՅՈՒՆ | D13: =SUM(E13:H13) -> -45492.9 | E13: =+E15+E21+E25+E29+E33+E37+E41 -> -319488.2 | F13: =+F15+F21+F25+F29+F33+F37+F41 -> 238796.7 | G13: =+G15+G21+G25+G29+G33+G37+G41 -> 0 | H13: =+H15+H21+H25+H29+H33+H37+H41 -> 35198.6
C14: այդ թվում`
A15: 1045 | B15: 32001 | C15: Մասնագիտական ուսումնական հաստատությունների շենքային պայմանների բարելավում | D15: =SUM(E15:H15) -> 251174.5 | E15: =+E17+E19 -> 0 | F15: =+F17+F19 -> 251174.5 | G15: =+G17+G19 -> 0 | H15: =+H17+H19 -> 0
C16: այդ թվում`
C17: Երևան քաղաք | D17: =SUM(E17:H17) -> 110471.3 | E17: =+E18 -> 0 | F17: =+F18 -> 110471.3 | G17: =+G18 -> 0 | H17: =+H18 -> 0
C18: «Երևանի հ․8 արհեստագործական պետական ուսումնարան» ՊՈԱԿ | D18: =+E18+F18+G18+H18 -> 110471.3 | F18: =+'Հավելված N 9'!I77 -> 110471.3
C19: ՀՀ Լոռու մարզ | D19: =SUM(E19:H19) -> 140703.2 | E19: =+E20 -> 0 | F19: =+F20 -> 140703.2 | G19: =+G20 -> 0 | H19: =+H20 -> 0
C20: «Վանաձորի Կ. Ղարաքեշիշյանի անվան N 1 արհեստագործական պետական ուսումնարան» ՊՈԱԿ | D20: =+E20+F20+G20+H20 -> 140703.2 | F20: =+'Հավելված N 9'!I78+'Հավելված N 9'!I80+'Հավելված N 9'!I81 -> 140703.2
A21: 1163 | B21: 32003 | C21: Թեթև կոնստրուկցիաներով մարզադահլիճների հիմնում | D21: =SUM(E21:H21) -> -394784.4 | E21: =+E23 -> -394784.4 | F21: =+F23 -> 0 | G21: =+G23 -> 0 | H21: =+H23 -> 0
C22: այդ թվում`
C23: ՀՀ Կոտայքի մարզ | D23: =SUM(E23:H23) -> -394784.4 | E23: =+E24 -> -394784.4 | F23: =+F24 -> 0 | G23: =+G24 -> 0 | H23: =+H24 -> 0
C24: ՀՀ Կոտայքի մարզի Նաիրի համայնքում Զովունի գյուղում թեթև կոնստրուկցիաներով մարզադահլիճ | D24: =+E24+F24+G24+H24 -> -394784.4 | E24: =+'Հավելված N 9'!I17+'Հավելված N 9'!I19+'Հավելված N 9'!I20 -> -394784.4
A25: 1148 | B25: 32004 | C25: Մարզադպրոցների գույքային և տեխնիկական ապահովվածության բարելավում | D25: =SUM(E25:H25) -> 26253.5 | E25: =+E27 -> 0 | F25: =+F27 -> 0 | G25: =+G27 -> 0 | H25: =+H27 -> 26253.5
C26: այդ թվում`
C27: ՀՀ Գեղարքունիքի մարզ | D27: =SUM(E27:H27) -> 26253.5 | E27: =+E28 -> 0 | F27: =+F28 -> 0 | G27: =+G28 -> 0 | H27: =+H28 -> 26253.5
C28: Սևան համայնքի «Վալերի Սարգսյանի անվան երաժշտական դպրոց» ՀՈԱԿ | D28: =+E28+F28+G28+H28 -> 26253.5 | H28: =+'Հավելված N 9'!I55 -> 26253.5
A29: 1168 | B29: 32001 | C29: Ներդրումներ թատրոնների և համերգային կազմակերպությունների շենքերի կապիտալ վերանորոգման համար | D29: =SUM(E29:H29) -> -38643.7 | E29: =+E31 -> 0 | F29: =+F31 -> -38643.7 | G29: =+G31 -> 0 | H29: =+H31 -> 0
C30: այդ թվում`
C31: Երևան քաղաք | D31: =SUM(E31:H31) -> -38643.7 | E31: =+E32 -> 0 | F31: =+F32 -> -38643.7 | G31: =+G32 -> 0 | H31: =+H32 -> 0
C32: «Հայաստանի ազգային ֆիլհարմոնիկ նվագախումբ» | D32: =+E32+F32+G32+H32 -> -38643.7 | F32: =+'Հավելված N 9'!I24+'Հավելված N 9'!I26 -> -38643.7
A33: 1168 | B33: 32007 | C33: Թատերահամերգային կազմակերպությունների նյութատեխնիկական բազայի համալրում | D33: =SUM(E33:H33) -> 8945.1 | E33: =+E35 -> 0 | F33: =+F35 -> 0 | G33: =+G35 -> 0 | H33: =+H35 -> 8945.1
C34: այդ թվում`
C35: Երևան քաղաք | D35: =SUM(E35:H35) -> 8945.1 | E35: =SUM(E36:E36) -> 0 | F35: =SUM(F36:F36) -> 0 | G35: =SUM(G36:G36) -> 0 | H35: =SUM(H36:H36) -> 8945.1
C36: «Սոս Սարգսյանի անվան համազգային թատրոն» ՊՈԱԿ | D36: =+E36+F36+G36+H36 -> 8945.1 | H36: =+'Հավելված N 9'!I29+'Հավելված N 9'!I30+'Հավելված N 9'!I31+'Հավելված N 9'!I32+'Հավելված N 9'!I33 -> 8945.1
A37: 1183 | B37: 32007 | C37: Հանրակրթական կրթություն իրականացնող ուսումնական հաստատությունների նոր մարզադահլիճների կառուցում | D37: =SUM(E37:H37) -> 75296.2 | E37: =+E39 -> 75296.2 | F37: =+F39 -> 0 | G37: =+G39 -> 0 | H37: =+H39 -> 0
C38: այդ թվում`
C39: ՀՀ Կոտայքի մարզ | D39: =SUM(E39:H39) -> 75296.2 | E39: =+E40 -> 75296.2 | F39: =+F40 -> 0 | G39: =+G40 -> 0 | H39: =+H40 -> 0
C40: «Արամ Մանուկյանի անվան մարզառազմական մասնագիտացված դպրոց» ՊՈԱԿ | D40: =+E40+F40+G40+H40 -> 75296.2 | E40: =+'Հավելված N 9'!I84+'Հավելված N 9'!I86+'Հավելված N 9'!I87 -> 75296.2
A41: 1236 | B41: 12001 | C41: Նախադպրոցական կրթության շրջանակներում մսուրային խմբերի ձևավորման համար շենքային պայմանների ապահովում | D41: =SUM(E41:H41) -> 26265.9 | E41: =+E43 -> 0 | F41: =+F43 -> 26265.9 | G41: =+G43 -> 0 | H41: =+H43 -> 0
C42: այդ թվում`
C43: Նախադպրոցական կրթության շրջանակներում մսուրային խմբերի ձևավորման համար նախատեսված տարածքների վերանորոգում/հիմնանորոգում | D43: =SUM(E43:H43) -> 26265.9 | E43: 0 | F43: =+'Հավելված N 9'!I36+'Հավելված N 9'!I42 -> 26265.9 | G43: 0 | H43: 0

Sheet Հավելված N 4
F1: Հավելված N 4
E2: ՀՀ կառավարության 2025 թվականի
F3: ______________ ի ___Ն որոշման
B6: ՀԱՅԱՍՏԱՆԻ ՀԱՆՐԱՊԵՏՈՒԹՅԱՆ ԿԱՌԱՎԱՐՈՒԹՅԱՆ 2024 ԹՎԱԿԱՆԻ ԴԵԿՏԵՄԲԵՐԻ 27-Ի N 2060-Ն ՈՐՈՇՄԱՆ N 5 ՀԱՎԵԼՎԱԾԻ N 2 ԱՂՅՈՒՍԱԿՈՒՄ ԿԱՏԱՐՎՈՂ ՓՈՓՈԽՈՒԹՅՈՒՆՆԵՐԸ ԵՎ ԼՐԱՑՈՒՄՆԵՐԸ
G8: հազ. դրամներով
B9: Ծրագրային դասիչ | D9: Բյուջետային գլխավոր կարգադրիչների, ծրագրերի, միջոցառումների, միջոցառումները կատարող պետական մարմինների և ուղղությունների անվանումները | E9: Ցուցանիշների փոփոխությունը (ավելացումները նշված են դրական նշանով, իսկ նվազեցումները՝ փակագծերում)
B10: Ծրագիր | C10: Միջոցառում | E10: Առաջին կիսամյակ | F10: Ինն ամիս | G10: Տարի
D11: ՀՀ ԿՐԹՈՒԹՅԱՆ, ԳԻՏՈՒԹՅԱՆ, ՄՇԱԿՈՒՅԹԻ ԵՎ ՍՊՈՐՏԻ ՆԱԽԱՐԱՐՈՒԹՅՈՒՆ | E11: =+E13+E21+E27+E33+E39+E45+E51+E54 -> -4890.5 | F11: =+F13+F21+F27+F33+F39+F45+F51+F54 -> -45492.9 | G11: =+G13+G21+G27+G33+G39+G45+G51+G54 -> -45492.9
D12: այդ թվում՝
B13: 1045 | C13: 32001 | D13: Մասնագիտական ուսումնական հաստատությունների շենքային պայմանների բարելավում | E13: =+E15 -> 0 | F13: =+F15 -> 152054.6 | G13: =+G15 -> 251174.5
D14: այդ թվում` ըստ կատարողների
D15: ՀՀ կրթության, գիտության, մշակույթի և սպորտի նախարարություն | E15: =+E17+E19 -> 0 | F15: =+F17+F19 -> 152054.6 | G15: =+G17+G19 -> 251174.5
D16: այդ թվում`ըստ ուղղությունների
D17: Երևան քաղաք | E17: =+E18 -> 0 | F17: =+F18 -> 66282.8 | G17: =+G18 -> 110471.3
D18: =+'Հավելված N 3'!C18 -> «Երևանի հ․8 արհեստագործական պետական ուսումնարան» ՊՈԱԿ | E18: =+'Հավելված N 3'!G18 -> 0 | F18: =+ROUND(G18*0.6,1) -> 66282.8 | G18: =+'Հավելված N 3'!D18 -> 110471.3
D19: ՀՀ Լոռու մարզ | E19: =+E20 -> 0 | F19: =+F20 -> 85771.8 | G19: =+G20 -> 140703.2
D20: =+'Հավելված N 3'!C20 -> «Վանաձորի Կ. Ղարաքեշիշյանի անվան N 1 արհեստագործական պետական ուսումնարան» ՊՈԱԿ | E20: 0 | F20: =69464.3+448+439.3+15420.2 -> 85771.8 | G20: =+'Հավելված N 3'!D20 -> 140703.2
B21: 1148 | C21: 32004 | D21: Մարզադպրոցների գույքային և տեխնիկական ապահովվածության բարելավում | E21: =+E23 -> 26253.5 | F21: =+F23 -> 26253.5 | G21: =+G23 -> 26253.5
D22: այդ թվում` ըստ կատարողների
D23: ՀՀ կրթության, գիտության, մշակույթի և սպորտի նախարարություն | E23: =+E25 -> 26253.5 | F23: =+F25 -> 26253.5 | G23: =+G25 -> 26253.5
D24: այդ թվում`ըստ ուղղությունների
D25: ՀՀ Գեղարքունիքի մարզ | E25: =+E26 -> 26253.5 | F25: =+F26 -> 26253.5 | G25: =+G26 -> 26253.5
D26: =+'Հավելված N 3'!C28 -> Սևան համայնքի «Վալերի Սարգսյանի անվան երաժշտական դպրոց» ՀՈԱԿ | E26: =+G26 -> 26253.5 | F26: =+G26 -> 26253.5 | G26: =+'Հավելված N 3'!D28 -> 26253.5
B27: 1163 | C27: 32003 | D27: Թեթև կոնստրուկցիաներով մարզադահլիճների հիմնում | E27: =+E29 -> -140891 | F27: =+F29 -> -295664.5 | G27: =+G29 -> -394784.4
D28: այդ թվում` ըստ կատարողների
D29: ՀՀ կրթության, գիտության, մշակույթի և սպորտի նախարարություն | E29: =+E31 -> -140891 | F29: =+F31 -> -295664.5 | G29: =+G31 -> -394784.4
D30: այդ թվում`ըստ ուղղությունների
D31: ՀՀ Կոտայքի մարզ | E31: =+E32 -> -140891 | F31: =+F32 -> -295664.5 | G31: =+G32 -> -394784.4
D32: =+'Հավելված N 3'!C24 -> ՀՀ Կոտայքի մարզի Նաիրի համայնքում Զովունի գյուղում թեթև կոնստրուկցիաներով մարզադահլիճ | E32: -140891 | F32: =-288021.8-5879-1763.7 -> -295664.5 | G32: =+'Հավելված N 3'!E24+'Հավելված N 3'!G24 -> -394784.4
B33: 1168 | C33: 32001 | D33: Ներդրումներ թատրոնների և համերգային կազմակերպությունների շենքերի կապիտալ վերանորոգման համար | E33: =+E35 -> -30915 | F33: =+F35 -> -38643.7 | G33: =+G35 -> -38643.7
D34: այդ թվում` ըստ կատարողների
D35: ՀՀ կրթության, գիտության, մշակույթի և սպորտի նախարարություն | E35: =+E37 -> -30915 | F35: =+F37 -> -38643.7 | G35: =+G37 -> -38643.7
D36: այդ թվում`ըստ ուղղությունների
D37: Երևան քաղաք | E37: =+E38 -> -30915 | F37: =+F38 -> -38643.7 | G37: =+G38 -> -38643.7
D38: =+'Հավելված N 3'!C32 -> «Հայաստանի ազգային ֆիլհարմոնիկ նվագախումբ» | E38: =-30514-401 -> -30915 | F38: =-38142.5-501.2 -> -38643.7 | G38: =+'Հավելված N 3'!D32 -> -38643.7
B39: 1168 | C39: 32007 | D39: Թատերահամերգային կազմակերպությունների նյութատեխնիկական բազայի համալրում | E39: =+E41 -> 0 | F39: =+F41 -> 8945.1 | G39: =+G41 -> 8945.1
D40: այդ թվում` ըստ կատարողների
D41: ՀՀ կրթության, գիտության, մշակույթի և սպորտի նախարարություն | E41: =+E43 -> 0 | F41: =+F43 -> 8945.1 | G41: =+G43 -> 8945.1
D42: այդ թվում`ըստ ուղղությունների
D43: Երևան քաղաք | E43: =SUM(E44:E44) -> 0 | F43: =SUM(F44:F44) -> 8945.1 | G43: =SUM(G44:G44) -> 8945.1
...

Sheet Հավելված N 5
F1: Հավելված 5
F2: ՀՀ կառավարության 2025 թվականի
F3: ______________ ի ___Ն որոշման
A6: ՀԱՅԱՍՏԱՆԻ ՀԱՆՐԱՊԵՏՈՒԹՅԱՆ ԿԱՌԱՎԱՐՈՒԹՅԱՆ 2024 ԹՎԱԿԱՆԻ ԴԵԿՏԵՄԲԵՐԻ 27-Ի N 2060-Ն ՈՐՈՇՄԱՆ N 5 ՀԱՎԵԼՎԱԾԻ N 7 ԱՂՅՈՒՍԱԿՈՒՄ ԿԱՏԱՐՎՈՂ ԼՐԱՑՈՒՄՆԵՐԸ
A7: հազար դրամ
A8: Ծրագրային դասիչը | C8: Բյուջետային հատկացումների գլխավոր կարգադրիչների, ծրագրերի, միջոցառումների, ծախսային ուղղությունների անվանումները | F8: Միջոցառումները կատարող պետական մարմինների և դրամաշնորհ ստացող տնտեսվարող սուբյեկտների անվանումները | G8: Ցուցանիշների փոփոխությունը (ավելացումները նշված են դրական նշանով)
A9: Ծրագիր | B9: Միջոցառում | G9: Տարի
A10: ՀՀ կրթության, գիտության, մշակույթի և սպորտի նախարարություն | G10: =+G11+G14+G17+G21+G25 -> 45492.9
A11: 1075 | B11: Մշակութային ժառանգության ծրագիր | G11: =+G12 -> 4890.5
B12: 32010 | C12: Տեղեկատվական մոդուլային կենտրոնների ստեղծում | F12: ՀՀ կրթության, գիտության, մշակույթի և սպորտի նախարարություն | G12: =+G13 -> 4890.5
F13: «Պատմամշակութային արգելոց-թանգարանների և պատմական միջավայրի պահպանության ծառայություն» ՊՈԱԿ | G13: =118.2*58-(131317-129351.9) -> 4890.5
A14: 1168 | B14: Արվեստների ծրագիր | G14: =+G15 -> 36242.8
B15: 32001 | C15: Ներդրումներ թատրոնների և համերգային կազմակերպությունների շենքերի կապիտալ վերանորոգման համար | F15: ՀՀ կրթության, գիտության, մշակույթի և սպորտի նախարարություն | G15: =+G16 -> 36242.8
E16: «Արամ Խաչատրյան» համերգասրահում արևմտյան աստիճանավանդակի հատվածում վերելակի տեղադրման աշխատանքներ | F16: «Հայաստանի ազգային ֆիլհարմոնիկ նվագախումբ» ՊՈԱԿ | G16: 36242.8
A17: 1183 | B17: Ապահով դպրոց | G17: =+G18 -> 289.4
B18: 32001 | C18: Կրթական օբյեկտների շենքային պայմանների բարելավում | G18: =+G19 -> 289.4
F19: ՀՀ Գեղարքունիքի մարզպետի աշխատակազմ | G19: =+G20 -> 289.4
F20: «Մարտունու Ս․ Դարբինյանի անվան N 2 հիմնական դպրոց» ՊՈԱԿ | G20: =258.4+31 -> 289.4
A21: 1196 | B21: Մարզերի մշակութային զարգացման ծրագիր | G21: =+G22 -> 3560.2
B22: 12001 | C22: Աջակցություն համայնքներին մշակութային հաստատությունների շենքային պայմանների բարելավման համար | G22: =+G23 -> 3560.2
F23: ՀՀ Լոռու մարզպետի աշխատակազմ | G23: =+G24 -> 3560.2
F24: «Ստեփանավանի մշակույթի և ժամանցի կենտրոն» ՊՈԱԿ | G24: 3560.2
A25: 1236 | B25: Հանրակրթական և նախադպրոցական հաստատությունների հիմնում, կառուցում, բարելավում | G25: =+G26 -> 510
B26: 32006 | C26: Հանրակրթական դպրոցների, մանկապարտեզների և կրթահամալիրների գույքով և տեխնիկայով ապահովում | G26: =+G27+G30 -> 510
F27: ՀՀ տարածքային կառավարման և ենթակառուցվածքների նախարարություն | G27: =SUM(G28:G29) -> 320
F28: «Երևանի հ.91 հիմնական դպրոց» ՊՈԱԿ | G28: 80
F29: «Երևանի Վ. Պետրոսյանի անվան հ.51 հիմնական դպրոց» ՊՈԱԿ | G29: 240
F30: ՀՀ Գեղարքունիքի մարզպետի աշխատակազմ | G30: =SUM(G31) -> 190
F31: «Մարտունու Մ․Մելիք-Շահումյանցի անվան N 1 հիմնական դպրոց» ՊՈԱԿ | G31: 190

Sheet Հավելված N 6
C1: Հավելված N 6
C2: ՀՀ կառավարության 2025 թվականի
C3: ______________ ի ___Ն որոշման
A6: ՀԱՅԱՍՏԱՆԻ ՀԱՆՐԱՊԵՏՈՒԹՅԱՆ ԿԱՌԱՎԱՐՈՒԹՅԱՆ 2024 ԹՎԱԿԱՆԻ ԴԵԿՏԵՄԲԵՐԻ 27-Ի N 2060-Ն N 8 ՀԱՎԵԼՎԱԾՈՒՄ ԿԱՏԱՐՎՈՂ ԼՐԱՑՈՒՄԸ
C10: հազ. դրամներով
A11: Ծրագրային դասիչը | C11: Ծրագրերի, միջոցառումների անվանումները | D11: Ցուցանիշների փոփոխությունը (ավելացումները նշված են դրական նշանով)
A12: Ծրագիր | B12: Միջոցառում
C13: ԸՆԴԱՄԵՆԸ ԾԱԽՍԵՐ | D13: =+D15+D17+D19+D21+D27+D30+D43+D45+D48+D50+D52+D55 -> 320
C14: այդ թվում՝
A15: 1236 | C15: Հանրակրթական և նախադպրոցական հաստատությունների հիմնում, կառուցում, բարելավում | D15: =+D16 -> 320
B16: 32006 | C16: Հանրակրթական դպրոցների, մանկապարտեզների և կրթահամալիրների գույքով և տեխնիկայով ապահովում | D16: =+'Հավելված N 5'!G27 -> 320

Sheet Հավելված N 7
J1: Հավելված N 7
J2: ՀՀ կառավարության 2025 թվականի
J3: ______________ ի ___Ն որոշման
A6: ՀԱՅԱՍՏԱՆԻ ՀԱՆՐԱՊԵՏՈՒԹՅԱՆ ԿԱՌԱՎԱՐՈՒԹՅԱՆ 2024 ԹՎԱԿԱՆԻ ԴԵԿՏԵՄԲԵՐԻ 27-Ի N 2060-Ն ՈՐՈՇՄԱՆ N 9 ՀԱՎԵԼՎԱԾՈՒՄ ԿԱՏԱՐՎՈՂ ՓՈՓՈԽՈՒԹՅՈՒՆՆԵՐԸ ԵՎ ԼՐԱՑՈՒՄՆԵՐԸ
A9: ԲԳԿ | B9: Ծրագիր | D9: Միջոցառում | H9: Իրականացնողը/ ակտիվն օգտագործողը/ շահառուի ընտրության չափորոշիչը | I9: Արդյունքային չափորոշիչը | J9: Ցուցանիշների փոփոխությունը (ավելացումները նշված են դրական նշանով, իսկ նվազեցումները՝ փակագծերում)
B10: Դասիչը | C10: Անվանումը | D10: Դասիչը | E10: Անվանումը | F10: Նկարագրությունը | G10: Տեսակը | J10: Առաջին կիսամյակ | K10: Ինն ամիս | L10: Տարի
A11: ԸՆԴԱՄԵՆԸ | J11: =+J13+J96 -> 0 | K11: =+K13+K96 -> 0 | L11: =+L13+L96 -> 0
A12: այդ թվում՝
A13: ՀՀ ԿՐԹՈՒԹՅԱՆ, ԳԻՏՈՒԹՅԱՆ, ՄՇԱԿՈԻՅԹԻ ԵՎ ՍՊՈՐՏԻ ՆԱԽԱՐԱՐՈՒԹՅՈՒՆ | J13: =+J14+J20+J27+J38+J45+J52+J63+J74+J80 -> 0 | K13: =+K14+K20+K27+K38+K45+K52+K63+K74+K80 -> 0 | L13: =+L14+L20+L27+L38+L45+L52+L63+L74+L80 -> 0
B14: 1045 | C14: Մասնագիտական կրթության և ուսուցման ծրագիր | J14: =+J15 -> 0 | K14: =+K15 -> 152054.6 | L14: =+L15 -> 251174.5
D15: 1045 - 32001 | E15: Մասնագիտական ուսումնական հաստատությունների շենքային պայմանների բարելավում | J15: =+'Հավելված N 1'!G17 -> 0 | K15: =+'Հավելված N 1'!H17 -> 152054.6 | L15: =+'Հավելված N 1'!I17 -> 251174.5
F16: Մասնագիտական ուսումնական հաստատությունների շենքերի հիմնանորոգման և նախագծման (շինարարական աշխատանքներ, ջեռուցման համակարգի ստեղծում, ներքին հարդարում, տարածքի բարեկարգում) աշխատանքների իրականացում
G17: Այլ պետական կազմակերպությունների կողմից օգտագործվող ոչ ֆինանսական ակտիվների հետ գործառնություններ
H18: Ակտիվն օգտագործող կազմակերպությունների անվանումները` Մասնագիտական ուսումնական հաստատություններ
B20: 1075 | C20: Մշակութային ժառանգության ծրագիր | J20: =+J21 -> 4890.5 | K20: =+K21 -> 4890.5 | L20: =+L21 -> 4890.5
D21: 1075 - 32010 | E21: Տեղեկատվական մոդուլային կենտրոնների ստեղծում | J21: =+'Հավելված N 2'!G86 -> 4890.5 | K21: =+'Հավելված N 2'!H86 -> 4890.5 | L21: =+'Հավելված N 2'!I86 -> 4890.5
F22: Տեղեկատվական մոդուլային կենտրոնների կառուցում և տեղադրումարգելոց-թանգարանների տարածքում
G23: Այլ պետական կազմակերպությունների կողմից օգտագործվող ոչ ֆինանսական ակտիվների հետ գործառնություններ
H24: Ակտիվն օգտագործող կազմակերպությունների անվանումները` Արգելոց-թանգարաններ
I25: Մոդուլային կենտրոնի կառուցման համար չափագրվող տարածքի մակերեսը, քմ | J25: 118.2 | L25: 118.2
B27: 1130 | C27: Կրթության, գիտության, մշակույթի և սպորտի բնագավառի պետական քաղաքականության մշակում, ծրագրերի համակարգում և մոնիտորինգ | J27: =+J28 -> 0 | K27: =+K28 -> 0 | L27: =+L28 -> 0
D28: 1130 - 31001 | E28: ՀՀ կրթության, գիտության, մշակույթի և սպորտի նախարարության կարողությունների զարգացում և տեխնիկական հագեցվածության ապահովում | J28: 0 | K28: 0 | L28: 0
F29: ՀՀ կրթության, գիտության, մշակույթի և սպորտի նախարարության աշխատանքային պայմանների բարելավման համար վարչական սարքավորումների ձեռք բերում
G30: Պետական մարմինների կողմից օգտագործվող ոչ ֆինանսական ակտիվների հետ գործառնություններ
H31: Ակտիվն օգտագործող կազմակերպության անվանումը` ՀՀ կրթության, գիտության, մշակույթի և սպորտի նախարարություն
I32: Համակարգչային սարքավորումների քանակ, հատ | L32: 1
I33: Գրասենյակային գույքի միավորի քանակ, հատ | L33: -19
I34: Տեխնիկա, սարքեր և սարքավորումներ, հատ | L34: 60
I35: Ծրագրային համակարգեր, հատ | L35: 2
I36: Նախարարությանն ամրացված շենքի ենթակառուցվածքների պահպանման և շահագործման համար անհրաժեշտ ապրանքներ, հատ | L36: 7
B38: 1148 | C38: Արտադպրոցական դաստիարակության ծրագիր | J38: =+J39 -> 26253.5 | K38: =+K39 -> 26253.5 | L38: =+L39 -> 26253.5
D39: 1148 - 32004 | E39: Արտադպրոցական հաստատությունների գույքային և տեխնիկական ապահովվածության բարելավում | J39: =+'Հավելված N 1'!G21 -> 26253.5 | K39: =+'Հավելված N 1'!H21 -> 26253.5 | L39: =+'Հավելված N 1'!I21 -> 26253.5
F40: Գույքային և տեխնիկական ապահովվածության բարելավման արդյունքում կիրառական գիտելիքների ձեռքբերման արդյունավետության բարձրացում
G41: Այլ պետական կազմակերպությունների կողմից օգտագործվող ոչ ֆինանսական ակտիվների հետ գործառնություններ
H42: Ակտիվն օգտագործող կազմակերպության անվանումը` Արտադպրոցական հաստատություններ
I43: Հաստատությունների թիվը, որոնք ապահովվում են գույքով, հատ | J43: 1 | L43: 1
B45: 1163 | C45: Մասսայական սպորտ | J45: =+J46 -> -140891 | K45: =+K46 -> -295664.5 | L45: =+L46 -> -394784.4
D46: 1163 - 32003 | E46: Թեթև կոնստրուկցիաներով մարզադահլիճների հիմնում | J46: =+'Հավելված N 1'!G23 -> -140891 | K46: =+'Հավելված N 1'!H23 -> -295664.5 | L46: =+'Հավելված N 1'!I23 -> -394784.4
F47: ՀՀ մարզերում արագ հավաքվող, թեթև կոնստրուկցիաներով, եվրոպական ստանդարտներին համապատասխան մարզադահլիճների հիմնում
G48: Այլ պետական կազմակերպությունների կողմից օգտագործվող ոչ ֆինանսական ակտիվների հետ գործառնություններ
...

Sheet Հավելված N 8
J1: Հավելված N 8
J2: ՀՀ կառավարության 2025 թվականի
J3: ______________ ի ___Ն որոշման
A6: ՀԱՅԱՍՏԱՆԻ ՀԱՆՐԱՊԵՏՈՒԹՅԱՆ ԿԱՌԱՎԱՐՈՒԹՅԱՆ 2024 ԹՎԱԿԱՆԻ ԴԵԿՏԵՄԲԵՐԻ 27-Ի N 2060-Ն ՈՐՈՇՄԱՆ N 9.1 ՀԱՎԵԼՎԱԾՈՒՄ ԿԱՏԱՐՎՈՂ ՓՈՓՈԽՈՒԹՅՈՒՆՆԵՐԸ ԵՎ ԼՐԱՑՈՒՄՆԵՐԸ
A9: ԲՍԿ | B9: Ծրագիր | D9: Միջոցառում | H9: Իրականացնողը/ ակտիվն օգտագործողը/ շահառուի ընտրության չափորոշիչը | I9: Արդյունքային չափորոշիչը | J9: Ցուցանիշների փոփոխությունը (ավելացումները նշված են դրական նշանով, իսկ նվազեցումները՝ փակագծերում)
B10: Դասիչը | C10: Անվանումը | D10: Դասիչը | E10: Անվանումը | F10: Նկարագրությունը | G10: Տեսակը | J10: Առաջին կիսամյակ | K10: Ինն ամիս | L10: Տարի
A11: ԸՆԴԱՄԵՆԸ | J11: =+J13+J80+J88+J103+J110 -> 0 | K11: =+K13+K80+K88+K103+K110 -> 1.5916157e-11 | L11: =+L13+L80+L88+L103+L110 -> -1.3187673e-11
A12: այդ թվում՝
A13: ՀՀ ԿՐԹՈՒԹՅԱՆ, ԳԻՏՈՒԹՅԱՆ, ՄՇԱԿՈԻՅԹԻ ԵՎ ՍՊՈՐՏԻ ՆԱԽԱՐԱՐՈՒԹՅՈՒՆ | J13: =+J14+J20+J27+J38+J45+J52+J63+J69 -> 0 | K13: =+K14+K20+K27+K38+K45+K52+K63+K69 -> -4359.6 | L13: =+L14+L20+L27+L38+L45+L52+L63+L69 -> -4359.6
B14: 1045 | C14: Մասնագիտական կրթության և ուսուցման ծրագիր | J14: =+J15 -> 0 | K14: =+K15 -> 152054.6 | L14: =+L15 -> 251174.5
D15: 1045 - 32001 | E15: Մասնագիտական ուսումնական հաստատությունների շենքային պայմանների բարելավում | J15: =+'Հավելված N 2'!G174 -> 0 | K15: =+'Հավելված N 2'!H174 -> 152054.6 | L15: =+'Հավելված N 2'!I174 -> 251174.5
F16: Մասնագիտական ուսումնական հաստատությունների շենքերի հիմնանորոգման և նախագծման (շինարարական աշխատանքներ, ջեռուցման համակարգի ստեղծում, ներքին հարդարում, տարածքի բարեկարգում) աշխատանքների իրականացում
G17: Այլ պետական կազմակերպությունների կողմից օգտագործվող ոչ ֆինանսական ակտիվների հետ գործառնություններ
H18: Ակտիվն օգտագործող կազմակերպությունների անվանումները` Մասնագիտական ուսումնական հաստատություններ
B20: 1075 | C20: Մշակութային ժառանգության ծրագիր | J20: =+J21 -> 4890.5 | K20: =+K21 -> 4890.5 | L20: =+L21 -> 4890.5
D21: 1075 - 32010 | E21: Տեղեկատվական մոդուլային կենտրոնների ստեղծում | J21: =+'Հավելված N 2'!G88 -> 4890.5 | K21: =+'Հավելված N 2'!H88 -> 4890.5 | L21: =+'Հավելված N 2'!I88 -> 4890.5
F22: Տեղեկատվական մոդուլային կենտրոնների կառուցում և տեղադրումարգելոց-թանգարանների տարածքում
G23: Այլ պետական կազմակերպությունների կողմից օգտագործվող ոչ ֆինանսական ակտիվների հետ գործառնություններ
H24: Ակտիվն օգտագործող կազմակերպությունների անվանումները` Արգելոց-թանգարաններ
I25: Մոդուլային կենտրոնի կառուցման համար չափագրվող տարածքի մակերեսը, քմ | J25: 118.2 | L25: 118.2
B27: 1130 | C27: Կրթության, գիտության, մշակույթի և սպորտի բնագավառի պետական քաղաքականության մշակում, ծրագրերի համակարգում և մոնիտորինգ | J27: =+J28 -> 0 | K27: =+K28 -> 0 | L27: =+L28 -> 0
D28: 1130 - 31001 | E28: ՀՀ կրթության, գիտության, մշակույթի և սպորտի նախարարության կարողությունների զարգացում և տեխնիկական հագեցվածության ապահովում | J28: 0 | K28: 0 | L28: 0
F29: ՀՀ կրթության, գիտության, մշակույթի և սպորտի նախարարության աշխատանքային պայմանների բարելավման համար վարչական սարքավորումների ձեռք բերում
G30: Պետական մարմինների կողմից օգտագործվող ոչ ֆինանսական ակտիվների հետ գործառնություններ
H31: Ակտիվն օգտագործող կազմակերպության անվանումը` ՀՀ կրթության, գիտության, մշակույթի և սպորտի նախարարություն
I32: Համակարգչային սարքավորումների քանակ, հատ | L32: 1
I33: Գրասենյակային գույքի միավորի քանակ, հատ | L33: -19
I34: Տեխնիկա, սարքեր և սարքավորումներ, հատ | L34: 60
I35: Ծրագրային համակարգեր, հատ | L35: 2
I36: Նախարարությանն ամրացված շենքի ենթակառուցվածքների պահպանման և շահագործման համար անհրաժեշտ ապրանքներ, հատ | L36: 7
B38: 1148 | C38: Արտադպրոցական դաստիարակության ծրագիր | J38: =+J39 -> 26253.5 | K38: =+K39 -> 26253.5 | L38: =+L39 -> 26253.5
D39: 1148 - 32004 | E39: Արտադպրոցական հաստատությունների գույքային և տեխնիկական ապահովվածության բարելավում | J39: =+'Հավելված N 2'!G157 -> 26253.5 | K39: =+'Հավելված N 2'!H157 -> 26253.5 | L39: =+'Հավելված N 2'!I157 -> 26253.5
F40: Գույքային և տեխնիկական ապահովվածության բարելավման արդյունքում կիրառական գիտելիքների ձեռքբերման արդյունավետության բարձրացում
G41: Այլ պետական կազմակերպությունների կողմից օգտագործվող ոչ ֆինանսական ակտիվների հետ գործառնություններ
H42: Ակտիվն օգտագործող կազմակերպության անվանումը` Արտադպրոցական հաստատություններ
I43: Հաստատությունների թիվը, որոնք ապահովվում են գույքով, հատ | J43: 1 | L43: 1
B45: 1163 | C45: Մասսայական սպորտ | J45: =+J46 -> -140891 | K45: =+K46 -> -295664.5 | L45: =+L46 -> -394784.4
D46: 1163 - 32003 | E46: Թեթև կոնստրուկցիաներով մարզադահլիճների հիմնում | J46: =+'Հավելված N 2'!G28 -> -140891 | K46: =+'Հավելված N 2'!H28 -> -295664.5 | L46: =+'Հավելված N 2'!I28 -> -394784.4
F47: ՀՀ մարզերում արագ հավաքվող, թեթև կոնստրուկցիաներով, եվրոպական ստանդարտներին համապատասխան մարզադահլիճների հիմնում
G48: Այլ պետական կազմակերպությունների կողմից օգտագործվող ոչ ֆինանսական ակտիվների հետ գործառնություններ
...

Sheet Հավելված N 9
H1: Հավելված N 9
H2: ՀՀ կառավարության 2025 թվականի
H3: ______________ ի ___Ն որոշման
A6: ՀԱՅԱՍՏԱՆԻ ՀԱՆՐԱՊԵՏՈՒԹՅԱՆ ԿԱՌԱՎԱՐՈՒԹՅԱՆ 2024 ԹՎԱԿԱՆԻ ԴԵԿՏԵՄԲԵՐԻ 27-Ի N 2060-Ն N 10 ՀԱՎԵԼՎԱԾՈՒՄ ԿԱՏԱՐՎՈՂ ՓՈՓՈԽՈՒԹՅՈՒՆՆԵՐԸ ԵՎ ԼՐԱՑՈՒՄՆԵՐԸ
A10: Կոդը | B10: Անվանումը | E10: Գնման ձևը | F10: Չափման միավորը | G10: Միավորի գինը | H10: Ցուցանիշների փոփոխությունը (ավելացումները նշված են դրական նշանով, իսկ նվազեցումները՝ փակագծերում)
H11: Քանակը | I11: Գումարը (հազար դրամ)
A12: 1 | B12: 2 | E12: 3 | F12: 4 | G12: 5 | H12: 6 | I12: 7
A13: ՀՀ կրթության, գիտության, մշակույթի և սպորտի նախարարություն | I13: =+I14+I21+I34+I53+I74 -> -45492.9
A14: Բաժին N 08 | B14: Խումբ N 01 | C14: Դաս N 01 | D14: Հանգստի և սպորտի ծառայություններ | I14: =+I15 -> -394784.4
A15: 1163-32003 | B15: Թեթև կոնստրուկցիաներով մարզադահլիճների հիմնում | I15: =+I16+I18 -> -394784.4
B16: ՄԱՍ II. ԱՇԽԱՏԱՆՔՆԵՐ | I16: =+I17 -> -384620.4
A17: 45211131-1 | B17: մարզական օբյեկտների շինարարական աշխատանքներ | E17: ԲՄ | F17: դրամ | I17: -384620.4
B18: ՄԱՍ III. ԾԱՌԱՅՈՒԹՅՈՒՆՆԵՐ | I18: =SUM(I19:I20) -> -10164
A19: 71351540-1 | B19: տեխնիկական հսկողության ծառայություններ | E19: ԳՀ | F19: դրամ | I19: -7818.5
A20: 98111140-1 | B20: հեղինակային հսկողության ծառայություններ | E20: ՄԱ | F20: դրամ | I20: -2345.5
A21: Բաժին N 08 | B21: Խումբ N 02 | C21: Դաս N 05 | D21: Արվեստ | I21: =+I22+I27 -> -29698.6
A22: 1168-32001 | B22: Ներդրումներ թատրոնների և համերգային կազմակերպությունների շենքերի կապիտալ վերանորոգման համար | I22: =+I23+I25 -> -38643.7
B23: ՄԱՍ II. ԱՇԽԱՏԱՆՔՆԵՐ | I23: =SUM(I24:I24) -> -38142.5
A24: 45611200-2 | B24: մշակութային օբյեկտների հիմնանորոգում | E24: ԲՄ | F24: դրամ | I24: =-3723.6-34418.9 -> -38142.5
B25: ՄԱՍ III. ԾԱՌԱՅՈՒԹՅՈՒՆՆԵՐ | I25: =+I26 -> -501.2
A26: 71351540-2 | B26: տեխնիկական հսկողության ծառայություններ | E26: ԳՀ | F26: դրամ | I26: -501.2
A27: 1168-32007 | B27: Թատերահամերգային կազմակերպությունների նյութատեխնիկական բազայի համալրում | I27: =+I28 -> 8945.1
B28: ՄԱՍ I. ԱՊՐԱՆՔՆԵՐ | I28: =SUM(I29:I33) -> 8945.1
A29: 39515100-501 | B29: վարագույրներ | C29: ԷԱՃ | D29: մետր | E29: ԷԱՃ | F29: մետր | G29: 7521.35 | H29: 206.08 | I29: =+ROUNDUP(H29*G29/1000,1) -> 1550
A30: 39515100-502 | B30: վարագույրներ | C30: ԷԱՃ | D30: մետր | E30: ԷԱՃ | F30: մետր | G30: 51150 | H30: 30 | I30: =+ROUNDUP(H30*G30/1000,1) -> 1534.5
A31: 39531600-502 | B31: հատակածածկույթներ | C31: ԷԱՃ | D31: քմ | E31: ԷԱՃ | F31: մետր | G31: 7586.95 | H31: 650 | I31: =+ROUNDUP(H31*G31/1000,1) -> 4931.6
A32: 39121200-502 | B32: սեղաններ | C32: ԷԱՃ | D32: հատ | E32: ԷԱՃ | F32: հատ | G32: 35750 | H32: 24 | I32: =+ROUNDUP(H32*G32/1000,1) -> 858
A33: 44411300/501 | B33: լվացարաններ | C33: ԷԱՃ | D33: հատ | E33: ԷԱՃ | F33: հատ | G33: 70994.1 | H33: 1 | I33: =+ROUNDUP(H33*G33/1000,1) -> 71
A34: Բաժին N 09 | B34: Խումբ N 01 | C34: Դաս N 01 | D34: Նախադպրոցական կրթություն | I34: =+I35 -> 26265.9
A35: 1236-12001 | B35: Նախադպրոցական կրթության շրջանակներում մսուրային խմբերի ձևավորման համար շենքային պայմանների ապահովում | I35: =+I36+I42 -> 26265.9
B36: ՄԱՍ II. ԱՇԽԱՏԱՆՔՆԵՐ | I36: =SUM(I37:I41) -> 25600.1
A37: 45211228 | B37: շինարարական աշխատանքներ մանկապարտեզների համար | E37: ԲՄ | F37: դրամ | G37: 10456630 | H37: 1 | I37: =+ROUNDUP(H37*G37/1000,1) -> 10456.7
A38: 45211228 | B38: շինարարական աշխատանքներ մանկապարտեզների համար | E38: ԲՄ | F38: դրամ | G38: 2871618 | H38: 1 | I38: =+ROUNDUP(H38*G38/1000,1) -> 2871.7
A39: 45211228 | B39: շինարարական աշխատանքներ մանկապարտեզների համար | E39: ԲՄ | F39: դրամ | G39: 751583 | H39: 1 | I39: =+ROUNDUP(H39*G39/1000,1) -> 751.6
A40: 45211228 | B40: շինարարական աշխատանքներ մանկապարտեզների համար | E40: ԲՄ | F40: դրամ | G40: 9845250 | H40: 1 | I40: =+ROUNDUP(H40*G40/1000,1) -> 9845.3
A41: 45211228 | B41: շինարարական աշխատանքներ մանկապարտեզների համար | E41: ԲՄ | F41: դրամ | G41: 1674780 | H41: 1 | I41: =+ROUNDUP(H41*G41/1000,1) -> 1674.8
B42: ՄԱՍ III. ԾԱՌԱՅՈՒԹՅՈՒՆՆԵՐ | I42: =SUM(I43:I52) -> 665.8
A43: 71351540 | B43: տեխնիկական հսկողության ծառայություններ | E43: ԳՀ | F43: դրամ | G43: 208827 | H43: 1 | I43: =+ROUNDUP(H43*G43/1000,1) -> 208.9
A44: 71351540 | B44: տեխնիկական հսկողության ծառայություններ | E44: ԳՀ | F44: դրամ | G44: 57432 | H44: 1 | I44: =+ROUNDUP(H44*G44/1000,1) -> 57.5
A45: 71351540 | B45: տեխնիկական հսկողության ծառայություններ | E45: ԳՀ | F45: դրամ | G45: 15032 | H45: 1 | I45: =+ROUNDUP(H45*G45/1000,1) -> 15.1
...

Sheet Հավելված N 10
F1: Հավելված N 10
I2: ՀՀ կառավարության 2025 թվականի
I3: ______________ ի ___Ն որոշման
A6: ՀԱՅԱՍՏԱՆԻ ՀԱՆՐԱՊԵՏՈՒԹՅԱՆ 2025 ԹՎԱԿԱՆԻ ՊԵՏԱԿԱՆ ԲՅՈՒՋԵՈՎ ՆԱԽԱՏԵՍՎԱԾ՝ ՀԱՅԱՍՏԱՆԻ ՀԱՆՐԱՊԵՏՈՒԹՅԱՆ ԿԱՌԱՎԱՐՈՒԹՅԱՆ ՊԱՀՈՒՍՏԱՅԻՆ ՖՈՆԴԻՑ ՀԱՏԿԱՑՈՒՄՆԵՐ ԿԱՏԱՐԵԼՈՒ ՎԵՐԱԲԵՐՅԱԼ
A9: Գործառական դասիչը | D9: Ծրագրային դասիչը | F9: Բյուջետային հատկացումների գլխավոր կարգադրիչների, ծրագրերի, միջոցառումների և միջոցառումները կատարող պետական մարմինների անվանումները | G9: Ցուցանիշների փոփոխությունը (ավելացումները նշված են դրական նշանով, իսկ նվազեցումները` փակագծերում)
A10: Բաժին | B10: Խումբ | C10: Դաս | D10: Ծրագիր | E10: Միջոցառում | G10: Առաջին կիսամյակ | H10: Ինն ամիս | I10: Տարի
F11: ԸՆԴԱՄԵՆԸ | G11: =+G13+G33 -> 0 | H11: =+H13+H33 -> 0 | I11: =+I13+I33 -> 0
F12: այդ թվում
F13: ՀՀ ԿԱՌԱՎԱՐՈՒԹՅՈՒՆ | G13: =+G14 -> -26253.5 | H13: =+H14 -> -56079.6 | I13: =+I14 -> -56079.6
A14: 11 | F14: ՀԻՄՆԱԿԱՆ ԲԱԺԻՆՆԵՐԻՆ ՉԴԱՍՎՈՂ ՊԱՀՈՒՍՏԱՅԻՆ ՖՈՆԴԵՐ | G14: =+G16 -> -26253.5 | H14: =+H16 -> -56079.6 | I14: =+I16 -> -56079.6
F15: այդ թվում`
B16: 01 | F16: ՀՀ կառավարության և համայնքների պահուստային ֆոնդ | G16: =+G18 -> -26253.5 | H16: =+H18 -> -56079.6 | I16: =+I18 -> -56079.6
F17: այդ թվում`
C18: 01 | F18: ՀՀ կառավարության պահուստային ֆոնդ | G18: =+G20 -> -26253.5 | H18: =+H20 -> -56079.6 | I18: =+I20 -> -56079.6
F19: այդ թվում`
F20: ՀՀ կառավարություն | G20: =+G22 -> -26253.5 | H20: =+H22 -> -56079.6 | I20: =+I22 -> -56079.6
F21: այդ թվում`
D22: 1139 | E22: ՀՀ կառավարության պահուստային ֆոնդ | F22: ՀՀ կառավարության պահուստային ֆոնդ | G22: =+G24 -> -26253.5 | H22: =+H24 -> -56079.6 | I22: =+I24 -> -56079.6
F23: այդ թվում`
E24: 11001 | F24: ՀՀ կառավարության պահուստային ֆոնդ | G24: =+G26 -> -26253.5 | H24: =+H26 -> -56079.6 | I24: =+I26 -> -56079.6
F25: այդ թվում` ըստ կատարողների
F26: ՀՀ կառավարություն | G26: =+G28 -> -26253.5 | H26: =+H28 -> -56079.6 | I26: =+I28 -> -56079.6
F27: այդ թվում՝ բյուջետային ծախսերի տնտեսագիտական դասակարգման հոդվածներ
F28: ԸՆԴԱՄԵՆԸ ԾԱԽՍԵՐ | G28: =+G29 -> -26253.5 | H28: =+H29 -> -56079.6 | I28: =+I29 -> -56079.6
F29: ԸՆԹԱՑԻԿ ԾԱԽՍԵՐ | G29: =+G30 -> -26253.5 | H29: =+H30 -> -56079.6 | I29: =+I30 -> -56079.6
F30: ԱՅԼ ԾԱԽՍԵՐ | G30: =+G31 -> -26253.5 | H30: =+H31 -> -56079.6 | I30: =+I31 -> -56079.6
F31: - Պահուստային միջոցներ | G31: =+'Հավելված N 2'!G228 -> -26253.5 | H31: =+'Հավելված N 2'!H228 -> -56079.6 | I31: =+'Հավելված N 2'!I228 -> -56079.6
F33: ՀՀ ԿՐԹՈՒԹՅԱՆ, ԳԻՏՈՒԹՅԱՆ, ՄՇԱԿՈՒՅԹԻ ԵՎ ՍՊՈՐՏԻ ՆԱԽԱՐԱՐՈՒԹՅՈՒՆ | G33: =+G34+G53 -> 26253.5 | H33: =+H34+H53 -> 56079.6 | I33: =+I34+I53 -> 56079.6
A34: 08 | F34: ՀԱՆԳԻՍՏ, ՄՇԱԿՈՒՅԹ ԵՎ ԿՐՈՆ | G34: =+G36 -> 0 | H34: =+H36 -> 3560.2 | I34: =+I36 -> 3560.2
F35: այդ թվում`
B36: 02 | F36: Մշակութային ծառայություններ | G36: =+G38 -> 0 | H36: =+H38 -> 3560.2 | I36: =+I38 -> 3560.2
F37: այդ թվում`
C38: 03 | F38: Մշակույթի տներ, ակումբներ, կենտրոններ | G38: =+G40 -> 0 | H38: =+H40 -> 3560.2 | I38: =+I40 -> 3560.2
F39: այդ թվում`
F40: ՀՀ կրթության, գիտության, մշակույթի և սպորտի նախարարություն | G40: =+G42 -> 0 | H40: =+H42 -> 3560.2 | I40: =+I42 -> 3560.2
F41: այդ թվում`
D42: 1196 | E42: Մարզերի մշակութային զարգացման ծրագիր | G42: =+G44 -> 0 | H42: =+H44 -> 3560.2 | I42: =+I44 -> 3560.2
F43: այդ թվում`
E44: 12001 | F44: Աջակցություն համայնքներին մշակութային հաստատությունների շենքային պայմանների բարելավման համար | G44: =+G46 -> 0 | H44: =+H46 -> 3560.2 | I44: =+I46 -> 3560.2
F45: այդ թվում` ըստ կատարողների
...
