Workbook
Name a: #REF!
Name a: #REF!
Name a: #REF!
Name a: #REF!
Name a: #REF!
Name a: #REF!
Name AgencyCode: #REF!
Name AgencyCode: #REF!
Name AgencyCode: #REF!
Name AgencyCode: #REF!
Name AgencyCode: #REF!
Name AgencyCode: #REF!
Name AgencyCode: #REF!
Name AgencyCode: #REF!
Name AgencyCode: #REF!
Name AgencyCode: #REF!
Name AgencyCode: #REF!
Name AgencyName: #REF!
Name AgencyName: #REF!
Name AgencyName: #REF!
Name AgencyName: #REF!
Name AgencyName: #REF!
Name AgencyName: #REF!
Name AgencyName: #REF!
Name åû: #REF!
Name åû: #REF!
Name davit: #REF!
Name davit: #REF!
Name davit: #REF!
Name davit: #REF!
Name davit: #REF!
Name davit: #REF!
Name Functional1: #REF!
Name Functional1: #REF!
Name Functional1: #REF!
Name Functional1: #REF!
Name Functional1: #REF!
Name Functional1: #REF!
Name Functional1: #REF!
Name ggg: #REF!
Name ggg: #REF!
Name ggg: #REF!
Name ggg: #REF!
Name ggg: #REF!
Name ggg: #REF!
Name hav: #REF!
Name mas: #REF!
Name mas: #REF!
Name mass: #REF!
Name mass: #REF!
Name PANature: #REF!
Name PANature: #REF!
Name PANature: #REF!
Name PANature: #REF!
Name PANature: #REF!
Name PANature: #REF!
Name PANature: #REF!
Name PAType: #REF!
Name PAType: #REF!
Name PAType: #REF!

Sheet Հավելված N 1
F1: Հավելված N 1
F2: ՀՀ կառավարության 2025 թվականի
F3: ______________ ի ___Ն որոշման
A6: «ՀԱՅԱUՏԱՆԻ ՀԱՆՐԱՊԵՏՈՒԹՅԱՆ 2025 ԹՎԱԿԱՆԻ ՊԵՏԱԿԱՆ ԲՅՈՒՋԵԻ ՄԱUԻՆ» ՀԱՅԱUՏԱՆԻ ՀԱՆՐԱՊԵՏՈՒԹՅԱՆ OՐԵՆՔԻ N 1 ՀԱՎԵԼՎԱԾԻ N 2 ԱՂՅՈՒՍԱԿՈՒՄ ԿԱՏԱՐՎՈՂ ՎԵՐԱԲԱՇԽՈՒՄԸ ԵՎ ՀԱՅԱՍՏԱՆԻ ՀԱՆՐԱՊԵՏՈՒԹՅԱՆ ԿԱՌԱՎԱՐՈՒԹՅԱՆ 2024 ԹՎԱԿԱՆԻ ԴԵԿՏԵՄԲԵՐԻ 27-Ի N 2060-Ն ՈՐՈՇՄԱՆ N 5 ՀԱՎԵԼՎԱԾԻ N 1 ԱՂՅՈՒՍԱԿՈՒՄ ԿԱՏԱՐՎՈՂ ՓՈՓՈԽՈՒԹՅՈՒՆՆԵՐԸ ԵՎ ԼՐԱՑՈՒՄՆԵՐԸ
I9: հազ. դրամներով
A10: ԲԳԿ | B10: Ծրագրային դասիչը | D10: ԲԳԿ/Ծրագրի /միջոցառման անվանումը | E10: Ծրագրի նպատակը/Միջոցառման նկարագրությունը | F10: Վերջնական արդյունքի նկարագրությունը/Միջոցառման տեսակը | G10: Ցուցանիշների փոփոխությունը (ավելացումները նշված են դրական նշանով, իսկ նվազեցումները փակագծերում)
G11: Առաջին կիսամյակ | H11: Ինն ամիս | I11: Տարի
B12: Ծրագիր | C12: Միջոցառում
A13: ԸՆԴԱՄԵՆԸ | G13: =+G15+G37 -> 0 | H13: =+H15+H37 -> 0 | I13: =+I15+I37 -> 0
A14: այդ թվում՝
A15: ՀՀ ԿՐԹՈՒԹՅԱՆ, ԳԻՏՈՒԹՅԱՆ, ՄՇԱԿՈՒՅԹԻ ԵՎ ՍՊՈՐՏԻ ՆԱԽԱՐԱՐՈՒԹՅՈՒՆ | G15: =+G16+G18+G20+G22+G24+G27+G30+G32 -> 0 | H15: =+H16+H18+H20+H22+H24+H27+H30+H32 -> 0 | I15: =+I16+I18+I20+I22+I24+I27+I30+I32 -> 0
B16: 1045 | D16: Մասնագիտական կրթության և ուսուցման ծրագիր | E16: Աշխատաշուկայի արդի պահանջներին համապատասխան արհեստագործական և միջին մասնագիտական կրթության որակավորում ունեցող մասնագետների պատրաստում, կրթության մատչելիության ապահովում: | F16: Արհեստագործական և միջին մասնագիտական կրթության գրավչության բարձրացում, մատչելի և մրցունակ արհեստագործական և միջին մասնագիտական կրթության ապահովում | G16: =+G17 -> 0 | H16: =+H17 -> 152054.6 | I16: =+I17 -> 251174.5
C17: 1045 - 32001 | D17: Մասնագիտական ուսումնական հաստատությունների շենքային պայմանների բարելավում | E17: Մասնագիտական ուսումնական հաստատությունների շենքերի հիմնանորոգման և նախագծման (շինարարական աշխատանքներ, ջեռուցման համակարգի ստեղծում, ներքին հարդարում, տարածքի բարեկարգում) աշխատանքների իրականացում | F17: Այլ պետական կազմակերպությունների կողմից օգտագործվող ոչ ֆինանսական ակտիվների հետ գործառնություններ | G17: =+'Հավելված N 2'!G172 -> 0 | H17: =+'Հավելված N 2'!H172 -> 152054.6 | I17: =+'Հավելված N 2'!I172 -> 251174.5
B18: 1075 | D18: Մշակութային ժառանգության ծրագիր | E18: Մշակութային ժառանգության պահպանում, օգտագործում, համալրում և հանրահռչակում | F18: Մշակութային ժառանգության շարունակական պահպանում, մշակութային զբոսաշրջության զարգացում և խթանում | G18: =+G19 -> 4890.5 | H18: =+H19 -> 4890.5 | I18: =+I19 -> 4890.5
C19: 1075 - 32010 | D19: Տեղեկատվական մոդուլային կենտրոնների ստեղծում | E19: Տեղեկատվական մոդուլային կենտրոնների կառուցում և տեղադրումարգելոց-թանգարանների տարածքումԱյլ պետական կազմակերպությունների կողմից օգտագործվող ոչֆինանսական ակտիվների հետ գործառնություններ | F19: Այլ պետական կազմակերպությունների կողմից օգտագործվող ոչ ֆինանսական ակտիվների հետ գործառնություններ | G19: =+'Հավելված N 2'!G86 -> 4890.5 | H19: =+'Հավելված N 2'!H86 -> 4890.5 | I19: =+'Հավելված N 2'!I86 -> 4890.5
B20: 1148 | D20: Արտադպրոցական դաստիարակության ծրագիր | E20: Նպաստել հանրակրթական ուսուցման համակարգում ընդգրկված երեխաների ֆիզիկական, հոգևոր և գեղագիտական զարգացմանը, բնապահպանական և կիրառական գիտելիքների ձեռքբերմանը | F20: Ստեղծել պայմաններ սովորողների ազատ ժամանացի կազմակերպան միջոցով նրանց հետաքրքրությունների բացահայտման, ձևավորման և զարգացման համար | G20: =+G21 -> 26253.5 | H20: =+H21 -> 26253.5 | I20: =+I21 -> 26253.5
C21: 1148 - 32004 | D21: Արտադպրոցական հաստատությունների գույքային և տեխնիկական ապահովվածության բարելավում | E21: Գույքային և տեխնիկական ապահովվածության բարելավման արդյունքում կիրառական գիտելիքների ձեռքբերման արդյունավետության բարձրացում | F21: Այլ պետական կազմակերպությունների կողմից օգտագործվող ոչ ֆինանսական ակտիվների հետ գործառնություններ | G21: =+'Հավելված N 2'!G155 -> 26253.5 | H21: =+'Հավելված N 2'!H155 -> 26253.5 | I21: =+'Հավելված N 2'!I155 -> 26253.5
B22: 1163 | D22: Մասսայական սպորտ | E22: Բնակչության շրջանում առողջ ապրելակերպի արմատավորում, անհատի բազմակողմանի ու ներդաշնակ զարգացման գործում ֆիզիկական կուլտուրայի և սպորտի դերի բարձրացում | F22: Սպորտի նկատմամբ հետաքրքրվածության և մասնակցության ընդլայնում | G22: =+G23 -> -140891 | H22: =+H23 -> -295664.5 | I22: =+I23 -> -394784.4
C23: 1163 - 32003 | D23: Թեթև կոնստրուկցիաներով մարզադահլիճների հիմնում | E23: ՀՀ մարզերում արագ հավաքվող, թեթև կոնստրուկցիաներով, օդահենային պնևմատիկ, եվրոպական ստանդարտներին համապատասխան մարզադահլիճների հիմնում | F23: Այլ պետական կազմակերպությունների կողմից օգտագործվող ոչ ֆինանսական ակտիվների հետ գործառնություններ | G23: =+'Հավելված N 2'!G26 -> -140891 | H23: =+'Հավելված N 2'!H26 -> -295664.5 | I23: =+'Հավելված N 2'!I26 -> -394784.4
B24: 1168 | D24: Արվեստների ծրագիր | E24: Նպաստել ազգային հենքի վրա ժամանակակից թատերարվեստի, երաժշտարվեստի, կերպարվեստի և պարարվեստի զարգացմանը և հանրահռչակմանը | F24: Մրցունակ արվեստային արտադրանքի ստեղծում, ստեղծագործական գործընթացների խթանում, արվեստի նոր նախագծերի ներդրում և մշակութային կյանքում հասարակության ներգրավում | G24: =+G25+G26 -> -30915 | H24: =+H25+H26 -> 6544.2 | I24: =+I25+I26 -> 6544.2
C25: 1168 - 32001 | D25: Ներդրումներ թատրոնների և համերգային կազմակերպությունների շենքերի կապիտալ վերանորոգման համար | E25: Թատրոնների և համերգային կազմակերպությունների շենքերի մասնաշենքերի հիմնանորոգում, համաշինարարական աշխատանքներ, ջեռուցման համակարգի իրականացում, ներքին հարդարում, տարածքի բարեկարգում և նախագծում | F25: Այլ պետական կազմակերպությունների կողմից օգտագործվող ոչ ֆինանսական ակտիվների հետ գործառնություններ | G25: =+'Հավելված N 2'!G58 -> -30915 | H25: =+'Հավելված N 2'!H58 -> -2400.9 | I25: =+'Հավելված N 2'!I58 -> -2400.9
C26: 1168 - 32007 | D26: Թատերահամերգային կազմակերպությունների նյութատեխնիկական բազայի համալրում | E26: Թատերահամերգային կազմակերպությունների համար անհրաժեշտ տեխնիկայի և սարքավորումների ձեռքբերում | F26: Այլ պետական կազմակերպությունների կողմից օգտագործվող ոչ ֆինանսական ակտիվների հետ գործառնություններ | G26: =+'Հավելված N 2'!G71 -> 0 | H26: =+'Հավելված N 2'!H71 -> 8945.1 | I26: =+'Հավելված N 2'!I71 -> 8945.1
B27: 1183 | D27: Ապահով դպրոց | E27: Դպրոցներին սպառնացող աղետների ռիսկի կառավարման կարողությունների հզորացում, դպրոցի անձնակազմի և աշակերտների անվտանգության ապահովման մակարդակի բարձրացում՛ կիրառելով ներառական և երեխայակենտրոն մոտեցում | F27: Դպրոցական միջավայրի բարելավում | G27: =+G28+G29 -> 0 | H27: =+H28+H29 -> 75585.6 | I27: =+I28+I29 -> 75585.6
C28: 1183 - 32001 | D28: Կրթական օբյեկտների շենքային պայմանների բարելավում | E28: Կրթական օբյեկտների շենքերի (մասնաշենքերի) հիմնանորոգում (համաշինարարական աշխատանքներ, ջեռուցման համակարգի իրականացում, ներքին հարդարում, տարածքի բարեկարգում) և նախագծում | F28: Այլ պետական կազմակերպությունների կողմից օգտագործվող ոչ ֆինանսական ակտիվների հետ գործառնություններ | G28: =+'Հավելված N 2'!G183 -> 0 | H28: =+'Հավելված N 2'!H183 -> 289.4 | I28: =+'Հավելված N 2'!I183 -> 289.4
C29: 1183 - 32007 | D29: Հանրակրթական կրթություն իրականացնող ուսումնական հաստատությունների նոր մարզադահլիճների կառուցում | E29: Հանրակրթական ուսուցում իրականացնող ուսումնական հաստատությունների նոր մարզադահլիճների կառուցման նախագծանախահաշվային փաստաթղթերի մշակում | F29: Այլ պետական կազմակերպությունների կողմից օգտագործվող ոչ ֆինանսական ակտիվների հետ գործառնություններ | G29: =+'Հավելված N 2'!G192 -> 0 | H29: =+'Հավելված N 2'!H192 -> 75296.2 | I29: =+'Հավելված N 2'!I192 -> 75296.2
B30: 1196 | D30: Մարզերի մշակութային զարգացման ծրագիր | E30: Մարզերում մշակութային կյանքի և մշակութաստեղծ գործունեության ակտիվացում | F30: Համայնքներում մշակույթի հասանելիության և մշակութային կյանքին մարզային բնակչության ընդգրկվածության ընդլայնում | G30: =+G31 -> 0 | H30: =+H31 -> 3560.2 | I30: =+I31 -> 3560.2
C31: 1196 - 12001 | D31: Աջակցություն համայնքներին մշակութային հաստատությունների շենքային պայմանների բարելավման համար | E31: Համայնքային ենթակայության մշակույթի տների՝ ակումբների և կենտրոնների հիմնանորոգում՝ կառուցում և նախագծում | F31: Տրանսֆերտների տրամադրում | G31: =+'Հավելված N 2'!G43 -> 0 | H31: =+'Հավելված N 2'!H43 -> 3560.2 | I31: =+'Հավելված N 2'!I43 -> 3560.2
B32: 1236 | D32: Հանրակրթական և նախադպրոցական հաստատությունների հիմնում, կառուցում, բարելավում | E32: Առնվազն 300 դպրոցի և 500 մանկապարտեզի կառուցման, վերակառուցման, հիմնանորոգման ծրագրերի իրականացում ՀՀ պետական բյուջեի միջոցների շրջանակներում | F32: Կրթական միջավայրի բարելավում | G32: =+G33+G34+G35 -> 140662 | H32: =+H33+H34+H35 -> 26775.9 | I32: =+I33+I34+I35 -> 26775.9
C33: 1236 - 12001 | D33: Նախադպրոցական կրթության շրջանակներում մսուրային խմբերի ձևավորման համար շենքային պայմանների ապահովում | E33: Նախադպրոցական կրթության հասանելիության ապահովման նպատակով՛ մանկապարտեզներում մսուրային խմբերի (վաղ տարիքի առաջին, երկրորդ, կրտսեր տարիքի առաջին խմբերի) ձևավորման համար նախատեսված տարածքների վերանորոգում/հիմնանորոգում, նախագծում | F33: Տրանսֆերտների տրամադրում | G33: =+'Հավելված N 2'!G105 -> 0 | H33: =+'Հավելված N 2'!H105 -> 26265.9 | I33: =+'Հավելված N 2'!I105 -> 26265.9
C34: 1236 - 32004 | D34: Հանրակրթական դպրոցների շենքերի վերակառուցում, հիմնանորոգում | E34: Դպրոցական պարտադիր կրթության հասանելիության ապահովման նպատակով՛ հանրակրթական դպրոցների շենքերի (մասնաշենքերի), վերակառուցում, հիմնանորոգում և նախագծում | F34: Այլ պետական կազմակերպությունների կողմից օգտագործվող ոչ ֆինանսական ակտիվների հետ գործառնություններ | G34: =+'Հավելված N 2'!G130 -> 140662 | H34: =+'Հավելված N 2'!H130 -> 0 | I34: =+'Հավելված N 2'!I130 -> 0
C35: 1236 - 32006 | D35: Հանրակրթական դպրոցների, մանկապարտեզների և կրթահամալիրների գույքով և տեխնիկայով ապահովում | E35: Կրթական ժամանակակից նորմերին և կրթական չափորոշիչներին համապատասխան ուսուցման ծրագրերն իրականացնելու նպատակով հանրակրթական և նախադպրոցական հաստատությունների համար գույքի և տեխնիկայի ձեռքբերում | F35: Այլ պետական կազմակերպությունների կողմից օգտագործվող ոչ ֆինանսական ակտիվների հետ գործառնություններ | G35: =+'Հավելված N 2'!G131 -> 0 | H35: =+'Հավելված N 2'!H131 -> 510 | I35: =+'Հավելված N 2'!I131 -> 510
A37: ՀՀ ԿԱՌԱՎԱՐՈՒԹՅՈՒՆ | G37: =+G38+G41+G43 -> 0 | H37: =+H38+H41+H43 -> 0 | I37: =+I38+I41+I43 -> 0
B38: 1139 | D38: ՀՀ կառավարության պահուստային ֆոնդ | E38: Պետական բյուջեում չկանխատեսված, ինչպես նաեւ բյուջետային երաշխիքների ապահովման ծախսերի ֆինանսավորման ապահովում | F38: Պահուստային ֆոնդի կառավարման արդյունավետության և թափանցիկության ապահովում | G38: =+G39+G40 -> 0 | H38: =+H39+H40 -> 0 | I38: =+I39+I40 -> 0
C39: 1139 - 11001 | D39: ՀՀ կառավարության պահուստային ֆոնդ | E39: ՀՀ պետական բյուջեում նախատեսված ելքերի լրացուցիչ ֆինանսավորման, պետական բյուջեում չկանխատեսված ելքերի, ինչպես նաև բյուջետային երաշխիքների ապահովման ելքերի ֆինանսավորման ապահովում | F39: Ծառայությունների մատուցում | G39: =+'Հավելված N 2'!G213 -> 26253.5 | H39: =+'Հավելված N 2'!H213 -> 56079.6 | I39: =+'Հավելված N 2'!I213 -> 56079.6
C40: 1139 - 11001 | D40: ՀՀ կառավարության պահուստային ֆոնդ | E40: ՀՀ պետական բյուջեում նախատեսված ելքերի լրացուցիչ ֆինանսավորման, պետական բյուջեում չկանխատեսված ելքերի, ինչպես նաև բյուջետային երաշխիքների ապահովման ելքերի ֆինանսավորման ապահովում | F40: Ծառայությունների մատուցում | G40: =+'Հավելված N 2'!G221 -> -26253.5 | H40: =+'Հավելված N 2'!H221 -> -56079.6 | I40: =+'Հավելված N 2'!I221 -> -56079.6

Sheet Հավելված N 2
F1: Հավելված N 2
F2: ՀՀ կառավարության 2025 թվականի
F3: ______________ ի ___Ն որոշման
A7: ՀԱՅԱՍՏԱՆԻ ՀԱՆՐԱՊԵՏՈՒԹՅԱՆ ԿԱՌԱՎԱՐՈՒԹՅԱՆ 2024 ԹՎԱԿԱՆԻ ԴԵԿՏԵՄԲԵՐԻ 27-Ի N 2060-Ն ՈՐՈՇՄԱՆ N 3 ԵՎ N 4 ՀԱՎԵԼՎԱԾՆԵՐՈՒՄ ԿԱՏԱՐՎՈՂ ՓՈՓՈԽՈՒԹՅՈՒՆՆԵՐԸ ԵՎ ԼՐԱՑՈՒՄՆԵՐԸ
I10: հազ. դրամներով
A11: Գործառական դասիչը | D11: Ծրագրային դասիչը | F11: Բյուջետային հատկացումների գլխավոր կարգադրիչների, ծրագրերի, միջոցառումների և միջոցառումները կատարող պետական մարմինների անվանումները | G11: Ցուցանիշների փոփոխությունը (ավելացումները նշված են դրական նշանով, իսկ նվազեցումները փակագծերում)
A12: Բաժին | B12: Խումբ | C12: Դաս | D12: Ծրագիր | E12: Միջոցառում | G12: Առաջին կիսամյակ | H12: Ինն ամիս | I12: Տարի
F13: ԸՆԴԱՄԵՆԸ | G13: =+G15+G202 -> 0 | H13: =+H15+H202 -> 0 | I13: =+I15+I202 -> 0
F14: այդ թվում՝
F15: ՀՀ ԿՐԹՈՒԹՅԱՆ, ԳԻՏՈՒԹՅԱՆ, ՄՇԱԿՈՒՅԹԻ ԵՎ ՍՊՈՐՏԻ ՆԱԽԱՐԱՐՈՒԹՅՈՒՆ | G15: =+G16+G95 -> 0 | H15: =+H16+H95 -> 0 | I15: =+I16+I95 -> 0
A16: 08 | F16: ՀԱՆԳԻՍՏ, ՄՇԱԿՈՒՅԹ ԵՎ ԿՐՈՆ | G16: =+G18+G35 -> -166915.5 | H16: =+H18+H35 -> -280669.6 | I16: =+I18+I35 -> -379789.5
F17: այդ թվում`
B18: 01 | F18: Հանգստի և սպորտի ծառայություններ | G18: =+G20 -> -140891 | H18: =+H20 -> -295664.5 | I18: =+I20 -> -394784.4
F19: այդ թվում`
C20: 01 | F20: Հանգստի և սպորտի ծառայություններ | G20: =+G22 -> -140891 | H20: =+H22 -> -295664.5 | I20: =+I22 -> -394784.4
F21: այդ թվում`
F22: ՀՀ կրթության, գիտության, մշակույթի և սպորտի նախարարություն | G22: =+G24 -> -140891 | H22: =+H24 -> -295664.5 | I22: =+I24 -> -394784.4
F23: այդ թվում`
D24: 1163 | E24: Մասսայական սպորտ | G24: =+G26 -> -140891 | H24: =+H26 -> -295664.5 | I24: =+I26 -> -394784.4
F25: այդ թվում`
E26: 32003 | F26: Թեթև կոնստրուկցիաներով մարզադահլիճների հիմնում | G26: =+G28 -> -140891 | H26: =+H28 -> -295664.5 | I26: =+I28 -> -394784.4
F27: այդ թվում` ըստ կատարողների
F28: ՀՀ կրթության, գիտության, մշակույթի և սպորտի նախարարություն | G28: =+G30 -> -140891 | H28: =+H30 -> -295664.5 | I28: =+I30 -> -394784.4
F29: այդ թվում՝ բյուջետային ծախսերի տնտեսագիտական դասակարգման հոդվածներ
F30: ԸՆԴԱՄԵՆԸ ԾԱԽՍԵՐ | G30: =+G31 -> -140891 | H30: =+H31 -> -295664.5 | I30: =+I31 -> -394784.4
F31: ՈՉ ՖԻՆԱՆՍԱԿԱՆ ԱԿՏԻՎՆԵՐԻ ԳԾՈՎ ԾԱԽՍԵՐ | G31: =+G32 -> -140891 | H31: =+H32 -> -295664.5 | I31: =+I32 -> -394784.4
F32: ՀԻՄՆԱԿԱՆ ՄԻՋՈՑՆԵՐ | G32: =+G33 -> -140891 | H32: =+H33 -> -295664.5 | I32: =+I33 -> -394784.4
F33: ՇԵՆՔԵՐ ԵՎ ՇԻՆՈՒԹՅՈՒՆՆԵՐ | G33: =+G34 -> -140891 | H33: =+H34 -> -295664.5 | I33: =+I34 -> -394784.4
F34: - Շենքերի և շինությունների շինարարություն | G34: =+'Հավելված N 4'!E32 -> -140891 | H34: =+'Հավելված N 4'!F32 -> -295664.5 | I34: =+'Հավելված N 4'!G32-'Հավելված N 3'!G24 -> -394784.4
B35: 02 | F35: Մշակութային ծառայություններ | G35: =+G37+G52+G80 -> -26024.5 | H35: =+H37+H52+H80 -> 14994.9 | I35: =+I37+I52+I80 -> 14994.9
F36: այդ թվում`
C37: 03 | F37: Մշակույթի տներ, ակումբներ, կենտրոններ | G37: =+G39 -> 0 | H37: =+H39 -> 3560.2 | I37: =+I39 -> 3560.2
F38: այդ թվում`
F39: ՀՀ կրթության, գիտության, մշակույթի և սպորտի նախարարություն | G39: =+G41 -> 0 | H39: =+H41 -> 3560.2 | I39: =+I41 -> 3560.2
F40: այդ թվում`
D41: 1196 | E41: Մարզերի մշակութային զարգացման ծրագիր | G41: =+G43 -> 0 | H41: =+H43 -> 3560.2 | I41: =+I43 -> 3560.2
F42: այդ թվում`
E43: 12001 | F43: Աջակցություն համայնքներին մշակութային հաստատությունների շենքային պայմանների բարելավման համար | G43: =+G45 -> 0 | H43: =+H45 -> 3560.2 | I43: =+I45 -> 3560.2
F44: այդ թվում` ըստ կատարողների
F45: ՀՀ Լոռու մարզպետի աշխատակազմ | G45: =+G47 -> 0 | H45: =+H47 -> 3560.2 | I45: =+I47 -> 3560.2
F46: այդ թվում՝ բյուջետային ծախսերի տնտեսագիտական դասակարգման հոդվածներ
F47: ԸՆԴԱՄԵՆԸ ԾԱԽՍԵՐ | G47: =+G48 -> 0 | H47: =+H48 -> 3560.2 | I47: =+I48 -> 3560.2
F48: ԸՆԹԱՑԻԿ ԾԱԽՍԵՐ | G48: =+G49 -> 0 | H48: =+H49 -> 3560.2 | I48: =+I49 -> 3560.2
F49: ԴՐԱՄԱՇՆՈՐՀՆԵՐ | G49: =+G50 -> 0 | H49: =+H50 -> 3560.2 | I49: =+I50 -> 3560.2
F50: ԿԱՊԻՏԱԼ ԴՐԱՄԱՇՆՈՐՀՆԵՐ ՊԵՏԱԿԱՆ ՀԱՏՎԱԾԻ ԱՅԼ ՄԱԿԱՐԴԱԿՆԵՐԻՆ | G50: =+G51 -> 0 | H50: =+H51 -> 3560.2 | I50: =+I51 -> 3560.2
F51: - Կապիտալ դրամաշնորհներ պետական և համայնքային ոչ առևտրային կազմակերպություններին | G51: 0 | H51: =+I51 -> 3560.2 | I51: =+'Հավելված N 5'!G23 -> 3560.2
C52: 05 | F52: Արվեստ | G52: =+G54 -> -30915 | H52: =+H54 -> 6544.2 | I52: =+I54 -> 6544.2
F53: այդ թվում`
F54: ՀՀ կրթության, գիտության, մշակույթի և սպորտի նախարարություն | G54: =+G56 -> -30915 | H54: =+H56 -> 6544.2 | I54: =+I56 -> 6544.2
F55: այդ թվում`
D56: 1168 | E56: Արվեստների ծրագիր | G56: =+G58+G71 -> -30915 | H56: =+H58+H71 -> 6544.2 | I56: =+I58+I71 -> 6544.2
F57: այդ թվում`
E58: 32001 | F58: Ներդրումներ թատրոնների և համերգային կազմակերպությունների շենքերի կապիտալ վերանորոգման համար | G58: =+G60 -> -30915 | H58: =+H60 -> -2400.9 | I58: =+I60 -> -2400.9
F59: այդ թվում` ըստ կատարողների
F60: ՀՀ կրթության, գիտության, մշակույթի և սպորտի նախարարություն | G60: =+G62 -> -30915 | H60: =+H62 -> -2400.9 | I60: =+I62 -> -2400.9
F61: այդ թվում՝ բյուջետային ծախսերի տնտեսագիտական դասակարգման հոդվածներ
F62: ԸՆԴԱՄԵՆԸ ԾԱԽՍԵՐ | G62: =+G63+G67 -> -30915 | H62: =+H63+H67 -> -2400.9 | I62: =+I63+I67 -> -2400.9
F63: ԸՆԹԱՑԻԿ ԾԱԽՍԵՐ | G63: =+G64 -> 0 | H63: =+H64 -> 36242.8 | I63: =+I64 -> 36242.8
F64: ԴՐԱՄԱՇՆՈՐՀՆԵՐ | G64: =+G65 -> 0 | H64: =+H65 -> 36242.8 | I64: =+I65 -> 36242.8
F65: ԿԱՊԻՏԱԼ ԴՐԱՄԱՇՆՈՐՀՆԵՐ ՊԵՏԱԿԱՆ ՀԱՏՎԱԾԻ ԱՅԼ ՄԱԿԱՐԴԱԿՆԵՐԻՆ | G65: =+G66 -> 0 | H65: =+H66 -> 36242.8 | I65: =+I66 -> 36242.8
F66: - Կապիտալ դրամաշնորհներ պետական և համայնքային ոչ առևտրային կազմակերպություններին | G66: 0 | H66: =+I66 -> 36242.8 | I66: =+'Հավելված N 5'!G15 -> 36242.8
F67: ՈՉ ՖԻՆԱՆՍԱԿԱՆ ԱԿՏԻՎՆԵՐԻ ԳԾՈՎ ԾԱԽՍԵՐ | G67: =+G68 -> -30915 | H67: =+H68 -> -38643.7 | I67: =+I68 -> -38643.7
F68: ՀԻՄՆԱԿԱՆ ՄԻՋՈՑՆԵՐ | G68: =+G69 -> -30915 | H68: =+H69 -> -38643.7 | I68: =+I69 -> -38643.7
F69: ՇԵՆՔԵՐ ԵՎ ՇԻՆՈՒԹՅՈՒՆՆԵՐ | G69: =+G70 -> -30915 | H69: =+H70 -> -38643.7 | I69: =+I70 -> -38643.7
F70: - Շենքերի և շինությունների կապիտալ վերանորոգում | G70: =+'Հավելված N 4'!E35 -> -30915 | H70: =+'Հավելված N 4'!F35 -> -38643.7 | I70: =+'Հավելված N 4'!G35 -> -38643.7
E71: 32007 | F71: Թատերահամերգային կազմակերպությունների նյութատեխնիկական բազայի համալրում | G71: =+G73 -> 0 | H71: =+H73 -> 8945.1 | I71: =+I73 -> 8945.1
F72: այդ թվում` ըստ կատարողների
F73: ՀՀ կրթության, գիտության, մշակույթի և սպորտի նախարարություն | G73: =+G75 -> 0 | H73: =+H75 -> 8945.1 | I73: =+I75 -> 8945.1
F74: այդ թվում՝ բյուջետային ծախսերի տնտեսագիտական դասակարգման հոդվածներ
F75: ԸՆԴԱՄԵՆԸ ԾԱԽՍԵՐ | G75: =+G76 -> 0 | H75: =+H76 -> 8945.1 | I75: =+I76 -> 8945.1
F76: ՈՉ ՖԻՆԱՆՍԱԿԱՆ ԱԿՏԻՎՆԵՐԻ ԳԾՈՎ ԾԱԽՍԵՐ | G76: =+G77 -> 0 | H76: =+H77 -> 8945.1 | I76: =+I77 -> 8945.1
F77: ՀԻՄՆԱԿԱՆ ՄԻՋՈՑՆԵՐ | G77: =+G78 -> 0 | H77: =+H78 -> 8945.1 | I77: =+I78 -> 8945.1
F78: ՄԵՔԵՆԱՆԵՐ ԵՎ ՍԱՐՔԱՎՈՐՈՒՄՆԵՐ | G78: =+G79 -> 0 | H78: =+H79 -> 8945.1 | I78: =+I79 -> 8945.1
F79: - Այլ մեքենաներ և սարքավորումներ | G79: =+'Հավելված N 4'!E41 -> 0 | H79: =+'Հավելված N 4'!F41 -> 8945.1 | I79: =+'Հավելված N 4'!G41 -> 8945.1
C80: 07 | F80: Հուշարձանների և մշակութային արժեքների վերականգնում և պահպանում | G80: =+G82 -> 4890.5 | H80: =+H82 -> 4890.5 | I80: =+I82 -> 4890.5
F81: այդ թվում`
F82: ՀՀ կրթության, գիտության, մշակույթի և սպորտի նախարարություն | G82: =+G84 -> 4890.5 | H82: =+H84 -> 4890.5 | I82: =+I84 -> 4890.5
F83: այդ թվում`
D84: 1075 | E84: Մշակութային ժառանգության ծրագիր | G84: =+G86 -> 4890.5 | H84: =+H86 -> 4890.5 | I84: =+I86 -> 4890.5
F85: այդ թվում`
E86: 32010 | F86: Տեղեկատվական մոդուլային կենտրոնների ստեղծում | G86: =+G88 -> 4890.5 | H86: =+H88 -> 4890.5 | I86: =+I88 -> 4890.5
F87: այդ թվում` ըստ կատարողների
F88: ՀՀ կրթության, գիտության, մշակույթի և սպորտի նախարարություն | G88: =+G90 -> 4890.5 | H88: =+H90 -> 4890.5 | I88: =+I90 -> 4890.5
F89: այդ թվում՝ բյուջետային ծախսերի տնտեսագիտական դասակարգման հոդվածներ
F90: ԸՆԴԱՄԵՆԸ ԾԱԽՍԵՐ | G90: =+G91 -> 4890.5 | H90: =+H91 -> 4890.5 | I90: =+I91 -> 4890.5
F91: ԸՆԹԱՑԻԿ ԾԱԽՍԵՐ | G91: =+G92 -> 4890.5 | H91: =+H92 -> 4890.5 | I91: =+I92 -> 4890.5
F92: ԴՐԱՄԱՇՆՈՐՀՆԵՐ | G92: =+G93 -> 4890.5 | H92: =+H93 -> 4890.5 | I92: =+I93 -> 4890.5
F93: ԿԱՊԻՏԱԼ ԴՐԱՄԱՇՆՈՐՀՆԵՐ ՊԵՏԱԿԱՆ ՀԱՏՎԱԾԻ ԱՅԼ ՄԱԿԱՐԴԱԿՆԵՐԻՆ | G93: =+G94 -> 4890.5 | H93: =+H94 -> 4890.5 | I93: =+I94 -> 4890.5
F94: - Կապիտալ դրամաշնորհներ պետական և համայնքային ոչ առևտրային կազմակերպություններին | G94: =+I94 -> 4890.5 | H94: =+I94 -> 4890.5 | I94: =+'Հավելված N 5'!G12 -> 4890.5
A95: 09 | F95: ԿՐԹՈՒԹՅՈՒՆ | G95: =+G97+G114+G147+G164 -> 166915.5 | H95: =+H97+H114+H147+H164 -> 280669.6 | I95: =+I97+I114+I147+I164 -> 379789.5
F96: այդ թվում`
B97: 01 | F97: Նախադպրոցական և տարրական ընդհանուր կրթություն | G97: =+G99 -> 0 | H97: =+H99 -> 26265.9 | I97: =+I99 -> 26265.9
F98: այդ թվում`
C99: 01 | F99: Նախադպրոցական կրթություն | G99: =+G101 -> 0 | H99: =+H101 -> 26265.9 | I99: =+I101 -> 26265.9
F100: այդ թվում`
F101: ՀՀ կրթության, գիտության, մշակույթի և սպորտի նախարարություն | G101: =+G103 -> 0 | H101: =+H103 -> 26265.9 | I101: =+I103 -> 26265.9
F102: այդ թվում`
D103: 1236 | E103: Հանրակրթական և նախադպրոցական հաստատությունների հիմնում, կառուցում, բարելավում | G103: =+G105 -> 0 | H103: =+H105 -> 26265.9 | I103: =+I105 -> 26265.9
F104: այդ թվում`
E105: 12001 | F105: Նախադպրոցական կրթության շրջանակներում մսուրային խմբերի ձևավորման համար շենքային պայմանների ապահովում | G105: =+G107 -> 0 | H105: =+H107 -> 26265.9 | I105: =+I107 -> 26265.9
...

Sheet Հավելված N 3
F1: Հավելված N 3
F2: ՀՀ կառավարության 2025 թվականի
F3: ______________ ի ___Ն որոշման
A5: «ՀԱՅԱUՏԱՆԻ ՀԱՆՐԱՊԵՏՈՒԹՅԱՆ 2025 ԹՎԱԿԱՆԻ ՊԵՏԱԿԱՆ ԲՅՈՒՋԵԻ ՄԱUԻՆ» ՀԱՅԱUՏԱՆԻ ՀԱՆՐԱՊԵՏՈՒԹՅԱՆ OՐԵՆՔԻ N 1 ՀԱՎԵԼՎԱԾԻ N 3 ԱՂՅՈՒՍԱԿՈՒՄ ԿԱՏԱՐՎՈՂ ՓՈՓՈԽՈՒԹՅՈՒՆՆԵՐԸ ԵՎ ԼՐԱՑՈՒՄՆԵՐԸ
G8: հազ. դրամներով
A9: Ծրագրային դասիչ | C9: Բյուջետային գլխավոր կարգադրիչների, ծրագրերի, միջոցառումների, միջոցառումները կատարող պետական մարմինների և ուղղությունների անվանումները | D9: Ընդամենը | E9: Ցուցանիշների փոփոխությունը (ավելացումները նշված են դրական նշանով, իսկ նվազեցումները՝ փակագծերում)
A10: Ծրագիր | B10: Միջոցառում | E10: Կառուցման աշխատանքներ | F10: Վերակառուցման, վերանորոգման և վերականգնման աշխատանքներ | G10: Նախագծահե- տազոտական, գեոդեզիա- քարտեզագրա- կան աշխա- տանքներ | H10: Ոչ ֆինանսական այլ ակտիվների ձեռքբերում
C11: ԸՆԴԱՄԵՆԸ | D11: =SUM(E11:H11) -> -45492.9 | E11: =+E13 -> -319488.2 | F11: =+F13 -> 238796.7 | G11: =+G13 -> 0 | H11: =+H13 -> 35198.6
C12: այդ թվում՝
C13: ՀՀ ԿՐԹՈՒԹՅԱՆ, ԳԻՏՈՒԹՅԱՆ, ՄՇԱԿՈՒՅԹԻ ԵՎ ՍՊՈՐՏԻ ՆԱԽԱՐԱՐՈՒԹՅՈՒՆ | D13: =SUM(E13:H13) -> -45492.9 | E13: =+E15+E21+E25+E29+E33+E37+E41 -> -319488.2 | F13: =+F15+F21+F25+F29+F33+F37+F41 -> 238796.7 | G13: =+G15+G21+G25+G29+G33+G37+G41 -> 0 | H13: =+H15+H21+H25+H29+H33+H37+H41 -> 35198.6
C14: այդ թվում`
A15: 1045 | B15: 32001 | C15: Մասնագիտական ուսումնական հաստատությունների շենքային պայմանների բարելավում | D15: =SUM(E15:H15) -> 251174.5 | E15: =+E17+E19 -> 0 | F15: =+F17+F19 -> 251174.5 | G15: =+G17+G19 -> 0 | H15: =+H17+H19 -> 0
C16: այդ թվում`
C17: Երևան քաղաք | D17: =SUM(E17:H17) -> 110471.3 | E17: =+E18 -> 0 | F17: =+F18 -> 110471.3 | G17: =+G18 -> 0 | H17: =+H18 -> 0
C18: «Երևանի հ․8 արհեստագործական պետական ուսումնարան» ՊՈԱԿ | D18: =+E18+F18+G18+H18 -> 110471.3 | F18: =+'Հավելված N 9'!I77 -> 110471.3
C19: ՀՀ Լոռու մարզ | D19: =SUM(E19:H19) -> 140703.2 | E19: =+E20 -> 0 | F19: =+F20 -> 140703.2 | G19: =+G20 -> 0 | H19: =+H20 -> 0
C20: «Վանաձորի Կ. Ղարաքեշիշյանի անվան N 1 արհեստագործական պետական ուսումնարան» ՊՈԱԿ | D20: =+E20+F20+G20+H20 -> 140703.2 | F20: =+'Հավելված N 9'!I78+'Հավելված N 9'!I80+'Հավելված N 9'!I81 -> 140703.2
A21: 1163 | B21: 32003 | C21: Թեթև կոնստրուկցիաներով մարզադահլիճների հիմնում | D21: =SUM(E21:H21) -> -394784.4 | E21: =+E23 -> -394784.4 | F21: =+F23 -> 0 | G21: =+G23 -> 0 | H21: =+H23 -> 0
C22: այդ թվում`
C23: ՀՀ Կոտայքի մարզ | D23: =SUM(E23:H23) -> -394784.4 | E23: =+E24 -> -394784.4 | F23: =+F24 -> 0 | G23: =+G24 -> 0 | H23: =+H24 -> 0
C24: ՀՀ Կոտայքի մարզի Նաիրի համայնքում Զովունի գյուղում թեթև կոնստրուկցիաներով մարզադահլիճ | D24: =+E24+F24+G24+H24 -> -394784.4 | E24: =+'Հավելված N 9'!I17+'Հավելված N 9'!I19+'Հավելված N 9'!I20 -> -394784.4
A25: 1148 | B25: 32004 | C25: Մարզադպրոցների գույքային և տեխնիկական ապահովվածության բարելավում | D25: =SUM(E25:H25) -> 26253.5 | E25: =+E27 -> 0 | F25: =+F27 -> 0 | G25: =+G27 -> 0 | H25: =+H27 -> 26253.5
C26: այդ թվում`
C27: ՀՀ Գեղարքունիքի մարզ | D27: =SUM(E27:H27) -> 26253.5 | E27: =+E28 -> 0 | F27: =+F28 -> 0 | G27: =+G28 -> 0 | H27: =+H28 -> 26253.5
C28: Սևան համայնքի «Վալերի Սարգսյանի անվան երաժշտական դպրոց» ՀՈԱԿ | D28: =+E28+F28+G28+H28 -> 26253.5 | H28: =+'Հավելված N 9'!I55 -> 26253.5
A29: 1168 | B29: 32001 | C29: Ներդրումներ թատրոնների և համերգային կազմակերպությունների շենքերի կապիտալ վերանորոգման համար | D29: =SUM(E29:H29) -> -38643.7 | E29: =+E31 -> 0 | F29: =+F31 -> -38643.7 | G29: =+G31 -> 0 | H29: =+H31 -> 0
C30: այդ թվում`
C31: Երևան քաղաք | D31: =SUM(E31:H31) -> -38643.7 | E31: =+E32 -> 0 | F31: =+F32 -> -38643.7 | G31: =+G32 -> 0 | H31: =+H32 -> 0
C32: «Հայաստանի ազգային ֆիլհարմոնիկ նվագախումբ» | D32: =+E32+F32+G32+H32 -> -38643.7 | F32: =+'Հավելված N 9'!I24+'Հավելված N 9'!I26 -> -38643.7
A33: 1168 | B33: 32007 | C33: Թատերահամերգային կազմակերպությունների նյութատեխնիկական բազայի համալրում | D33: =SUM(E33:H33) -> 8945.1 | E33: =+E35 -> 0 | F33: =+F35 -> 0 | G33: =+G35 -> 0 | H33: =+H35 -> 8945.1
C34: այդ թվում`
C35: Երևան քաղաք | D35: =SUM(E35:H35) -> 8945.1 | E35: =SUM(E36:E36) -> 0 | F35: =SUM(F36:F36) -> 0 | G35: =SUM(G36:G36) -> 0 | H35: =SUM(H36:H36) -> 8945.1
C36: «Սոս Սարգսյանի անվան համազգային թատրոն» ՊՈԱԿ | D36: =+E36+F36+G36+H36 -> 8945.1 | H36: =+'Հավելված N 9'!I29+'Հավելված N 9'!I30+'Հավելված N 9'!I31+'Հավելված N 9'!I32+'Հավելված N 9'!I33 -> 8945.1
A37: 1183 | B37: 32007 | C37: Հանրակրթական կրթություն իրականացնող ուսումնական հաստատությունների նոր մարզադահլիճների կառուցում | D37: =SUM(E37:H37) -> 75296.2 | E37: =+E39 -> 75296.2 | F37: =+F39 -> 0 | G37: =+G39 -> 0 | H37: =+H39 -> 0
C38: այդ թվում`
C39: ՀՀ Կոտայքի մարզ | D39: =SUM(E39:H39) -> 75296.2 | E39: =+E40 -> 75296.2 | F39: =+F40 -> 0 | G39: =+G40 -> 0 | H39: =+H40 -> 0
C40: «Արամ Մանուկյանի անվան մարզառազմական մասնագիտացված դպրոց» ՊՈԱԿ | D40: =+E40+F40+G40+H40 -> 75296.2 | E40: =+'Հավելված N 9'!I84+'Հավելված N 9'!I86+'Հավելված N 9'!I87 -> 75296.2
A41: 1236 | B41: 12001 | C41: Նախադպրոցական կրթության շրջանակներում մսուրային խմբերի ձևավորման համար շենքային պայմանների ապահովում | D41: =SUM(E41:H41) -> 26265.9 | E41: =+E43 -> 0 | F41: =+F43 -> 26265.9 | G41: =+G43 -> 0 | H41: =+H43 -> 0
C42: այդ թվում`
C43: Նախադպրոցական կրթության շրջանակներում մսուրային խմբերի ձևավորման համար նախատեսված տարածքների վերանորոգում/հիմնանորոգում | D43: =SUM(E43:H43) -> 26265.9 | E43: 0 | F43: =+'Հավելված N 9'!I36+'Հավելված N 9'!I42 -> 26265.9 | G43: 0 | H43: 0

Sheet Հավելված N 4
F1: Հավելված N 4
E2: ՀՀ կառավարության 2025 թվականի
F3: ______________ ի ___Ն որոշման
B6: ՀԱՅԱՍՏԱՆԻ ՀԱՆՐԱՊԵՏՈՒԹՅԱՆ ԿԱՌԱՎԱՐՈՒԹՅԱՆ 2024 ԹՎԱԿԱՆԻ ԴԵԿՏԵՄԲԵՐԻ 27-Ի N 2060-Ն ՈՐՈՇՄԱՆ N 5 ՀԱՎԵԼՎԱԾԻ N 2 ԱՂՅՈՒՍԱԿՈՒՄ ԿԱՏԱՐՎՈՂ ՓՈՓՈԽՈՒԹՅՈՒՆՆԵՐԸ ԵՎ ԼՐԱՑՈՒՄՆԵՐԸ
G8: հազ. դրամներով
B9: Ծրագրային դասիչ | D9: Բյուջետային գլխավոր կարգադրիչների, ծրագրերի, միջոցառումների, միջոցառումները կատարող պետական մարմինների և ուղղությունների անվանումները | E9: Ցուցանիշների փոփոխությունը (ավելացումները նշված են դրական նշանով, իսկ նվազեցումները՝ փակագծերում)
B10: Ծրագիր | C10: Միջոցառում | E10: Առաջին կիսամյակ | F10: Ինն ամիս | G10: Տարի
D11: ՀՀ ԿՐԹՈՒԹՅԱՆ, ԳԻՏՈՒԹՅԱՆ, ՄՇԱԿՈՒՅԹԻ ԵՎ ՍՊՈՐՏԻ ՆԱԽԱՐԱՐՈՒԹՅՈՒՆ | E11: =+E13+E21+E27+E33+E39+E45+E51+E54 -> -4890.5 | F11: =+F13+F21+F27+F33+F39+F45+F51+F54 -> -45492.9 | G11: =+G13+G21+G27+G33+G39+G45+G51+G54 -> -45492.9
D12: այդ թվում՝
B13: 1045 | C13: 32001 | D13: Մասնագիտական ուսումնական հաստատությունների շենքային պայմանների բարելավում | E13: =+E15 -> 0 | F13: =+F15 -> 152054.6 | G13: =+G15 -> 251174.5
D14: այդ թվում` ըստ կատարողների
D15: ՀՀ կրթության, գիտության, մշակույթի և սպորտի նախարարություն | E15: =+E17+E19 -> 0 | F15: =+F17+F19 -> 152054.6 | G15: =+G17+G19 -> 251174.5
D16: այդ թվում`ըստ ուղղությունների
D17: Երևան քաղաք | E17: =+E18 -> 0 | F17: =+F18 -> 66282.8 | G17: =+G18 -> 110471.3
D18: =+'Հավելված N 3'!C18 -> «Երևանի հ․8 արհեստագործական պետական ուսումնարան» ՊՈԱԿ | E18: =+'Հավելված N 3'!G18 -> 0 | F18: =+ROUND(G18*0.6,1) -> 66282.8 | G18: =+'Հավելված N 3'!D18 -> 110471.3
D19: ՀՀ Լոռու մարզ | E19: =+E20 -> 0 | F19: =+F20 -> 85771.8 | G19: =+G20 -> 140703.2
D20: =+'Հավելված N 3'!C20 -> «Վանաձորի Կ. Ղարաքեշիշյանի անվան N 1 արհեստագործական պետական ուսումնարան» ՊՈԱԿ | E20: 0 | F20: =69464.3+448+439.3+15420.2 -> 85771.8 | G20: =+'Հավելված N 3'!D20 -> 140703.2
B21: 1148 | C21: 32004 | D21: Մարզադպրոցների գույքային և տեխնիկական ապահովվածության բարելավում | E21: =+E23 -> 26253.5 | F21: =+F23 -> 26253.5 | G21: =+G23 -> 26253.5
D22: այդ թվում` ըստ կատարողների
D23: ՀՀ կրթության, գիտության, մշակույթի և սպորտի նախարարություն | E23: =+E25 -> 26253.5 | F23: =+F25 -> 26253.5 | G23: =+G25 -> 26253.5
D24: այդ թվում`ըստ ուղղությունների
D25: ՀՀ Գեղարքունիքի մարզ | E25: =+E26 -> 26253.5 | F25: =+F26 -> 26253.5 | G25: =+G26 -> 26253.5
D26: =+'Հավելված N 3'!C28 -> Սևան համայնքի «Վալերի Սարգսյանի անվան երաժշտական դպրոց» ՀՈԱԿ | E26: =+G26 -> 26253.5 | F26: =+G26 -> 26253.5 | G26: =+'Հավելված N 3'!D28 -> 26253.5
B27: 1163 | C27: 32003 | D27: Թեթև կոնստրուկցիաներով մարզադահլիճների հիմնում | E27: =+E29 -> -140891 | F27: =+F29 -> -295664.5 | G27: =+G29 -> -394784.4
D28: այդ թվում` ըստ կատարողների
D29: ՀՀ կրթության, գիտության, մշակույթի և սպորտի նախարարություն | E29: =+E31 -> -140891 | F29: =+F31 -> -295664.5 | G29: =+G31 -> -394784.4
D30: այդ թվում`ըստ ուղղությունների
D31: ՀՀ Կոտայքի մարզ | E31: =+E32 -> -140891 | F31: =+F32 -> -295664.5 | G31: =+G32 -> -394784.4
D32: =+'Հավելված N 3'!C24 -> ՀՀ Կոտայքի մարզի Նաիրի համայնքում Զովունի գյուղում թեթև կոնստրուկցիաներով մարզադահլիճ | E32: -140891 | F32: =-288021.8-5879-1763.7 -> -295664.5 | G32: =+'Հավելված N 3'!E24+'Հավելված N 3'!G24 -> -394784.4
B33: 1168 | C33: 32001 | D33: Ներդրումներ թատրոնների և համերգային կազմակերպությունների շենքերի կապիտալ վերանորոգման համար | E33: =+E35 -> -30915 | F33: =+F35 -> -38643.7 | G33: =+G35 -> -38643.7
D34: այդ թվում` ըստ կատարողների
D35: ՀՀ կրթության, գիտության, մշակույթի և սպորտի նախարարություն | E35: =+E37 -> -30915 | F35: =+F37 -> -38643.7 | G35: =+G37 -> -38643.7
D36: այդ թվում`ըստ ուղղությունների
D37: Երևան քաղաք | E37: =+E38 -> -30915 | F37: =+F38 -> -38643.7 | G37: =+G38 -> -38643.7
D38: =+'Հավելված N 3'!C32 -> «Հայաստանի ազգային ֆիլհարմոնիկ նվագախումբ» | E38: =-30514-401 -> -30915 | F38: =-38142.5-501.2 -> -38643.7 | G38: =+'Հավելված N 3'!D32 -> -38643.7
B39: 1168 | C39: 32007 | D39: Թատերահամերգային կազմակերպությունների նյութատեխնիկական բազայի համալրում | E39: =+E41 -> 0 | F39: =+F41 -> 8945.1 | G39: =+G41 -> 8945.1
D40: այդ թվում` ըստ կատարողների
D41: ՀՀ կրթության, գիտության, մշակույթի և սպորտի նախարարություն | E41: =+E43 -> 0 | F41: =+F43 -> 8945.1 | G41: =+G43 -> 8945.1
D42: այդ թվում`ըստ ուղղությունների
D43: Երևան քաղաք | E43: =SUM(E44:E44) -> 0 | F43: =SUM(F44:F44) -> 8945.1 | G43: =SUM(G44:G44) -> 8945.1
D44: =+'Հավելված N 3'!C36 -> «Սոս Սարգսյանի անվան համազգային թատրոն» ՊՈԱԿ | E44: 0 | F44: =+G44 -> 8945.1 | G44: =+'Հավելված N 3'!D36 -> 8945.1
B45: 1183 | C45: 32007 | D45: Հանրակրթական կրթություն իրականացնող ուսումնական հաստատությունների նոր մարզադահլիճների կառուցում | E45: =+E47 -> 0 | F45: =+F47 -> 75296.2 | G45: =+G47 -> 75296.2
D46: այդ թվում` ըստ կատարողների
D47: ՀՀ կրթության, գիտության, մշակույթի և սպորտի նախարարություն | E47: =+E49 -> 0 | F47: =+F49 -> 75296.2 | G47: =+G49 -> 75296.2
D48: այդ թվում`ըստ ուղղությունների
D49: ՀՀ Կոտայքի մարզ | E49: =+E50 -> 0 | F49: =+F50 -> 75296.2 | G49: =+G50 -> 75296.2
D50: =+'Հավելված N 3'!C40 -> «Արամ Մանուկյանի անվան մարզառազմական մասնագիտացված դպրոց» ՊՈԱԿ | E50: 0 | F50: =+G50 -> 75296.2 | G50: =+'Հավելված N 3'!D40 -> 75296.2
B51: 1236 | C51: 12001 | D51: Նախադպրոցական կրթության շրջանակներում մսուրային խմբերի ձևավորման համար շենքային պայմանների ապահովում | E51: =+E53 -> 0 | F51: =+F53 -> 26265.9 | G51: =+G53 -> 26265.9
D52: այդ թվում` ըստ կատարողների
D53: ՀՀ կրթության, գիտության, մշակույթի և սպորտի նախարարություն | E53: 0 | F53: =+G53 -> 26265.9 | G53: =+'Հավելված N 3'!D43 -> 26265.9
B54: 1236 | C54: 32004 | D54: Հանրակրթական դպրոցների շենքերի վերակառուցում, հիմնանորոգում | E54: =+E56 -> 140662 | F54: =+F56 -> 0 | G54: =+G56 -> 0
D55: այդ թվում` ըստ կատարողների
D56: ՀՀ կրթության, գիտության, մշակույթի և սպորտի նախարարություն | E56: 140662 | G56: 0

Sheet Հավելված N 5
F1: Հավելված 5
F2: ՀՀ կառավարության 2025 թվականի
F3: ______________ ի ___Ն որոշման
A6: ՀԱՅԱՍՏԱՆԻ ՀԱՆՐԱՊԵՏՈՒԹՅԱՆ ԿԱՌԱՎԱՐՈՒԹՅԱՆ 2024 ԹՎԱԿԱՆԻ ԴԵԿՏԵՄԲԵՐԻ 27-Ի N 2060-Ն ՈՐՈՇՄԱՆ N 5 ՀԱՎԵԼՎԱԾԻ N 7 ԱՂՅՈՒՍԱԿՈՒՄ ԿԱՏԱՐՎՈՂ ԼՐԱՑՈՒՄՆԵՐԸ
A7: հազար դրամ
A8: Ծրագրային դասիչը | C8: Բյուջետային հատկացումների գլխավոր կարգադրիչների, ծրագրերի, միջոցառումների, ծախսային ուղղությունների անվանումները | F8: Միջոցառումները կատարող պետական մարմինների և դրամաշնորհ ստացող տնտեսվարող սուբյեկտների անվանումները | G8: Ցուցանիշների փոփոխությունը (ավելացումները նշված են դրական նշանով)
A9: Ծրագիր | B9: Միջոցառում | G9: Տարի
A10: ՀՀ կրթության, գիտության, մշակույթի և սպորտի նախարարություն | G10: =+G11+G14+G17+G21+G25 -> 45492.9
A11: 1075 | B11: Մշակութային ժառանգության ծրագիր | G11: =+G12 -> 4890.5
B12: 32010 | C12: Տեղեկատվական մոդուլային կենտրոնների ստեղծում | F12: ՀՀ կրթության, գիտության, մշակույթի և սպորտի նախարարություն | G12: =+G13 -> 4890.5
F13: «Պատմամշակութային արգելոց-թանգարանների և պատմական միջավայրի պահպանության ծառայություն» ՊՈԱԿ | G13: =118.2*58-(131317-129351.9) -> 4890.5
A14: 1168 | B14: Արվեստների ծրագիր | G14: =+G15 -> 36242.8
B15: 32001 | C15: Ներդրումներ թատրոնների և համերգային կազմակերպությունների շենքերի կապիտալ վերանորոգման համար | F15: ՀՀ կրթության, գիտության, մշակույթի և սպորտի նախարարություն | G15: =+G16 -> 36242.8
E16: «Արամ Խաչատրյան» համերգասրահում արևմտյան աստիճանավանդակի հատվածում վերելակի տեղադրման աշխատանքներ | F16: «Հայաստանի ազգային ֆիլհարմոնիկ նվագախումբ» ՊՈԱԿ | G16: 36242.8
A17: 1183 | B17: Ապահով դպրոց | G17: =+G18 -> 289.4
B18: 32001 | C18: Կրթական օբյեկտների շենքային պայմանների բարելավում | G18: =+G19 -> 289.4
F19: ՀՀ Գեղարքունիքի մարզպետի աշխատակազմ | G19: =+G20 -> 289.4
F20: «Մարտունու Ս․ Դարբինյանի անվան N 2 հիմնական դպրոց» ՊՈԱԿ | G20: =258.4+31 -> 289.4
A21: 1196 | B21: Մարզերի մշակութային զարգացման ծրագիր | G21: =+G22 -> 3560.2
B22: 12001 | C22: Աջակցություն համայնքներին մշակութային հաստատությունների շենքային պայմանների բարելավման համար | G22: =+G23 -> 3560.2
F23: ՀՀ Լոռու մարզպետի աշխատակազմ | G23: =+G24 -> 3560.2
F24: «Ստեփանավանի մշակույթի և ժամանցի կենտրոն» ՊՈԱԿ | G24: 3560.2
A25: 1236 | B25: Հանրակրթական և նախադպրոցական հաստատությունների հիմնում, կառուցում, բարելավում | G25: =+G26 -> 510
B26: 32006 | C26: Հանրակրթական դպրոցների, մանկապարտեզների և կրթահամալիրների գույքով և տեխնիկայով ապահովում | G26: =+G27+G30 -> 510
F27: ՀՀ տարածքային կառավարման և ենթակառուցվածքների նախարարություն | G27: =SUM(G28:G29) -> 320
F28: «Երևանի հ.91 հիմնական դպրոց» ՊՈԱԿ | G28: 80
F29: «Երևանի Վ. Պետրոսյանի անվան հ.51 հիմնական դպրոց» ՊՈԱԿ | G29: 240
F30: ՀՀ Գեղարքունիքի մարզպետի աշխատակազմ | G30: =SUM(G31) -> 190
F31: «Մարտունու Մ․Մելիք-Շահումյանցի անվան N 1 հիմնական դպրոց» ՊՈԱԿ | G31: 190

Sheet Հավելված N 6
C1: Հավելված N 6
C2: ՀՀ կառավարության 2025 թվականի
C3: ______________ ի ___Ն որոշման
A6: ՀԱՅԱՍՏԱՆԻ ՀԱՆՐԱՊԵՏՈՒԹՅԱՆ ԿԱՌԱՎԱՐՈՒԹՅԱՆ 2024 ԹՎԱԿԱՆԻ ԴԵԿՏԵՄԲԵՐԻ 27-Ի N 2060-Ն N 8 ՀԱՎԵԼՎԱԾՈՒՄ ԿԱՏԱՐՎՈՂ ԼՐԱՑՈՒՄԸ
C10: հազ. դրամներով
A11: Ծրագրային դասիչը | C11: Ծրագրերի, միջոցառումների անվանումները | D11: Ցուցանիշների փոփոխությունը (ավելացումները նշված են դրական նշանով)
A12: Ծրագիր | B12: Միջոցառում
C13: ԸՆԴԱՄԵՆԸ ԾԱԽՍԵՐ | D13: =+D15+D17+D19+D21+D27+D30+D43+D45+D48+D50+D52+D55 -> 320
C14: այդ թվում՝
A15: 1236 | C15: Հանրակրթական և նախադպրոցական հաստատությունների հիմնում, կառուցում, բարելավում | D15: =+D16 -> 320
B16: 32006 | C16: Հանրակրթական դպրոցների, մանկապարտեզների և կրթահամալիրների գույքով և տեխնիկայով ապահովում | D16: =+'Հավելված N 5'!G27 -> 320

Sheet Հավելված N 7
J1: Հավելված N 7
J2: ՀՀ կառավարության 2025 թվականի
J3: ______________ ի ___Ն որոշման
A6: ՀԱՅԱՍՏԱՆԻ ՀԱՆՐԱՊԵՏՈՒԹՅԱՆ ԿԱՌԱՎԱՐՈՒԹՅԱՆ 2024 ԹՎԱԿԱՆԻ ԴԵԿՏԵՄԲԵՐԻ 27-Ի N 2060-Ն ՈՐՈՇՄԱՆ N 9 ՀԱՎԵԼՎԱԾՈՒՄ ԿԱՏԱՐՎՈՂ ՓՈՓՈԽՈՒԹՅՈՒՆՆԵՐԸ ԵՎ ԼՐԱՑՈՒՄՆԵՐԸ
A9: ԲԳԿ | B9: Ծրագիր | D9: Միջոցառում | H9: Իրականացնողը/ ակտիվն օգտագործողը/ շահառուի ընտրության չափորոշիչը | I9: Արդյունքային չափորոշիչը | J9: Ցուցանիշների փոփոխությունը (ավելացումները նշված են դրական նշանով, իսկ նվազեցումները՝ փակագծերում)
B10: Դասիչը | C10: Անվանումը | D10: Դասիչը | E10: Անվանումը | F10: Նկարագրությունը | G10: Տեսակը | J10: Առաջին կիսամյակ | K10: Ինն ամիս | L10: Տարի
A11: ԸՆԴԱՄԵՆԸ | J11: =+J13+J96 -> 0 | K11: =+K13+K96 -> 0 | L11: =+L13+L96 -> 0
A12: այդ թվում՝
A13: ՀՀ ԿՐԹՈՒԹՅԱՆ, ԳԻՏՈՒԹՅԱՆ, ՄՇԱԿՈԻՅԹԻ ԵՎ ՍՊՈՐՏԻ ՆԱԽԱՐԱՐՈՒԹՅՈՒՆ | J13: =+J14+J20+J27+J38+J45+J52+J63+J74+J80 -> 0 | K13: =+K14+K20+K27+K38+K45+K52+K63+K74+K80 -> 0 | L13: =+L14+L20+L27+L38+L45+L52+L63+L74+L80 -> 0
B14: 1045 | C14: Մասնագիտական կրթության և ուսուցման ծրագիր | J14: =+J15 -> 0 | K14: =+K15 -> 152054.6 | L14: =+L15 -> 251174.5
D15: 1045 - 32001 | E15: Մասնագիտական ուսումնական հաստատությունների շենքային պայմանների բարելավում | J15: =+'Հավելված N 1'!G17 -> 0 | K15: =+'Հավելված N 1'!H17 -> 152054.6 | L15: =+'Հավելված N 1'!I17 -> 251174.5
F16: Մասնագիտական ուսումնական հաստատությունների շենքերի հիմնանորոգման և նախագծման (շինարարական աշխատանքներ, ջեռուցման համակարգի ստեղծում, ներքին հարդարում, տարածքի բարեկարգում) աշխատանքների իրականացում
G17: Այլ պետական կազմակերպությունների կողմից օգտագործվող ոչ ֆինանսական ակտիվների հետ գործառնություններ
H18: Ակտիվն օգտագործող կազմակերպությունների անվանումները` Մասնագիտական ուսումնական հաստատություններ
B20: 1075 | C20: Մշակութային ժառանգության ծրագիր | J20: =+J21 -> 4890.5 | K20: =+K21 -> 4890.5 | L20: =+L21 -> 4890.5
D21: 1075 - 32010 | E21: Տեղեկատվական մոդուլային կենտրոնների ստեղծում | J21: =+'Հավելված N 2'!G86 -> 4890.5 | K21: =+'Հավելված N 2'!H86 -> 4890.5 | L21: =+'Հավելված N 2'!I86 -> 4890.5
F22: Տեղեկատվական մոդուլային կենտրոնների կառուցում և տեղադրումարգելոց-թանգարանների տարածքում
G23: Այլ պետական կազմակերպությունների կողմից օգտագործվող ոչ ֆինանսական ակտիվների հետ գործառնություններ
H24: Ակտիվն օգտագործող կազմակերպությունների անվանումները` Արգելոց-թանգարաններ
I25: Մոդուլային կենտրոնի կառուցման համար չափագրվող տարածքի մակերեսը, քմ | J25: 118.2 | L25: 118.2
B27: 1130 | C27: Կրթության, գիտության, մշակույթի և սպորտի բնագավառի պետական քաղաքականության մշակում, ծրագրերի համակարգում և մոնիտորինգ | J27: =+J28 -> 0 | K27: =+K28 -> 0 | L27: =+L28 -> 0
D28: 1130 - 31001 | E28: ՀՀ կրթության, գիտության, մշակույթի և սպորտի նախարարության կարողությունների զարգացում և տեխնիկական հագեցվածության ապահովում | J28: 0 | K28: 0 | L28: 0
F29: ՀՀ կրթության, գիտության, մշակույթի և սպորտի նախարարության աշխատանքային պայմանների բարելավման համար վարչական սարքավորումների ձեռք բերում
G30: Պետական մարմինների կողմից օգտագործվող ոչ ֆինանսական ակտիվների հետ գործառնություններ
H31: Ակտիվն օգտագործող կազմակերպության անվանումը` ՀՀ կրթության, գիտության, մշակույթի և սպորտի նախարարություն
I32: Համակարգչային սարքավորումների քանակ, հատ | L32: 1
I33: Գրասենյակային գույքի միավորի քանակ, հատ | L33: -19
I34: Տեխնիկա, սարքեր և սարքավորումներ, հատ | L34: 60
I35: Ծրագրային համակարգեր, հատ | L35: 2
I36: Նախարարությանն ամրացված շենքի ենթակառուցվածքների պահպանման և շահագործման համար անհրաժեշտ ապրանքներ, հատ | L36: 7
B38: 1148 | C38: Արտադպրոցական դաստիարակության ծրագիր | J38: =+J39 -> 26253.5 | K38: =+K39 -> 26253.5 | L38: =+L39 -> 26253.5
D39: 1148 - 32004 | E39: Արտադպրոցական հաստատությունների գույքային և տեխնիկական ապահովվածության բարելավում | J39: =+'Հավելված N 1'!G21 -> 26253.5 | K39: =+'Հավելված N 1'!H21 -> 26253.5 | L39: =+'Հավելված N 1'!I21 -> 26253.5
F40: Գույքային և տեխնիկական ապահովվածության բարելավման արդյունքում կիրառական գիտելիքների ձեռքբերման արդյունավետության բարձրացում
G41: Այլ պետական կազմակերպությունների կողմից օգտագործվող ոչ ֆինանսական ակտիվների հետ գործառնություններ
H42: Ակտիվն օգտագործող կազմակերպության անվանումը` Արտադպրոցական հաստատություններ
I43: Հաստատությունների թիվը, որոնք ապահովվում են գույքով, հատ | J43: 1 | L43: 1
B45: 1163 | C45: Մասսայական սպորտ | J45: =+J46 -> -140891 | K45: =+K46 -> -295664.5 | L45: =+L46 -> -394784.4
D46: 1163 - 32003 | E46: Թեթև կոնստրուկցիաներով մարզադահլիճների հիմնում | J46: =+'Հավելված N 1'!G23 -> -140891 | K46: =+'Հավելված N 1'!H23 -> -295664.5 | L46: =+'Հավելված N 1'!I23 -> -394784.4
F47: ՀՀ մարզերում արագ հավաքվող, թեթև կոնստրուկցիաներով, եվրոպական ստանդարտներին համապատասխան մարզադահլիճների հիմնում
G48: Այլ պետական կազմակերպությունների կողմից օգտագործվող ոչ ֆինանսական ակտիվների հետ գործառնություններ
H49: Ակտիվն օգտագործող կազմակերպության անվանումը` Մարզական հաստատություններ
I50: Կառուցվող մարզադահլիճների քանակը, հատ | J50: -1 | L50: -1
B52: 1168 | C52: Արվեստների ծրագիր | J52: =+J53+J57 -> -30915 | K52: =+K53+K57 -> 6544.2 | L52: =+L53+L57 -> 6544.2
D53: 1168 - 32001 | E53: Ներդրումներ թատրոնների և համերգային կազմակերպությունների շենքերի կապիտալ վերանորոգման համար | J53: =+'Հավելված N 1'!G25 -> -30915 | K53: =+'Հավելված N 1'!H25 -> -2400.9 | L53: =+'Հավելված N 1'!I25 -> -2400.9
F54: Թատրոնների և համերգային կազմակերպությունների շենքերի մասնաշենքերի հիմնանորոգում, համաշինարարական աշխատանքներ, ջեռուցման համակարգի իրականացում, ներքին հարդարում, տարածքի բարեկարգում և նախագծում
G55: Այլ պետական կազմակերպությունների կողմից օգտագործվող ոչ ֆինանսական ակտիվների հետ գործառնություններ
H56: Ակտիվն օգտագործող կազմակերպության անվանումը` Թատրոններ և համերգային կազմակերպություններ
D57: 1168 - 32007 | E57: Թատերահամերգային կազմակերպությունների նյութատեխնիկական բազայի համալրում | J57: =+'Հավելված N 1'!G26 -> 0 | K57: =+'Հավելված N 1'!H26 -> 8945.1 | L57: =+'Հավելված N 1'!I26 -> 8945.1
F58: Թատերահամերգային կազմակերպությունների համար անհրաժեշտ տեխնիկայի և սարքավորումների ձեռքբերում
G59: Այլ պետական կազմակերպությունների կողմից օգտագործվող ոչ ֆինանսական ակտիվների հետ գործառնություններ
H60: Ակտիվն օգտագործող կազմակերպության անվանումը` Թատրոններ և համերգային կազմակերպություններ
I61: Թատրոնների թիվը, որտեղ կատարվում են ներդրումները, հատ | L61: 1
B63: 1183 | C63: Ապահով դպրոց | J63: =+J64+J69 -> 0 | K63: =+K64+K69 -> 75585.6 | L63: =+L64+L69 -> 75585.6
D64: 1183 - 32001 | E64: Կրթական օբյեկտների շենքային պայմանների բարելավում | J64: =+'Հավելված N 1'!G28 -> 0 | K64: =+'Հավելված N 1'!H28 -> 289.4 | L64: =+'Հավելված N 1'!I28 -> 289.4
F65: Կրթական օբյեկտների շենքերի (մասնաշենքերի) հիմնանորոգում (համաշինարարական աշխատանքներ, ջեռուցման համակարգի իրականացում, ներքին հարդարում, տարածքի բարեկարգում) և նախագծում
G66: Այլ պետական կազմակերպությունների կողմից օգտագործվող ոչ ֆինանսական ակտիվների հետ գործառնություններ
H67: Ակտիվն օգտագործող կազմակերպությունների անվանումները` Հանրակրթական դպրոցներ
I68: Նախագծանախահաշվային փաստաթղթերի քանակ, հատ | L68: 1
D69: 1183 - 32007 | E69: Հանրակրթական կրթություն իրականացնող ուսումնական հաստատությունների նոր մարզադահլիճների կառուցում | J69: =+'Հավելված N 1'!G29 -> 0 | K69: =+'Հավելված N 1'!H29 -> 75296.2 | L69: =+'Հավելված N 1'!I29 -> 75296.2
F70: Հանրակրթական ուսուցում իրականացնող ուսումնական հաստատությունների նոր մարզադահլիճների կառուցման նախագծանախահաշվային փաստաթղթերի մշակում
G71: Այլ պետական կազմակերպությունների կողմից օգտագործվող ոչ ֆինանսական ակտիվների հետ գործառնություններ
H72: Ակտիվն օգտագործող կազմակերպությունների անվանումները` Հանրակրթական դպրոցներ
B74: 1196 | C74: Մարզերի մշակութային զարգացման ծրագիր | J74: =+J75 -> 0 | K74: =+K75 -> 3560.2 | L74: =+L75 -> 3560.2
D75: 1196 - 12001 | E75: Աջակցություն համայնքներին մշակութային հաստատությունների շենքային պայմանների բարելավման համար | J75: =+'Հավելված N 1'!G31 -> 0 | K75: =+'Հավելված N 1'!H31 -> 3560.2 | L75: =+'Հավելված N 1'!I31 -> 3560.2
F76: Համայնքային ենթակայության մշակույթի տների՝ ակումբների և կենտրոնների հիմնանորոգում՝ կառուցում և նախագծում
G77: Տրանսֆերտների տրամադրում
H78: Շահառուների ընտրության չափանիշները՝ ՀՀ համայնքների ենթակայության մշակութային հաստատություններ
B80: 1236 | C80: Հանրակրթական և նախադպրոցական հաստատությունների հիմնում, կառուցում, բարելավում | J80: =+J81+J86+J90 -> 140662 | K80: =+K81+K86+K90 -> 26775.9 | L80: =+L81+L86+L90 -> 26775.9
D81: 1236 - 12001 | E81: Նախադպրոցական կրթության շրջանակներում մսուրային խմբերի ձևավորման համար շենքային պայմանների ապահովում | J81: =+'Հավելված N 1'!G33 -> 0 | K81: =+'Հավելված N 1'!H33 -> 26265.9 | L81: =+'Հավելված N 1'!I33 -> 26265.9
F82: Նախադպրոցական կրթության հասանելիության ապահովման նպատակով՛ մանկապարտեզներում մսուրային խմբերի (վաղ տարիքի առաջին, երկրորդ, կրտսեր տարիքի առաջին խմբերի) ձևավորման համար նախատեսված տարածքների վերանորոգում/հիմնանորոգում, նախագծում
G83: Տրանսֆերտների տրամադրում
H84: Ակտիվն օգտագործող կազմակերպության անվանումը` Նախադպրոցական կրթություն իրականացնող ուսումնական հաստատություններ
I85: Մանկապարտեզների թիվը, որտեղ մսուրային խմբերի ձևավորման համար կատարվում են շենքային պայմանների բարելավման աշխատանքներ, հատ | L85: 5
D86: 1236 - 32004 | E86: Հանրակրթական դպրոցների շենքերի վերակառուցում, հիմնանորոգում | J86: =+'Հավելված N 1'!G34 -> 140662 | K86: =+'Հավելված N 1'!H34 -> 0 | L86: =+'Հավելված N 1'!I34 -> 0
F87: Դպրոցական պարտադիր կրթության հասանելիության ապահովման նպատակով՛ հանրակրթական դպրոցների շենքերի (մասնաշենքերի), վերակառուցում, հիմնանորոգում և նախագծում
G88: Այլ պետական կազմակերպությունների կողմից օգտագործվող ոչ ֆինանսական ակտիվների հետ գործառնություններ
H89: Ակտիվն օգտագործող կազմակերպությունների անվանումները` Հանրակրթական դպրոցներ
D90: 1236 - 32006 | E90: Հանրակրթական դպրոցների, մանկապարտեզների և կրթահամալիրների գույքով և տեխնիկայով ապահովում | J90: =+'Հավելված N 1'!G35 -> 0 | K90: =+'Հավելված N 1'!H35 -> 510 | L90: =+'Հավելված N 1'!I35 -> 510
F91: Կրթական ժամանակակից նորմերին և կրթական չափորոշիչներին համապատասխան ուսուցման ծրագրերն իրականացնելու նպատակով հանրակրթական և նախադպրոցական հաստատությունների համար գույքի և տեխնիկայի ձեռքբերում
G92: Այլ պետական կազմակերպությունների կողմից օգտագործվող ոչ ֆինանսական ակտիվների հետ գործառնություններ
H93: Ակտիվն օգտագործող կազմակերպությունների անվանումները` Հանրակրթական դպրոցներ, մանկապարտեզներ և կրթահամալիրներ
I94: Մասնակի գույքով ապահովվող դպրոցների քանակ, հատ | J94: 3 | L94: 3
A96: ՀՀ ԿԱՌԱՎԱՐՈՒԹՅՈՒՆ | J96: =+J97+J111+J117 -> 0 | K96: =+K97+K111+K117 -> 0 | L96: =+L97+L111+L117 -> 0
B97: 1139 | C97: ՀՀ կառավարության պահուստային ֆոնդ | J97: =+J98+J102 -> 0 | K97: =+K98+K102 -> 0 | L97: =+L98+L102 -> 0
D98: 1139 - 11001 | E98: ՀՀ կառավարության պահուստային ֆոնդ | J98: =+'Հավելված N 1'!G39 -> 26253.5 | K98: =+'Հավելված N 1'!H39 -> 56079.6 | L98: =+'Հավելված N 1'!I39 -> 56079.6
F99: ՀՀ պետական բյուջեում նախատեսված ելքերի լրացուցիչ ֆինանսավորման, պետական բյուջեում չկանխատեսված ելքերի, ինչպես նաև բյուջետային երաշխիքների ապահովման ելքերի ֆինանսավորման ապահովում
G100: Ծառայությունների մատուցում
H101: Ծառայությունը մատուցողի անվանումը` ՀՀ կառավարություն
D102: 1139 - 11001 | E102: ՀՀ կառավարության պահուստային ֆոնդ | J102: =+'Հավելված N 1'!G40 -> -26253.5 | K102: =+'Հավելված N 1'!H40 -> -56079.6 | L102: =+'Հավելված N 1'!I40 -> -56079.6
F103: ՀՀ պետական բյուջեում նախատեսված ելքերի լրացուցիչ ֆինանսավորման, պետական բյուջեում չկանխատեսված ելքերի, ինչպես նաև բյուջետային երաշխիքների ապահովման ելքերի ֆինանսավորման ապահովում
G104: Ծառայությունների մատուցում
H105: Ծառայությունը մատուցողի անվանումը` ՀՀ կառավարություն

Sheet Հավելված N 8
J1: Հավելված N 8
J2: ՀՀ կառավարության 2025 թվականի
J3: ______________ ի ___Ն որոշման
A6: ՀԱՅԱՍՏԱՆԻ ՀԱՆՐԱՊԵՏՈՒԹՅԱՆ ԿԱՌԱՎԱՐՈՒԹՅԱՆ 2024 ԹՎԱԿԱՆԻ ԴԵԿՏԵՄԲԵՐԻ 27-Ի N 2060-Ն ՈՐՈՇՄԱՆ N 9.1 ՀԱՎԵԼՎԱԾՈՒՄ ԿԱՏԱՐՎՈՂ ՓՈՓՈԽՈՒԹՅՈՒՆՆԵՐԸ ԵՎ ԼՐԱՑՈՒՄՆԵՐԸ
A9: ԲՍԿ | B9: Ծրագիր | D9: Միջոցառում | H9: Իրականացնողը/ ակտիվն օգտագործողը/ շահառուի ընտրության չափորոշիչը | I9: Արդյունքային չափորոշիչը | J9: Ցուցանիշների փոփոխությունը (ավելացումները նշված են դրական նշանով, իսկ նվազեցումները՝ փակագծերում)
B10: Դասիչը | C10: Անվանումը | D10: Դասիչը | E10: Անվանումը | F10: Նկարագրությունը | G10: Տեսակը | J10: Առաջին կիսամյակ | K10: Ինն ամիս | L10: Տարի
A11: ԸՆԴԱՄԵՆԸ | J11: =+J13+J80+J88+J103+J110 -> 0 | K11: =+K13+K80+K88+K103+K110 -> 1.5916157e-11 | L11: =+L13+L80+L88+L103+L110 -> -1.3187673e-11
A12: այդ թվում՝
A13: ՀՀ ԿՐԹՈՒԹՅԱՆ, ԳԻՏՈՒԹՅԱՆ, ՄՇԱԿՈԻՅԹԻ ԵՎ ՍՊՈՐՏԻ ՆԱԽԱՐԱՐՈՒԹՅՈՒՆ | J13: =+J14+J20+J27+J38+J45+J52+J63+J69 -> 0 | K13: =+K14+K20+K27+K38+K45+K52+K63+K69 -> -4359.6 | L13: =+L14+L20+L27+L38+L45+L52+L63+L69 -> -4359.6
B14: 1045 | C14: Մասնագիտական կրթության և ուսուցման ծրագիր | J14: =+J15 -> 0 | K14: =+K15 -> 152054.6 | L14: =+L15 -> 251174.5
D15: 1045 - 32001 | E15: Մասնագիտական ուսումնական հաստատությունների շենքային պայմանների բարելավում | J15: =+'Հավելված N 2'!G174 -> 0 | K15: =+'Հավելված N 2'!H174 -> 152054.6 | L15: =+'Հավելված N 2'!I174 -> 251174.5
F16: Մասնագիտական ուսումնական հաստատությունների շենքերի հիմնանորոգման և նախագծման (շինարարական աշխատանքներ, ջեռուցման համակարգի ստեղծում, ներքին հարդարում, տարածքի բարեկարգում) աշխատանքների իրականացում
G17: Այլ պետական կազմակերպությունների կողմից օգտագործվող ոչ ֆինանսական ակտիվների հետ գործառնություններ
H18: Ակտիվն օգտագործող կազմակերպությունների անվանումները` Մասնագիտական ուսումնական հաստատություններ
B20: 1075 | C20: Մշակութային ժառանգության ծրագիր | J20: =+J21 -> 4890.5 | K20: =+K21 -> 4890.5 | L20: =+L21 -> 4890.5
D21: 1075 - 32010 | E21: Տեղեկատվական մոդուլային կենտրոնների ստեղծում | J21: =+'Հավելված N 2'!G88 -> 4890.5 | K21: =+'Հավելված N 2'!H88 -> 4890.5 | L21: =+'Հավելված N 2'!I88 -> 4890.5
F22: Տեղեկատվական մոդուլային կենտրոնների կառուցում և տեղադրումարգելոց-թանգարանների տարածքում
G23: Այլ պետական կազմակերպությունների կողմից օգտագործվող ոչ ֆինանսական ակտիվների հետ գործառնություններ
H24: Ակտիվն օգտագործող կազմակերպությունների անվանումները` Արգելոց-թանգարաններ
I25: Մոդուլային կենտրոնի կառուցման համար չափագրվող տարածքի մակերեսը, քմ | J25: 118.2 | L25: 118.2
B27: 1130 | C27: Կրթության, գիտության, մշակույթի և սպորտի բնագավառի պետական քաղաքականության մշակում, ծրագրերի համակարգում և մոնիտորինգ | J27: =+J28 -> 0 | K27: =+K28 -> 0 | L27: =+L28 -> 0
D28: 1130 - 31001 | E28: ՀՀ կրթության, գիտության, մշակույթի և սպորտի նախարարության կարողությունների զարգացում և տեխնիկական հագեցվածության ապահովում | J28: 0 | K28: 0 | L28: 0
F29: ՀՀ կրթության, գիտության, մշակույթի և սպորտի նախարարության աշխատանքային պայմանների բարելավման համար վարչական սարքավորումների ձեռք բերում
G30: Պետական մարմինների կողմից օգտագործվող ոչ ֆինանսական ակտիվների հետ գործառնություններ
H31: Ակտիվն օգտագործող կազմակերպության անվանումը` ՀՀ կրթության, գիտության, մշակույթի և սպորտի նախարարություն
I32: Համակարգչային սարքավորումների քանակ, հատ | L32: 1
I33: Գրասենյակային գույքի միավորի քանակ, հատ | L33: -19
I34: Տեխնիկա, սարքեր և սարքավորումներ, հատ | L34: 60
I35: Ծրագրային համակարգեր, հատ | L35: 2
I36: Նախարարությանն ամրացված շենքի ենթակառուցվածքների պահպանման և շահագործման համար անհրաժեշտ ապրանքներ, հատ | L36: 7
B38: 1148 | C38: Արտադպրոցական դաստիարակության ծրագիր | J38: =+J39 -> 26253.5 | K38: =+K39 -> 26253.5 | L38: =+L39 -> 26253.5
D39: 1148 - 32004 | E39: Արտադպրոցական հաստատությունների գույքային և տեխնիկական ապահովվածության բարելավում | J39: =+'Հավելված N 2'!G157 -> 26253.5 | K39: =+'Հավելված N 2'!H157 -> 26253.5 | L39: =+'Հավելված N 2'!I157 -> 26253.5
F40: Գույքային և տեխնիկական ապահովվածության բարելավման արդյունքում կիրառական գիտելիքների ձեռքբերման արդյունավետության բարձրացում
G41: Այլ պետական կազմակերպությունների կողմից օգտագործվող ոչ ֆինանսական ակտիվների հետ գործառնություններ
H42: Ակտիվն օգտագործող կազմակերպության անվանումը` Արտադպրոցական հաստատություններ
I43: Հաստատությունների թիվը, որոնք ապահովվում են գույքով, հատ | J43: 1 | L43: 1
B45: 1163 | C45: Մասսայական սպորտ | J45: =+J46 -> -140891 | K45: =+K46 -> -295664.5 | L45: =+L46 -> -394784.4
D46: 1163 - 32003 | E46: Թեթև կոնստրուկցիաներով մարզադահլիճների հիմնում | J46: =+'Հավելված N 2'!G28 -> -140891 | K46: =+'Հավելված N 2'!H28 -> -295664.5 | L46: =+'Հավելված N 2'!I28 -> -394784.4
F47: ՀՀ մարզերում արագ հավաքվող, թեթև կոնստրուկցիաներով, եվրոպական ստանդարտներին համապատասխան մարզադահլիճների հիմնում
G48: Այլ պետական կազմակերպությունների կողմից օգտագործվող ոչ ֆինանսական ակտիվների հետ գործառնություններ
H49: Ակտիվն օգտագործող կազմակերպության անվանումը` Մարզական հաստատություններ
I50: Կառուցվող մարզադահլիճների քանակը, հատ | J50: -1 | L50: -1
B52: 1168 | C52: Արվեստների ծրագիր | J52: =+J53+J57 -> -30915 | K52: =+K53+K57 -> 6544.2 | L52: =+L53+L57 -> 6544.2
D53: 1168 - 32001 | E53: Ներդրումներ թատրոնների և համերգային կազմակերպությունների շենքերի կապիտալ վերանորոգման համար | J53: =+'Հավելված N 2'!G60 -> -30915 | K53: =+'Հավելված N 2'!H60 -> -2400.9 | L53: =+'Հավելված N 2'!I60 -> -2400.9
F54: Թատրոնների և համերգային կազմակերպությունների շենքերի մասնաշենքերի հիմնանորոգում, համաշինարարական աշխատանքներ, ջեռուցման համակարգի իրականացում, ներքին հարդարում, տարածքի բարեկարգում և նախագծում
G55: Այլ պետական կազմակերպությունների կողմից օգտագործվող ոչ ֆինանսական ակտիվների հետ գործառնություններ
H56: Ակտիվն օգտագործող կազմակերպության անվանումը` Թատրոններ և համերգային կազմակերպություններ
D57: 1168 - 32007 | E57: Թատերահամերգային կազմակերպությունների նյութատեխնիկական բազայի համալրում | J57: =+'Հավելված N 2'!G73 -> 0 | K57: =+'Հավելված N 2'!H73 -> 8945.1 | L57: =+'Հավելված N 2'!I73 -> 8945.1
F58: Թատերահամերգային կազմակերպությունների համար անհրաժեշտ տեխնիկայի և սարքավորումների ձեռքբերում
G59: Այլ պետական կազմակերպությունների կողմից օգտագործվող ոչ ֆինանսական ակտիվների հետ գործառնություններ
H60: Ակտիվն օգտագործող կազմակերպության անվանումը` Թատրոններ և համերգային կազմակերպություններ
I61: Թատրոնների թիվը, որտեղ կատարվում են ներդրումները, հատ | L61: 1
B63: 1183 | C63: Ապահով դպրոց | J63: =+J64 -> 0 | K63: =+K64 -> 75296.2 | L63: =+L64 -> 75296.2
D64: 1183 - 32007 | E64: Հանրակրթական կրթություն իրականացնող ուսումնական հաստատությունների նոր մարզադահլիճների կառուցում | J64: =+'Հավելված N 2'!G194 -> 0 | K64: =+'Հավելված N 2'!H194 -> 75296.2 | L64: =+'Հավելված N 2'!I194 -> 75296.2
F65: Հանրակրթական ուսուցում իրականացնող ուսումնական հաստատությունների նոր մարզադահլիճների կառուցման նախագծանախահաշվային փաստաթղթերի մշակում
G66: Այլ պետական կազմակերպությունների կողմից օգտագործվող ոչ ֆինանսական ակտիվների հետ գործառնություններ
H67: Ակտիվն օգտագործող կազմակերպությունների անվանումները` Հանրակրթական դպրոցներ
B69: 1236 | C69: Հանրակրթական և նախադպրոցական հաստատությունների հիմնում, կառուցում, բարելավում | J69: =+J70+J75 -> 140662 | K69: =+K70+K75 -> 26265.9 | L69: =+L70+L75 -> 26265.9
D70: 1236 - 12001 | E70: Նախադպրոցական կրթության շրջանակներում մսուրային խմբերի ձևավորման համար շենքային պայմանների ապահովում | J70: =+'Հավելված N 2'!G107 -> 0 | K70: =+'Հավելված N 2'!H107 -> 26265.9 | L70: =+'Հավելված N 2'!I107 -> 26265.9
F71: Նախադպրոցական կրթության հասանելիության ապահովման նպատակով՛ մանկապարտեզներում մսուրային խմբերի (վաղ տարիքի առաջին, երկրորդ, կրտսեր տարիքի առաջին խմբերի) ձևավորման համար նախատեսված տարածքների վերանորոգում/հիմնանորոգում, նախագծում
G72: Տրանսֆերտների տրամադրում
H73: Ակտիվն օգտագործող կազմակերպության անվանումը` Նախադպրոցական կրթություն իրականացնող ուսումնական հաստատություններ
I74: Մանկապարտեզների թիվը, որտեղ մսուրային խմբերի ձևավորման համար կատարվում են շենքային պայմանների բարելավման աշխատանքներ, հատ | L74: 5
D75: 1236 - 32004 | E75: Հանրակրթական դպրոցների շենքերի վերակառուցում, հիմնանորոգում | J75: =+'Հավելված N 2'!G124 -> 140662 | K75: =+'Հավելված N 2'!H124 -> 0 | L75: =+'Հավելված N 2'!I124 -> 0
F76: Դպրոցական պարտադիր կրթության հասանելիության ապահովման նպատակով՛ հանրակրթական դպրոցների շենքերի (մասնաշենքերի), վերակառուցում, հիմնանորոգում և նախագծում
G77: Այլ պետական կազմակերպությունների կողմից օգտագործվող ոչ ֆինանսական ակտիվների հետ գործառնություններ
H78: Ակտիվն օգտագործող կազմակերպությունների անվանումները` Հանրակրթական դպրոցներ
A80: ՀՀ ՏԱՐԱԾՔԱՅԻՆ ԿԱՌԱՎԱՐՄԱՆ ԵՎ ԵՆԹԱԿԱՌՈՒՑՎԱԾՔՆԵՐԻ ՆԱԽԱՐԱՐՈՒԹՅՈՒՆ | J80: =+J81 -> 0 | K80: =+K81 -> 320 | L80: =+L81 -> 320
B81: 1236 | C81: Հանրակրթական և նախադպրոցական հաստատությունների հիմնում, կառուցում, բարելավում | J81: =+J82 -> 0 | K81: =+K82 -> 320 | L81: =+L82 -> 320
D82: 1236 - 32006 | E82: Հանրակրթական դպրոցների, մանկապարտեզների և կրթահամալիրների գույքով և տեխնիկայով ապահովում | J82: =+'Հավելված N 2'!G133 -> 0 | K82: =+'Հավելված N 2'!H133 -> 320 | L82: =+'Հավելված N 2'!I133 -> 320
F83: Կրթական ժամանակակից նորմերին և կրթական չափորոշիչներին համապատասխան ուսուցման ծրագրերն իրականացնելու նպատակով հանրակրթական և նախադպրոցական հաստատությունների համար գույքի և տեխնիկայի ձեռքբերում
G84: Այլ պետական կազմակերպությունների կողմից օգտագործվող ոչ ֆինանսական ակտիվների հետ գործառնություններ
H85: Ակտիվն օգտագործող կազմակերպությունների անվանումները` Հանրակրթական դպրոցներ, մանկապարտեզներ և կրթահամալիրներ
I86: Մասնակի գույքով ապահովվող դպրոցների քանակ, հատ | J86: 2 | L86: 2
A88: ՀՀ ԳԵՂԱՐՔՈՒՆԻՔԻ ՄԱՐԶՊԵՏԻ ԱՇԽԱՏԱԿԱԶՄ | J88: =+J89+J96 -> 0 | K88: =+K89+K96 -> 479.4 | L88: =+L89+L96 -> 479.4
B89: 1183 | C89: Ապահով դպրոց | J89: =+J90 -> 0 | K89: =+K90 -> 289.4 | L89: =+L90 -> 289.4
D90: 1183 - 32001 | E90: Կրթական օբյեկտների շենքային պայմանների բարելավում | J90: =+'Հավելված N 2'!G185 -> 0 | K90: =+'Հավելված N 2'!H185 -> 289.4 | L90: =+'Հավելված N 2'!I185 -> 289.4
F91: Կրթական օբյեկտների շենքերի (մասնաշենքերի) հիմնանորոգում (համաշինարարական աշխատանքներ, ջեռուցման համակարգի իրականացում, ներքին հարդարում, տարածքի բարեկարգում) և նախագծում
G92: Այլ պետական կազմակերպությունների կողմից օգտագործվող ոչ ֆինանսական ակտիվների հետ գործառնություններ
H93: Ակտիվն օգտագործող կազմակերպությունների անվանումները` Հանրակրթական դպրոցներ
I94: Նախագծանախահաշվային փաստաթղթերի քանակ, հատ | L94: 1
B96: 1236 | C96: Հանրակրթական և նախադպրոցական հաստատությունների հիմնում, կառուցում, բարելավում | J96: =+J97 -> 0 | K96: =+K97 -> 190 | L96: =+L97 -> 190
D97: 1236 - 32006 | E97: Հանրակրթական դպրոցների, մանկապարտեզների և կրթահամալիրների գույքով և տեխնիկայով ապահովում | J97: =+'Հավելված N 2'!G140 -> 0 | K97: =+'Հավելված N 2'!H140 -> 190 | L97: =+'Հավելված N 2'!I140 -> 190
F98: Կրթական ժամանակակից նորմերին և կրթական չափորոշիչներին համապատասխան ուսուցման ծրագրերն իրականացնելու նպատակով հանրակրթական և նախադպրոցական հաստատությունների համար գույքի և տեխնիկայի ձեռքբերում
G99: Այլ պետական կազմակերպությունների կողմից օգտագործվող ոչ ֆինանսական ակտիվների հետ գործառնություններ
H100: Ակտիվն օգտագործող կազմակերպությունների անվանումները` Հանրակրթական դպրոցներ, մանկապարտեզներ և կրթահամալիրներ
I101: Մասնակի գույքով ապահովվող դպրոցների քանակ, հատ | J101: 1 | L101: 1
A103: ՀՀ ԼՈՌՈՒ ՄԱՐԶՊԵՏԻ ԱՇԽԱՏԱԿԱԶՄ | J103: =+J104 -> 0 | K103: =+K104 -> 3560.2 | L103: =+L104 -> 3560.2
B104: 1196 | C104: Մարզերի մշակութային զարգացման ծրագիր | J104: =+J105 -> 0 | K104: =+K105 -> 3560.2 | L104: =+L105 -> 3560.2
D105: 1196 - 12001 | E105: Աջակցություն համայնքներին մշակութային հաստատությունների շենքային պայմանների բարելավման համար | J105: =+'Հավելված N 2'!G45 -> 0 | K105: =+'Հավելված N 2'!H45 -> 3560.2 | L105: =+'Հավելված N 2'!I45 -> 3560.2
F106: Համայնքային ենթակայության մշակույթի տների՝ ակումբների և կենտրոնների հիմնանորոգում՝ կառուցում և նախագծում
G107: Տրանսֆերտների տրամադրում
H108: Շահառուների ընտրության չափանիշները՝ ՀՀ համայնքների ենթակայության մշակութային հաստատություններ
A110: ՀՀ ԿԱՌԱՎԱՐՈՒԹՅՈՒՆ | J110: =+J111 -> 0 | K110: =+K111 -> 0 | L110: =+L111 -> 0
B111: 1139 | C111: ՀՀ կառավարության պահուստային ֆոնդ | J111: =+J112+J116 -> 0 | K111: =+K112+K116 -> 0 | L111: =+L112+L116 -> 0
D112: 1139 - 11001 | E112: ՀՀ կառավարության պահուստային ֆոնդ | J112: =+'Հավելված N 2'!G215 -> 26253.5 | K112: =+'Հավելված N 2'!H215 -> 56079.6 | L112: =+'Հավելված N 2'!I215 -> 56079.6
F113: ՀՀ պետական բյուջեում նախատեսված ելքերի լրացուցիչ ֆինանսավորման, պետական բյուջեում չկանխատեսված ելքերի, ինչպես նաև բյուջետային երաշխիքների ապահովման ելքերի ֆինանսավորման ապահովում
G114: Ծառայությունների մատուցում
H115: Ծառայությունը մատուցողի անվանումը` ՀՀ կառավարություն
D116: 1139 - 11001 | E116: ՀՀ կառավարության պահուստային ֆոնդ | J116: =+'Հավելված N 2'!G223 -> -26253.5 | K116: =+'Հավելված N 2'!H223 -> -56079.6 | L116: =+'Հավելված N 2'!I223 -> -56079.6
...

Sheet Հավելված N 9
H1: Հավելված N 9
H2: ՀՀ կառավարության 2025 թվականի
H3: ______________ ի ___Ն որոշման
A6: ՀԱՅԱՍՏԱՆԻ ՀԱՆՐԱՊԵՏՈՒԹՅԱՆ ԿԱՌԱՎԱՐՈՒԹՅԱՆ 2024 ԹՎԱԿԱՆԻ ԴԵԿՏԵՄԲԵՐԻ 27-Ի N 2060-Ն N 10 ՀԱՎԵԼՎԱԾՈՒՄ ԿԱՏԱՐՎՈՂ ՓՈՓՈԽՈՒԹՅՈՒՆՆԵՐԸ ԵՎ ԼՐԱՑՈՒՄՆԵՐԸ
A10: Կոդը | B10: Անվանումը | E10: Գնման ձևը | F10: Չափման միավորը | G10: Միավորի գինը | H10: Ցուցանիշների փոփոխությունը (ավելացումները նշված են դրական նշանով, իսկ նվազեցումները՝ փակագծերում)
H11: Քանակը | I11: Գումարը (հազար դրամ)
A12: 1 | B12: 2 | E12: 3 | F12: 4 | G12: 5 | H12: 6 | I12: 7
A13: ՀՀ կրթության, գիտության, մշակույթի և սպորտի նախարարություն | I13: =+I14+I21+I34+I53+I74 -> -45492.9
A14: Բաժին N 08 | B14: Խումբ N 01 | C14: Դաս N 01 | D14: Հանգստի և սպորտի ծառայություններ | I14: =+I15 -> -394784.4
A15: 1163-32003 | B15: Թեթև կոնստրուկցիաներով մարզադահլիճների հիմնում | I15: =+I16+I18 -> -394784.4
B16: ՄԱՍ II. ԱՇԽԱՏԱՆՔՆԵՐ | I16: =+I17 -> -384620.4
A17: 45211131-1 | B17: մարզական օբյեկտների շինարարական աշխատանքներ | E17: ԲՄ | F17: դրամ | I17: -384620.4
B18: ՄԱՍ III. ԾԱՌԱՅՈՒԹՅՈՒՆՆԵՐ | I18: =SUM(I19:I20) -> -10164
A19: 71351540-1 | B19: տեխնիկական հսկողության ծառայություններ | E19: ԳՀ | F19: դրամ | I19: -7818.5
A20: 98111140-1 | B20: հեղինակային հսկողության ծառայություններ | E20: ՄԱ | F20: դրամ | I20: -2345.5
A21: Բաժին N 08 | B21: Խումբ N 02 | C21: Դաս N 05 | D21: Արվեստ | I21: =+I22+I27 -> -29698.6
A22: 1168-32001 | B22: Ներդրումներ թատրոնների և համերգային կազմակերպությունների շենքերի կապիտալ վերանորոգման համար | I22: =+I23+I25 -> -38643.7
B23: ՄԱՍ II. ԱՇԽԱՏԱՆՔՆԵՐ | I23: =SUM(I24:I24) -> -38142.5
A24: 45611200-2 | B24: մշակութային օբյեկտների հիմնանորոգում | E24: ԲՄ | F24: դրամ | I24: =-3723.6-34418.9 -> -38142.5
B25: ՄԱՍ III. ԾԱՌԱՅՈՒԹՅՈՒՆՆԵՐ | I25: =+I26 -> -501.2
A26: 71351540-2 | B26: տեխնիկական հսկողության ծառայություններ | E26: ԳՀ | F26: դրամ | I26: -501.2
A27: 1168-32007 | B27: Թատերահամերգային կազմակերպությունների նյութատեխնիկական բազայի համալրում | I27: =+I28 -> 8945.1
B28: ՄԱՍ I. ԱՊՐԱՆՔՆԵՐ | I28: =SUM(I29:I33) -> 8945.1
A29: 39515100-501 | B29: վարագույրներ | C29: ԷԱՃ | D29: մետր | E29: ԷԱՃ | F29: մետր | G29: 7521.35 | H29: 206.08 | I29: =+ROUNDUP(H29*G29/1000,1) -> 1550
A30: 39515100-502 | B30: վարագույրներ | C30: ԷԱՃ | D30: մետր | E30: ԷԱՃ | F30: մետր | G30: 51150 | H30: 30 | I30: =+ROUNDUP(H30*G30/1000,1) -> 1534.5
A31: 39531600-502 | B31: հատակածածկույթներ | C31: ԷԱՃ | D31: քմ | E31: ԷԱՃ | F31: մետր | G31: 7586.95 | H31: 650 | I31: =+ROUNDUP(H31*G31/1000,1) -> 4931.6
A32: 39121200-502 | B32: սեղաններ | C32: ԷԱՃ | D32: հատ | E32: ԷԱՃ | F32: հատ | G32: 35750 | H32: 24 | I32: =+ROUNDUP(H32*G32/1000,1) -> 858
A33: 44411300/501 | B33: լվացարաններ | C33: ԷԱՃ | D33: հատ | E33: ԷԱՃ | F33: հատ | G33: 70994.1 | H33: 1 | I33: =+ROUNDUP(H33*G33/1000,1) -> 71
A34: Բաժին N 09 | B34: Խումբ N 01 | C34: Դաս N 01 | D34: Նախադպրոցական կրթություն | I34: =+I35 -> 26265.9
A35: 1236-12001 | B35: Նախադպրոցական կրթության շրջանակներում մսուրային խմբերի ձևավորման համար շենքային պայմանների ապահովում | I35: =+I36+I42 -> 26265.9
B36: ՄԱՍ II. ԱՇԽԱՏԱՆՔՆԵՐ | I36: =SUM(I37:I41) -> 25600.1
A37: 45211228 | B37: շինարարական աշխատանքներ մանկապարտեզների համար | E37: ԲՄ | F37: դրամ | G37: 10456630 | H37: 1 | I37: =+ROUNDUP(H37*G37/1000,1) -> 10456.7
A38: 45211228 | B38: շինարարական աշխատանքներ մանկապարտեզների համար | E38: ԲՄ | F38: դրամ | G38: 2871618 | H38: 1 | I38: =+ROUNDUP(H38*G38/1000,1) -> 2871.7
A39: 45211228 | B39: շինարարական աշխատանքներ մանկապարտեզների համար | E39: ԲՄ | F39: դրամ | G39: 751583 | H39: 1 | I39: =+ROUNDUP(H39*G39/1000,1) -> 751.6
A40: 45211228 | B40: շինարարական աշխատանքներ մանկապարտեզների համար | E40: ԲՄ | F40: դրամ | G40: 9845250 | H40: 1 | I40: =+ROUNDUP(H40*G40/1000,1) -> 9845.3
A41: 45211228 | B41: շինարարական աշխատանքներ մանկապարտեզների համար | E41: ԲՄ | F41: դրամ | G41: 1674780 | H41: 1 | I41: =+ROUNDUP(H41*G41/1000,1) -> 1674.8
B42: ՄԱՍ III. ԾԱՌԱՅՈՒԹՅՈՒՆՆԵՐ | I42: =SUM(I43:I52) -> 665.8
A43: 71351540 | B43: տեխնիկական հսկողության ծառայություններ | E43: ԳՀ | F43: դրամ | G43: 208827 | H43: 1 | I43: =+ROUNDUP(H43*G43/1000,1) -> 208.9
A44: 71351540 | B44: տեխնիկական հսկողության ծառայություններ | E44: ԳՀ | F44: դրամ | G44: 57432 | H44: 1 | I44: =+ROUNDUP(H44*G44/1000,1) -> 57.5
A45: 71351540 | B45: տեխնիկական հսկողության ծառայություններ | E45: ԳՀ | F45: դրամ | G45: 15032 | H45: 1 | I45: =+ROUNDUP(H45*G45/1000,1) -> 15.1
A46: 71351540 | B46: տեխնիկական հսկողության ծառայություններ | E46: ԳՀ | F46: դրամ | G46: 196910 | H46: 1 | I46: =+ROUNDUP(H46*G46/1000,1) -> 197
A47: 71351540 | B47: տեխնիկական հսկողության ծառայություններ | E47: ԳՀ | F47: դրամ | G47: 33496 | H47: 1 | I47: =+ROUNDUP(H47*G47/1000,1) -> 33.5
A48: 98111140 | B48: հեղինակային հսկողության ծառայություններ | E48: ՄԱ | F48: դրամ | G48: 62648 | H48: 1 | I48: =+ROUNDUP(H48*G48/1000,1) -> 62.7
A49: 98111140 | B49: հեղինակային հսկողության ծառայություններ | E49: ՄԱ | F49: դրամ | G49: 17230 | H49: 1 | I49: =+ROUNDUP(H49*G49/1000,1) -> 17.3
A50: 98111140 | B50: հեղինակային հսկողության ծառայություններ | E50: ՄԱ | F50: դրամ | G50: 4509 | H50: 1 | I50: =+ROUNDUP(H50*G50/1000,1) -> 4.6
A51: 98111140 | B51: հեղինակային հսկողության ծառայություններ | E51: ՄԱ | F51: դրամ | G51: 59070 | H51: 1 | I51: =+ROUNDUP(H51*G51/1000,1) -> 59.1
A52: 98111140 | B52: հեղինակային հսկողության ծառայություններ | E52: ՄԱ | F52: դրամ | G52: 10049 | H52: 1 | I52: =+ROUNDUP(H52*G52/1000,1) -> 10.1
A53: Բաժին N 09 | B53: Խումբ N 05 | C53: Դաս N 01 | D53: Արտադպրոցական դաստիարակություն | I53: =+I54 -> 26253.5
A54: 1148-32004 | B54: Մարզադպրոցների գույքային և տեխնիկական ապահովվածության բարելավում | I54: =+I55 -> 26253.5
B55: ՄԱՍ I. ԱՊՐԱՆՔՆԵՐ | I55: =SUM(I56:I73) -> 26253.5
A56: 37321170 | B56: երաժշտական գործիքների հենակալներ կամ նոտաների ամրակալներ | E56: ԳՀ | F56: հատ | G56: 15500 | H56: 23 | I56: =+ROUNDUP(H56*G56/1000,1) -> 356.5
A57: 37321170 | B57: երաժշտական գործիքների հենակալներ կամ նոտաների ամրակալներ | C57: երաժշտական գործիքների հենակալներ կամ նոտաների ամրակալներ | D57: երաժշտական գործիքների հենակալներ կամ նոտաների ամրակալներ | E57: ԳՀ | F57: հատ | G57: 10500 | H57: 23 | I57: =+ROUNDUP(H57*G57/1000,1) -> 241.5
A58: 30211280 | B58: համակարգիչ ամբողջը մեկում | C58: համակարգիչ ամբողջը մեկում | D58: համակարգիչ ամբողջը մեկում | E58: ԷԱՃ | F58: հատ | G58: 375500 | H58: 4 | I58: =+ROUNDUP(H58*G58/1000,1) -> 1502
A59: 32341110 | B59: բարձրախոսներ | C59: բարձրախոսներ | D59: բարձրախոսներ | E59: ԷԱՃ | F59: հատ | G59: 191000 | H59: 3 | I59: =+ROUNDUP(H59*G59/1000,1) -> 573
A60: 32341110 | B60: բարձրախոսներ | C60: բարձրախոսներ | D60: բարձրախոսներ | E60: ԷԱՃ | F60: հատ | G60: 310300 | H60: 2 | I60: =+ROUNDUP(H60*G60/1000,1) -> 620.6
A61: 32341111 | B61: խոսափողի և բարձրախոսի տակդիրներ | C61: խոսափողի և բարձրախոսի տակդիրներ | D61: խոսափողի և բարձրախոսի տակդիրներ | E61: ԷԱՃ | F61: հատ | G61: 27000 | H61: 2 | I61: =+ROUNDUP(H61*G61/1000,1) -> 54
A62: 32341200 | B62: ձայնային օպերատորի վահանակ | C62: ձայնային օպերատորի վահանակ | D62: ձայնային օպերատորի վահանակ | E62: ԷԱՃ | F62: հատ | G62: 147000 | H62: 1 | I62: =+ROUNDUP(H62*G62/1000,1) -> 147
A63: 32341100 | B63: խոսափողներ | C63: խոսափողներ | D63: խոսափողներ | E63: ԷԱՃ | F63: հատ | G63: 215000 | H63: 1 | I63: =+ROUNDUP(H63*G63/1000,1) -> 215
A64: 32341111 | B64: խոսափողի և բարձրախոսի տակդիրներ | C64: խոսափողի և բարձրախոսի տակդիրներ | D64: խոսափողի և բարձրախոսի տակդիրներ | E64: ԷԱՃ | F64: հատ | G64: 16000 | H64: 1 | I64: =+ROUNDUP(H64*G64/1000,1) -> 16
A65: 31221230 | B65: միացման մալուխներ | C65: միացման մալուխներ | D65: միացման մալուխներ | E65: ԷԱՃ | F65: հատ | G65: 3500 | H65: 2 | I65: =+ROUNDUP(H65*G65/1000,1) -> 7
A66: 38651200 | B66: պրոյեկտորներ | C66: պրոյեկտորներ | D66: պրոյեկտորներ | E66: ԷԱՃ | F66: հատ | G66: 340000 | H66: 1 | I66: =+ROUNDUP(H66*G66/1000,1) -> 340
A67: 38651300 | B67: պրոյեկցիոն էկրաններ | C67: պրոյեկցիոն էկրաններ | D67: պրոյեկցիոն էկրաններ | E67: ԷԱՃ | F67: հատ | G67: 28000 | H67: 1 | I67: =+ROUNDUP(H67*G67/1000,1) -> 28
A68: 30239170 | B68: բազմաֆունկցիոնալ սարք` լազերային | C68: բազմաֆունկցիոնալ սարք` լազերային | D68: բազմաֆունկցիոնալ սարք` լազերային | E68: ԷԱՃ | F68: հատ | G68: 231250 | H68: 1 | I68: =+ROUNDUP(H68*G68/1000,1) -> 231.3
... A70: 39132220 | B70: կախիչներ | C70: կախիչներ | D70: կախիչներ | E70: ԷԱՃ | F70: հատ | G70: 16400 | H70: 4 | I70: =+ROUNDUP(H70*G70/1000,1) -> 65.6
A71: 37311140 | B71: ստեղնաշարային այլ գործիքներ | E71: ԳՀ | F71: հատ | G71: 459789 | H71: 19 | I71: =+ROUNDUP(H71*G71/1000,1) -> 8736
A72: 37311140 | B72: ստեղնաշարային այլ գործիքներ | E72: ՀՄԱ | F72: հատ | G72: 7800000 | H72: 1 | I72: =+ROUNDUP(H72*G72/1000,1) -> 7800
A73: 37311100-508 | B73: դաշնամուրներ | C73: կախիչներ | D73: կախիչներ | E73: ՀՄԱ | F73: հատ | G73: 5000000 | H73: 1 | I73: =+ROUNDUP(H73*G73/1000,1) -> 5000
A74: Բաժին N 09 | B74: Խումբ N 06 | C74: Դաս N 01 | D74: Կրթությանը տրամադրվող օժանդակ ծառայություններ | I74: =+I75+I82 -> 326470.7
A75: 1045-32001 | B75: Մասնագիտական ուսումնական հաստատությունների շենքային պայմանների բարելավում | I75: =+I76+I79 -> 251174.5
B76: ՄԱՍ II. ԱՇԽԱՏԱՆՔՆԵՐ | I76: =SUM(I77:I78) -> 249399.8
A77: 45611100-1 | B77: կրթական օբյեկտների հիմնանորոգում | E77: ԲՄ | F77: դրամ | I77: =76785.2+33686.1 -> 110471.3
A78: 45611100-4 | B78: կրթական օբյեկտների հիմնանորոգում | E78: ԲՄ | F78: դրամ | I78: 138928.5
B79: ՄԱՍ III. ԾԱՌԱՅՈՒԹՅՈՒՆՆԵՐ | I79: =SUM(I80:I81) -> 1774.7
A80: 71351540-4 | B80: տեխնիկական հսկողության ծառայություններ | E80: ԳՀ | F80: դրամ | I80: 896.2
A81: 98111140-4 | B81: հեղինակային հսկողության ծառայություններ | E81: ՄԱ | F81: դրամ | I81: 878.5
A82: 1183-32007 | B82: Հանրակրթական կրթություն իրականացնող ուսումնական հաստատությունների նոր մարզադահլիճների կառուցում | I82: =+I83+I85 -> 75296.2
B83: ՄԱՍ II. ԱՇԽԱՏԱՆՔՆԵՐ | I83: =SUM(I84:I84) -> 76566.1
A84: 45211138-1 | B84: մարզական դահլիճների կառուցման աշխատանքներ | E84: ԲՄ | F84: դրամ | I84: 76566.1
B85: ՄԱՍ III. ԾԱՌԱՅՈՒԹՅՈՒՆՆԵՐ | I85: =SUM(I86:I87) -> -1269.9
A86: 71351540-1 | B86: տեխնիկական հսկողության ծառայություններ | E86: ԳՀ | F86: դրամ | I86: -1534.3
A87: 98111140-1 | B87: հեղինակային հսկողության ծառայություններ | E87: ՄԱ | F87: դրամ | I87: 264.4

Sheet Հավելված N 10
F1: Հավելված N 10
I2: ՀՀ կառավարության 2025 թվականի
I3: ______________ ի ___Ն որոշման
A6: ՀԱՅԱՍՏԱՆԻ ՀԱՆՐԱՊԵՏՈՒԹՅԱՆ 2025 ԹՎԱԿԱՆԻ ՊԵՏԱԿԱՆ ԲՅՈՒՋԵՈՎ ՆԱԽԱՏԵՍՎԱԾ՝ ՀԱՅԱՍՏԱՆԻ ՀԱՆՐԱՊԵՏՈՒԹՅԱՆ ԿԱՌԱՎԱՐՈՒԹՅԱՆ ՊԱՀՈՒՍՏԱՅԻՆ ՖՈՆԴԻՑ ՀԱՏԿԱՑՈՒՄՆԵՐ ԿԱՏԱՐԵԼՈՒ ՎԵՐԱԲԵՐՅԱԼ
A9: Գործառական դասիչը | D9: Ծրագրային դասիչը | F9: Բյուջետային հատկացումների գլխավոր կարգադրիչների, ծրագրերի, միջոցառումների և միջոցառումները կատարող պետական մարմինների անվանումները | G9: Ցուցանիշների փոփոխությունը (ավելացումները նշված են դրական նշանով, իսկ նվազեցումները` փակագծերում)
A10: Բաժին | B10: Խումբ | C10: Դաս | D10: Ծրագիր | E10: Միջոցառում | G10: Առաջին կիսամյակ | H10: Ինն ամիս | I10: Տարի
F11: ԸՆԴԱՄԵՆԸ | G11: =+G13+G33 -> 0 | H11: =+H13+H33 -> 0 | I11: =+I13+I33 -> 0
F12: այդ թվում
F13: ՀՀ ԿԱՌԱՎԱՐՈՒԹՅՈՒՆ | G13: =+G14 -> -26253.5 | H13: =+H14 -> -56079.6 | I13: =+I14 -> -56079.6
A14: 11 | F14: ՀԻՄՆԱԿԱՆ ԲԱԺԻՆՆԵՐԻՆ ՉԴԱՍՎՈՂ ՊԱՀՈՒՍՏԱՅԻՆ ՖՈՆԴԵՐ | G14: =+G16 -> -26253.5 | H14: =+H16 -> -56079.6 | I14: =+I16 -> -56079.6
F15: այդ թվում`
B16: 01 | F16: ՀՀ կառավարության և համայնքների պահուստային ֆոնդ | G16: =+G18 -> -26253.5 | H16: =+H18 -> -56079.6 | I16: =+I18 -> -56079.6
F17: այդ թվում`
C18: 01 | F18: ՀՀ կառավարության պահուստային ֆոնդ | G18: =+G20 -> -26253.5 | H18: =+H20 -> -56079.6 | I18: =+I20 -> -56079.6
F19: այդ թվում`
F20: ՀՀ կառավարություն | G20: =+G22 -> -26253.5 | H20: =+H22 -> -56079.6 | I20: =+I22 -> -56079.6
F21: այդ թվում`
D22: 1139 | E22: ՀՀ կառավարության պահուստային ֆոնդ | F22: ՀՀ կառավարության պահուստային ֆոնդ | G22: =+G24 -> -26253.5 | H22: =+H24 -> -56079.6 | I22: =+I24 -> -56079.6
F23: այդ թվում`
E24: 11001 | F24: ՀՀ կառավարության պահուստային ֆոնդ | G24: =+G26 -> -26253.5 | H24: =+H26 -> -56079.6 | I24: =+I26 -> -56079.6
F25: այդ թվում` ըստ կատարողների
F26: ՀՀ կառավարություն | G26: =+G28 -> -26253.5 | H26: =+H28 -> -56079.6 | I26: =+I28 -> -56079.6
F27: այդ թվում՝ բյուջետային ծախսերի տնտեսագիտական դասակարգման հոդվածներ
F28: ԸՆԴԱՄԵՆԸ ԾԱԽՍԵՐ | G28: =+G29 -> -26253.5 | H28: =+H29 -> -56079.6 | I28: =+I29 -> -56079.6
F29: ԸՆԹԱՑԻԿ ԾԱԽՍԵՐ | G29: =+G30 -> -26253.5 | H29: =+H30 -> -56079.6 | I29: =+I30 -> -56079.6
F30: ԱՅԼ ԾԱԽՍԵՐ | G30: =+G31 -> -26253.5 | H30: =+H31 -> -56079.6 | I30: =+I31 -> -56079.6
F31: - Պահուստային միջոցներ | G31: =+'Հավելված N 2'!G228 -> -26253.5 | H31: =+'Հավելված N 2'!H228 -> -56079.6 | I31: =+'Հավելված N 2'!I228 -> -56079.6
F33: ՀՀ ԿՐԹՈՒԹՅԱՆ, ԳԻՏՈՒԹՅԱՆ, ՄՇԱԿՈՒՅԹԻ ԵՎ ՍՊՈՐՏԻ ՆԱԽԱՐԱՐՈՒԹՅՈՒՆ | G33: =+G34+G53 -> 26253.5 | H33: =+H34+H53 -> 56079.6 | I33: =+I34+I53 -> 56079.6
A34: 08 | F34: ՀԱՆԳԻՍՏ, ՄՇԱԿՈՒՅԹ ԵՎ ԿՐՈՆ | G34: =+G36 -> 0 | H34: =+H36 -> 3560.2 | I34: =+I36 -> 3560.2
F35: այդ թվում`
B36: 02 | F36: Մշակութային ծառայություններ | G36: =+G38 -> 0 | H36: =+H38 -> 3560.2 | I36: =+I38 -> 3560.2
F37: այդ թվում`
C38: 03 | F38: Մշակույթի տներ, ակումբներ, կենտրոններ | G38: =+G40 -> 0 | H38: =+H40 -> 3560.2 | I38: =+I40 -> 3560.2
F39: այդ թվում`
F40: ՀՀ կրթության, գիտության, մշակույթի և սպորտի նախարարություն | G40: =+G42 -> 0 | H40: =+H42 -> 3560.2 | I40: =+I42 -> 3560.2
F41: այդ թվում`
D42: 1196 | E42: Մարզերի մշակութային զարգացման ծրագիր | G42: =+G44 -> 0 | H42: =+H44 -> 3560.2 | I42: =+I44 -> 3560.2
F43: այդ թվում`
E44: 12001 | F44: Աջակցություն համայնքներին մշակութային հաստատությունների շենքային պայմանների բարելավման համար | G44: =+G46 -> 0 | H44: =+H46 -> 3560.2 | I44: =+I46 -> 3560.2
F45: այդ թվում` ըստ կատարողների
F46: ՀՀ Լոռու մարզպետի աշխատակազմ | G46: =+G48 -> 0 | H46: =+H48 -> 3560.2 | I46: =+I48 -> 3560.2
F47: այդ թվում՝ բյուջետային ծախսերի տնտեսագիտական դասակարգման հոդվածներ
F48: ԸՆԴԱՄԵՆԸ ԾԱԽՍԵՐ | G48: =+G49 -> 0 | H48: =+H49 -> 3560.2 | I48: =+I49 -> 3560.2
F49: ԸՆԹԱՑԻԿ ԾԱԽՍԵՐ | G49: =+G50 -> 0 | H49: =+H50 -> 3560.2 | I49: =+I50 -> 3560.2
F50: ԴՐԱՄԱՇՆՈՐՀՆԵՐ | G50: =+G51 -> 0 | H50: =+H51 -> 3560.2 | I50: =+I51 -> 3560.2
F51: ԿԱՊԻՏԱԼ ԴՐԱՄԱՇՆՈՐՀՆԵՐ ՊԵՏԱԿԱՆ ՀԱՏՎԱԾԻ ԱՅԼ ՄԱԿԱՐԴԱԿՆԵՐԻՆ | G51: =+G52 -> 0 | H51: =+H52 -> 3560.2 | I51: =+I52 -> 3560.2
F52: - Կապիտալ դրամաշնորհներ պետական և համայնքային ոչ առևտրային կազմակերպություններին | G52: =+'Հավելված N 2'!G51 -> 0 | H52: =+'Հավելված N 2'!H51 -> 3560.2 | I52: =+'Հավելված N 2'!I51 -> 3560.2
A53: 09 | F53: ԿՐԹՈՒԹՅՈՒՆ | G53: =+G55+G72 -> 26253.5 | H53: =+H55+H72 -> 52519.4 | I53: =+I55+I72 -> 52519.4
F54: այդ թվում`
B55: 01 | F55: Նախադպրոցական և տարրական ընդհանուր կրթություն | G55: =+G57 -> 0 | H55: =+H57 -> 26265.9 | I55: =+I57 -> 26265.9
F56: այդ թվում`
C57: 01 | F57: Նախադպրոցական կրթություն | G57: =+G59 -> 0 | H57: =+H59 -> 26265.9 | I57: =+I59 -> 26265.9
F58: այդ թվում`
F59: ՀՀ կրթության, գիտության, մշակույթի և սպորտի նախարարություն | G59: =+G61 -> 0 | H59: =+H61 -> 26265.9 | I59: =+I61 -> 26265.9
F60: այդ թվում`
D61: 1236 | E61: Հանրակրթական և նախադպրոցական հաստատությունների հիմնում, կառուցում, բարելավում | G61: =+G63 -> 0 | H61: =+H63 -> 26265.9 | I61: =+I63 -> 26265.9
F62: այդ թվում`
E63: 12001 | F63: Նախադպրոցական կրթության շրջանակներում մսուրային խմբերի ձևավորման համար շենքային պայմանների ապահովում | G63: =+G65 -> 0 | H63: =+H65 -> 26265.9 | I63: =+I65 -> 26265.9
F64: այդ թվում` ըստ կատարողների
F65: ՀՀ կրթության, գիտության, մշակույթի և սպորտի նախարարություն | G65: =+G67 -> 0 | H65: =+H67 -> 26265.9 | I65: =+I67 -> 26265.9
F66: այդ թվում՝ բյուջետային ծախսերի տնտեսագիտական դասակարգման հոդվածներ
F67: ԸՆԴԱՄԵՆԸ ԾԱԽՍԵՐ | G67: =+G68 -> 0 | H67: =+H68 -> 26265.9 | I67: =+I68 -> 26265.9
F68: ՈՉ ՖԻՆԱՆՍԱԿԱՆ ԱԿՏԻՎՆԵՐԻ ԳԾՈՎ ԾԱԽՍԵՐ | G68: =+G69 -> 0 | H68: =+H69 -> 26265.9 | I68: =+I69 -> 26265.9
F69: ՀԻՄՆԱԿԱՆ ՄԻՋՈՑՆԵՐ | G69: =+G70 -> 0 | H69: =+H70 -> 26265.9 | I69: =+I70 -> 26265.9
F70: ՇԵՆՔԵՐ ԵՎ ՇԻՆՈՒԹՅՈՒՆՆԵՐ | G70: =+G71 -> 0 | H70: =+H71 -> 26265.9 | I70: =+I71 -> 26265.9
F71: - Շենքերի և շինությունների կապիտալ վերանորոգում | G71: =+'Հավելված N 2'!G113 -> 0 | H71: =+'Հավելված N 2'!H113 -> 26265.9 | I71: =+'Հավելված N 2'!I113 -> 26265.9
B72: 05 | F72: Ըստ մակարդակների չդասակարգվող կրթություն | G72: =+G74 -> 26253.5 | H72: =+H74 -> 26253.5 | I72: =+I74 -> 26253.5
F73: այդ թվում`
C74: 01 | F74: Արտադպրոցական դաստիարակություն | G74: =+G76 -> 26253.5 | H74: =+H76 -> 26253.5 | I74: =+I76 -> 26253.5
F75: այդ թվում`
F76: ՀՀ կրթության, գիտության, մշակույթի և սպորտի նախարարություն | G76: =+G78 -> 26253.5 | H76: =+H78 -> 26253.5 | I76: =+I78 -> 26253.5
F77: այդ թվում`
D78: 1148 | E78: Արտադպրոցական դաստիարակության ծրագիր | G78: =+G80 -> 26253.5 | H78: =+H80 -> 26253.5 | I78: =+I80 -> 26253.5
F79: այդ թվում`
E80: 32004 | F80: Արտադպրոցական հաստատությունների գույքային և տեխնիկական ապահովվածության բարելավում | G80: =+G82 -> 26253.5 | H80: =+H82 -> 26253.5 | I80: =+I82 -> 26253.5
F81: այդ թվում` ըստ կատարողների
F82: ՀՀ կրթության, գիտության, մշակույթի և սպորտի նախարարություն | G82: =+G84 -> 26253.5 | H82: =+H84 -> 26253.5 | I82: =+I84 -> 26253.5
F83: այդ թվում՝ բյուջետային ծախսերի տնտեսագիտական դասակարգման հոդվածներ
F84: ԸՆԴԱՄԵՆԸ ԾԱԽՍԵՐ | G84: =+G85 -> 26253.5 | H84: =+H85 -> 26253.5 | I84: =+I85 -> 26253.5
F85: ՈՉ ՖԻՆԱՆՍԱԿԱՆ ԱԿՏԻՎՆԵՐԻ ԳԾՈՎ ԾԱԽՍԵՐ | G85: =+G86 -> 26253.5 | H85: =+H86 -> 26253.5 | I85: =+I86 -> 26253.5
F86: ՀԻՄՆԱԿԱՆ ՄԻՋՈՑՆԵՐ | G86: =+G87 -> 26253.5 | H86: =+H87 -> 26253.5 | I86: =+I87 -> 26253.5
F87: ՄԵՔԵՆԱՆԵՐ ԵՎ ՍԱՐՔԱՎՈՐՈՒՄՆԵՐ | G87: =+G88 -> 26253.5 | H87: =+H88 -> 26253.5 | I87: =+I88 -> 26253.5
F88: - Այլ մեքենաներ և սարքավորումներ | G88: =+'Հավելված N 2'!G163 -> 26253.5 | H88: =+'Հավելված N 2'!H163 -> 26253.5 | I88: =+'Հավելված N 2'!I163 -> 26253.5
