Workbook

Sheet 1
I1: Հավելված N 1
I2: ՀՀ կառավարության 2025թվականի
I3: ___________ ___-ի N _______ որոշման
A6: ՀԱՅԱՍՏԱՆԻ ՀԱՆՐԱՊԵՏՈՒԹՅԱՆ ԿԱՌԱՎԱՐՈՒԹՅԱՆ 2024 ԹՎԱԿԱՆԻ ԴԵԿՏԵՄԲԵՐԻ 27-Ի N 2060-Ն ՈՐՈՇՄԱՆ N 3 և N 4 ՀԱՎԵԼՎԱԾՆԵՐՈՒՄ ԿԱՏԱՐՎՈՂ ՓՈՓՈԽՈՒԹՅՈՒՆՆԵՐԸ
I7: հազար դրամ
A8: Գործառական դասիչը | D8: Ծրագրային դասիչը | F8: Բյուջետային ծախսերի գործառական դասակարգման բաժինների, խմբերի և դասերի, բյուջետային ծրագրերի, միջոցառումների բյուջետային հատկացումների գլխավոր կարգադրիչների անվանումները | G8: Ցուցանիշների փոփոխությունը (ավելացումները նշված են դրական նշանով,իսկ նվազեցումները՝ փակագծերում)
A9: Բաժին | B9: Խումբ | C9: Դաս | D9: Ծրագիր | E9: Միջոցառում | G9: Առաջին կիսամյակ | H9: Ինն ամիս | I9: Տարի
F10: ԸՆԴԱՄԵՆԸ | G10: =+G12 -> 0 | H10: =+H12 -> 0 | I10: =+I12 -> 0
F11: այդ թվում`
A12: 01 | F12: ԸՆԴՀԱՆՈՒՐ ԲՆՈՒՅԹԻ ՀԱՆՐԱՅԻՆ ԾԱՌԱՅՈՒԹՅՈՒՆՆԵՐ | G12: =+G14 -> 0 | H12: =+H14 -> 0 | I12: =+I14 -> 0
F13: այդ թվում`
B14: 03 | F14: Ընդհանուր բնույթի ծառայություններ | G14: =+G16 -> 0 | H14: =+H16 -> 0 | I14: =+I16 -> 0
F15: այդ թվում`
C16: 02 | F16: Ծրագրման և վիճակագրական ընդհանուր ծառայություններ | G16: =+G18 -> 0 | H16: =+H18 -> 0 | I16: =+I18 -> 0
F17: այդ թվում`
F18: ՀՀ բարձր տեխնոլոգիական արդյունաբերության նախարարություն | G18: =+G20 -> 0 | H18: =+H20 -> 0 | I18: =+I20 -> 0
F19: այդ թվում`
D20: 1235 | F20: Թվային փոխակերպման գործընթացի իրականացում | G20: =+G22 -> 0 | H20: =+H22 -> 0 | I20: =+I22 -> 0
F21: այդ թվում`
E22: 31001 | F22: Միասնական թվային միջավայրի ձևավորում | G22: =+G24+G31 -> 0 | H22: =+H24+H31 -> 0 | I22: =+I24+I31 -> 0
F23: այդ թվում` ըստ կատարողների
F24: ՀՀ կառավարություն | G24: =+G26 -> 0 | H24: =+H26 -> -24000 | I24: =+I26 -> -24000
F25: այդ թվում` բյուջետային ծախսերի տնտեսագիտական դասակարգման հոդվածներ
F26: ԸՆԴԱՄԵՆԸ ԾԱԽՍԵՐ | G26: =+G27 -> 0 | H26: =+H27 -> -24000 | I26: =+I27 -> -24000
F27: ՈՉ ՖԻՆԱՆՍԱԿԱՆ ԱԿՏԻՎՆԵՐԻ ԳԾՈՎ ԾԱԽՍԵՐ | G27: =+G28 -> 0 | H27: =+H28 -> -24000 | I27: =+I28 -> -24000
F28: ՀԻՄՆԱԿԱՆ ՄԻՋՈՑՆԵՐ | G28: =+G29 -> 0 | H28: =+H29 -> -24000 | I28: =+I29 -> -24000
F29: ԱՅԼ ՀԻՄՆԱԿԱՆ ՄԻՋՈՑՆԵՐ | G29: =+G30 -> 0 | H29: =+H30 -> -24000 | I29: =+I30 -> -24000
F30: - Ոչ նյութական հիմնական միջոցներ | G30: 0 | H30: -24000 | I30: -24000
F31: ՀՀ արդարադատության նախարարություն | G31: =+G33 -> 0 | H31: =+H33 -> 24000 | I31: =+I33 -> 24000
F32: այդ թվում` բյուջետային ծախսերի տնտեսագիտական դասակարգման հոդվածներ
F33: ԸՆԴԱՄԵՆԸ ԾԱԽՍԵՐ | G33: =+G34 -> 0 | H33: =+H34 -> 24000 | I33: =+I34 -> 24000
F34: ՈՉ ՖԻՆԱՆՍԱԿԱՆ ԱԿՏԻՎՆԵՐԻ ԳԾՈՎ ԾԱԽՍԵՐ | G34: =+G35 -> 0 | H34: =+H35 -> 24000 | I34: =+I35 -> 24000
F35: ՀԻՄՆԱԿԱՆ ՄԻՋՈՑՆԵՐ | G35: =+G36 -> 0 | H35: =+H36 -> 24000 | I35: =+I36 -> 24000
F36: ԱՅԼ ՀԻՄՆԱԿԱՆ ՄԻՋՈՑՆԵՐ | G36: =+G37 -> 0 | H36: =+H37 -> 24000 | I36: =+I37 -> 24000
F37: - Ոչ նյութական հիմնական միջոցներ | G37: 0 | H37: 24000 | I37: 24000

Sheet 2
G1: Հավելված № 2
G2: ՀՀ կառավարության 2025 թվականի ----------
G3: № ---------- որոշման
A6: ՀԱՅԱՍՏԱՆԻ ՀԱՆՐԱՊԵՏՈՒԹՅԱՆ ԿԱՌԱՎԱՐՈՒԹՅԱՆ 2024 ԹՎԱԿԱՆԻ ԴԵԿՏԵՄԲԵՐԻ 27-Ի N 2060-Ն ՈՐՈՇՄԱՆ N 5 ՀԱՎԵԼՎԱԾԻ N2 ԱՂՅՈՒՍԱԿՈՒՄ ԿԱՏԱՐՎՈՂ ՓՈՓՈԽՈՒԹՅՈՒՆՆԵՐԸ
G7: հազար դրամ
A8: Ծրագրային դասիչը | C8: Բյուջետային գլխավոր կարգադրիչների, ծրագրերի միջոցառումների, միջոցառումները կատարող պետական մարմինների և ուղղությունների անվանումները | E8: Ցուցանիշների փոփոխությունը (ավելացումները նշված են դրական նշանով, իսկ նվազեցումները՝ փակագծերում)
A9: Ծրագիր | B9: Միջոցառում | E9: Առաջին կիսամյակ | F9: Ինն ամիս | G9: Տարի
C10: ԸՆԴԱՄԵՆԸ | E10: =+E11 -> 0 | F10: =+F11 -> 0 | G10: =+G11 -> 0
C11: ՀՀ բարձր տեխնոլոգիական արդյունաբերության նախարարություն | E11: =+E13 -> 0 | F11: =+F13 -> 0 | G11: =+G13 -> 0
C12: այդ թվում՝
A13: 1235 | B13: 31001 | C13: Միասնական թվային միջավայրի ձևավորում | E13: =E15+E16 -> 0 | F13: =F15+F16 -> 0 | G13: =G15+G16 -> 0
C14: այդ թվում՝ ըստ կատարողների
C15: ՀՀ կառավարություն | E15: =+'1'!G24 -> 0 | F15: =+'1'!H24 -> -24000 | G15: =+'1'!I24 -> -24000
C16: ՀՀ արդարադատության նախարարություն | E16: =+'1'!G31 -> 0 | F16: =+'1'!H31 -> 24000 | G16: =+'1'!I31 -> 24000

Sheet 3
L1: Հավելված N 3
L2: ՀՀ կառավարության 2025թվականի
L3: ___________ ___-ի N _______ որոշման
A6: ՀԱՅԱՍՏԱՆԻ ՀԱՆՐԱՊԵՏՈՒԹՅԱՆ ԿԱՌԱՎԱՐՈՒԹՅԱՆ 2024 ԹՎԱԿԱՆԻ ԴԵԿՏԵՄԲԵՐԻ 27-Ի ԹԻՎ 2060-Ն ՈՐՈՇՄԱՆ N 9.1 ՀԱՎԵԼՎԱԾՈՒՄ ԿԱՏԱՐՎՈՂ ՓՈՓՈԽՈՒԹՅՈՒՆՆԵՐԸ
L9: հազար դրամներով
A10: ԲՍԿ | B10: Ծրագիր | D10: Միջոցառում | H10: Իրականացնողը/ ակտիվն օգտագործողը/ շահառուի ընտրության չափորոշիչը | I10: Արդյունքային չափորոշիչը | J10: Ցուցանիշների փոփոխությունը (ավելացումները նշված են դրական նշանով,իսկ նվազեցումները՝ փակագծերում)
B11: Դասիչը | C11: Անվանումը | D11: Դասիչը | E11: Անվանումը | F11: Նկարագրությունը | G11: Տեսակը | J11: Առաջին կիսամյակ | K11: Ինն ամիս | L11: Տարի
A12: ԸՆԴԱՄԵՆԸ | J12: =+J13+J19 -> 0 | K12: =+K13+K19 -> 0 | L12: =+L13+L19 -> 0
A13: ՀՀ արդարադատության նախարարություն | J13: =+J14 -> 0 | K13: =+K14 -> 24000 | L13: =+L14 -> 24000
B14: 1235 | C14: Թվային փոխակերպման գործընթացի իրականացում | J14: =J15 -> 0 | K14: =K15 -> 24000 | L14: =L15 -> 24000
D15: 1235 - 31001 | E15: Միասնական թվային միջավայրի ձևավորում | J15: =+'1'!G31 -> 0 | K15: =+'1'!H31 -> 24000 | L15: =+'1'!I31 -> 24000
F16: Թվային փոխակերպման գործընթացի շրջանակներում թվայնացման համակարգերի ներդրում և կայքերի արդիականացում
G17: Պետական մարմինների կողմից օգտագործվող ոչ ֆինանսական ակտիվների հետ գործառնություններ
H18: Ակտիվն օգտագործող կազմակերպության անվանումը` ՀՀ արդարադատության նախարարություն
A19: ՀՀ կառավարություն | J19: =+J20 -> 0 | K19: =+K20 -> -24000 | L19: =+L20 -> -24000
B20: 1235 | C20: Թվային փոխակերպման գործընթացի իրականացում | J20: =+J21 -> 0 | K20: =+K21 -> -24000 | L20: =+L21 -> -24000
D21: 1235 - 31001 | E21: Միասնական թվային միջավայրի ձևավորում | J21: =+'1'!G24 -> 0 | K21: =+'1'!H24 -> -24000 | L21: =+'1'!I24 -> -24000
F22: Թվային փոխակերպման գործընթացի շրջանակներում թվայնացման համակարգերի ներդրում և կայքերի արդիականացում
G23: Պետական մարմինների կողմից օգտագործվող ոչ ֆինանսական ակտիվների հետ գործառնություններ
H24: Ակտիվն օգտագործող կազմակերպության անվանումը` Հանրային իշխանության մարմիններ

Sheet 4
E1: Հավելված № 4
E2: ՀՀ կառավարության
E3: 2025 թվականի __________ N -Ն որոշման
A5: ՀԱՅԱՍՏԱՆԻ ՀԱՆՐԱՊԵՏՈՒԹՅԱՆ ԿԱՌԱՎԱՐՈՒԹՅԱՆ 2024 ԹՎԱԿԱՆԻ ԴԵԿՏԵՄԲԵՐԻ 27-Ի N 2060-Ն ՈՐՈՇՄԱՆ N 10 ՀԱՎԵԼՎԱԾԻ ՑՈՒՑԱՆԻՇՆԵՐՈՒՄ ԿԱՏԱՐՎՈՂ ՓՈՓՈԽՈՒԹՅՈՒՆԸ
A7: Կոդը | B7: Անվանումը | C7: Գնման ձևը | D7: Չափի միավորը | E7: միավորի գինը | F7: Ցուցանիշների փոփոխությունը (ավելացումները նշված են դրական նշանով)
F8: քանակը | G8: գումարը (հազար դրամով)
A9: 1 | B9: 2 | C9: 3 | D9: 4 | E9: 5 | F9: 6 | G9: 7
A10: ՀՀ արդարադատության նախարարություն | G10: =+G12 -> 24000
A11: Բաժին N 01 | B11: Խումբ N 03 | C11: Դաս N 02 | D11: Ծրագրման և վիճակագրական ընդհանուր ծառայություններ
A12: 1235 31001 | B12: Միասնական թվային միջավայրի ձևավորում | G12: =+G14+G15 -> 24000
B13: ՄԱՍ III. ԾԱՌԱՅՈՒԹՅՈՒՆՆԵՐ
A14: 72261110/1 | B14: ծրագրային ապահովման մշակման ծառայություններ | C14: ԲՄ | D14: դրամ | G14: 24000
