Workbook
Name \A: #REF!
Name _tab10: #REF!
Name _tab10: #REF!
Name _tab11: #REF!
Name _tab12: #REF!
Name _tab13: #REF!
Name _tab14: #REF!
Name _tab15: #REF!
Name _tab16: #REF!
Name _tab17: #REF!
Name _tab18: #REF!
Name _tab19: #REF!
Name _tab20: #REF!
Name _tab21: #REF!
Name _tab22: #REF!
Name _tab23: #REF!
Name _tab24: #REF!
Name _tab5: #REF!
Name _tab6: #REF!
Name _tab7: #REF!
Name _tab8: #REF!
Name _tab9: #REF!
Name AgencyCode: #REF!
Name AgencyCode: #REF!
Name AgencyName: #REF!
Name ampop_krchat: #REF!
Name Armata: #REF!
Name asd: #REF!
Name åû: #REF!
Name BOP: #REF!
Name BOPfoot: #REF!
Name davit: #REF!
Name DebtCG: '[1]Fis-Debt'!#REF!
Name DebtGG: #REF!
Name fff: #REF!
Name Functional1: #REF!
Name ggg: #REF!
Name h: #REF!
Name Hav: #REF!,#REF!
Name mas: #REF!
Name mass: #REF!
Name MonExo: #REF!
Name MonGrow: [2]BM!#REF!
Name PANature: #REF!
Name PANature: #REF!
Name par_count: #REF!,#REF!,#REF!,#REF!,#REF!,#REF!,#REF!,#REF!,#REF!,#REF!,#REF!,#REF!,#REF!,#REF!,#REF!
Name par_count: #REF!,#REF!,#REF!,#REF!,#REF!,#REF!,#REF!,#REF!,#REF!,#REF!,#REF!,#REF!,#REF!,#REF!,#REF!
Name par_qual: #REF!,#REF!,#REF!,#REF!,#REF!
Name par_qual: #REF!,#REF!,#REF!,#REF!,#REF!
Name par_time: #REF!,#REF!,#REF!,#REF!
Name par_time: #REF!,#REF!,#REF!,#REF!
Name par2.12s: #REF!
Name par2.12s: #REF!
Name par2.4s: #REF!,#REF!,#REF!,#REF!,#REF!,#REF!,#REF!,#REF!,#REF!,#REF!,#REF!,#REF!,#REF!,#REF!,#REF!,#REF!
Name par2.4s: #REF!,#REF!,#REF!,#REF!,#REF!,#REF!,#REF!,#REF!,#REF!,#REF!,#REF!,#REF!,#REF!,#REF!,#REF!,#REF!
Name par2.5s: #REF!,#REF!
Name par2.5s: #REF!,#REF!
Name par2.6s: #REF!,#REF!,#REF!,#REF!
Name par2.6s: #REF!,#REF!,#REF!,#REF!
Name par2.7s: #REF!,#REF!

Sheet Havelvats 1 
A1: Հավելված 1 ՀՀ կառավարության 2025 թվականի ____________ի N _____-Ն որոշման
A3: «ՀԱՅԱՍՏԱՆԻ ՀԱՆՐԱՊԵՏՈՒԹՅԱՆ 2025 ԹՎԱԿԱՆԻ ՊԵՏԱԿԱՆ ԲՅՈՒՋԵԻ ՄԱՍԻՆ» ՕՐԵՆՔԻ N 1 ՀԱՎԵԼՎԱԾԻ N 2 ԱՂՅՈՒՍԱԿՈՒՄ ԿԱՏԱՐՎՈՂ ՎԵՐԱԲԱՇԽՈՒՄԸ ԵՎ ԼՐԱՑՈՒՄԸ, ՀԱՅԱՍՏԱՆԻ ՀԱՆՐԱՊԵՏՈՒԹՅԱՆ ԿԱՌԱՎԱՐՈՒԹՅԱՆ 2024 ԹՎԱԿԱՆԻ ԴԵԿՏԵՄԲԵՐԻ 27-Ի N 2060-Ն ՈՐՈՇՄԱՆ N 5 ՀԱՎԵԼՎԱԾԻ N 1 ԱՂՅՈՒՍԱԿՈՒՄ ԿԱՏԱՐՎՈՂ ՓՈՓՈԽՈՒԹՅՈՒՆԸ ԵՎ ԼՐԱՑՈՒՄԸ
G4: հազար դրամներով
A5: ԲԳԿ | B5: Ծրագրային դասիչը | D5: ԲԳԿ/Ծրագրի /միջոցառման անվանումը | E5: Ծրագրի նպատակը/Միջոցառման նկարագրույունը | F5: Վերջնական արդյունքի նկարագրությունը/Միջոցառման տեսակը | G5: Ցուցանիշների փոփոխությունը (ավելացումները նշված են դրական նշանով, իսկ նվազեցումները՝ փակագծերում)
B6: Ծրագիր | C6: Միջոցառում | G6: Առաջին կիսամյակ | H6: Ինն ամիս | I6: Տարի
A7: ԸՆԴԱՄԵՆԸ | G7: =+G8 -> 0 | H7: =+H8 -> 0 | I7: =+I8 -> 0
A8: ՀՀ էկոնոմիկայի նախարարություն | G8: =+G9 -> 0 | H8: =+H9 -> 0 | I8: =+I9 -> 0
B9: 1116 | D9: Անասնաբուժական ծառայություններ | E9: Անասնահամաճարակային կայուն ֆոնի ապահովում | F9: Գյուղատնտեսական կենդանիների վարակամերժության ապահովում | G9: =+G10+G11 -> 0 | H9: =+H10+H11 -> 0 | I9: =+I10+I11 -> 0
C10: 1116 - 11006 | D10: Մթերատվության բարձրացման փորձնական ծրագրի շրջանակներում կովերի արհեստական սերմնավորման միջոցառումների իրականացում | E10: Արհեստական սերմնավորման միջոցով հանրապետությունում անասնագլխաքանակի ավելացում և տոհմային հատկանիշների բարելավում | F10: Ծառայությունների մատուցում | G10: -43200 | H10: -67920 | I10: -93200
C11: 1116 - 12001 | D11: Մթերատվության բարձրացման փորձնական ծրագրի շրջանակներում կովերի արհեստական սերմնավորման միջոցառումների իրականացում | E11: Արհեստական սերմնավորման միջոցով հանրապետությունում անասնագլխաքանակի ավելացում և տոհմային հատկանիշների բարելավում | F11: Տրանսֆերտների տրամադրում | G11: =-1*G10 -> 43200 | H11: =-1*H10 -> 67920 | I11: =-1*I10 -> 93200
A12: ՀՀ կառավարություն
B13: 1139 | D13: ՀՀ կառավարության պահուստային ֆոնդ | E13: Պետական բյուջեում չկանխատեսված, ինչպես նաեւ բյուջետային երաշխիքների ապահովման ծախսերի ֆինանսավորման ապահովում | F13: Պահուստային ֆոնդի կառավարման արդյունավետության և թափանցիկության ապահովում | G13: =+G14+G15 -> 0 | H13: =+H14+H15 -> 0 | I13: =+I14+I15 -> 0
C14: 1139 - 11001 | D14: ՀՀ կառավարության պահուստային ֆոնդ | E14: ՀՀ պետական բյուջեում նախատեսված ելքերի լրացուցիչ ֆինանսավորման, պետական բյուջեում չկանխատեսված ելքերի, ինչպես նաև բյուջետային երաշխիքների ապահովման ելքերի ֆինանսավորման ապահովում | F14: Ծառայությունների մատուցում | G14: 43200 | H14: 67920 | I14: 93200
C15: 1139 - 11001 | D15: ՀՀ կառավարության պահուստային ֆոնդ | E15: ՀՀ պետական բյուջեում նախատեսված ելքերի լրացուցիչ ֆինանսավորման, պետական բյուջեում չկանխատեսված ելքերի, ինչպես նաև բյուջետային երաշխիքների ապահովման ելքերի ֆինանսավորման ապահովում | F15: Ծառայությունների մատուցում | G15: =-1*G14 -> -43200 | H15: =-1*H14 -> -67920 | I15: =-1*I14 -> -93200

Sheet Havelvats 2
F1: Հավելված 2 ՀՀ կառավարության 2025 թվականի ____________ի N _____-Ն որոշման
A3: ՀԱՅԱՍՏԱՆԻ ՀԱՆՐԱՊԵՏՈՒԹՅԱՆ ԿԱՌԱՎԱՐՈՒԹՅԱՆ 2024 ԹՎԱԿԱՆԻ ԴԵԿՏԵՄԲԵՐԻ 27-Ի N 2060-Ն ՈՐՈՇՄԱՆ NN 3 ԵՎ 4 ՀԱՎԵԼՎԱԾՆԵՐՈՒՄ ԿԱՏԱՐՎՈՂ ՓՈՓՈԽՈՒԹՅՈՒՆԸ ԵՎ ԼՐԱՑՈՒՄԸ
I4: հազար դրամներով
A5: Գործառնական դասիչ | D5: Ծրագրային դասիչը | F5: Բյուջետային ծախսերի գործառական դասակարգման բաժինների, խմբերի և դասերի, բյուջետային ծրագրերի միջոցառումների, բյուջետային հատկացումների գլխավոր կարգադրիչների անվանումները | G5: Ցուցանիշների փոփոխությունը (ավելացումները նշված են դրական նշանով, իսկ նվազեցումները՝ փակագծերում)
A6: Բաժին | B6: Խումբ | C6: Դաս | D6: Ծրագիր | E6: Միջոցառում | G6: Առաջին կիսամյակ | H6: Ինն ամիս | I6: Տարի
F7: ԸՆԴԱՄԵՆԸ ԾԱԽՍԵՐ | G7: =+G9+G58 -> 0 | H7: =+H9+H58 -> 0 | I7: =+I9+I58 -> 0
F8: այդ թվում`
F9: ՀՀ էկոնոմիկայի նախարարություն | G9: =+G11+G13 -> 0 | H9: =+H11+H13 -> 0 | I9: =+I11+I13 -> 0
F10: այդ թվում`
A11: 04 | F11: ՏՆՏԵՍԱԿԱՆ ՀԱՐԱԲԵՐՈՒԹՅՈՒՆՆԵՐ | G11: =+G13 -> 0 | H11: =+H13 -> 0 | I11: =+I13 -> 0
F12: այդ թվում`
B13: 02 | F13: Գյուղատնտեսություն, անտառային տնտեսություն, ձկնորսություն և որսորդություն | G13: =+G15 -> 0 | H13: =+H15 -> 0 | I13: =+I15 -> 0
F14: այդ թվում`
C15: 01 | F15: Գյուղատնտեսություն | G15: =+G17+G28 -> 0 | H15: =+H17+H28 -> 0 | I15: =+I17+I28 -> 0
F16: այդ թվում`
D17: 1116 | F17: =+'Havelvats 1 '!D10 -> Մթերատվության բարձրացման փորձնական ծրագրի շրջանակներում կովերի արհեստական սերմնավորման միջոցառումների իրականացում | G17: =+G19 -> -43200 | H17: =+H19 -> -67920 | I17: =+I19 -> -93200
F18: այդ թվում`
E19: 11006 | F19: Մթերատվության բարձրացման փորձնական ծրագրի շրջանակներում կովերի արհեստական սերմնավորման միջոցառումների իրականացում | G19: =+G21 -> -43200 | H19: =+H21 -> -67920 | I19: =+I21 -> -93200
F20: այդ թվում` ըստ կատարողների
F21: ՀՀ էկոնոմիկայի նախարարություն | G21: =+G23 -> -43200 | H21: =+H23 -> -67920 | I21: =+I23 -> -93200
F22: այդ թվում` բյուջետային ծախսերի տնտեսագիտական դասակարգման հոդվածներ
F23: ԸՆԴԱՄԵՆԸ ԾԱԽՍԵՐ | G23: =+G24 -> -43200 | H23: =+H24 -> -67920 | I23: =+I24 -> -93200
F24: ԸՆԹԱՑԻԿ ԾԱԽՍԵՐ | G24: =+G25 -> -43200 | H24: =+H25 -> -67920 | I24: =+I25 -> -93200
F25: ԴՐԱՄԱՇՆՈՐՀՆԵՐ | G25: =+G26 -> -43200 | H25: =+H26 -> -67920 | I25: =+I26 -> -93200
F26: Ընթացիկ դրամաշնորհներ պետական հատվածի այլ մակարդակներին | G26: =+G27 -> -43200 | H26: =+H27 -> -67920 | I26: =+I27 -> -93200
F27: - Այլ ընթացիկ դրամաշնորհներ | G27: -43200 | H27: -67920 | I27: -93200
E28: 12001 | F28: =+'Havelvats 1 '!D11 -> Մթերատվության բարձրացման փորձնական ծրագրի շրջանակներում կովերի արհեստական սերմնավորման միջոցառումների իրականացում | G28: =+G30+G37+G44+G51 -> 43200 | H28: =+H30+H37+H44+H51 -> 67920 | I28: =+I30+I37+I44+I51 -> 93200
F29: այդ թվում` ըստ կատարողների
F30: ՀՀ Արագածոտնի մարզպետի աշխատակազմ | G30: =+G32 -> 0 | H30: =+H32 -> 5000 | I30: =+I32 -> 10000
F31: այդ թվում` բյուջետային ծախսերի տնտեսագիտական դասակարգման հոդվածներ
F32: ԸՆԴԱՄԵՆԸ ԾԱԽՍԵՐ | G32: =+G33 -> 0 | H32: =+H33 -> 5000 | I32: =+I33 -> 10000
F33: ԸՆԹԱՑԻԿ ԾԱԽՍԵՐ | G33: =+G34 -> 0 | H33: =+H34 -> 5000 | I33: =+I34 -> 10000
F34: ՍՈՒԲՍԻԴԻԱՆԵՐ | G34: =G35 -> 0 | H34: =H35 -> 5000 | I34: =I35 -> 10000
F35: Սուբսիդիաներ ոչ պետական կազմակերպություններին | G35: =G36 -> 0 | H35: =H36 -> 5000 | I35: =I36 -> 10000
F36: - Սուբսիդիաներ ոչ պետական ոչ ֆինանսական կազմակերպություններին | G36: 0 | H36: 5000 | I36: 10000
F37: ՀՀ Գեղարքունիքի մարզպետի աշխատակազմ | G37: =+G39 -> 10000 | H37: =+H39 -> 16720 | I37: =+I39 -> 35000
F38: այդ թվում` բյուջետային ծախսերի տնտեսագիտական դասակարգման հոդվածներ
F39: ԸՆԴԱՄԵՆԸ ԾԱԽՍԵՐ | G39: =+G40 -> 10000 | H39: =+H40 -> 16720 | I39: =+I40 -> 35000
F40: ԸՆԹԱՑԻԿ ԾԱԽՍԵՐ | G40: =+G41 -> 10000 | H40: =+H41 -> 16720 | I40: =+I41 -> 35000
F41: ՍՈՒԲՍԻԴԻԱՆԵՐ | G41: =G42 -> 10000 | H41: =H42 -> 16720 | I41: =I42 -> 35000
F42: Սուբսիդիաներ ոչ պետական կազմակերպություններին | G42: =G43 -> 10000 | H42: =H43 -> 16720 | I42: =I43 -> 35000
F43: - Սուբսիդիաներ ոչ պետական ոչ ֆինանսական կազմակերպություններին | G43: 10000 | H43: 16720 | I43: 35000
F44: ՀՀ Շիրակի մարզպետի աշխատակազմ | G44: =+G46 -> 20000 | H44: =+H46 -> 32200 | I44: =+I46 -> 32200
F45: այդ թվում` բյուջետային ծախսերի տնտեսագիտական դասակարգման հոդվածներ
F46: ԸՆԴԱՄԵՆԸ ԾԱԽՍԵՐ | G46: =+G47 -> 20000 | H46: =+H47 -> 32200 | I46: =+I47 -> 32200
F47: ԸՆԹԱՑԻԿ ԾԱԽՍԵՐ | G47: =+G48 -> 20000 | H47: =+H48 -> 32200 | I47: =+I48 -> 32200
F48: ՍՈՒԲՍԻԴԻԱՆԵՐ | G48: =G49 -> 20000 | H48: =H49 -> 32200 | I48: =I49 -> 32200
F49: Սուբսիդիաներ ոչ պետական կազմակերպություններին | G49: =G50 -> 20000 | H49: =H50 -> 32200 | I49: =I50 -> 32200
F50: - Սուբսիդիաներ ոչ պետական ոչ ֆինանսական կազմակերպություններին | G50: 20000 | H50: 32200 | I50: 32200
F51: ՀՀ Սյունիքի մարզպետի աշխատակազմ | G51: =+G53 -> 13200 | H51: =+H53 -> 14000 | I51: =+I53 -> 16000
F52: այդ թվում` բյուջետային ծախսերի տնտեսագիտական դասակարգման հոդվածներ
F53: ԸՆԴԱՄԵՆԸ ԾԱԽՍԵՐ | G53: =+G54 -> 13200 | H53: =+H54 -> 14000 | I53: =+I54 -> 16000
F54: ԸՆԹԱՑԻԿ ԾԱԽՍԵՐ | G54: =+G55 -> 13200 | H54: =+H55 -> 14000 | I54: =+I55 -> 16000
F55: ՍՈՒԲՍԻԴԻԱՆԵՐ | G55: =G56 -> 13200 | H55: =H56 -> 14000 | I55: =I56 -> 16000
F56: Սուբսիդիաներ ոչ պետական կազմակերպություններին | G56: =G57 -> 13200 | H56: =H57 -> 14000 | I56: =I57 -> 16000
F57: - Սուբսիդիաներ ոչ պետական ոչ ֆինանսական կազմակերպություններին | G57: 13200 | H57: 14000 | I57: 16000
F58: ՀՀ կառավարություն | G58: =+G60 -> 0 | H58: =+H60 -> 0 | I58: =+I60 -> 0
F59: այդ թվում`
A60: 11 | F60: ՀԻՄՆԱԿԱՆ ԲԱԺԻՆՆԵՐԻՆ ՉԴԱՍՎՈՂ ՊԱՀՈՒՍՏԱՅԻՆ ՖՈՆԴԵՐ | G60: =G62 -> 0 | H60: =H62 -> 0 | I60: =I62 -> 0
F61: այդ թվում`
B62: 01 | F62: ՀՀ կառավարության և համայնքների պահուստային ֆոնդ | G62: =G64 -> 0 | H62: =H64 -> 0 | I62: =I64 -> 0
F63: այդ թվում`
C64: 01 | F64: ՀՀ կառավարության պահուստային ֆոնդ | G64: =G66 -> 0 | H64: =H66 -> 0 | I64: =I66 -> 0
F65: այդ թվում`
F66: ՀՀ կառավարություն | G66: =G68 -> 0 | H66: =H68 -> 0 | I66: =I68 -> 0
F67: այդ թվում`
D68: 1139 | F68: ՀՀ կառավարության պահուստային ֆոնդ | G68: =+G70+G78 -> 0 | H68: =+H70+H78 -> 0 | I68: =+I70+I78 -> 0
F69: այդ թվում`
E70: 11001 | F70: ՀՀ կառավարության պահուստային ֆոնդ | G70: =G72 -> 43200 | H70: =H72 -> 67920 | I70: =I72 -> 93200
F71: այդ թվում` ըստ կատարողների
F72: ՀՀ կառավարություն | G72: =G74 -> 43200 | H72: =H74 -> 67920 | I72: =I74 -> 93200
F73: այդ թվում` բյուջետային ծախսերի տնտեսագիտական դասակարգման հոդվածներ
F74: ԸՆԴԱՄԵՆԸ ԾԱԽՍԵՐ | G74: =G75 -> 43200 | H74: =H75 -> 67920 | I74: =I75 -> 93200
F75: ԸՆԹԱՑԻԿ ԾԱԽՍԵՐ | G75: =G76 -> 43200 | H75: =H76 -> 67920 | I75: =I76 -> 93200
F76: ԱՅԼ ԾԱԽՍԵՐ | G76: =G77 -> 43200 | H76: =H77 -> 67920 | I76: =I77 -> 93200
F77: Պահուստային միջոցներ | G77: 43200 | H77: 67920 | I77: 93200
E78: 11001 | F78: ՀՀ կառավարության պահուստային ֆոնդ | G78: =G80 -> -43200 | H78: =H80 -> -67920 | I78: =I80 -> -93200
F79: այդ թվում` ըստ կատարողների
F80: ՀՀ կառավարություն | G80: =G82 -> -43200 | H80: =H82 -> -67920 | I80: =I82 -> -93200
F81: այդ թվում` բյուջետային ծախսերի տնտեսագիտական դասակարգման հոդվածներ
F82: ԸՆԴԱՄԵՆԸ ԾԱԽՍԵՐ | G82: =G83 -> -43200 | H82: =H83 -> -67920 | I82: =I83 -> -93200
F83: ԸՆԹԱՑԻԿ ԾԱԽՍԵՐ | G83: =G84 -> -43200 | H83: =H84 -> -67920 | I83: =I84 -> -93200
F84: ԱՅԼ ԾԱԽՍԵՐ | G84: =G85 -> -43200 | H84: =H85 -> -67920 | I84: =I85 -> -93200
F85: Պահուստային միջոցներ | G85: -43200 | H85: -67920 | I85: -93200

Sheet Havelvats 3
D1: Հավելված 3
C2: ՀՀ կառավարության 2025 թվականի
C3: ___________ ___-ի N _______ -Ն որոշման
A6: ՀԱՅԱՍՏԱՆԻ ՀԱՆՐԱՊԵՏՈՒԹՅԱՆ ԿԱՌԱՎԱՐՈՒԹՅԱՆ 2024 ԹՎԱԿԱՆԻ ԴԵԿՏԵՄԲԵՐԻ 27-Ի N 2060-Ն ՈՐՈՇՄԱՆ N 5 ՀԱՎԵԼՎԱԾԻ 7 ԱՂՅՈՒՍԱԿՈՒՄ ԿԱՏԱՐՎՈՂ ՓՈՓՈԽՈՒԹՅՈՒՆԸ
G7: հազար դրամներով
A8: Ծրագրային դասիչ | C8: Բյուջետային հատկացումների գլխավոր կարգադրիչների, ծրագրերի, միջոցառումների, ծախսային ուղղությունների անվանումները | F8: Միջոցառումները կատարող պետական մարմինների և դրամաշնորհ ստացող տնտեսվարող սուբյեկտների անվանումները | G8: Ցուցանիշների փոփոխությունները (նվազեցումները նշված են փակագծերում)
A9: Ծրագիր | B9: Միջոցառում | G9: Տարի
A10: 1 | B10: 2 | C10: 3 | F10: 4 | G10: 5
A11: Ընդամենը | G11: =+G12 -> -93200
A12: ՀՀ էկոնոմիկայի նախարարություն | G12: =+G13 -> -93200
A13: 1116 | B13: Անասնաբուժական ծառայություններ | G13: =+G14 -> -93200
B14: 11006 | C14: Մթերատվության բարձրացման փորձնական ծրագրի շրջանակներում կովերի արհեստական սերմնավորման միջոցառումների իրականացում | F14: ՀՀ էկոնոմիկայի նախարարություն | G14: =+G15 -> -93200
F15: «Գյուղատնտեսական ծառայությունների կենտրոն» ՊՈԱԿ | G15: =+'Havelvats 2'!I27 -> -93200

Sheet Havelvats 4
A1: Հավելված 4 ՀՀ կառավարության 2025 թվականի ____________ի N _____-Ն որոշման
A3: ՀԱՅԱՍՏԱՆԻ ՀԱՆՐԱՊԵՏՈՒԹՅԱՆ ԿԱՌԱՎԱՐՈՒԹՅԱՆ 2024 ԹՎԱԿԱՆԻ ԴԵԿՏԵՄԲԵՐԻ 27-Ի N 2060-Ն ՈՐՈՇՄԱՆ N 9 ՀԱՎԵԼՎԱԾՈՒՄ ԿԱՏԱՐՎՈՂ ՓՈՓՈԽՈՒԹՅՈՒՆՆԵՐԸ ԵՎ ԼՐԱՑՈՒՄՆԵՐԸ
L4: հազար դրամներով
A5: ԲԳԿ | B5: Ծրագիր | D5: Միջոցառում | H5: Իրականացնողը/ ակտիվն օգտագործողը/ շահառուի ընտրության չափորոշիչը | I5: Արդյունքային չափորոշիչը | J5: Ցուցանիշների փոփոխությունը (ավելացումները նշված են դրական նշանով, իսկ նվազեցումները՝ փակագծերում)
B6: Դասիչը | C6: Անվա-նումը | D6: Դասիչը | E6: Անվա-նումը | F6: Նկարագրու-թյունը | G6: Տեսակը | J6: Առաջին կիսամյակ | K6: Ինն ամիս | L6: Տարի
A7: ԸՆԴԱՄԵՆԸ | J7: =+J8+J20 -> 0 | K7: =+K8+K20 -> 0 | L7: =+L8+L20 -> 0
A8: ՀՀ էկոնոմիկայի նախարարություն | J8: =+J9 -> 0 | K8: =+K9 -> 0 | L8: =+L9 -> 0
B9: 1116 | C9: Անասնաբուժական ծառայություններ | J9: =+J10+J15 -> 0 | K9: =+K10+K15 -> 0 | L9: =+L10+L15 -> 0
D10: 1116 - 11006 | E10: Մթերատվության բարձրացման փորձնական ծրագրի շրջանակներում կովերի արհեստական սերմնավորման միջոցառումների իրականացում | J10: =+'Havelvats 1 '!G10 -> -43200 | K10: =+'Havelvats 1 '!H10 -> -67920 | L10: =+'Havelvats 1 '!I10 -> -93200
F11: Արհեստական սերմնավորման միջոցով հանրապետությունում անասնագլխաքանակի ավելացում և տոհմային հատկանիշների բարելավում
G12: Ծառայությունների մատուցում
H13: Ծառայությունը մատուցողի անվանումը` Մասնագիտացված կազմակերպություններ
I14: Սերմնավորված կովեր, գլուխ | J14: -4320 | L14: -9320
D15: 1116 - 12001 | E15: Մթերատվության բարձրացման փորձնական ծրագրի շրջանակներում կովերի արհեստական սերմնավորման միջոցառումների իրականացում | J15: =+'Havelvats 1 '!G11 -> 43200 | K15: =+'Havelvats 1 '!H11 -> 67920 | L15: =+'Havelvats 1 '!I11 -> 93200
F16: Արհեստական սերմնավորման միջոցով հանրապետությունում անասնագլխաքանակի ավելացում և տոհմային հատկանիշների բարելավում
G17: =+'Havelvats 1 '!F11 -> Տրանսֆերտների տրամադրում
H18: Շահառուների ընտրության չափորոշիչները` ՀՀ կառավարության 2024 թվականի օգոստոսի 22-ի N 1392-Լ որոշմամբ հաստատված ծրագրի չափանիշները բավարարող շահառուներ
I19: Սերմնավորված կովեր, գլուխ | J19: 4320 | L19: 9320
A20: ՀՀ կառավարություն | J20: =J21 -> 0 | K20: =K21 -> 0 | L20: =L21 -> 0 | N20: =+L20*1000*M20 -> 0
B21: 1139 | C21: ՀՀ կառավարության պահուստային ֆոնդ | J21: =J22+J26 -> 0 | K21: =K22+K26 -> 0 | L21: =L22+L26 -> 0 | N21: =+L21*1000*M21 -> 0
D22: 1139 - 11001 | E22: ՀՀ կառավարության պահուստային ֆոնդ | J22: =+'Havelvats 2'!G70 -> 43200 | K22: =+'Havelvats 2'!H70 -> 67920 | L22: =+'Havelvats 2'!I70 -> 93200 | N22: =+L22*1000*M22 -> 0
F23: ՀՀ պետական բյուջեում նախատեսված ելքերի լրացուցիչ ֆինանսավորման, պետական բյուջեում չկանխատեսված ելքերի, ինչպես նաև բյուջետային երաշխիքների ապահովման ելքերի ֆինանսավորման ապահովում | N23: =+L23*1000*M23 -> 0
G24: Ծառայությունների մատուցում | N24: =+L24*1000*M24 -> 0
H25: Ծառայությունը մատուցողի անվանումը` ՀՀ կառավարություն | N25: =+L25*1000*M25 -> 0
D26: 1139 - 11001 | E26: ՀՀ կառավարության պահուստային ֆոնդ | J26: =+'Havelvats 2'!G78 -> -43200 | K26: =+'Havelvats 2'!H78 -> -67920 | L26: =+'Havelvats 2'!I78 -> -93200 | N26: =+L26*1000*M26 -> 0
F27: ՀՀ պետական բյուջեում նախատեսված ելքերի լրացուցիչ ֆինանսավորման, պետական բյուջեում չկանխատեսված ելքերի, ինչպես նաև բյուջետային երաշխիքների ապահովման ելքերի ֆինանսավորման ապահովում | N27: =+L27*1000*M27 -> 0
G28: Ծառայությունների մատուցում | N28: =+L28*1000*M28 -> 0
H29: Ծառայությունը մատուցողի անվանումը` ՀՀ կառավարություն | N29: =+L29*1000*M29 -> 0

Sheet Havelvats 5
A1: Հավելված 5 ՀՀ կառավարության 2025 թվականի ____________ի N _____-Ն որոշման
A3: ՀԱՅԱՍՏԱՆԻ ՀԱՆՐԱՊԵՏՈՒԹՅԱՆ ԿԱՌԱՎԱՐՈՒԹՅԱՆ 2024 ԹՎԱԿԱՆԻ ԴԵԿՏԵՄԲԵՐԻ 27-Ի N 2060-Ն ՈՐՈՇՄԱՆ N 9.1 ՀԱՎԵԼՎԱԾՈՒՄ ԿԱՏԱՐՎՈՂ ՓՈՓՈԽՈՒԹՅՈՒՆՆԵՐԸ ԵՎ ԼՐԱՑՈՒՄՆԵՐԸ
L4: հազար դրամներով
A5: ԲՍԿ | B5: Ծրագիր | D5: Միջոցառում | H5: Իրականացնողը/ ակտիվն օգտագործողը/ շահառուի ընտրության չափորոշիչը | I5: Արդյունքային չափորոշիչը | J5: Ցուցանիշների փոփոխությունը (ավելացումները նշված են դրական նշանով, իսկ նվազեցումները՝ փակագծերում)
B6: Դասիչը | C6: Անվա-նումը | D6: Դասիչը | E6: Անվա-նումը | F6: Նկարագրու-թյունը | G6: Տեսակը | J6: Առաջին կիսամյակ | K6: Ինն ամիս | L6: Տարի
A7: ԸՆԴԱՄԵՆԸ | J7: =+J8++J15+J22+J29+J36+J43 -> 0 | K7: =+K8++K15+K22+K29+K36+K43 -> 0 | L7: =+L8++L15+L22+L29+L36+L43 -> 0
A8: ՀՀ էկոնոմիկայի նախարարություն | J8: =+J9 -> -43200 | K8: =+K9 -> -67920 | L8: =+L9 -> -93200
B9: 1116 | C9: Անասնաբուժական ծառայություններ | J9: =+J10 -> -43200 | K9: =+K10 -> -67920 | L9: =+L10 -> -93200
D10: 1116 - 11006 | E10: Մթերատվության բարձրացման փորձնական ծրագրի շրջանակներում կովերի արհեստական սերմնավորման միջոցառումների իրականացում | J10: =+'Havelvats 4'!J10 -> -43200 | K10: =+'Havelvats 4'!K10 -> -67920 | L10: =+'Havelvats 4'!L10 -> -93200
F11: Արհեստական սերմնավորման միջոցով հանրապետությունում անասնագլխաքանակի ավելացում և տոհմային հատկանիշների բարելավում
G12: Ծառայությունների մատուցում
H13: Ծառայությունը մատուցողի անվանումը` Մասնագիտացված կազմակերպություններ
I14: Սերմնավորված կովեր, գլուխ | J14: -4320 | L14: -9320
A15: ՀՀ Արագածոտնի մարզպետի աշխատակազմ | J15: =+J16 -> 0 | K15: =+K16 -> 5000 | L15: =+L16 -> 10000
B16: 1116 | C16: Անասնաբուժական ծառայություններ | J16: =+J17 -> 0 | K16: =+K17 -> 5000 | L16: =+L17 -> 10000
D17: 1116 - 12001 | E17: Մթերատվության բարձրացման փորձնական ծրագրի շրջանակներում կովերի արհեստական սերմնավորման միջոցառումների իրականացում | J17: =+'Havelvats 2'!G30 -> 0 | K17: =+'Havelvats 2'!H30 -> 5000 | L17: =+'Havelvats 2'!I30 -> 10000
F18: Արհեստական սերմնավորման միջոցով հանրապետությունում անասնագլխաքանակի ավելացում և տոհմային հատկանիշների բարելավում
G19: =+'Havelvats 1 '!F11 -> Տրանսֆերտների տրամադրում
H20: Շահառուների ընտրության չափորոշիչները` ՀՀ կառավարության 2024 թվականի օգոստոսի 22-ի N 1392-Լ որոշմամբ հաստատված ծրագրի չափանիշները բավարարող շահառուներ
I21: Սերմնավորված կովեր, գլուխ | J21: 0 | L21: 1000
A22: ՀՀ Գեղարքունիքի մարզպետի աշխատակազմ | J22: =+J23 -> 10000 | K22: =+K23 -> 16720 | L22: =+L23 -> 35000
B23: 1116 | C23: Անասնաբուժական ծառայություններ | J23: =+J24 -> 10000 | K23: =+K24 -> 16720 | L23: =+L24 -> 35000
D24: 1116 - 12001 | E24: Մթերատվության բարձրացման փորձնական ծրագրի շրջանակներում կովերի արհեստական սերմնավորման միջոցառումների իրականացում | J24: =+'Havelvats 2'!G37 -> 10000 | K24: =+'Havelvats 2'!H37 -> 16720 | L24: =+'Havelvats 2'!I37 -> 35000
F25: Արհեստական սերմնավորման միջոցով հանրապետությունում անասնագլխաքանակի ավելացում և տոհմային հատկանիշների բարելավում
G26: Տրանսֆերտների տրամադրում
H27: Շահառուների ընտրության չափորոշիչները` ՀՀ կառավարության 2024 թվականի օգոստոսի 22-ի N 1392-Լ որոշմամբ հաստատված ծրագրի չափանիշները բավարարող շահառուներ
I28: Սերմնավորված կովեր, գլուխ | J28: 1000 | L28: 3500
A29: ՀՀ Շիրակի մարզպետի աշխատակազմ | J29: =+J30 -> 20000 | K29: =+K30 -> 32200 | L29: =+L30 -> 32200
B30: 1116 | C30: Անասնաբուժական ծառայություններ | J30: =+J31 -> 20000 | K30: =+K31 -> 32200 | L30: =+L31 -> 32200
D31: 1116 - 12001 | E31: Մթերատվության բարձրացման փորձնական ծրագրի շրջանակներում կովերի արհեստական սերմնավորման միջոցառումների իրականացում | J31: =+'Havelvats 2'!G44 -> 20000 | K31: =+'Havelvats 2'!H44 -> 32200 | L31: =+'Havelvats 2'!I44 -> 32200
F32: Արհեստական սերմնավորման միջոցով հանրապետությունում անասնագլխաքանակի ավելացում և տոհմային հատկանիշների բարելավում
G33: Տրանսֆերտների տրամադրում
H34: Շահառուների ընտրության չափորոշիչները` ՀՀ կառավարության 2024 թվականի օգոստոսի 22-ի N 1392-Լ որոշմամբ հաստատված ծրագրի չափանիշները բավարարող շահառուներ
I35: Սերմնավորված կովեր, գլուխ | J35: 2000 | L35: 3220
A36: ՀՀ Սյունիքի մարզպետի աշխատակազմ | J36: =+J37 -> 13200 | K36: =+K37 -> 14000 | L36: =+L37 -> 16000
B37: 1116 | C37: Անասնաբուժական ծառայություններ | J37: =+J38 -> 13200 | K37: =+K38 -> 14000 | L37: =+L38 -> 16000
D38: 1116 - 12001 | E38: Մթերատվության բարձրացման փորձնական ծրագրի շրջանակներում կովերի արհեստական սերմնավորման միջոցառումների իրականացում | J38: =+'Havelvats 2'!G51 -> 13200 | K38: =+'Havelvats 2'!H51 -> 14000 | L38: =+'Havelvats 2'!I51 -> 16000
F39: Արհեստական սերմնավորման միջոցով հանրապետությունում անասնագլխաքանակի ավելացում և տոհմային հատկանիշների բարելավում
G40: Տրանսֆերտների տրամադրում
H41: Շահառուների ընտրության չափորոշիչները` ՀՀ կառավարության 2024 թվականի օգոստոսի 22-ի N 1392-Լ որոշմամբ հաստատված ծրագրի չափանիշները բավարարող շահառուներ
I42: Սերմնավորված կովեր, գլուխ | J42: 1320 | L42: 1600
A43: ՀՀ կառավարություն | J43: =J44 -> 0 | K43: =K44 -> 0 | L43: =L44 -> 0 | N43: =+L43*1000*M43 -> 0
B44: 1139 | C44: ՀՀ կառավարության պահուստային ֆոնդ | J44: =J45+J49 -> 0 | K44: =K45+K49 -> 0 | L44: =L45+L49 -> 0 | N44: =+L44*1000*M44 -> 0
D45: 1139 - 11001 | E45: ՀՀ կառավարության պահուստային ֆոնդ | J45: =+'Havelvats 2'!G70 -> 43200 | K45: =+'Havelvats 2'!H70 -> 67920 | L45: =+'Havelvats 2'!I70 -> 93200 | N45: =+L45*1000*M45 -> 0
F46: ՀՀ պետական բյուջեում նախատեսված ելքերի լրացուցիչ ֆինանսավորման, պետական բյուջեում չկանխատեսված ելքերի, ինչպես նաև բյուջետային երաշխիքների ապահովման ելքերի ֆինանսավորման ապահովում | N46: =+L46*1000*M46 -> 0
G47: Ծառայությունների մատուցում | N47: =+L47*1000*M47 -> 0
H48: Ծառայությունը մատուցողի անվանումը` ՀՀ կառավարություն | N48: =+L48*1000*M48 -> 0
D49: 1139 - 11001 | E49: ՀՀ կառավարության պահուստային ֆոնդ | J49: =+'Havelvats 2'!G78 -> -43200 | K49: =+'Havelvats 2'!H78 -> -67920 | L49: =+'Havelvats 2'!I78 -> -93200 | N49: =+L49*1000*M49 -> 0
F50: ՀՀ պետական բյուջեում նախատեսված ելքերի լրացուցիչ ֆինանսավորման, պետական բյուջեում չկանխատեսված ելքերի, ինչպես նաև բյուջետային երաշխիքների ապահովման ելքերի ֆինանսավորման ապահովում | N50: =+L50*1000*M50 -> 0
G51: Ծառայությունների մատուցում | N51: =+L51*1000*M51 -> 0
H52: Ծառայությունը մատուցողի անվանումը` ՀՀ կառավարություն | N52: =+L52*1000*M52 -> 0
