Workbook

Sheet 1
H1: Հավելված N 1
H2: ՀՀ կառավարության 2025 թվականի
H3: ______________ ի ___Ն որոշման
A5: «ՀԱՅԱՍՏԱՆԻ ՀԱՆՐԱՊԵՏՈՒԹՅԱՆ 2025 ԹՎԱԿԱՆԻ ՊԵՏԱԿԱՆ ԲՅՈՒՋԵԻ ՄԱՍԻՆ» ՕՐԵՆՔԻ N 1 ՀԱՎԵԼՎԱԾԻ N 3 ԱՂՅՈՒՍԱԿՈՒՄ ԿԱՏԱՐՎՈՂ ՓՈՓՈԽՈՒԹՅՈՒՆՆԵՐԸ ԵՎ ԼՐԱՑՈՒՄՆԵՐԸ
G6: հազար դրամներով
A7: Ծրագրային դասիչ | C7: Բյուջետային գլխավոր կարգադրիչների, ծրագրերի, միջոցառումների և ուղղությունների անվանումները | D7: Ցուցանիշների փոփոխությունը (ավելացումները նշված են դրական նշանով, իսկ նվազեցումները` փակագծերում)
D8: Ընդամենը, | E8: այդ թվում՝
A9: Ծրագիր | B9: Միջոցառում | E9: Կառուցման աշխատանքներ | F9: Վերակառուցման, վերանորոգման և վերականգնման աշխատանքներ | G9: Նախագծահե- տազոտական, գեոդեզիա- քարտեզագրական աշխատանքներ | H9: Ոչ ֆինանսական այլ ակտիվների ձեռքբերում
C10: ԸՆԴԱՄԵՆԸ | D10: =+E10+F10+G10+H10 -> -1.1168595e-09 | E10: =+E12 -> 0 | F10: =+F12 -> -15570.7 | G10: =+G12 -> 15570.7 | H10: =+H12 -> 0
C11: այդ թվում՝
C12: ՀՀ ՏԱՐԱԾՔԱՅԻՆ ԿԱՌԱՎԱՐՄԱՆ ԵՎ ԵՆԹԱԿԱՌՈՒՑՎԱԾՔՆԵՐԻ ՆԱԽԱՐԱՐՈՒԹՅՈՒՆ | D12: =+E12+F12+G12+H12 -> -1.1168595e-09 | E12: =E14+E52 -> 0 | F12: =F14+F52 -> -15570.7 | G12: =G14+G52 -> 15570.7 | H12: =H14+H52 -> 0
C13: այդ թվում`
A14: 1049 | B14: 21001 | C14: Պետական նշանակության ավտոճանապարհների հիմնանորոգում | D14: =+E14+F14+G14+H14 -> -1.1168595e-09 | E14: =+E16+E37+E26+E51 -> 0 | F14: =+F16+F37+F26+F51 -> -12930.7 | G14: =+G16+G37+G26+G51 -> 12930.7 | H14: =+H16+H37+H26+H51 -> 0
C15: այդ թվում`
B16: 1 | C16: Միջպետական նշանակության ավտոճանապարհներ, այդ թվում | D16: =+E16+F16+G16+H16 -> 4196956.3 | E16: =SUM(E17:E25) -> 0 | F16: =SUM(F17:F25) -> 4196643.1 | G16: =SUM(G17:G25) -> 313.2 | H16: =SUM(H17:H25) -> 0
C17: Մ-1, Երևան-Գյումրի-ՀՀ սահման միջպետական նշանակության ավտոճանապարհի կմ130+100-կմ134+500 հատվածի հիմնանորոգում | D17: =E17+F17+G17+H17 -> 696801.7 | F17: 696801.7 | G17: 0
C18: Մ-2, Երևան-Երասխ-Գորիս-Մեղրի-ՀՀ սահման միջպետական նշանակության ավտոճանապարհի կմ182+532 - կմ190+000 հատվածի հիմնանորոգում | D18: =+E18+F18+G18+H18 -> 1865.5 | F18: 1865.5
C19: /Մ-2/-Տաթև-Աղվանի-/Մ-2/(Սյունիք) միջպետական նշանակության ավտոճանապարհի կմ0+000-կմ19+500 հատվածի հիմնանորոգում | D19: =E19+F19+G19+H19 -> 882543.5 | F19: 882543.5
C20: Մ-2,Երևան-Երասխ-Նորավան- Տաթև-Կապան-Մեղրի-ՀՀ սահման ավտոճանապարհի կմ336+550 - կմ338+350 հատվածի հիմնանորոգում | D20: =E20+F20+G20+H20 -> 701554 | F20: 701240.8 | G20: 313.2
C21: Մ-3, ՀՀ սահման-Մարգարա-Վանաձոր-Տաշիր-ՀՀ սահման միջպետական նշանակության ավտոճանապարհի կմ97+020-կմ104+700 հատվածի հիմնանորոգում | D21: =E21+F21+G21+H21 -> 63696.9 | F21: 63696.9
C22: Մ-5, Երևան - Արմավիր - ՀՀ սահման միջպետական նշանակության ավտոճանապարհի կմ17+530-կմ18+200, կմ25+593 - կմ29+385 և կմ32+675 - կմ33+833 աջակողմյան և ձախակողմյան հատվածների հիմնանորոգում և Մ-5 Երևան-Արմավիր-ՀՀ սահման ա/ճ-ի կմ 35+457 - կմ 37+054 հատվածի ջրահեռացման համակարգի վերականգնում | D22: =E22+F22+G22+H22 -> 10526.3 | F22: 10526.3
C23: Մ-8, Վանաձոր (Մ-6 հատման կետ) - Դիլիջան միջպետական նշանակության ավտոճանապարհի կմ0+236 - կմ6+236 հատվածի (Վանաձոր քաղաքի հատված) հիմնանորոգում | D23: =E23+F23+G23+H23 -> 1154847.2 | F23: 1154847.2
C24: Մ-10, Սևան-Մարտունի-Գետափ միջպետական նշանակության ավտոճանապարհի կմ79+060-կմ80+590 հատվածի վերակառուցում | D24: =E24+F24+G24+H24 -> 326868 | F24: 326868
C25: Մ-10, Սևան-Մարտունի-Գետափ միջպետական նշանակության ավտոճանապարհի կմ80+590-կմ94+590 հատվածի հիմնանորոգում | D25: =E25+F25+G25+H25 -> 358253.2 | F25: 358253.2
B26: 2 | C26: Հանրապետական նշանակության ավտոճանապարհներ, այդ թվում | D26: =+E26+F26+G26+H26 -> 6106582.1 | E26: =SUM(E27:E36) -> 0 | F26: =SUM(F27:F36) -> 6094344.9 | G26: =SUM(G27:G36) -> 12237.2
C27: Հ-2, /Հ-1/ Աբովյան- Արզնի-/Հ-6/ (Նոր Գեղի) հանրապետական նշանակության ավտոճանապարհի կմ0+000-կմ1+400 հատվածի հիմնանորոգում | D27: =E27+F27+G27+H27 -> 18918.9 | F27: 18918.9
C28: Հ-3, Երևան (Ջրաշխարհ, Մ-4-ի հետ հատման տեղ)-Գառնի –Գեղարդի վանք հանրապետական նշանակության ավտոճանապարհի կմ10+770-կմ27+500 հատվածի (բացառությամբ սողանքային տեղամասերի) հիմնանորոգում | D28: =E28+F28+G28+H28 -> 3421689.4 | F28: 3421689.4
C29: Հ-5, /Հ-6/-Նոր Գեղի-Արգել-Արզական-Հրազդան հանրապետական նշանակության ավտոճանապարհի կմ0+000 - կմ10+000 հատվածի հիմնանորոգում | D29: =E29+F29+G29+H29 -> 58365.1 | F29: 58365.1
C30: Հ-16, /Մ-5/ - Մեծամոր – ՀԱԷԿ - /Մ-5/ հանրապետական նշանակության ավտոճանապարհի կմ0+000 - կմ10+700 հատվածի հիմնանորոգում | D30: =E30+F30+G30+H30 -> 13873.2 | F30: 13873.2
C31: Հ-24, /Մ-3/ - Գյուլագարակ – Կուրթան - /Մ-6/ հանրապետական նշանակության ավտոճանապարհի Կուրթան - Ձորագյուղ - /Մ-6/ 15.2 կմ հատվածի հիմնանորոգում | D31: =E31+F31+G31+H31 -> 2919 | G31: 2919
C32: Հ-26,/Մ-4 /-Ենոքավան–Կարմիր գյուղ (գյուղատեղի)-/Մ-16/ հանրապետական նշանակության ավտոճանապարհի կմ6+300-կմ71+800 հատվածի հիմնանորոգում | D32: =E32+F32+G32+H32 -> 7998 | G32: 7998
C33: Հ-31,/Մ-1/ - Վարդաղբյուր – Տաշիր - /Մ-3/ կմ0+000-կմ5+000 հատվածի հիմնանորոգում | D33: =E33+F33+G33+H33 -> 769087.5 | F33: 769087.5
C34: Հ38,/Հ-30/ (Թթուջուր) – /Հ-36/ (Նավուր) հանրապետական նշանակության ավտոճանապարհի կմ 0+000-կմ 15+100 հատվածի հիմնանորոգում | D34: =E34+F34+G34+H34 -> 1165655.4 | F34: 1165655.4
C35: Հ-55,Հրազդանի տրանսպորտային հանգույց- Ծաղկաձորի ճոպանուղի հանրապետական նշանակության ավտոճանապարհի կմ 5+800- կմ 10+800 հատվածի հիմնանորոգում | D35: =E35+F35+G35+H35 -> 1320.2 | G35: 1320.2
C36: Հ-70, Մ-6 – Աթան հանրապետական նշանակության ավտոճանապարհի կմ0+000 - կմ27+500 հատվածի հիմնանորոգում | D36: =E36+F36+G36+H36 -> 646755.4 | F36: 646755.4
B37: 3 | C37: Մարզային նշանակության ավտոճանապարհներ, այդ թվում | D37: =+E37+F37+G37+H37 -> 2951097.4 | E37: =SUM(E38:E50) -> 0 | F37: =SUM(F38:F50) -> 2950717.1 | G37: =SUM(G38:G50) -> 380.3
C38: Տ-1-34,(Տ-1-33)–Ավան-Խնուսիկ տեղական նշանակության ավտոճանապարհի կմ0+000-կմ2+200 հատվածի հիմնանորոգում | D38: =E38+F38+G38+H38 -> 314450.7 | F38: 314450.7
C39: Տ-1-35, /Հ-81/ (Հացաշեն) - Սորիկ ավտոճանապարհի կմ0+000 - կմ5+100 հատվածի հիմնանորոգում | D39: =E39+F39+G39+H39 -> 41540.5 | F39: 41540.5
C40: Զարինջա - Ձիթհանքով ավտոճանապարհի 4.3 կմ երկարությամբ հատվածի հիմնանորոգում | D40: =E40+F40+G40+H40 -> 462893.1 | F40: 462893.1
C41: Տ-2-50, Հ-10/(Վանաշեն)-Այգավան-Եղեգնավան - /Հ-11/ մարզային նշնակության ավտոճանապարհի կմ0+000 - կմ2+500 հատվածի հիմնանորոգում | D41: =E41+F41+G41+H41 -> 443237.6 | F41: 443237.6
...

Sheet 2
I1: Հավելված N 2
I2: ՀՀ կառավարության 2025 թվականի
I3: ______________ ի ___Ն որոշման
A5: ՀԱՅԱՍՏԱՆԻ ՀԱՆՐԱՊԵՏՈՒԹՅԱՆ ԿԱՌԱՎԱՐՈՒԹՅԱՆ 2024 ԹՎԱԿԱՆԻ ԴԵԿՏԵՄԲԵՐԻ 27-Ի N 2060-Ն ՈՐՈՇՄԱՆ NN 3 ԵՎ 4 ՀԱՎԵԼՎԱԾՆԵՐՈՒՄ ԿԱՏԱՐՎՈՂ ՓՈՓՈԽՈՒԹՅՈՒՆՆԵՐԸ ԵՎ ԼՐԱՑՈՒՄՆԵՐԸ
G7: հազար դրամներով
A8: Գործառական դասիչը | D8: Ծրագրային դասիչը | F8: Բյուջետային հատկացումների գլխավոր կարգադրիչների, ծրագրերի, միջոցառումների և միջոցառումները կատարող պետական մարմինների անվանումները | G8: Ցուցանիշների փոփոխությունը (ավելացումները նշված են դրական նշանով, իսկ նվազեցումները` փակագծերում)
A9: Բաժին | B9: Խումբ | C9: Դաս | D9: Ծրագիր | E9: Միջոցառում | G9: Առաջին կիսամյակ | H9: Ինն ամիս | I9: Տարի
F10: ԸՆԴԱՄԵՆԸ | G10: =G14 -> 0 | H10: =H14 -> 0 | I10: =I14 -> 0
F11: այդ թվում`
F12: ՀՀ տարածքային կառավարման և ենթակառուցվածքների նախարարություն | G12: =G14 -> 0 | H12: =H14 -> 0 | I12: =I14 -> 0
F13: այդ թվում`
A14: 04 | F14: ՏՆՏԵՍԱԿԱՆ ՀԱՐԱԲԵՐՈՒԹՅՈՒՆՆԵՐ | G14: =G16 -> 0 | H14: =H16 -> 0 | I14: =I16 -> 0
F15: այդ թվում`
B16: 05 | F16: ՏՐԱՆՍՊՈՐՏ | G16: =-G18 -> 0 | H16: =-H18 -> 0 | I16: =-I18 -> 0
F17: այդ թվում`
C18: 01 | F18: Ճանապարհային տրանսպորտ | G18: =+G21 -> 0 | H18: =+H21 -> 0 | I18: =+I21 -> 0
F19: այդ թվում`
F20: ՀՀ տարածքային կառավարման և ենթակառուցվածքների նախարարություն | G20: =G21 -> 0 | H20: =H21 -> 0 | I20: =I21 -> 0
D21: 1049 | F21: Ճանապարհային ցանցի բարելավում | G21: =G23+G41 -> 0 | H21: =H23+H41 -> 0 | I21: =I23+I41 -> 0
F22: այդ թվում`
E23: 21001 | F23: Պետական նշանակության ավտոճանապարհների հիմնանորոգում | G23: =G25+G32 -> 0 | H23: =H25+H32 -> 0 | I23: =I25+I32 -> 0
F24: այդ թվում` ըստ կատարողների
F25: ՀՀ կառավարություն | G25: =G27 -> -1432966.4 | H25: =H27 -> -8680360.9 | I25: =I27 -> -13254636
F26: այդ թվում` բյուջետային ծախսերի տնտեսագիտական դասակարգման հոդվածներ
F27: ԸՆԴԱՄԵՆԸ ԾԱԽՍԵՐ | G27: =G28 -> -1432966.4 | H27: =H28 -> -8680360.9 | I27: =I28 -> -13254636
F28: ՈՉ ՖԻՆԱՆՍԱԿԱՆ ԱԿՏԻՎՆԵՐԻ ԳԾՈՎ ԾԱԽՍԵՐ | G28: =G29 -> -1432966.4 | H28: =H29 -> -8680360.9 | I28: =I29 -> -13254636
F29: ՀԻՄՆԱԿԱՆ ՄԻՋՈՑՆԵՐ | G29: =G30 -> -1432966.4 | H29: =H30 -> -8680360.9 | I29: =I30 -> -13254636
F30: ՇԵՆՔԵՐ ԵՎ ՇԻՆՈՒԹՅՈՒՆՆԵՐ | G30: =G31 -> -1432966.4 | H30: =H31 -> -8680360.9 | I30: =I31 -> -13254636
F31: - Շենքերի և շինությունների կապիտալ վերանորոգում | G31: ='3'!E16 -> -1432966.4 | H31: ='3'!F16 -> -8680360.9 | I31: ='3'!G16 -> -13254636
F32: ՀՀ տարածքային կառավարման և ենթակառուցվածքների նախարարություն | G32: =G34 -> 1432966.4 | H32: =H34 -> 8680360.9 | I32: =I34 -> 13254636
F33: այդ թվում`բյուջետային ծախսերի տնտեսագիտական դասակարգման հոդվածներ
F34: ԸՆԴԱՄԵՆԸ ԾԱԽՍԵՐ | G34: =G35 -> 1432966.4 | H34: =H35 -> 8680360.9 | I34: =I35 -> 13254636
F35: ՈՉ ՖԻՆԱՆՍԱԿԱՆ ԱԿՏԻՎՆԵՐԻ ԳԾՈՎ ԾԱԽՍԵՐ | G35: =G36 -> 1432966.4 | H35: =H36 -> 8680360.9 | I35: =I36 -> 13254636
F36: ՀԻՄՆԱԿԱՆ ՄԻՋՈՑՆԵՐ | G36: =G37+G39 -> 1432966.4 | H36: =H37+H39 -> 8680360.9 | I36: =I37+I39 -> 13254636
F37: ՇԵՆՔԵՐ ԵՎ ՇԻՆՈՒԹՅՈՒՆՆԵՐ | G37: =+G38 -> 1432653.2 | H37: =+H38 -> 8667430.2 | I37: =+I38 -> 13241705
F38: - Շենքերի և շինությունների կապիտալ վերանորոգում | G38: ='3'!E17-G40 -> 1432653.2 | H38: ='3'!F17-H40 -> 8667430.2 | I38: ='3'!G17-I40 -> 13241705
F39: ԱՅԼ ՀԻՄՆԱԿԱՆ ՄԻՋՈՑՆԵՐ | G39: =G40 -> 313.2 | H39: =H40 -> 12930.7 | I39: =I40 -> 12930.7
F40: - Նախագծահետազոտական ծախսեր | G40: 313.2 | H40: 12930.7 | I40: 12930.7
E41: 21002 | F41: Տրանսպորտային օբյեկտների հիմնանորոգում | G41: =G43+G50 -> 0 | H41: =H43+H50 -> 0 | I41: =I43+I50 -> 0
F42: այդ թվում` ըստ կատարողների
...

Sheet 3
G1: Հավելված N 3
G2: ՀՀ կառավարության 2025 թվականի
G3: ______________ ի ___Ն որոշման
A5: ՀԱՅԱՍՏԱՆԻ ՀԱՆՐԱՊԵՏՈՒԹՅԱՆ ԿԱՌԱՎԱՐՈՒԹՅԱՆ 2024 ԹՎԱԿԱՆԻ ԴԵԿՏԵՄԲԵՐԻ 27-Ի N 2060-Ն ՈՐՈՇՄԱՆ N 5 ՀԱՎԵԼՎԱԾԻ N 2 ԱՂՅՈՒՍԱԿՈՒՄ ԿԱՏԱՐՎՈՂ ՓՈՓՈԽՈՒԹՅՈՒՆՆԵՐԸ ԵՎ ԼՐԱՑՈՒՄՆԵՐԸ
F7: հազար դրամներով
B8: Ծրագրային դասիչը | D8: Հատկացումների տրամադրման նպատակները և բյուջետային գլխավոր կարգադրիչների, ծրագրերի, միջոցառումների և կատարող պետական մարմնի անվանումները | E8: Ցուցանիշների փոփոխությունը (ավելացումները նշված են դրական նշանով, իսկ նվազեցումները` փակագծերում)
B9: Ծրագիր | C9: Միջոցառում | E9: Առաջին կիսամյակ | F9: Ինն ամիս | G9: Տարի
D10: ԸՆԴԱՄԵՆԸ | E10: =E12 -> 0 | F10: =F12 -> 0 | G10: =G12 -> 0
D11: այդ թվում՝
D12: ՀՀ ՏԱՐԱԾՔԱՅԻՆ ԿԱՌԱՎԱՐՄԱՆ ԵՎ ԵՆԹԱԿԱՌՈՒՑՎԱԾՔՆԵՐԻ ՆԱԽԱՐԱՐՈՒԹՅՈՒՆ | E12: =E14+E54 -> 0 | F12: =F14+F54 -> 0 | G12: =G14+G54 -> 0
D13: այդ թվում`
B14: 1049 | C14: 21001 | D14: Պետական նշանակության ավտոճանապարհների հիմնանորոգում | E14: =E19+E29+E40+E16 -> 0 | F14: =F19+F29+F40+F16 -> 0 | G14: =G19+G29+G40+G16 -> 0
D15: այդ թվում` ըստ կատարողների
D16: ՀՀ կառավարություն | E16: =-E17 -> -1432966.4 | F16: =-F17 -> -8680360.9 | G16: ='1'!D51 -> -13254636
D17: ՀՀ տարածքային կառավարման և ենթակառուցվածքների նախարարություն | E17: =E19+E29+E40 -> 1432966.4 | F17: =F19+F29+F40 -> 8680360.9 | G17: =G19+G29+G40 -> 13254636
D18: այդ թվում՝ ըստ ուղղությունների
C19: 1 | D19: ='1'!C16 -> Միջպետական նշանակության ավտոճանապարհներ, այդ թվում | E19: =SUM(E20:E28) -> 439038.5 | F19: =SUM(F20:F28) -> 2926765.8 | G19: =SUM(G20:G28) -> 4196956.3
D20: ='1'!C17 -> Մ-1, Երևան-Գյումրի-ՀՀ սահման միջպետական նշանակության ավտոճանապարհի կմ130+100-կմ134+500 հատվածի հիմնանորոգում | E20: 34840.1 | F20: 418081 | G20: ='1'!D17 -> 696801.7
D21: ='1'!C18 -> Մ-2, Երևան-Երասխ-Գորիս-Մեղրի-ՀՀ սահման միջպետական նշանակության ավտոճանապարհի կմ182+532 - կմ190+000 հատվածի հիմնանորոգում | F21: 1865.5 | G21: ='1'!D18 -> 1865.5
D22: ='1'!C19 -> /Մ-2/-Տաթև-Աղվանի-/Մ-2/(Սյունիք) միջպետական նշանակության ավտոճանապարհի կմ0+000-կմ19+500 հատվածի հիմնանորոգում | E22: 220635.9 | F22: 723685.7 | G22: ='1'!D19 -> 882543.5
D23: ='1'!C20 -> Մ-2,Երևան-Երասխ-Նորավան- Տաթև-Կապան-Մեղրի-ՀՀ սահման ավտոճանապարհի կմ336+550 - կմ338+350 հատվածի հիմնանորոգում | E23: 35390.9 | F23: 420932.4 | G23: ='1'!D20 -> 701554
D24: ='1'!C21 -> Մ-3, ՀՀ սահման-Մարգարա-Վանաձոր-Տաշիր-ՀՀ սահման միջպետական նշանակության ավտոճանապարհի կմ97+020-կմ104+700 հատվածի հիմնանորոգում | F24: 63696.9 | G24: ='1'!D21 -> 63696.9
D25: ='1'!C22 -> Մ-5, Երևան - Արմավիր - ՀՀ սահման միջպետական նշանակության ավտոճանապարհի կմ17+530-կմ18+200, կմ25+593 - կմ29+385 և կմ32+675 - կմ33+833 աջակողմյան և ձախակողմյան հատվածների հիմնանորոգում և Մ-5 Երևան-Արմավիր-ՀՀ սահման ա/ճ-ի կմ 35+457 - կմ 37+054 հատվածի ջրահեռացման համակարգի վերականգնում | F25: 10526.3 | G25: ='1'!D22 -> 10526.3
D26: ='1'!C23 -> Մ-8, Վանաձոր (Մ-6 հատման կետ) - Դիլիջան միջպետական նշանակության ավտոճանապարհի կմ0+236 - կմ6+236 հատվածի (Վանաձոր քաղաքի հատված) հիմնանորոգում | E26: 115484.8 | F26: 808393.1 | G26: ='1'!D23 -> 1154847.2
D27: ='1'!C24 -> Մ-10, Սևան-Մարտունի-Գետափ միջպետական նշանակության ավտոճանապարհի կմ79+060-կմ80+590 հատվածի վերակառուցում | E27: 32686.8 | F27: 228807.6 | G27: ='1'!D24 -> 326868
D28: ='1'!C25 -> Մ-10, Սևան-Մարտունի-Գետափ միջպետական նշանակության ավտոճանապարհի կմ80+590-կմ94+590 հատվածի հիմնանորոգում | F28: 250777.3 | G28: ='1'!D25 -> 358253.2
C29: 2 | D29: ='1'!C26 -> Հանրապետական նշանակության ավտոճանապարհներ, այդ թվում | E29: =SUM(E30:E39) -> 640413.9 | F29: =SUM(F30:F39) -> 3880431.6 | G29: =SUM(G30:G39) -> 6106582.1
D30: ='1'!C27 -> Հ-2, /Հ-1/ Աբովյան- Արզնի-/Հ-6/ (Նոր Գեղի) հանրապետական նշանակության ավտոճանապարհի կմ0+000-կմ1+400 հատվածի հիմնանորոգում | E30: 18918.9 | F30: 18918.9 | G30: ='1'!D27 -> 18918.9
D31: ='1'!C28 -> Հ-3, Երևան (Ջրաշխարհ, Մ-4-ի հետ հատման տեղ)-Գառնի –Գեղարդի վանք հանրապետական նշանակության ավտոճանապարհի կմ10+770-կմ27+500 հատվածի (բացառությամբ սողանքային տեղամասերի) հիմնանորոգում | E31: 102650.7 | F31: 2053013.7 | G31: ='1'!D28 -> 3421689.4
D32: ='1'!C29 -> Հ-5, /Հ-6/-Նոր Գեղի-Արգել-Արզական-Հրազդան հանրապետական նշանակության ավտոճանապարհի կմ0+000 - կմ10+000 հատվածի հիմնանորոգում | E32: 58365.1 | F32: 58365.1 | G32: ='1'!D29 -> 58365.1
D33: ='1'!C30 -> Հ-16, /Մ-5/ - Մեծամոր – ՀԱԷԿ - /Մ-5/ հանրապետական նշանակության ավտոճանապարհի կմ0+000 - կմ10+700 հատվածի հիմնանորոգում | E33: 13873.2 | F33: 13873.2 | G33: ='1'!D30 -> 13873.2
D34: ='1'!C31 -> Հ-24, /Մ-3/ - Գյուլագարակ – Կուրթան - /Մ-6/ հանրապետական նշանակության ավտոճանապարհի Կուրթան - Ձորագյուղ - /Մ-6/ 15.2 կմ հատվածի հիմնանորոգում | F34: 2919 | G34: ='1'!D31 -> 2919
D35: ='1'!C32 -> Հ-26,/Մ-4 /-Ենոքավան–Կարմիր գյուղ (գյուղատեղի)-/Մ-16/ հանրապետական նշանակության ավտոճանապարհի կմ6+300-կմ71+800 հատվածի հիմնանորոգում | F35: 7998 | G35: ='1'!D32 -> 7998
D36: ='1'!C33 -> Հ-31,/Մ-1/ - Վարդաղբյուր – Տաշիր - /Մ-3/ կմ0+000-կմ5+000 հատվածի հիմնանորոգում | F36: 422998.2 | G36: ='1'!D33 -> 769087.5
D37: ='1'!C34 -> Հ38,/Հ-30/ (Թթուջուր) – /Հ-36/ (Նավուր) հանրապետական նշանակության ավտոճանապարհի կմ 0+000-կմ 15+100 հատվածի հիմնանորոգում | E37: 58282.8 | F37: 815958.8 | G37: ='1'!D34 -> 1165655.4
D38: ='1'!C35 -> Հ-55,Հրազդանի տրանսպորտային հանգույց- Ծաղկաձորի ճոպանուղի հանրապետական նշանակության ավտոճանապարհի կմ 5+800- կմ 10+800 հատվածի հիմնանորոգում | E38: 270 | F38: 1320.2 | G38: ='1'!D35 -> 1320.2
D39: ='1'!C36 -> Հ-70, Մ-6 – Աթան հանրապետական նշանակության ավտոճանապարհի կմ0+000 - կմ27+500 հատվածի հիմնանորոգում | E39: 388053.2 | F39: 485066.5 | G39: ='1'!D36 -> 646755.4
C40: 3 | D40: Մարզային նշանակության ավտոճանապարհներ, այդ թվում | E40: =SUM(E41:E53) -> 353514 | F40: =SUM(F41:F53) -> 1873163.5 | G40: =SUM(G41:G53) -> 2951097.4
D41: ='1'!C38 -> Տ-1-34,(Տ-1-33)–Ավան-Խնուսիկ տեղական նշանակության ավտոճանապարհի կմ0+000-կմ2+200 հատվածի հիմնանորոգում | E41: 31445.1 | F41: 188670.4 | G41: ='1'!D38 -> 314450.7
D42: ='1'!C39 -> Տ-1-35, /Հ-81/ (Հացաշեն) - Սորիկ ավտոճանապարհի կմ0+000 - կմ5+100 հատվածի հիմնանորոգում | E42: 21185.7 | F42: 21185.7 | G42: ='1'!D39 -> 41540.5
...

Sheet 4
L1: Հավելված N 4
M2: ՀՀ կառավարության 2025 թվականի
M3: ______________ ի ___Ն որոշման
B5: ՀԱՅԱՍՏԱՆԻ ՀԱՆՐԱՊԵՏՈՒԹՅԱՆ ԿԱՌԱՎԱՐՈՒԹՅԱՆ 2024 ԹՎԱԿԱՆԻ ԴԵԿՏԵՄԲԵՐԻ 27-Ի № 2060-Ն ՈՐՈՇՄԱՆ № 9 ՀԱՎԵԼՎԱԾԻ ԱՂՅՈՒՍԱԿՆԵՐՈՒՄ ԿԱՏԱՐՎՈՂ ՓՈՓՈԽՈՒԹՅՈՒՆԸ ԵՎ ԼՐԱՑՈՒՄՆԵՐԸ
K7: հազար դրամներով
B8: ԲԳԿ | C8: Ծրագիր | E8: Միջոցառում | I8: Իրականացնողը/ ակտիվն օգտագործողը/ շահառուի ընտրության չափորոշիչը | J8: Արդյունքային չափորոշիչը | K8: Ցուցանիշների փոփոխությունը (ավելացումները նշված են դրական նշանով
C9: Դասիչը | D9: Անվանումը | E9: Դասիչը | F9: Անվանումը | G9: Նկարագրությունը | H9: Տեսակը | K9: Առաջին կիսամյակ | L9: Ինն ամիս | M9: Տարի
B10: ԸՆԴԱՄԵՆԸ | K10: =K11 -> 0 | L10: =L11 -> 0 | M10: =M11 -> 0
B11: ՀՀ տարածքային կառավարման և ենթակառուցվածքների նախարարություն | K11: =K12 -> 0 | L11: =L12 -> 0 | M11: =M12 -> 0
C12: 1049 | D12: Ճանապարհային ցանցի բարելավում | K12: =K13+K20 -> 0 | L12: =L13+L20 -> 0 | M12: =M13+M20 -> 0
E13: 1049 - 21001 | F13: Պետական նշանակության ավտոճանապարհների հիմնանորոգում | K13: ='3'!E14 -> 0 | L13: ='3'!F14 -> 0 | M13: ='3'!G14 -> 0
G14: Միջպետական, հանրապետական և մարզային նշանակության ավտոճոնապարհների քայքայված ծածկի վերանորոգում, մաշված ծածկի փոխարինում
H15: Հանրության կողմից անմիջականորեն օգտագործվող ակտիվների հետ կապված միջոցառումներ
I16: Միջոցառումն իրականացնողի անվանումը` Մասնագիտացված միավոր
J17: Միջպետական նշանակության ավտոճանապարհներ, կիլոմետր | M17: 16.1
J18: Հանրապետական նշանակության ավտոճանապարհներ, կիլոմետր | M18: 25
J19: Մարզային նշանակության ավտոճանապարհներ, կիլոմետր | M19: 16.9
E20: 1049 - 21002 | F20: Տրանսպորտային օբյեկտների հիմնանորոգում | K20: ='3'!E54 -> 0 | L20: ='3'!F54 -> 0 | M20: ='3'!G54 -> 0
G21: Ավտոմոբիլային ճանապարհների վրա գտնվող կամուրջների հիմնանորոգում
H22: Հանրության կողմից անմիջականորեն օգտագործվող ակտիվների հետ կապված միջոցառումներ
I23: Միջոցառումն իրականացնողի անվանումը` Մասնագիտացված միավոր
D32: ՀԱՅԱՍՏԱՆԻ ՀԱՆՐԱՊԵՏՈՒԹՅԱՆ
D33: ՎԱՐՉԱՊԵՏԻ ԱՇԽԱՏԱԿԱԶՄԻ
E34: ՂԵԿԱՎԱՐ ՝ Ա. ՀԱՐՈՒԹՅՈՒՆՅԱՆ

Sheet 5
L1: Հավելված N 5
M2: ՀՀ կառավարության 2025 թվականի
M3: ______________ ի ___Ն որոշման
B5: ՀԱՅԱՍՏԱՆԻ ՀԱՆՐԱՊԵՏՈՒԹՅԱՆ ԿԱՌԱՎԱՐՈՒԹՅԱՆ 2024 ԹՎԱԿԱՆԻ ԴԵԿՏԵՄԲԵՐԻ 27-Ի № 2060-Ն ՈՐՈՇՄԱՆ № 9.1 ՀԱՎԵԼՎԱԾԻ ԱՂՅՈՒՍԱԿՆԵՐՈՒՄ ԿԱՏԱՐՎՈՂ ՓՈՓՈԽՈՒԹՅՈՒՆՆԵՐԸ ԵՎ ԼՐԱՑՈՒՄՆԵՐԸ
B7: ԲՍԿ | C7: Ծրագիր | E7: Միջոցառում | I7: Իրականացնողը/ ակտիվն օգտագործողը/ շահառուի ընտրության չափորոշիչը | J7: Արդյունքային չափորոշիչը | K7: Ցուցանիշների փոփոխությունը (ավելացումները նշված են դրական նշանով, իսկ նվազեցումները` փակագծերում)
C8: Դասիչը | D8: Անվանումը | E8: Դասիչը | F8: Անվանումը | G8: Նկարագրությունը | H8: Տեսակը | K8: Առաջին կիսամյակ | L8: Ինն ամիս | M8: Տարի
B9: ԸՆԴԱՄԵՆԸ | K9: =K10+K25 -> 0 | L9: =L10+L25 -> 0 | M9: =M10+M25 -> 0
B10: ՀՀ տարածքային կառավարման և ենթակառուցվածքների նախարարություն | K10: =K11 -> 1770558.5 | L10: =L11 -> 9198633.5 | M10: =M11 -> 13787162
C11: 1049 | D11: Ճանապարհային ցանցի բարելավում | K11: =K12+K20 -> 1770558.5 | L11: =L12+L20 -> 9198633.5 | M11: =M12+M20 -> 13787162
E12: 1049 - 21001 | F12: Պետական նշանակության ավտոճանապարհների հիմնանորոգում | K12: ='2'!G32 -> 1432966.4 | L12: ='2'!H32 -> 8680360.9 | M12: ='2'!I32 -> 13254636
G13: Միջպետական, հանրապետական և մարզային նշանակության ավտոճոնապարհների քայքայված ծածկի վերանորոգում, մաշված ծածկի փոխարինում
H14: Հանրության կողմից անմիջականորեն օգտագործվող ակտիվների հետ կապված միջոցառումներ
I15: Միջոցառումն իրականացնողի անվանումը` Մասնագիտացված միավոր
J16: Պետական նշանակության ավտոճանապարհներ, կիլոմետր | M16: =M17+M18+M19 -> 58
J17: Միջպետական նշանակության ավտոճանապարհներ, կիլոմետր | M17: ='4'!M17 -> 16.1
J18: Հանրապետական նշանակության ավտոճանապարհներ, կիլոմետր | M18: ='4'!M18 -> 25
J19: Մարզային նշանակության ավտոճանապարհներ, կիլոմետր | M19: ='4'!M19 -> 16.9
E20: 1049 - 21002 | F20: Տրանսպորտային օբյեկտների հիմնանորոգում | K20: ='2'!G50 -> 337592.1 | L20: ='2'!H50 -> 518272.6 | M20: ='2'!I50 -> 532526.6
G21: Ավտոմոբիլային ճանապարհների վրա գտնվող կամուրջների հիմնանորոգում
H22: Հանրության կողմից անմիջականորեն օգտագործվող ակտիվների հետ կապված միջոցառումներ
I23: Միջոցառումն իրականացնողի անվանումը` Մասնագիտացված միավոր
B25: ՀՀ կառավարություն | K25: =K26 -> -1770558.5 | L25: =L26 -> -9198633.5 | M25: =M26 -> -13787162
C26: 1049 | D26: Ճանապարհային ցանցի բարելավում | K26: =K27+K32 -> -1770558.5 | L26: =L27+L32 -> -9198633.5 | M26: =M27+M32 -> -13787162
E27: 1049 - 21001 | F27: Պետական նշանակության ավտոճանապարհների հիմնանորոգում | K27: ='2'!G25 -> -1432966.4 | L27: ='2'!H25 -> -8680360.9 | M27: ='2'!I25 -> -13254636
G28: Միջպետական, հանրապետական և մարզային նշանակության ավտոճոնապարհների քայքայված ծածկի վերանորոգում, մաշված ծածկի փոխարինում
H29: Հանրության կողմից անմիջականորեն օգտագործվող ակտիվների հետ կապված միջոցառումներ
I30: Միջոցառումն իրականացնողի անվանումը` Մասնագիտացված միավոր
J31: Պետական նշանակության ավտոճանապարհներ, կիլոմետր | M31: =-M16 -> -58
E32: 1049 - 21002 | F32: Տրանսպորտային օբյեկտների հիմնանորոգում | K32: ='2'!G43 -> -337592.1 | L32: ='2'!H43 -> -518272.6 | M32: ='2'!I43 -> -532526.6
G33: Ավտոմոբիլային ճանապարհների վրա գտնվող կամուրջների հիմնանորոգում
H34: Հանրության կողմից անմիջականորեն օգտագործվող ակտիվների հետ կապված միջոցառումներ
I35: Միջոցառումն իրականացնողի անվանումը` Մասնագիտացված միավոր

Sheet 6
H1: Հավելված N 6
H2: ՀՀ կառավարության 2025 թվականի
H3: ______________ ի ___Ն որոշման
B5: ՀԱՅԱՍՏԱՆԻ ՀԱՆՐԱՊԵՏՈՒԹՅԱՆ ԿԱՌԱՎԱՐՈՒԹՅԱՆ 2024 ԹՎԱԿԱՆԻ ԴԵԿՏԵՄԲԵՐԻ 27-Ի N 2060-Ն ՈՐՈՇՄԱՆ N 10 ՀԱՎԵԼՎԱԾՈՒՄ ԿԱՏԱՐՎՈՂ ԼՐԱՑՈՒՄՆԵՐԸ
B7: Կոդը | C7: Անվանումը | D7: Գնման ձևը | E7: Չափման միավորը | F7: Միավորի գինը | G7: Ցուցանիշների փոփոխությունը (ավելացումները նշված են դրական նշանով)
G8: Քանակը | H8: Գումարը (հազար դրամով)
B9: ՀՀ տարածքային կառավարման և ենթակառուցվածքների նախարարություն | H9: =+H10 -> 13627973
B10: Բաժին N 04 | C10: Խումբ N 05 | D10: Դաս N 01 | E10: Ճանապարհային տրանսպորտ | H10: =+H11+H84 -> 13627973
B11: 1049 21001 | C11: Պետական նշանակության ավտոճանապարհների հիմնանորոգում | H11: =+H12+H34 -> 13095446
B12: ՄԱՍ II. ԱՇԽԱՏԱՆՔՆԵՐ | H12: =SUM(H13:H33) -> 12888214
B13: 45231177/522 | C13: ճանապարհների վերանորոգման աշխատանքներ | D13: ԲՄ | E13: դրամ | F13: 687000000 | G13: 1 | H13: =+G13*F13/1000 -> 687000
B14: 45231177/650 | C14: ճանապարհների վերանորոգման աշխատանքներ | D14: ԲՄ | E14: դրամ | F14: 875000000 | G14: 1 | H14: =+G14*F14/1000 -> 875000
B15: 45231177/527 | C15: ճանապարհների վերանորոգման աշխատանքներ | D15: ԲՄ | E15: դրամ | F15: 694073124 | G15: 1 | H15: =+G15*F15/1000 -> 694073.12
B16: 45231177/563 | C16: ճանապարհների վերանորոգման աշխատանքներ | D16: ԲՄ | E16: դրամ | F16: 1138877552 | G16: 1 | H16: =+G16*F16/1000 -> 1138877.6
B17: 45231177/584 | C17: ճանապարհների վերանորոգման աշխատանքներ | D17: ԲՄ | E17: դրամ | F17: 321541424 | G17: 1 | H17: =+G17*F17/1000 -> 321541.42
B18: 45231177/6 | C18: ճանապարհների վերանորոգման աշխատանքներ | D18: ԲՄ | E18: դրամ | F18: 349061384 | G18: 1 | H18: =+G18*F18/1000 -> 349061.38
B19: 45231177/564 | C19: ճանապարհների վերանորոգման աշխատանքներ | D19: ԲՄ | E19: դրամ | F19: 3385885111 | G19: 1 | H19: =+G19*F19/1000 -> 3385885.1
B20: 45231177/35 | C20: ճանապարհների վերանորոգման աշխատանքներ | D20: ՀԲՄ | E20: դրամ | F20: 12137402 | G20: 1 | H20: =+G20*F20/1000 -> 12137.402
B21: 45231177/528 | C21: ճանապարհների վերանորոգման աշխատանքներ | D21: ԲՄ | E21: դրամ | F21: 759600000 | G21: 1 | H21: =+G21*F21/1000 -> 759600
B22: 45231177/17 | C22: ճանապարհների վերանորոգման աշխատանքներ | D22: ՀԲՄ | E22: դրամ | F22: 1142315644 | G22: 1 | H22: =+G22*F22/1000 -> 1142315.6
B23: 45231177/69 | C23: ճանապարհների վերանորոգման աշխատանքներ | D23: ՀԲՄ | E23: դրամ | F23: 628143905 | G23: 1 | H23: =+G23*F23/1000 -> 628143.91
B24: 45231177/532 | C24: ճանապարհների վերանորոգման աշխատանքներ | D24: ԲՄ | E24: դրամ | F24: 310459200 | G24: 1 | H24: =+G24*F24/1000 -> 310459.2
... B33: 45231177/33 | C33: ճանապարհների վերանորոգման աշխատանքներ | D33: ՀԲՄ | E33: դրամ | F33: 89157774 | G33: 1 | H33: =+G33*F33/1000 -> 89157.774
B34: ՄԱՍ III. ԾԱՌԱՅՈՒԹՅՈՒՆՆԵՐ | H34: =SUM(H35:H83) -> 207232.07
B35: 71351540/522 | C35: տեխնիկական հսկողության ծառայություններ | D35: ԲՄ | E35: դրամ | F35: 4300000 | G35: 1 | H35: =+G35*F35/1000 -> 4300
B36: 71351540/589 | C36: տեխնիկական հսկողության ծառայություններ | D36: ԲՄ | E36: դրամ | F36: 825500 | G36: 1 | H36: =+G36*F36/1000 -> 825.5
B37: 71351540/527 | C37: տեխնիկական հսկողության ծառայություններ | D37: ԲՄ | E37: դրամ | F37: 3000000 | G37: 1 | H37: =+G37*F37/1000 -> 3000
B38: 71351540/589 | C38: տեխնիկական հսկողության ծառայություններ | D38: ԲՄ | E38: դրամ | F38: 5400000 | G38: 1 | H38: =+G38*F38/1000 -> 5400
B39: 71351540/585 | C39: տեխնիկական հսկողության ծառայություններ | D39: ԲՄ | E39: դրամ | F39: 2454392 | G39: 1 | H39: =+G39*F39/1000 -> 2454.392
B40: 71351540/6 | C40: տեխնիկական հսկողության ծառայություններ | D40: ԲՄ | E40: դրամ | F40: 2500000 | G40: 1 | H40: =+G40*F40/1000 -> 2500
B41: 71351540/564 | C41: տեխնիկական հսկողության ծառայություններ | D41: ԲՄ | E41: դրամ | F41: 8344900 | G41: 1 | H41: =+G41*F41/1000 -> 8344.9
B42: 71351540/81 | C42: տեխնիկական հսկողության ծառայություններ | D42: ՀՄԱ | E42: դրամ | F42: 750000 | G42: 1 | H42: =+G42*F42/1000 -> 750
B43: 71351540/528 | C43: տեխնիկական հսկողության ծառայություններ | D43: ԲՄ | E43: դրամ | F43: 3500000 | G43: 1 | H43: =+G43*F43/1000 -> 3500
B44: 71351540/17 | C44: տեխնիկական հսկողության ծառայություններ | D44: ԳՀ | E44: դրամ | F44: 14533750 | G44: 1 | H44: =+G44*F44/1000 -> 14533.75
B45: 71351540/69 | C45: տեխնիկական հսկողության ծառայություններ | D45: ՀԲՄ | E45: դրամ | F45: 14871991 | G45: 1 | H45: =+G45*F45/1000 -> 14871.991
B46: 71351540/532 | C46: տեխնիկական հսկողության ծառայություններ | D46: ԲՄ | E46: դրամ | F46: 1290000 | G46: 1 | H46: =+G46*F46/1000 -> 1290
... B83: 50531140/534 | C83: փորձաքննության ծառայություններ | D83: ԳՀ | E83: դրամ | F83: 80000 | G83: 1 | H83: =+G83*F83/1000 -> 80
B84: 1049 21002 | C84: Տրանսպորտային օբյեկտների հիմնանորոգում | H84: =H85+H89 -> 532526.36
B85: ՄԱՍ II ԱՇԽԱՏԱՆՔՆԵՐ | H85: =SUM(H86:H88) -> 518691.72
B86: 45221117/511 | C86: Կամուրջների վերանորոգման շինարարական աշխատանքներ | D86: ՀԲՄ | E86: դրամ | F86: 140339550 | G86: 1 | H86: =+G86*F86/1000 -> 140339.55
...
