Workbook

Sheet 1
I1: Հավելված N 1
G2: ՀՀ կառավարության 2025 թվականի
I3: N ------------ -Ն որոշման
A4: ՀԱՅԱՍՏԱՆԻ ՀԱՆՐԱՊԵՏՈՒԹՅԱՆ ԿԱՌԱՎԱՐՈՒԹՅԱՆ 2024 ԹՎԱԿԱՆԻ ԴԵԿՏԵՄԲԵՐԻ 27-Ի N 2060-Ն ՈՐՈՇՄԱՆ NN 3 ԵՎ 4 ՀԱՎԵԼՎԱԾՆԵՐՈՒՄ ԿԱՏԱՐՎՈՂ ՓՈՓՈԽՈՒԹՅՈՒՆՆԵՐԸ ԵՎ ԼՐԱՑՈՒՄՆԵՐԸ
G6: հազար դրամներով
A7: Գործառական դասիչը | D7: Ծրագրային դասիչը | F7: Բյուջետային հատկացումների գլխավոր կարգադրիչների, ծրագրերի, միջոցառումների և միջոցառումները կատարող պետական մարմինների անվանումները | G7: Ցուցանիշների փոփոխությունը (ավելացումները նշված են դրական նշանով, իսկ նվազեցումները` փակագծերում)
A8: Բաժին | B8: Խումբ | C8: Դաս | D8: Ծրագիր | E8: Միջոցառում | G8: Առաջին կիսամյակ | H8: Ինն ամիս | I8: Տարի
F9: ԸՆԴԱՄԵՆԸ | G9: =G13 -> 0 | H9: =H13 -> 0 | I9: =I13 -> 0
F10: այդ թվում`
F11: ՀՀ տարածքային կառավարման և ենթակառուցվածքների նախարարություն | G11: =G13 -> 0 | H11: =H13 -> 0 | I11: =I13 -> 0
F12: այդ թվում`
A13: 04 | F13: ՏՆՏԵՍԱԿԱՆ ՀԱՐԱԲԵՐՈՒԹՅՈՒՆՆԵՐ | G13: =G15 -> 0 | H13: =H15 -> 0 | I13: =I15 -> 0
F14: այդ թվում`
B15: 05 | F15: ՏՐԱՆՍՊՈՐՏ | G15: =-G17 -> 0 | H15: =-H17 -> 0 | I15: =-I17 -> 0
F16: այդ թվում`
C17: 01 | F17: Ճանապարհային տրանսպորտ | G17: =+G20 -> 0 | H17: =+H20 -> 0 | I17: =+I20 -> 0
F18: այդ թվում`
F19: ՀՀ տարածքային կառավարման և ենթակառուցվածքների նախարարություն | G19: =G20 -> 0 | H19: =H20 -> 0 | I19: =I20 -> 0
D20: 1049 | F20: Ճանապարհային ցանցի բարելավում | G20: =G22 -> 0 | H20: =H22 -> 0 | I20: =I22 -> 0
F21: այդ թվում`
E22: 21020 | F22: Պետական նշանակության ավտոճանապարհների միջին նորոգում | G22: =G24+G31 -> 0 | H22: =H24+H31 -> 0 | I22: =I24+I31 -> 0
F23: այդ թվում` ըստ կատարողների
F24: ՀՀ կառավարություն | G24: =G26 -> -200000 | H24: =H26 -> -1420000 | I24: =I26 -> -2322261
F25: այդ թվում` բյուջետային ծախսերի տնտեսագիտական դասակարգման հոդվածներ
F26: ԸՆԴԱՄԵՆԸ ԾԱԽՍԵՐ | G26: =G27 -> -200000 | H26: =H27 -> -1420000 | I26: =I27 -> -2322261
F27: ՈՉ ՖԻՆԱՆՍԱԿԱՆ ԱԿՏԻՎՆԵՐԻ ԳԾՈՎ ԾԱԽՍԵՐ | G27: =G28 -> -200000 | H27: =H28 -> -1420000 | I27: =I28 -> -2322261
F28: ՀԻՄՆԱԿԱՆ ՄԻՋՈՑՆԵՐ | G28: =G29 -> -200000 | H28: =H29 -> -1420000 | I28: =I29 -> -2322261
F29: ՇԵՆՔԵՐ ԵՎ ՇԻՆՈՒԹՅՈՒՆՆԵՐ | G29: =G30 -> -200000 | H29: =H30 -> -1420000 | I29: =I30 -> -2322261
F30: - Շենքերի և շինությունների կապիտալ վերանորոգում | G30: ='3'!E16 -> -200000 | H30: ='3'!F16 -> -1420000 | I30: ='3'!G16 -> -2322261
F31: ՀՀ տարածքային կառավարման և ենթակառուցվածքների նախարարություն | G31: =G33 -> 200000 | H31: =H33 -> 1420000 | I31: =I33 -> 2322261
F32: այդ թվում`բյուջետային ծախսերի տնտեսագիտական դասակարգման հոդվածներ
F33: ԸՆԴԱՄԵՆԸ ԾԱԽՍԵՐ | G33: =G34 -> 200000 | H33: =H34 -> 1420000 | I33: =I34 -> 2322261
F34: ՈՉ ՖԻՆԱՆՍԱԿԱՆ ԱԿՏԻՎՆԵՐԻ ԳԾՈՎ ԾԱԽՍԵՐ | G34: =G35 -> 200000 | H34: =H35 -> 1420000 | I34: =I35 -> 2322261
F35: ՀԻՄՆԱԿԱՆ ՄԻՋՈՑՆԵՐ | G35: =G36 -> 200000 | H35: =H36 -> 1420000 | I35: =I36 -> 2322261
F36: ՇԵՆՔԵՐ ԵՎ ՇԻՆՈՒԹՅՈՒՆՆԵՐ | G36: =G37 -> 200000 | H36: =H37 -> 1420000 | I36: =I37 -> 2322261
F37: - Շենքերի և շինությունների կապիտալ վերանորոգում | G37: ='3'!E17 -> 200000 | H37: ='3'!F17 -> 1420000 | I37: ='3'!G17 -> 2322261
B41: ՀԱՅԱՍՏԱՆԻ ՀԱՆՐԱՊԵՏՈՒԹՅԱՆ
B42: ՎԱՐՉԱՊԵՏԻ ԱՇԽԱՏԱԿԱԶՄԻ
C43: ՂԵԿԱՎԱՐ ՝ Ա. ՀԱՐՈՒԹՅՈՒՆՅԱՆ

Sheet 2
H1: Հավելված N 2
H2: ՀՀ կառավարության 2025 թվականի
H3: ______________ ի ___Ն որոշման
A5: «ՀԱՅԱՍՏԱՆԻ ՀԱՆՐԱՊԵՏՈՒԹՅԱՆ 2025 ԹՎԱԿԱՆԻ ՊԵՏԱԿԱՆ ԲՅՈՒՋԵԻ ՄԱՍԻՆ» ՕՐԵՆՔԻ N 1 ՀԱՎԵԼՎԱԾԻ N 3 ԱՂՅՈՒՍԱԿՈՒՄ ԿԱՏԱՐՎՈՂ ՓՈՓՈԽՈՒԹՅՈՒՆԸ ԵՎ ԼՐԱՑՈՒՄՆԵՐԸ
G6: հազար դրամներով
A7: Ծրագրային դասիչ | C7: Բյուջետային գլխավոր կարգադրիչների, ծրագրերի, միջոցառումների և ուղղությունների անվանումները | D7: Ցուցանիշների փոփոխությունը (ավելացումները նշված են դրական նշանով, իսկ նվազեցումները` փակագծերում)
D8: Ընդամենը, | E8: այդ թվում՝
A9: Ծրագիր | B9: Միջոցառում | E9: Կառուցման աշխատանքներ | F9: Վերակառուցման, վերանորոգման և վերականգնման աշխատանքներ | G9: Նախագծահե- տազոտական, գեոդեզիա- քարտեզագրական աշխատանքներ | H9: Ոչ ֆինանսական այլ ակտիվների ձեռքբերում
C10: ԸՆԴԱՄԵՆԸ | D10: =+E10+F10+G10+H10 -> 0 | E10: =+E12 -> 0 | F10: =+F12 -> 0 | G10: =+G12 -> 0 | H10: =+H12 -> 0
C11: այդ թվում՝
C12: ՀՀ ՏԱՐԱԾՔԱՅԻՆ ԿԱՌԱՎԱՐՄԱՆ ԵՎ ԵՆԹԱԿԱՌՈՒՑՎԱԾՔՆԵՐԻ ՆԱԽԱՐԱՐՈՒԹՅՈՒՆ | D12: =E12+F12+G12+H12 -> 0 | E12: =E15 -> 0 | F12: =F15+F14 -> 0 | G12: =G15 -> 0 | H12: =H15 -> 0
C13: այդ թվում`
A14: 1049 | B14: 21020 | C14: Պետական նշանակության ավտոճանապարհների միջին նորոգում | D14: =E14+F14+G14+H14 -> -2322261 | E14: 0 | F14: =-F19-F17 -> -2322261 | G14: 0 | H14: 0
A15: 1049 | B15: 21020 | C15: Պետական նշանակության ավտոճանապարհների միջին նորոգում | D15: =+E15+F15+G15+H15 -> 2322261 | E15: =E17+E19+E14 -> 0 | F15: =F17+F19 -> 2322261 | G15: =G19+G17+G14 -> 0 | H15: =H19+H17+H14 -> 0
C16: այդ թվում`
B17: 1 | C17: Միջպետական նշանակության ավտոճանապարհների միջին նորոգում | D17: =+E17+F17+G17+H17 -> 91500 | E17: 0 | F17: =SUM(F18) -> 91500 | G17: =G18 -> 0 | H17: =H18 -> 0
C18: Մ-10 Սևան-Մարտունի-Վարդենիս-ՀՀ սահման միջպետական նշանակության ավտոճանապարհի կմ2+800 ÷ կմ5+300 հատվածի միջին նորոգում | D18: =F18 -> 91500 | E18: 0 | F18: 91500 | G18: 0 | H18: 0
B19: 2 | C19: Հանրապետական նշանակության ավտոճանապարհների միջին նորոգում | D19: =+E19+F19+G19+H19 -> 2230761 | E19: =SUM(E20:E20) -> 0 | F19: =SUM(F20:F24) -> 2230761 | G19: =SUM(G20:G20) -> 0 | H19: =SUM(H20:H20) -> 0
C20: Հ-33 /Մ-3/(Ստեփանավան) Ագարակ-Յաղդան-/Հ-35/ հանրապետական նշանակության ավտոճանապարհի կմ8+110-կմ23+873 հատվածի միջին նորոգում | D20: =F20 -> 484800 | E20: 0 | F20: 484800 | G20: 0 | H20: 0
C21: Հ-35 /Մ/6/ - Օձուն - Արևածագ - /Հ-24/ հանրապետական նշանակության ավտոճանապարհի կմ0+000-կմ14+800հատվածի միջին նորոգում | D21: =F21 -> 492000 | E21: 0 | F21: 492000 | G21: 0 | H21: 0
C22: Հ-82 /Հ-37/-Վարագավան-Տավուշ-/Հ-36/ կմ0+000+կմ5+600 հատվածի և Հ-84 /Հ-82/(Վարագավան)-Նոր Վարագավանք պատմական հուշարձան կմ1+730+կմ4+400 հատվածների հանրապետական նշանակության ավտոճանապարհների միջին նորոգում | D22: =F22 -> 348960 | E22: 0 | F22: 348960 | G22: 0 | H22: 0
C23: Հ-82 /Հ-37/-Վարագավան-Տավուշ-/Հ-36/ հանրապետական նշանակության ավտոճանապարհի կմ5+600+կմ19+020 հատվածի միջին նորոգում | D23: =F23 -> 543000 | E23: 0 | F23: 543000 | G23: 0 | H23: 0
C24: Հ-42 /Մ-2/-Զառիթափ-Նոր Ազնաբերդ-ՀՀ սահման հանրապետական նշանակության ավտոճանապարհի կմ0+000-կմ9+500 հատվածի միջին նորոգում | D24: =F24 -> 362001 | E24: 0 | F24: 362001 | G24: 0 | H24: 0
C28: ՀԱՅԱՍՏԱՆԻ ՀԱՆՐԱՊԵՏՈՒԹՅԱՆ
C29: ՎԱՐՉԱՊԵՏԻ ԱՇԽԱՏԱԿԱԶՄԻ ՂԵԿԱՎԱՐ ՝
C30: Ա. ՀԱՐՈՒԹՅՈՒՆՅԱՆ

Sheet 3
G1: Հավելված 3
G2: ՀՀ կառավարության 2025 թվականի
G3: ______________ ի ___Ն որոշման
A5: ՀԱՅԱՍՏԱՆԻ ՀԱՆՐԱՊԵՏՈՒԹՅԱՆ ԿԱՌԱՎԱՐՈՒԹՅԱՆ 2024 ԹՎԱԿԱՆԻ ԴԵԿՏԵՄԲԵՐԻ 27-Ի N 2060-Ն ՈՐՈՇՄԱՆ N 5 ՀԱՎԵԼՎԱԾԻ N 2 ԱՂՅՈՒՍԱԿՈՒՄ ԿԱՏԱՐՎՈՂ ՓՈՓՈԽՈՒԹՅՈՒՆԸ ԵՎ ԼՐԱՑՈՒՄՆԵՐԸ
F7: հազար դրամներով
B8: Ծրագրային դասիչը | D8: Հատկացումների տրամադրման նպատակները և բյուջետային գլխավոր կարգադրիչների, ծրագրերի, միջոցառումների և կատարող պետական մարմնի անվանումները | E8: Ցուցանիշների փոփոխությունը (ավելացումները նշված են դրական նշանով, իսկ նվազեցումները` փակագծերում)
B9: Ծրագիր | C9: Միջոցառում | E9: Առաջին կիսամյակ | F9: Ինն ամիս | G9: Տարի
D10: ԸՆԴԱՄԵՆԸ | E10: =E12 -> 0 | F10: =F12 -> 0 | G10: =G12 -> 0
D11: այդ թվում՝
D12: ՀՀ ՏԱՐԱԾՔԱՅԻՆ ԿԱՌԱՎԱՐՄԱՆ ԵՎ ԵՆԹԱԿԱՌՈՒՑՎԱԾՔՆԵՐԻ ՆԱԽԱՐԱՐՈՒԹՅՈՒՆ | E12: =E14 -> 0 | F12: =F14 -> 0 | G12: =G14 -> 0
D13: այդ թվում`
B14: 1049 | C14: 21020 | D14: Պետական նշանակության ավտոճանապարհների միջին նորոգում | E14: =E16+E17 -> 0 | F14: =F16+F17 -> 0 | G14: =G16+G17 -> 0
D15: այդ թվում` ըստ կատարողների
D16: ՀՀ կառավարություն | E16: =-E17 -> -200000 | F16: =-F17 -> -1420000 | G16: =-G17 -> -2322261
D17: ՀՀ տարածքային կառավարման և ենթակառուցվածքների նախարարություն | E17: =E19+E21 -> 200000 | F17: =F19+F21 -> 1420000 | G17: =G19+G21 -> 2322261
D18: այդ թվում՝ ըստ ուղղությունների
C19: 1 | D19: Միջպետական նշանակության ավտոճանապարհներ, այդ թվում | E19: =SUM(E20) -> 9150 | F19: =SUM(F20) -> 82350 | G19: =SUM(G20) -> 91500
D20: Մ-10 Սևան-Մարտունի-Վարդենիս-ՀՀ սահման միջպետական նշանակության ավտոճանապարհի կմ2+800 ÷ կմ5+300 հատվածի միջին նորոգում | E20: 9150 | F20: 82350 | G20: 91500
C21: 2 | D21: Հանրապետական նշանակության ավտոճանապարհներ, այդ թվում | E21: =SUM(E22:E26) -> 190850 | F21: =SUM(F22:F26) -> 1337650 | G21: =SUM(G22:G26) -> 2230761
D22: Հ-33 /Մ-3/(Ստեփանավան) Ագարակ-Յաղդան-/Հ-35/ հանրապետական նշանակության ավտոճանապարհի կմ8+110-կմ23+873 հատվածի միջին նորոգում | E22: 0 | F22: 284800 | G22: 484800
D23: Հ-35 /Մ/6/ - Օձուն - Արևածագ - /Հ-24/ հանրապետական նշանակության ավտոճանապարհի կմ0+000-կմ14+800հատվածի միջին նորոգում | E23: 98400 | F23: 193600 | G23: 492000
D24: Հ-82 /Հ-37/-Վարագավան-Տավուշ-/Հ-36/ կմ0+000+կմ5+600 հատվածի և Հ-84 /Հ-82/(Վարագավան)-Նոր Վարագավանք պատմական հուշարձան կմ1+730+կմ4+400 հատվածների հանրապետական նշանակության ավտոճանապարհների միջին նորոգում | E24: 92450 | F24: 154249 | G24: 348960
D25: Հ-82 /Հ-37/-Վարագավան-Տավուշ-/Հ-36/ հանրապետական նշանակության ավտոճանապարհի կմ5+600+կմ19+020 հատվածի միջին նորոգում | E25: 0 | F25: 343000 | G25: 543000
D26: Հ-42 /Մ-2/-Զառիթափ-Նոր Ազնաբերդ-ՀՀ սահման հանրապետական նշանակության ավտոճանապարհի կմ0+000-կմ9+500 հատվածի միջին նորոգում | E26: 0 | F26: ='2'!F24 -> 362001 | G26: =F26 -> 362001
C31: ՀԱՅԱՍՏԱՆԻ ՀԱՆՐԱՊԵՏՈՒԹՅԱՆ
C32: ՎԱՐՉԱՊԵՏԻ ԱՇԽԱՏԱԿԱԶՄԻ
D33: ՂԵԿԱՎԱՐ՝ Ա. ՀԱՐՈՒԹՅՈՒՆՅԱՆ

Sheet 4
L1: Հավելված № 4
K2: ՀՀ կառավարության 2025 թվականի
K3: ------------- ի № ---- -Ն որոշման
B5: ՀԱՅԱՍՏԱՆԻ ՀԱՆՐԱՊԵՏՈՒԹՅԱՆ ԿԱՌԱՎԱՐՈՒԹՅԱՆ 2024 ԹՎԱԿԱՆԻ ԴԵԿՏԵՄԲԵՐԻ 27-Ի № 2060-Ն ՈՐՈՇՄԱՆ № 9.1 ՀԱՎԵԼՎԱԾԻ ԱՂՅՈՒՍԱԿՆԵՐՈՒՄ ԿԱՏԱՐՎՈՂ ՓՈՓՈԽՈՒԹՅՈՒՆՆԵՐԸ ԵՎ ԼՐԱՑՈՒՄՆԵՐԸ
B7: ԲՍԿ | C7: Ծրագիր | E7: Միջոցառում | I7: Իրականացնողը/ ակտիվն օգտագործողը/ շահառուի ընտրության չափորոշիչը | J7: Արդյունքային չափորոշիչը | K7: Ցուցանիշների փոփոխությունը (ավելացումները նշված են դրական նշանով, իսկ նվազեցումները` փակագծերում)
C8: Դասիչը | D8: Անվանումը | E8: Դասիչը | F8: Անվանումը | G8: Նկարագրությունը | H8: Տեսակը | K8: Առաջին կիսամյակ | L8: Ինն ամիս | M8: Տարի
B9: ԸՆԴԱՄԵՆԸ | K9: =K10+K17 -> 0 | L9: =L10+L17 -> 0 | M9: =M10+M17 -> 0
B10: ՀՀ տարածքային կառավարման և ենթակառուցվածքների նախարարություն | K10: =K11 -> 200000 | L10: =L11 -> 1420000 | M10: =M11 -> 2322261
C11: 1049 | D11: Ճանապարհային ցանցի բարելավում | K11: =K12 -> 200000 | L11: =L12 -> 1420000 | M11: =M12 -> 2322261
E12: 1049 - 21020 | F12: Պետական նշանակության ավտոճանապարհների միջին նորոգում | K12: ='3'!E17 -> 200000 | L12: ='3'!F17 -> 1420000 | M12: ='3'!G17 -> 2322261
G13: Միջպետական, հանրապետական և մարզային նշանակության ավտոճանապարհների պատվածքի մաշված վերին շերտի վերականգնում և շինարարական նորմերով նախատեսված սկզբնական որակական ցուցանիշների ապահովում
H14: Հանրության կողմից անմիջականորեն օգտագործվող ակտիվների հետ կապված միջոցառումներ
I15: Միջոցառումն իրականացնողի անվանումը` ՀՀ տարածքային կառավարման և ենթակառուցվածքների նախարարություն, մրցութային կարգով ընտրված կազմակերպություններ
J16: Միջին նորոգման ենթակա ճանապարհների երկարությունը, կիլոմետր | M16: =-M23 -> 64.283
B17: ՀՀ կառավարություն | K17: =K18 -> -200000 | L17: =L18 -> -1420000 | M17: =M18 -> -2322261
C18: 1049 | D18: Ճանապարհային ցանցի բարելավում | K18: =K19 -> -200000 | L18: =L19 -> -1420000 | M18: =M19 -> -2322261
E19: 1049 - 21020 | F19: Պետական նշանակության ավտոճանապարհների միջին նորոգում | K19: ='3'!E16 -> -200000 | L19: ='3'!F16 -> -1420000 | M19: ='3'!G16 -> -2322261
G20: Միջպետական, հանրապետական և մարզային նշանակության ավտոճանապարհների պատվածքի մաշված վերին շերտի վերականգնում և շինարարական նորմերով նախատեսված սկզբնական որակական ցուցանիշների ապահովում
H21: Հանրության կողմից անմիջականորեն օգտագործվող ակտիվների հետ կապված միջոցառումներ
I22: Միջոցառումն իրականացնողի անվանումը` ՀՀ տարածքային կառավարման և ենթակառուցվածքների նախարարություն, մրցութային կարգով ընտրված կազմակերպություններ
J23: Միջին նորոգման ենթակա ճանապարհների երկարությունը, կիլոմետր | M23: -64.283
D27: ՀԱՅԱՍՏԱՆԻ ՀԱՆՐԱՊԵՏՈՒԹՅԱՆ
D28: ՎԱՐՉԱՊԵՏԻ ԱՇԽԱՏԱԿԱԶՄԻ
E29: ՂԵԿԱՎԱՐ ՝ Ա. ՀԱՐՈՒԹՅՈՒՆՅԱՆ

Sheet 5
H1: Հավելված N 5
H2: ՀՀ կառավարության 2025 թվականի
H3: ______________ ի ___Ն որոշման
B5: ՀԱՅԱՍՏԱՆԻ ՀԱՆՐԱՊԵՏՈՒԹՅԱՆ ԿԱՌԱՎԱՐՈՒԹՅԱՆ 2024 ԹՎԱԿԱՆԻ ԴԵԿՏԵՄԲԵՐԻ 27-Ի N 2060-Ն ՈՐՈՇՄԱՆ N 10 ՀԱՎԵԼՎԱԾՈՒՄ ԿԱՏԱՐՎՈՂ ԼՐԱՑՈՒՄՆԵՐԸ
B7: Կոդը | C7: Անվանումը | D7: Գնման ձևը | E7: Չափման միավորը | F7: Միավորի գինը | G7: Ցուցանիշների փոփոխությունը (ավելացումները նշված են դրական նշանով)
G8: Քանակը | H8: Գումարը (հազար դրամով)
B9: ՀՀ տարածքային կառավարման և ենթակառուցվածքների նախարարություն | H9: =+H10 -> 2322261
B10: Բաժին N 04 | C10: Խումբ N 05 | D10: Դաս N 01 | E10: Ճանապարհային տրանսպորտ | H10: =H11 -> 2322261
B11: 1049 21020 | C11: Պետական նշանակության ավտոճանապարհների միջին նորոգում | H11: =+H12 -> 2322261
B12: ՄԱՍ II. ԱՇԽԱՏԱՆՔՆԵՐ | H12: =+H13+H14+H15+H16+H17+H18 -> 2322261
B13: 45231177/537 | C13: ճանապարհների վերանորոգման աշխատանքներ | D13: ՀԲՄ | E13: դրամ | F13: 484800000 | G13: 1 | H13: =+G13*F13/1000 -> 484800
B14: 45231177/536 | C14: ճանապարհների վերանորոգման աշխատանքներ | D14: ՀԲՄ | E14: դրամ | F14: 492000000 | G14: 1 | H14: =+G14*F14/1000 -> 492000
B15: 45231177/533 | C15: ճանապարհների վերանորոգման աշխատանքներ | D15: ՀԲՄ | E15: դրամ | F15: 348960000 | G15: 1 | H15: =+G15*F15/1000 -> 348960
B16: 45231177/534 | C16: ճանապարհների վերանորոգման աշխատանքներ | D16: ՀԲՄ | E16: դրամ | F16: 543000000 | G16: 1 | H16: =+G16*F16/1000 -> 543000
B17: 45231177/535 | C17: ճանապարհների վերանորոգման աշխատանքներ | D17: ՀԲՄ | E17: դրամ | F17: 362001000 | G17: 1 | H17: =+G17*F17/1000 -> 362001
B18: 45231177/540 | C18: ճանապարհների վերանորոգման աշխատանքներ | D18: ՀԲՄ | E18: դրամ | F18: 91500000 | G18: 1 | H18: =+G18*F18/1000 -> 91500
D21: ՀԱՅԱՍՏԱՆԻ ՀԱՆՐԱՊԵՏՈՒԹՅԱՆ
D22: ՎԱՐՉԱՊԵՏԻ ԱՇԽԱՏԱԿԱԶՄԻ
E23: ՂԵԿԱՎԱՐ ՝ Ա. ՀԱՐՈՒԹՅՈՒՆՅԱՆ | G23: Ա. ՀԱՐՈՒԹՅՈՒՆՅԱՆ
