Workbook
Name \A: #REF!
Name _1__հայտարարվել_է_նախ_մրցույթ: #REF!
Name _1__հայտարարվել_է_նախ_մրցույթ: #REF!
Name _tab10: #REF!
Name _tab11: #REF!
Name _tab12: #REF!
Name _tab13: #REF!
Name _tab14: #REF!
Name _tab15: #REF!
Name _tab16: #REF!
Name _tab17: #REF!
Name _tab18: #REF!
Name _tab19: #REF!
Name _tab20: #REF!
Name _tab21: #REF!
Name _tab22: #REF!
Name _tab23: #REF!
Name _tab24: #REF!
Name _tab5: #REF!
Name _tab6: #REF!
Name _tab7: #REF!
Name _tab8: #REF!
Name _tab9: #REF!
Name AgencyCode: #REF!
Name AgencyCode: #REF!
Name AgencyCode: #REF!
Name AgencyName: #REF!
Name AgencyName: #REF!
Name AgencyName: #REF!
Name ampop_krchat: #REF!
Name Armata: #REF!
Name asd: #REF!
Name åû: #REF!
Name åû: #REF!
Name åû: #REF!
Name BOP: #REF!
Name BOPfoot: #REF!
Name davit: #REF!
Name davit: #REF!
Name DebtCG: '[1]Fis-Debt'!#REF!
Name DebtGG: #REF!
Name fff: #REF!
Name Functional1: #REF!
Name Functional1: #REF!
Name Functional1: #REF!
Name ggg: #REF!
Name ggg: #REF!
Name h: #REF!
Name hav: #REF!
Name hav: #REF!
Name Hav: #REF!,#REF!
Name mas: #REF!
Name mas: #REF!
Name mas: #REF!
Name mass: #REF!
Name mass: #REF!
Name mass: #REF!
Name MonExo: #REF!
Name MonGrow: [2]BM!#REF!
Name PANature: #REF!

Sheet Հավելված 1
A1: Հավելված N 1 ՀՀ կառավարության 2025 թվականի____________ի N _____-Ն որոշման
A3: «ՀԱՅԱՍՏԱՆԻ ՀԱՆՐԱՊԵՏՈՒԹՅԱՆ 2025 ԹՎԱԿԱՆԻ ՊԵՏԱԿԱՆ ԲՅՈՒՋԵԻ ՄԱՍԻՆ» ՕՐԵՆՔԻ N 1 ՀԱՎԵԼՎԱԾԻ NN 1 ԵՎ 2 ԱՂՅՈՒՍԱԿՆԵՐՈՒՄ ԿԱՏԱՐՎՈՂ ՎԵՐԱԲԱՇԽՈՒՄԸ, ՓՈՓՈԽՈՒԹՅՈՒՆՆԵՐԸ ԵՎ ԼՐԱՑՈՒՄԸ, ՀԱՅԱՍՏԱՆԻ ՀԱՆՐԱՊԵՏՈՒԹՅԱՆ ԿԱՌԱՎԱՐՈՒԹՅԱՆ 2024 ԹՎԱԿԱՆԻ ԴԵԿՏԵՄԲԵՐԻ 27-Ի N 2060-Ն ՈՐՈՇՄԱՆ N 5 ՀԱՎԵԼՎԱԾԻ N 1 ԱՂՅՈՒՍԱԿՈՒՄ ԿԱՏԱՐՎՈՂ ՓՈՓՈԽՈՒԹՅՈՒՆՆԵՐԸ ԵՎ ԼՐԱՑՈՒՄԸ
G4: հազար դրամներով
A5: ԲԳԿ | B5: Ծրագրային դասիչը | D5: ԲԳԿ/Ծրագրի /միջոցառման անվանումը | E5: Ծրագրի նպատակը/Միջոցառման նկարագրույունը | F5: Վերջնական արդյունքի նկարագրությունը/Միջոցառման տեսակը | G5: Ցուցանիշների փոփոխությունը (ավելացումները նշված են դրական նշանով, իսկ նվազեցումները՝ փակագծերում)
B6: Ծրագիր | C6: Միջոցառում | G6: Առաջին կիսամյակ | H6: Ինն ամիս | I6: Տարի
A7: ԸՆԴԱՄԵՆԸ | G7: =+G13+G8 -> 0 | H7: =+H13+H8 -> 0 | I7: =+I13+I8 -> 0
A8: ՀՀ բարձր տեխնոլոգիական արդյունաբերության նախարարություն | G8: =SUM(G9+G11) -> 0 | H8: =SUM(H9+H11) -> 0 | I8: =SUM(I9+I11) -> 0
B9: 1220 | D9: Ռազմարդյունաբերության համալիրի զարգացում | E9: Նոր արտադրությունների հիմնում, ներկրման և արտադրության մեխանիզմի ստեղծում | F9: Ռազմարդյունաբերության համալիրի զարգացում | G9: =SUM(G10) -> -17916.8 | H9: =SUM(H10) -> -17916.8 | I9: =SUM(I10) -> -17916.8
C10: 1220 - 11004 | D10: Ռազմարդյունաբերության ոլորտի մասնագիտական կադրերի ուսուցում և վերապատրաստում | E10: Ռազմարդյունաբերության ոլորտի մասնագիտական կադրերի որակավորման բարձրացում | F10: Ծառայությունների մատուցում | G10: -17916.8 | H10: -17916.8 | I10: -17916.8
B11: 1100 | D11: Բարձր տեխնոլոգիական արդյունաբերության բնագավառում պետական քաղաքականության մշակում, ծրագրերի համակարգում և մոնիտորինգ | E11: Բարձր տեխնոլոգիական ոլորտում պետական քաղաքականության մշակում, ծրագրերի համակարգում | F11: Բարձր տեխնոլոգիական արդյունաբերության բնագավառում իրականացվող ծրագրերի ազդեցության և արդյունավետության բարելավում | G11: =SUM(G12) -> 17916.8 | H11: =SUM(H12) -> 17916.8 | I11: =SUM(I12) -> 17916.8
C12: 1100 - 32001 | D12: Այլ պետական մարմնի կարողությունների զարգացում, տեխնիկական հագեցվածության ապահովում | E12: Վարչական սարքավորումների ձեռքբերում | F12: Այլ պետական կազմակերպությունների կողմից օգտագործվող ոչ ֆինանսական ակտիվների հետ գործառնություններ | G12: 17916.8 | H12: 17916.8 | I12: 17916.8
A13: ՀՀ կառավարություն | G13: =+G14 -> 0 | H13: =+H14 -> 0 | I13: =+I14 -> 0
B14: 1139 | D14: ՀՀ կառավարության պահուստային ֆոնդ | E14: Պետական բյուջեում չկանխատեսված, ինչպես նաեւ բյուջետային երաշխիքների ապահովման ծախսերի ֆինանսավորման ապահովում | F14: Պահուստային ֆոնդի կառավարման արդյունավետության և թափանցիկության ապահովում | G14: =+G15+G16 -> 0 | H14: =+H15+H16 -> 0 | I14: =+I15+I16 -> 0
C15: 1139 - 11001 | D15: ՀՀ կառավարության պահուստային ֆոնդ | E15: ՀՀ պետական բյուջեում նախատեսված ելքերի լրացուցիչ ֆինանսավորման, պետական բյուջեում չկանխատեսված ելքերի, ինչպես նաև բյուջետային երաշխիքների ապահովման ելքերի ֆինանսավորման ապահովում | F15: Ծառայությունների մատուցում | G15: 17916.8 | H15: 17916.8 | I15: 17916.8
C16: 1139 - 11001 | D16: ՀՀ կառավարության պահուստային ֆոնդ | E16: ՀՀ պետական բյուջեում նախատեսված ելքերի լրացուցիչ ֆինանսավորման, պետական բյուջեում չկանխատեսված ելքերի, ինչպես նաև բյուջետային երաշխիքների ապահովման ելքերի ֆինանսավորման ապահովում | F16: Ծառայությունների մատուցում | G16: -17916.8 | H16: -17916.8 | I16: -17916.8

Sheet Հավելված 2 
F1: Հավելված N 2 ՀՀ կառավարության 2025 թվականի____________ի N _____-Ն որոշման
A3: ՀԱՅԱՍՏԱՆԻ ՀԱՆՐԱՊԵՏՈՒԹՅԱՆ ԿԱՌԱՎԱՐՈՒԹՅԱՆ 2024 ԹՎԱԿԱՆԻ ԴԵԿՏԵՄԲԵՐԻ 27-Ի N 2060-Ն ՈՐՈՇՄԱՆ NN 3 ԵՎ 4 ՀԱՎԵԼՎԱԾՆԵՐՈՒՄ ԿԱՏԱՐՎՈՂ ՓՈՓՈԽՈՒԹՅՈՒՆՆԵՐԸ ԵՎ ԼՐԱՑՈՒՄՆԵՐԸ
I4: հազար դրամներով
A5: Գործառնական դասիչ | D5: Ծրագրային դասիչը | F5: Բյուջետային ծախսերի գործառական դասակարգման բաժինների, խմբերի և դասերի, բյուջետային ծրագրերի միջոցառումների, բյուջետային հատկացումների գլխավոր կարգադրիչների անվանումները | G5: Ցուցանիշների փոփոխությունը (ավելացումները նշված են դրական նշանով, իսկ նվազեցումները՝ փակագծերում)
A6: Բաժին | B6: Խումբ | C6: Դաս | D6: Ծրագիր | E6: Միջոցառում | G6: Առաջին կիսամյակ | H6: Ինն ամիս | I6: Տարի
F7: ԸՆԴԱՄԵՆԸ ԾԱԽՍԵՐ | G7: 0 | H7: 0 | I7: 0
F8: ՀՀ ԲԱՐՁՐ ՏԵԽՆՈԼՈԳԻԱԿԱՆ ԱՐԴՅՈՒՆԱԲԵՐՈՒԹՅԱՆ ՆԱԽԱՐԱՐՈՒԹՅՈՒՆ | G8: 0 | H8: 0 | I8: 0
F9: այդ թվում`
A10: 02 | F10: ՊԱՇՏՊԱՆՈՒԹՅՈՒՆ | G10: =+G12 -> -17916.8 | H10: =+H12 -> -17916.8 | I10: =+I12 -> -17916.8
F11: այդ թվում`
B12: 04 | F12: Հետազոտական և նախագծային աշխատանքներ պաշտպանության ոլորտում | G12: =+G14 -> -17916.8 | H12: =+H14 -> -17916.8 | I12: =+I14 -> -17916.8
F13: այդ թվում`
C14: 01 | F14: Հետազոտական և նախագծային աշխատանքներ պաշտպանության ոլորտում | G14: =+G16 -> -17916.8 | H14: =+H16 -> -17916.8 | I14: =+I16 -> -17916.8
F15: այդ թվում`
D16: 1220 | F16: Ռազմարդյունաբերության համալիրի զարգացում | G16: =+G18 -> -17916.8 | H16: =+H18 -> -17916.8 | I16: =+I18 -> -17916.8
F17: այդ թվում`
E18: 11004 | F18: Ռազմարդյունաբերության ոլորտի մասնագիտական կադրերի ուսուցում և վերապատրաստում | G18: =+G20 -> -17916.8 | H18: =+H20 -> -17916.8 | I18: =+I20 -> -17916.8
F19: այդ թվում` ըստ կատարողների
F20: ՀՀ բարձր տեխնոլոգիական արդյունաբերության նախարարություն | G20: =G24 -> -17916.8 | H20: =H24 -> -17916.8 | I20: =I24 -> -17916.8
F21: այդ թվում` բյուջետային ծախսերի տնտեսագիտական դասակարգման հոդվածներ
F22: ԸՆԴԱՄԵՆԸ ԾԱԽՍԵՐ | G22: =+G24 -> -17916.8 | H22: =+H24 -> -17916.8 | I22: =+I24 -> -17916.8
F23: ԸՆԹԱՑԻԿ ԾԱԽՍԵՐ
F24: ԾԱՌԱՅՈՒԹՅՈՒՆՆԵՐԻ ԵՎ ԱՊՐԱՆՔՆԵՐԻ ՁԵՌՔԲԵՐՈՒՄ | G24: =+G25 -> -17916.8 | H24: =+H25 -> -17916.8 | I24: =+I25 -> -17916.8
F25: Պայմանագրային այլ ծառայությունների ձեռքբերում | G25: =+G26 -> -17916.8 | H25: =+H26 -> -17916.8 | I25: =+I26 -> -17916.8
F26: - Ընդհանուր բնույթի այլ ծառայություններ | G26: ='Հավելված 1'!G10 -> -17916.8 | H26: ='Հավելված 1'!H10 -> -17916.8 | I26: ='Հավելված 1'!I10 -> -17916.8
A27: 04 | F27: ՏՆՏԵՍԱԿԱՆ ՀԱՐԱԲԵՐՈՒԹՅՈՒՆՆԵՐ | G27: =G29 -> 17916.8 | H27: =H29 -> 17916.8 | I27: =I29 -> 17916.8
F28: այդ թվում`
B29: 09 | F29: Տնտեսական հարաբերություններ (այլ դասերին չպատկանող) | G29: =G31 -> 17916.8 | H29: =H31 -> 17916.8 | I29: =I31 -> 17916.8
F30: այդ թվում`
C31: 01 | F31: Տնտեսական հարաբերություններ (այլ դասերին չպատկանող) | G31: =G33 -> 17916.8 | H31: =H33 -> 17916.8 | I31: =I33 -> 17916.8
F32: այդ թվում`
D33: 1100 | F33: Բարձր տեխնոլոգիական արդյունաբերության բնագավառում պետական քաղաքականության մշակում, ծրագրերի համակարգում և մոնիտորինգ | G33: =+G35 -> 17916.8 | H33: =+H35 -> 17916.8 | I33: =+I35 -> 17916.8
F34: այդ թվում`
E35: 32001 | F35: Այլ պետական մարմնի կարողությունների զարգացում, տեխնիկական հագեցվածության ապահովում | G35: =G39 -> 17916.8 | H35: =+H37 -> 17916.8 | I35: =I39 -> 17916.8
F36: այդ թվում` ըստ կատարողների
F37: ՀՀ բարձր տեխնոլոգիական արդյունաբերության նախարարություն | G37: =+G39 -> 17916.8 | H37: =+H39 -> 17916.8 | I37: =+I39 -> 17916.8
F38: այդ թվում` բյուջետային ծախսերի տնտեսագիտական դասակարգման հոդվածներ
F39: ԸՆԴԱՄԵՆԸ ԾԱԽՍԵՐ | G39: =+G40 -> 17916.8 | H39: =+H40 -> 17916.8 | I39: =+I40 -> 17916.8
F40: ՈՉ ՖԻՆԱՆՍԱԿԱՆ ԱԿՏԻՎՆԵՐԻ ԳԾՈՎ ԾԱԽՍԵՐ | G40: =+G41 -> 17916.8 | H40: =+H41 -> 17916.8 | I40: =+I41 -> 17916.8
F41: ՀԻՄՆԱԿԱՆ ՄԻՋՈՑՆԵՐ | G41: =+G42 -> 17916.8 | H41: =+H42 -> 17916.8 | I41: =+I42 -> 17916.8
...

Sheet Հավելված 3
A1: Հավելված N 3
G2: ՀՀ կառավարության 2025 թվականի
G3: ______________ ի ___Ն որոշման
A5: «ՀԱՅԱՍՏԱՆԻ ՀԱՆՐԱՊԵՏՈՒԹՅԱՆ 2025 ԹՎԱԿԱՆԻ ՊԵՏԱԿԱՆ ԲՅՈՒՋԵԻ ՄԱՍԻՆ» ՀԱՅԱՍՏԱՆԻ ՀԱՆՐԱՊԵՏՈՒԹՅԱՆ ՕՐԵՆՔԻ N 1 ՀԱՎԵԼՎԱԾԻ N 3 ԱՂՅՈՒՍԱԿՈՒՄ ԿԱՏԱՐՎՈՂ ՓՈՓՈԽՈՒԹՅՈՒՆԸ ԵՎ ԼՐԱՑՈՒՄԸ
A7: հազար դրամներով
A8: Ծրագրային դասիչ | C8: Բյուջետային գլխավոր կարգադրիչների, ծրագրերի, միջոցառումների և ուղղությունների անվանումները | D8: Ընդամենը | E8: Ցուցանիշների փոփոխությունը (ավելացումները նշված են դրական նշանով)
A9: Ծրագիր | B9: Միջոց առում | E9: Կառուցման աշխատանքներ | F9: Վերակառուցման, վերանորոգման և վերականգնման աշխատանքներ | G9: Նախագծահե- տազոտական, գեոդեզիա- քարտեզագրական աշխատանքներ | H9: Ոչ ֆինանսական այլ ակտիվների ձեռքբերում
C10: ԸՆԴԱՄԵՆԸ | D10: =D11 -> 17916.8 | E10: =E11 -> 0 | F10: =F11 -> 0 | G10: =G11 -> 0 | H10: =H11 -> 17916.8
C11: ՀՀ բարձր տեխնոլոգիական արդյունաբերության նախարարություն | D11: =D13 -> 17916.8 | E11: =E13 -> 0 | F11: =F13 -> 0 | G11: =G13 -> 0 | H11: =H13 -> 17916.8
C12: այդ թվում՛
A13: 1100 | B13: 32001 | C13: Բարձր տեխնոլոգիական արդյունաբերության բնագավառում պետական քաղաքականության մշակում, ծրագրերի համակարգում և մոնիտորինգ | D13: =E13+F13+G13+H13 -> 17916.8 | E13: 0 | F13: 0 | G13: 0 | H13: ='Հավելված 1'!I12 -> 17916.8

Sheet Հավելված 4
A1: Հավելված N 4
F2: ՀՀ կառավարության 2025 թվականի
F3: ______________ ի ___Ն որոշման
A5: ՀԱՅԱՍՏԱՆԻ ՀԱՆՐԱՊԵՏՈՒԹՅԱՆ ԿԱՌԱՎԱՐՈՒԹՅԱՆ 2024 ԹՎԱԿԱՆԻ ԴԵԿՏԵՄԲԵՐԻ 27-Ի N2060-Ն ՈՐՈՇՄԱՆ N 5 ՀԱՎԵԼՎԱԾԻ N 2 ԱՂՅՈՒՍԱԿՈՒՄ ԿԱՏԱՐՎՈՂ ՓՈՓՈԽՈՒԹՅՈՒՆՆԵՐԸ ԵՎ ԼՐԱՑՈՒՄՆԵՐԸ
A7: հազար դրամներով
A8: Ծրագրային դասիչ | C8: Բյուջետային գլխավոր կարգադրիչների, ծրագրերի, միջոցառումների և ուղղությունների անվանումները | D8: Ցուցանիշների փոփոխությունը (ավելացումները նշված են դրական նշանով)
A9: Ծրագիր | B9: Միջոց առում | D9: Առաջին եռամսյակ | E9: Առաջին կիսամյակ | F9: Ինն ամիս | G9: Տարի
C10: ԸՆԴԱՄԵՆԸ | D10: =+#REF!+#REF!+#REF!+#REF!+#REF!+#REF!+#REF!+#REF!+D12+#REF!+#REF! -> #REF! | E10: =+E12 -> 17916.8 | F10: =+F12 -> 17916.8 | G10: =+G12 -> 17916.8
C11: այդ թվում`
C12: ՀՀ բարձր տեխնոլոգիական արդյունաբերության նախարարություն | D12: 939997.1 | E12: =E14 -> 17916.8 | F12: =F14 -> 17916.8 | G12: =G14 -> 17916.8
C13: այդ թվում՛
A14: 1100 | B14: 32001 | C14: Բարձր տեխնոլոգիական արդյունաբերության բնագավառում պետական քաղաքականության մշակում, ծրագրերի համակարգում և մոնիտորինգ | D14: 939997.1 | E14: =+E16 -> 17916.8 | F14: =+F16 -> 17916.8 | G14: =+G16 -> 17916.8
C15: այդ թվում` ըստ կատարողների
C16: ՀՀ բարձր տեխնոլոգիական արդյունաբերության նախարարություն | D16: 939997.1 | E16: 17916.8 | F16: 17916.8 | G16: 17916.8

Sheet Հավելված 5
A1: Հավելված N 5 ՀՀ կառավարության 2025 թվականի____________ի N _____-Ն որոշման
A3: ՀԱՅԱՍՏԱՆԻ ՀԱՆՐԱՊԵՏՈՒԹՅԱՆ ԿԱՌԱՎԱՐՈՒԹՅԱՆ 2024 ԹՎԱԿԱՆԻ ԴԵԿՏԵՄԲԵՐԻ 27-Ի N 2060-Ն ՈՐՈՇՄԱՆ NN 9 ԵՎ 9.1 ՀԱՎԵԼՎԱԾՆԵՐՈՒՄ ԿԱՏԱՐՎՈՂ ՓՈՓՈԽՈՒԹՅՈՒՆՆԵՐԸ ԵՎ ԼՐԱՑՈՒՄՆԵՐԸ
L4: հազար դրամներով
A5: ԲԳԿ /ԲՍԿ | B5: Ծրագիր | D5: Միջոցառում | H5: Իրականացնողը/ ակտիվն օգտագործողը/ շահառուի ընտրության չափորոշիչը | I5: Արդյունքային չափորոշիչը | J5: Ցուցանիշների փոփոխությունը (ավելացումները նշված են դրական նշանով, իսկ նվազեցումները՝ փակագծերում)
B6: Դասիչը | C6: Անվա-նումը | D6: Դասիչը | E6: Անվա-նումը | F6: Նկարագրու-թյունը | G6: Տեսակը | J6: Առաջին կիսամյակ | K6: Ինն ամիս | L6: Տարի
A7: ԸՆԴԱՄԵՆԸ | J7: =-K10-K16 -> 0 | K7: =-L10-L16 -> 0 | L7: =-M10-M16 -> 0
A8: ՀՀ բարձր տեխնոլոգիական արդյունաբերության նախարարություն | J8: =-K11-K17 -> 0 | K8: =-L11-L17 -> 0 | L8: =-M11-M17 -> 0
B9: 1220 | C9: Ռազմարդյունաբերության համալիրի զարգացում
D10: 1220 - 11004 | E10: Ռազմարդյունաբերության ոլորտի մասնագիտական կադրերի ուսուցում և վերապատրաստում | J10: 0 | K10: ='Հավելված 2 '!H18 -> -17916.8 | L10: ='Հավելված 2 '!I18 -> -17916.8
F11: Ռազմարդյունաբերության ոլորտի մասնագիտական կադրերի որակավորման բարձրացում
G12: Ծառայությունների մատուցում
H13: Ծառայությունը մատուցողի անվանումը` Մասնագիտացված կազմակերպություն
I14: Վերապատրաստումն ստացած աշխատակիցների քանակը, մարդ | J14: -20 | L14: -20
B15: 1100 | C15: Բարձր տեխնոլոգիական արդյունաբերության բնագավառում պետական քաղաքականության մշակում, ծրագրերի համակարգում և մոնիտորինգ
D16: 1100 - 32001 | E16: Այլ պետական մարմնի կարողությունների զարգացում, տեխնիկական հագեցվածության ապահովում | J16: 0 | K16: ='Հավելված 2 '!H35 -> 17916.8 | L16: ='Հավելված 2 '!I35 -> 17916.8
F17: Հաշվի առնելով ընտրված տեխնոլոգիական ուղղությունները, բարձր տեխնոլոգիաների ոլորտի զարգացման երկարաժամկետ տեսլականի և ռազմավարական նպատակների սահմանում
G18: Վարչական սարքավորումների ձեռքբերում
H19: Ծառայությունը մատուցողի անվանումը` ՀՀ բարձր տեխնոլոգիական արդյունաբերության նախարարություն
H20: կահույք (լրակազմ) | L20: 9
H21: հենակներ (հատ) | L21: 1
H22: շերտավարագույրներ (ք․մ) | L22: 236
H23: սարքեր և սարքավորումներ (հատ) | L23: 27
A24: ՀՀ կառավարություն | J24: =J25 -> 0 | K24: =K25 -> 0 | L24: =L25 -> 0
B25: 1139 | C25: ՀՀ կառավարության պահուստային ֆոնդ | J25: =J26+J30 -> 0 | K25: =K26+K30 -> 0 | L25: =L26+L30 -> 0
D26: 1139 - 11001 | E26: ՀՀ կառավարության պահուստային ֆոնդ | J26: =+'Հավելված 2 '!G56 -> 17916.8 | K26: ='Հավելված 2 '!H56 -> 17916.8 | L26: ='Հավելված 2 '!I56 -> 17916.8
F27: ՀՀ պետական բյուջեում նախատեսված ելքերի լրացուցիչ ֆինանսավորման, պետական բյուջեում չկանխատեսված ելքերի, ինչպես նաև բյուջետային երաշխիքների ապահովման ելքերի ֆինանսավորման ապահովում
G28: Ծառայությունների մատուցում
H29: Ծառայությունը մատուցողի անվանումը` ՀՀ կառավարություն
D30: 1139 - 11001 | E30: ՀՀ կառավարության պահուստային ֆոնդ | J30: =+'Հավելված 2 '!G64 -> -17916.8 | K30: ='Հավելված 2 '!H64 -> -17916.8 | L30: ='Հավելված 2 '!I64 -> -17916.8
F31: ՀՀ պետական բյուջեում նախատեսված ելքերի լրացուցիչ ֆինանսավորման, պետական բյուջեում չկանխատեսված ելքերի, ինչպես նաև բյուջետային երաշխիքների ապահովման ելքերի ֆինանսավորման ապահովում
G32: Ծառայությունների մատուցում
H33: Ծառայությունը մատուցողի անվանումը` ՀՀ կառավարություն

Sheet Հավելված 6
B1: Հավելված N 6
A2: ՀՀ կառավարության 2025 թվականի
A3: ______________ ի ___Ն որոշման
A4: ՀԱՅԱՍՏԱՆԻ ՀԱՆՐԱՊԵՏՈՒԹՅԱՆ ԿԱՌԱՎԱՐՈՒԹՅԱՆ 2024 ԹՎԱԿԱՆԻ ԴԵԿՏԵՄԲԵՐԻ 27-Ի N 2060-Ն ՈՐՈՇՄԱՆ N 10 ՀԱՎԵԼՎԱԾՈՒՄ ԿԱՏԱՐՎՈՂ ՓՈՓՈԽՈՒԹՅՈՒՆՆԵՐԸ ԵՎ ԼՐԱՑՈՒՄՆԵՐԸ
A5: Կոդը | B5: Անվանումը | C5: Գնման ձևը | D5: Չափման միավորը | E5: Միավորի գինը | F5: Ցուցանիշների փոփոխությունը (ավելացումները նշված են դրական նշանով)
F6: Քանակը | G6: Գումարը (հազար դրամով)
A7: ՀՀ բարձր տեխնոլոգիական արդյունաբերության նախարարություն | G7: =+G8 -> 17916.8
A8: Բաժին N 04 | B8: Խումբ N 09 | C8: Դաս N 01 | D8: ՏՆՏԵՍԱԿԱՆ ՀԱՐԱԲԵՐՈՒԹՅՈՒՆՆԵՐ | G8: =G9 -> 17916.8
A9: 1100 32001 | B9: Այլ պետական մարմնի կարողությունների զարգացում, տեխնիկական հագեցվածության ապահովում | G9: =SUM(G10:G35) -> 17916.8
A10: 39121600 | B10: խոհանոցային կահույք | C10: ԷԱՃ | D10: լրակազմ | E10: 630000 | F10: 1 | G10: 630
A11: 39121200 | B11: սեղաններ | C11: ԷԱՃ | D11: հատ | E11: 60000 | F11: 3 | G11: 180
A12: 39121200 | B12: սեղաններ | C12: ԷԱՃ | D12: հատ | E12: 600000 | F12: 1 | G12: 600
A13: 39141120 | B13: դարակներով պահարաններ | C13: ԷԱՃ | D13: հատ | E13: 410000 | F13: 1 | G13: 410
A14: 39141120 | B14: դարակներով պահարաններ | C14: ԷԱՃ | D14: հատ | E14: 150000 | F14: 1 | G14: 150
A15: 39141120 | B15: դարակներով պահարաններ | C15: ԷԱՃ | D15: հատ | E15: 280000 | F15: 1 | G15: 280
A16: 39141120 | B16: դարակներով պահարաններ | C16: ԷԱՃ | D16: հատ | E16: 135000 | F16: 1 | G16: 135
A17: 33141186 | B17: հենակներ | C17: ԷԱՃ | D17: հատ | E17: 35000 | F17: 1 | G17: 35
A18: 39515440/501 | B18: ուղղահայաց շերտավարագույրներ | C18: ԷԱՃ | D18: քմ | E18: 4455 | F18: 168 | G18: 748.4
A19: 39515410/501 | B19: ներքին շերտավարագույրներ | C19: ԷԱՃ | D19: քմ | E19: 9800 | F19: 22 | G19: 215.6
A20: 39515410/502 | B20: ներքին շերտավարագույրներ | C20: ԷԱՃ | D20: քմ | E20: 16200 | F20: 40 | G20: 648
A21: 39515410/503 | B21: ներքին շերտավարագույրներ | C21: ԷԱՃ | D21: քմ | E21: 17325 | F21: 6 | G21: 104
A22: 30231300 | B22: հպումով կառավարվող էկրաններ | C22: ԷԱՃ | D22: հատ | E22: 1660000 | F22: 3 | G22: 4980
A23: 30236170 | B23: օպերատիվ հիշողության սարք (ozu) | C23: ՄԱ | D23: հատ | E23: 16000 | F23: 2 | G23: 32
A24: 30236170 | B24: օպերատիվ հիշողության սարք (ozu) | C24: ՄԱ | D24: հատ | E24: 19900 | F24: 2 | G24: 39.8
A25: 32551120 | B25: հեռախոսային կայաններ | C25: ՄԱ | D25: հատ | E25: 153000 | F25: 1 | G25: 153
A26: 39711310 | B26: գազօջախի սալիկներ | C26: ԷԱՃ | D26: հատ | E26: 70000 | F26: 1 | G26: 70
A27: 39711290 | B27: միկրոալիքային վառարաններ | C27: ԷԱՃ | D27: հատ | E27: 45000 | F27: 1 | G27: 45
A28: 39712400 | B28: ձեռքերը չորացնելու սարքեր | C28: ԷԱՃ | D28: հատ | E28: 50000 | F28: 2 | G28: 100
A29: 30211220 | B29: սեղանի համակարգիչներ | C29: ԷԱՃ | D29: հատ | E29: 250000 | F29: 2 | G29: 500
A30: 48821200 | B30: համակարգչային սերվերներ | C30: ԷԱՃ | D30: հատ | E30: 4500000 | F30: 1 | G30: 4500
A31: 48821300 | B31: ֆայլային սերվերներ | C31: ԷԱՃ | D31: հատ | E31: 2500000 | F31: 1 | G31: 2500
A32: 32421200 | B32: ցանցային բաղադրիչներ | C32: ՄԱ | D32: հատ | E32: 232000 | F32: 1 | G32: 232
A33: 32421700 | B33: ցանցային համակարգ | C33: ՄԱ | D33: հատ | E33: 389000 | F33: 1 | G33: 389
... A35: 39714110 | B35: օդածծիչներ | C35: ԷԱՃ | D35: հատ | E35: 80000 | F35: 1 | G35: 80
