Workbook
Name շախմատիստ: #REF!

Sheet 1
I1: Հավելված N 1
H2: ՀՀ կառավարության 2025 թվականի N -Ն որոշման
A3: «ՀԱՅԱՍՏԱՆԻ ՀԱՆՐԱՊԵՏՈՒԹՅԱՆ 2025 ԹՎԱԿԱՆԻ ՊԵՏԱԿԱՆ ԲՅՈՒՋԵԻ ՄԱՍԻՆ» ՀԱՅԱՍՏԱՆԻ ՀԱՆՐԱՊԵՏՈՒԹՅԱՆ ՕՐԵՆՔԻ N 1 ՀԱՎԵԼՎԱԾԻ N2 ԱՂՅՈՒՍԱԿՈՒՄ ԿԱՏԱՐՎՈՂ ՎԵՐԱԲԱՇԽՈՒՄԸ ԵՎ ՀԱՅԱՍՏԱՆԻ ՀԱՆՐԱՊԵՏՈՒԹՅԱՆ ԿԱՌԱՎԱՐՈՒԹՅԱՆ 2024 ԹՎԱԿԱՆԻ ԴԵԿՏԵՄԲԵՐԻ 27-Ի N 2060-Ն ՈՐՈՇՄԱՆ N 5 ՀԱՎԵԼՎԱԾԻ N1 ԱՂՅՈՒՍԱԿՈՒՄ ԿԱՏԱՐՎՈՂ ՓՈՓՈԽՈՒԹՅՈՒՆՆԵՐԸ ԵՎ ԼՐԱՑՈՒՄՆԵՐԸ
H4: հազար դրամներով
A5: ԲԳԿ | B5: Ծրագրային դասիչը | D5: ԲԳԿ/Ծրագրի /միջոցառման անվանումը | E5: Ծրագրի նպատակը/Միջոցառման նկարագրությունը | F5: Վերջնական արդյունքի նկարագրությունը/Միջոցառման տեսակը | G5: Ցուցանիշների փոփոխությունը (ավելացումները՝ դրական նշանով, իսկ նվազեցումները` փակագծերում)
B6: Ծրագիր | C6: Միջոցառում | G6: Առաջին կիսամյակ | H6: Ինն ամիս | I6: Տարի
A7: ԸՆԴԱՄԵՆԸ | G7: =+G8+G11 -> 0 | H7: =+H8+H11 -> 0 | I7: =+I8+I11 -> 0
A8: Հանրային հեռարձակողի խորհուրդ | G8: =+G9 -> 115000 | H8: =+H9 -> 115000 | I8: =+I9 -> 115000
B9: 1042 | D9: Ռադիո և հեռուստահաղորդումների հեռարձակում | E9: Ապահովել բազմազան տեղեկատվական, ճանաչողական, կրթական, ժամանցային հեռուստատեսային և ռադիո հաղորդումների արտադրություն և հեռարձակում | F9: Բազմազան տեղեկատվական, ճանաչողական, կրթական, ժամանցային հեռուստատեսային և ռադիո հաղորդումների արտադրության և հեռարձակման ապահովում | G9: =+G10 -> 115000 | H9: =+H10 -> 115000 | I9: =+I10 -> 115000
C10: 1042 - 32005 | D10: «Հայաստանի հանրային հեռուստաընկերություն» ՓԲԸ կապիտալ շինարարական աշխատանքների իրականացում | E10: «Հայաստանի հանրային հեռուստաընկերություն» ՓԲԸ «Խմբագրություն» (ԱՍԲ-7) մասնաշենքի տանիքի հիմնանորոգում և գլխավոր մասնաշենքի դիմային հատվածի հենապատի կառուցում | F10: Այլ պետական կազմակերպությունների կողմից օգտագործվող ոչ ֆինանսական ակտիվների հետ գործառնություններ | G10: 115000 | H10: =G10 -> 115000 | I10: =H10 -> 115000
A11: ՀՀ կառավարություն | G11: =+G12 -> -115000 | H11: =+H12 -> -115000 | I11: =+I12 -> -115000
B12: 1139 | D12: ՀՀ կառավարության պահուստային ֆոնդ | E12: Պետական բյուջեում չկանխատեսված, ինչպես նաեւ բյուջետային երաշխիքների ապահովման ծախսերի ֆինանսավորման ապահովում | F12: Պահուստային ֆոնդի կառավարման արդյունավետության և թափանցիկության ապահովում | G12: =+G13 -> -115000 | H12: =+H13 -> -115000 | I12: =+I13 -> -115000
C13: 1139 - 11001 | D13: ՀՀ կառավարության պահուստային ֆոնդ | E13: ՀՀ պետական բյուջեում նախատեսված ելքերի լրացուցիչ ֆինանսավորման, պետական բյուջեում չկանխատեսված ելքերի, ինչպես նաև բյուջետային երաշխիքների ապահովման ելքերի ֆինանսավորման ապահովում | F13: Ծառայությունների մատուցում | G13: =-G10 -> -115000 | H13: =G13 -> -115000 | I13: =H13 -> -115000

Sheet 2
H1: Հավելված N2
F2: ՀՀ կառավարության 2025 թվականի N -Ն որոշման
A3: ՀԱՅԱՍՏԱՆԻ ՀԱՆՐԱՊԵՏՈՒԹՅԱՆ ԿԱՌԱՎԱՐՈՒԹՅԱՆ 2024 ԹՎԱԿԱՆԻ ԴԵԿՏԵՄԲԵՐԻ 27-Ի N 2060-Ն ՈՐՈՇՄԱՆ N 3 ԵՎ 4 ՀԱՎԵԼՎԱԾՆԵՐՈՒՄ ԿԱՏԱՐՎՈՂ ՓՈՓՈԽՈՒԹՅՈՒՆՆԵՐԸ ԵՎ ԼՐԱՑՈՒՄՆԵՐԸ
H4: հազար դրամներով
A5: Գործառական դասիչը | D5: Ծրագրային դասիչը | F5: Բյուջետային ծախսերի գործառական դասակարգման բաժինների, խմբերի և դասերի, բյուջետային ծրագրերի միջոցառումների, բյուջետային հատկացումների գլխավոր կարգադրիչների անվանումները | G5: Ցուցանիշների փոփոխությունը (ավելացումները՝ դրական նշանով, իսկ նվազեցումները` փակագծերում)
I6: Տարի
A7: Բաժին | B7: Խումբ | C7: Դաս | D7: Ծրագիր | E7: Միջոցա ռում | G7: Առաջին կիսամյակ | H7: Ինն ամիս
F8: ԸՆԴԱՄԵՆԸ ԾԱԽՍԵՐ | G8: =+G9+G28 -> 0 | H8: =+H9+H28 -> 0 | I8: =+I9+I28 -> 0
A9: 08 | F9: ՀԱՆԳԻՍՏ, ՄՇԱԿՈՒՅԹ ԵՎ ԿՐՈՆ | G9: =+G11 -> 115000 | H9: =+H11 -> 115000 | I9: =+I11 -> 115000
F10: այդ թվում`
B11: 03 | F11: Ռադիո և հեռուստահաղորդումների հեռարձակման և հրատարակչական ծառայություններ | G11: =+G13 -> 115000 | H11: =+H13 -> 115000 | I11: =+I13 -> 115000
F12: այդ թվում`
C13: 01 | F13: Հեռուստառադիոհաղորդումներ | G13: =+G17 -> 115000 | H13: =+H17 -> 115000 | I13: =+I17 -> 115000
F14: այդ թվում`
F15: Հանրային հեռարձակողի խորհուրդ | G15: =+G17 -> 115000 | H15: =+H17 -> 115000 | I15: =+I17 -> 115000
F16: այդ թվում՝
D17: 1042 | F17: Ռադիո և հեռուստահաղորդումների հեռարձակում | G17: =+G19 -> 115000 | H17: =+H19 -> 115000 | I17: =+I19 -> 115000
F18: այդ թվում՝
E19: 32005 | F19: ='1'!D10 -> «Հայաստանի հանրային հեռուստաընկերություն» ՓԲԸ կապիտալ շինարարական աշխատանքների իրականացում | G19: =+G21 -> 115000 | H19: =+H21 -> 115000 | I19: =+I21 -> 115000
F20: այդ թվում` ըստ կատարողների
F21: Հանրային հեռարձակողի խորհուրդ | G21: =+G23 -> 115000 | H21: =+H23 -> 115000 | I21: =+I23 -> 115000
F22: այդ թվում` բյուջետային ծախսերի տնտեսագիտական դասակարգման հոդվածներ
F23: ԸՆԴԱՄԵՆԸ ԾԱԽՍԵՐ | G23: =+G25 -> 115000 | H23: =+H25 -> 115000 | I23: =+I25 -> 115000
F24: ԸՆԹԱՑԻԿ ԾԱԽՍԵՐ | G24: =G25 -> 115000 | H24: =H25 -> 115000 | I24: =I25 -> 115000
F25: ԴՐԱՄԱՇՆՈՐՀՆԵՐ | G25: =G26 -> 115000 | H25: =H26 -> 115000 | I25: =I26 -> 115000
F26: Կապիտալ դրամաշնորհներ պետական հատվածի այլ մակարդակներին | G26: =G27 -> 115000 | H26: =H27 -> 115000 | I26: =I27 -> 115000
F27: - Կապիտալ դրամաշնորհներ պետական և համայնքային առևտրային կազմակերպություններին | G27: ='1'!G10 -> 115000 | H27: =G27 -> 115000 | I27: =H27 -> 115000
A28: 11 | F28: ՀԻՄՆԱԿԱՆ ԲԱԺԻՆՆԵՐԻՆ ՉԴԱՍՎՈՂ ՊԱՀՈՒՍՏԱՅԻՆ ՖՈՆԴԵՐ | G28: =SUM(G30) -> -115000 | H28: =SUM(H30) -> -115000 | I28: =SUM(I30) -> -115000
F29: այդ թվում`
B30: 01 | F30: ՀՀ կառավարության պահուստային ֆոնդ | G30: =+G32 -> -115000 | H30: =+H32 -> -115000 | I30: =+I32 -> -115000
F31: այդ թվում`
C32: 01 | F32: ՀՀ կառավարության պահուստային ֆոնդ | G32: =+G34 -> -115000 | H32: =+H34 -> -115000 | I32: =+I34 -> -115000
F33: այդ թվում`
F34: ՀՀ կառավարություն | G34: =+G36 -> -115000 | H34: =+H36 -> -115000 | I34: =+I36 -> -115000
F35: այդ թվում՝
D36: 1139 | F36: ՀՀ կառավարության պահուստային ֆոնդ | G36: =+G38 -> -115000 | H36: =+H38 -> -115000 | I36: =+I38 -> -115000
F37: այդ թվում՝
E38: 11001 | F38: ՀՀ կառավարության պահուստային ֆոնդ | G38: =+G40 -> -115000 | H38: =+H40 -> -115000 | I38: =+I40 -> -115000
F39: այդ թվում` ըստ կատարողների
F40: ՀՀ կառավարություն | G40: =+G42 -> -115000 | H40: =+H42 -> -115000 | I40: =+I42 -> -115000
...

Sheet 3
G1: Հավելված N 3
F2: ՀՀ կառավարության 2025 թվականի N -Ն որոշման
A3: ՀԱՅԱՍՏԱՆԻ ՀԱՆՐԱՊԵՏՈՒԹՅԱՆ ԿԱՌԱՎԱՐՈՒԹՅԱՆ 2024 ԹՎԱԿԱՆԻ ԴԵԿՏԵՄԲԵՐԻ 27-Ի N 2060-Ն ՈՐՈՇՄԱՆ N 5 ՀԱՎԵԼՎԱԾԻ 7-ՐԴ ԱՂՅՈՒՍԱԿՈՒՄ ԿԱՏԱՐՎՈՂ ՓՈՓՈԽՈՒԹՅՈՒՆՆԵՐԸ ԵՎ ԼՐԱՑՈՒՄՆԵՐԸ
G4: հազար դրամներով
A5: Ծրագրային դասիչ | C5: Բյուջետային հատկացումների գլխավոր կարգադրիչների, ծրագրերի, միջոցառումների, ծախսային ուղղությունների անվանումները | F5: Միջոցառումները կատարող պետական մարմինների և դրամաշնորհ ստացող տնտեսվարող սուբյեկտների անվանումները | G5: Տարի
G6: Ցուցանիշների փոփոխությունը (ավելացումները նշված են դրական նշանով)
A7: Ծրագիր | B7: Միջոցառում
A8: 1 | B8: 2 | C8: 3 | F8: 4 | G8: 5
A9: Հանրային հեռարձակողի խորհուրդ
A10: 1042 | B10: Ռադիո և հեռուստահաղորդումների հեռարձակում | G10: =SUM(G11) -> 115000
B11: ='2'!E19 -> 32005 | C11: ='2'!F19 -> «Հայաստանի հանրային հեռուստաընկերություն» ՓԲԸ կապիտալ շինարարական աշխատանքների իրականացում | F11: Հանրային հեռարձակողի խորհուրդ | G11: =+G12 -> 115000
F12: «Հայաստանի հանրային հեռուստաընկերություն» ՓԲԸ | G12: ='2'!I27 -> 115000

Sheet 4
J1: Հավելված N 4
I2: ՀՀ կառավարության 2025 թվականի N -Ն որոշման
A5: ՀԱՅԱՍՏԱՆԻ ՀԱՆՐԱՊԵՏՈՒԹՅԱՆ ԿԱՌԱՎԱՐՈՒԹՅԱՆ 2024 ԹՎԱԿԱՆԻ ԴԵԿՏԵՄԲԵՐԻ 27-Ի N2060-Ն ՈՐՈՇՄԱՆ N 9 ՀԱՎԵԼՎԱԾՈՒՄ ԿԱՏԱՐՎՈՂ ՓՈՓՈԽՈՒԹՅՈՒՆՆԵՐԸ ԵՎ ԼՐԱՑՈՒՄՆԵՐԸ
L6: հազար դրամներով
A7: ԲԳԿ | B7: Ծրագիր | D7: Միջոցառում | H7: Իրականացնողը/ ակտիվն օգտագործողը/ շահառուի ընտրության չափորոշիչը | I7: Արդյունքային չափորոշիչը | J7: Ցուցանիշների փոփոխությունը (ավելացումները նշված են դրական նշանով, իսկ նվազեցումները՝ փակագծերում)
B8: Դասիչը | C8: Անվանումը | D8: Դասիչը | E8: Անվանումը | F8: Նկարագրությունը | G8: Տեսակը | J8: Առաջին եռամսյակ | K8: Առաջին կիսամյակ | L8: Ինն ամիս | M8: Տարի
A9: ԸՆԴԱՄԵՆԸ | J9: =+J11+J18 -> 0 | K9: =+K11+K18 -> 0 | L9: =+L11+L18 -> 0 | M9: =+M11+M18 -> 0
A10: Հանրային հեռարձակողի խորհուրդ | K10: =K11 -> 115000 | L10: =L11 -> 115000 | M10: =M11 -> 115000
B11: 1042 | C11: Ռադիո և հեռուստահաղորդումների հեռարձակում | J11: =J12 -> 0 | K11: =K12 -> 115000 | L11: =L12 -> 115000 | M11: =M12 -> 115000
D12: 1042-32005 | E12: ='1'!D10 -> «Հայաստանի հանրային հեռուստաընկերություն» ՓԲԸ կապիտալ շինարարական աշխատանքների իրականացում | J12: 0 | K12: 115000 | L12: 115000 | M12: 115000
F13: ='1'!E10 -> «Հայաստանի հանրային հեռուստաընկերություն» ՓԲԸ «Խմբագրություն» (ԱՍԲ-7) մասնաշենքի տանիքի հիմնանորոգում և գլխավոր մասնաշենքի դիմային հատվածի հենապատի կառուցում
G14: Այլ պետական կազմակերպությունների կողմից օգտագործվող ոչ ֆինանսական ակտիվների հետ գործառնություններ
H15: Ակտիվն օգտագործող կազմակերպության անվանումը՝ «Հայաստանի հանրային հեռուստաընկերություն» ՓԲԸ
H16: (ԱՍԲ-7) մասնաշենքի տանիքի հիմնանորոգում և գլխավոր մասնաշենքի դիմային հատվածի կառուցման աշխատանքներ | M16: 2
A17: ՀՀ կառավարություն | K17: =+K18 -> -115000 | L17: =+L18 -> -115000 | M17: =+M18 -> -115000
B18: 1139 | C18: ՀՀ կառավարության պահուստային ֆոնդ | J18: =J19 -> 0 | K18: =K19 -> -115000 | L18: =L19 -> -115000 | M18: =M19 -> -115000
D19: 1139 - 11001 | E19: ՀՀ կառավարության պահուստային ֆոնդ | J19: 0 | K19: -115000 | L19: -115000 | M19: -115000
F20: ՀՀ պետական բյուջեում նախատեսված ելքերի լրացուցիչ ֆինանսավորման, պետական բյուջեում չկանխատեսված ելքերի, ինչպես նաև բյուջետային երաշխիքների ապահովման ելքերի ֆինանսավորման ապահովում
G21: Ծառայությունների մատուցում
H22: Ծառայությունը մատուցողի անվանումը` ՀՀ կառավարություն

Sheet 5
L1: Հավելված N 5
K2: ՀՀ կառավարության 2025 թվականի N -Ն որոշման
A5: ՀԱՅԱՍՏԱՆԻ ՀԱՆՐԱՊԵՏՈՒԹՅԱՆ ԿԱՌԱՎԱՐՈՒԹՅԱՆ 2024 ԹՎԱԿԱՆԻ ԴԵԿՏԵՄԲԵՐԻ 27-Ի N 2060-Ն ՈՐՈՇՄԱՆ N 9.1 ՀԱՎԵԼՎԱԾՈՒՄ ԿԱՏԱՐՎՈՂ ՓՈՓՈԽՈՒԹՅՈՒՆՆԵՐԸ ԵՎ ԼՐԱՑՈՒՄՆԵՐԸ
L6: հազար դրամներով
A7: ԲՍԿ | B7: Ծրագիր | D7: Միջոցառում | H7: Իրականացնողը/ ակտիվն օգտագործողը/ շահառուի ընտրության չափորոշիչը | I7: Արդյունքային չափորոշիչը | J7: Ցուցանիշների փոփոխությունը (ավելացումները՝ դրական նշանով, իսկ նվազեցումները՝ փակագծերում)
B8: Դասիչը | C8: Անվանումը | D8: Դասիչը | E8: Անվանումը | F8: Նկարագրությունը | G8: Տեսակը | J8: Առաջին եռամսյակ | K8: Առաջին կիսամյակ | L8: Ինն ամիս | M8: Տարի
A9: ԸՆԴԱՄԵՆԸ | J9: =J11+J18 -> 0 | K9: =K11+K18 -> 0 | L9: =L11+L18 -> 0 | M9: =M11+M18 -> 0
A10: Հանրային հեռարձակողի խորհուրդ | K10: 115000 | L10: 115000 | M10: 115000
B11: 1042 | C11: Ռադիո և հեռուստահաղորդումների հեռարձակում | K11: 115000 | L11: 115000 | M11: 115000
D12: ='4'!D12 -> 1042-32005 | E12: =+'4'!E12:I12 -> «Հայաստանի հանրային հեռուստաընկերություն» ՓԲԸ կապիտալ շինարարական աշխատանքների իրականացում | K12: 115000 | L12: 115000 | M12: 115000
F13: =+'4'!F13:M13 -> «Հայաստանի հանրային հեռուստաընկերություն» ՓԲԸ «Խմբագրություն» (ԱՍԲ-7) մասնաշենքի տանիքի հիմնանորոգում և գլխավոր մասնաշենքի դիմային հատվածի հենապատի կառուցում
G14: Այլ պետական կազմակերպությունների կողմից օգտագործվող ոչ ֆինանսական ակտիվների հետ գործառնություններ
H15: Ակտիվն օգտագործող կազմակերպության անվանումը՝ «Հայաստանի հանրային հեռուստաընկերություն» ՓԲԸ
H16: (ԱՍԲ-7) մասնաշենքի տանիքի հիմնանորոգում և գլխավոր մասնաշենքի դիմային հատվածի կառուցման աշխատանքներ | M16: 2
A17: ՀՀ կառավարություն | K17: =+K18 -> -115000 | L17: =+L18 -> -115000 | M17: =+M18 -> -115000
B18: 1139 | C18: ՀՀ կառավարության պահուստային ֆոնդ | J18: =J19 -> 0 | K18: =K19 -> -115000 | L18: =L19 -> -115000 | M18: =M19 -> -115000
D19: ='4'!D19 -> 1139 - 11001 | E19: ՀՀ կառավարության պահուստային ֆոնդ | J19: 0 | K19: -115000 | L19: -115000 | M19: -115000
F20: ՀՀ պետական բյուջեում նախատեսված ելքերի լրացուցիչ ֆինանսավորման, պետական բյուջեում չկանխատեսված ելքերի, ինչպես նաև բյուջետային երաշխիքների ապահովման ելքերի ֆինանսավորման ապահովում
G21: Ծառայությունների մատուցում
H22: Ծառայությունը մատուցողի անվանումը` ՀՀ կառավարություն
