Workbook

Sheet Հավելված 1
I1: Հավելված N 1
H2: ՀՀ կառավարության 2025 թվականի
H3: ___________ ___-ի N _______ որոշման
A4: ՀԱՅԱՍՏԱՆԻ ՀԱՆՐԱՊԵՏՈՒԹՅԱՆ ԿԱՌԱՎԱՐՈՒԹՅԱՆ 2024 ԹՎԱԿԱՆԻ ԴԵԿՏԵՄԲԵՐԻ 27-Ի N 2060-Ն ՈՐՈՇՄԱՆ NN 3 ԵՎ 4 ՀԱՎԵԼՎԱԾՆԵՐԻ ԱՂՅՈՒՍԱԿՆԵՐՈՒՄ ԿԱՏԱՐՎՈՂ ՓՈՓՈԽՈՒԹՅՈՒՆՆԵՐԸ
I5: հազար դրամներով
A6: Գործառնական դասիչը | D6: Ծրագրային դասիչը | F6: Բյուջետային ծախսերի գործառնական դասակարգման բաժինների, խմբերի և դասերի, բյուջետային ծրագրերի միջոցառումների, բյուջետային հատկացումների գլխավոր կարգադրիչների անվանումները | G6: Ցուցանիշների փոփոխությունը (ավելացումները նշված են դրական նշանով, իսկ նվազեցումները՝ փակագծերում)
A7: բաժին | B7: խումբ | C7: դաս | D7: ծրագիր | E7: միջոցառում | G7: Առաջին կիսամյակ | H7: Ինն ամիս | I7: Տարի
F8: ԸՆԴԱՄԵՆԸ ԾԱԽՍԵՐ | G8: =G10 -> 0 | H8: =H10 -> 0 | I8: =I10 -> 0
F9: այդ թվում՝
A10: 01 | F10: ԸՆԴՀԱՆՈՒՐ ԲՆՈՒՅԹԻ ՀԱՆՐԱՅԻՆ ԾԱՌԱՅՈՒԹՅՈՒՆՆԵՐ | G10: =G12 -> 0 | H10: =H12 -> 0 | I10: =I12 -> 0
F11: այդ թվում՝
B12: 01 | F12: Օրենսդիր և գործադիր մարմիններ, պետական կառավարում, ֆինանսական և հարկաբյուջետային հարաբերություններ, արտաքին հարաբերություններ | G12: =G14 -> 0 | H12: =H14 -> 0 | I12: =I14 -> 0
F13: այդ թվում՝
C14: 02 | F14: Ֆինանսական և հարկաբյուջետային հարաբերություններ | G14: =G16 -> 0 | H14: =H16 -> 0 | I14: =I16 -> 0
F15: այդ թվում՝
F16: ՀՀ պետական եկամուտների կոմիտե | G16: =G18+G29 -> 0 | H16: =H18+H29 -> 0 | I16: =I18+I29 -> 0
F17: այդ թվում`
D18: 1239 | F18: Հիպոթեքային վարկի վճարված տոկոսների գումարի վերադարձ | G18: =G20 -> 1722000 | H18: =H20 -> 1722000 | I18: =I20 -> 0
F19: այդ թվում`
E20: 12001 | F20: Հիպոթեքային վարկի վճարված տոկոսների գումարների վերադարձ | G20: =G22 -> 1722000 | H20: =H22 -> 1722000 | I20: =I22 -> 0
F21: այդ թվում` ըստ կատարողների
F22: ՀՀ պետական եկամուտների կոմիտե | G22: =G24 -> 1722000 | H22: =H24 -> 1722000 | I22: =I24 -> 0
F23: այդ թվում` բյուջետային ծախսերի տնտեսագիտական դասակարգման հոդվածներ
F24: ԸՆԴԱՄԵՆԸ ԾԱԽՍԵՐ | G24: =G25 -> 1722000 | H24: =H25 -> 1722000 | I24: =I25 -> 0
F25: ԸՆԹԱՑԻԿ ԾԱԽՍԵՐ | G25: =G26 -> 1722000 | H25: =H26 -> 1722000 | I25: =I26 -> 0
F26: ՍՈՑԻԱԼԱԿԱՆ ՆՊԱՍՏՆԵՐ ԵՎ ԿԵՆՍԱԹՈՇԱԿՆԵՐ | G26: =G27 -> 1722000 | H26: =H27 -> 1722000 | I26: =I27 -> 0
F27: Սոցիալական օգնության դրամական արտահայտությամբ նպաստներ (բյուջեից) | G27: =G28 -> 1722000 | H27: =H28 -> 1722000 | I27: =I28 -> 0
F28: - Այլ նպաստներ բյուջեից | G28: 1722000 | H28: 1722000 | I28: 0
D29: 1241 | F29: Առևտրական (առք ու վաճառքի) գործունեություն իրականացնող շրջանառության հարկ վճարող տնտեսվարող սուբյեկտներին աջակցության տրամադրում | G29: =G31 -> -1722000 | H29: =H31 -> -1722000 | I29: =I31 -> 0
F30: այդ թվում՝
E31: 12001 | F31: Առևտրական (առք ու վաճառքի) գործունեություն իրականացնող շրջանառության հարկ վճարող տնտեսվարող սուբյեկտներին աջակցության տրամադրում | G31: =G33 -> -1722000 | H31: =H33 -> -1722000 | I31: =I33 -> 0
F32: այդ թվում` ըստ կատարողների | O32: =+L32+L31 -> 0
F33: ՀՀ պետական եկամուտների կոմիտե | G33: =G35 -> -1722000 | H33: =H35 -> -1722000 | I33: =I35 -> 0
F34: այդ թվում` բյուջետային ծախսերի տնտեսագիտական դասակարգման հոդվածներ
F35: ԸՆԴԱՄԵՆԸ ԾԱԽՍԵՐ | G35: =G36 -> -1722000 | H35: =H36 -> -1722000 | I35: =I36 -> 0
F36: ԸՆԹԱՑԻԿ ԾԱԽՍԵՐ | G36: =G37 -> -1722000 | H36: =H37 -> -1722000 | I36: =I37 -> 0
F37: ՍՈՑԻԱԼԱԿԱՆ ՆՊԱՍՏՆԵՐ ԵՎ ԿԵՆՍԱԹՈՇԱԿՆԵՐ | G37: =G38 -> -1722000 | H37: =H38 -> -1722000 | I37: =I38 -> 0
F38: Սոցիալական օգնության դրամական արտահայտությամբ նպաստներ (բյուջեից) | G38: =G39 -> -1722000 | H38: =H39 -> -1722000 | I38: =I39 -> 0
F39: - Այլ նպաստներ բյուջեից | G39: =-G28 -> -1722000 | H39: =-H28 -> -1722000 | I39: 0

Sheet Հավելված 2
I1: Հավելված N 2
H2: ՀՀ կառավարության 2025 թվականի
H3: ___________ ___-ի N _______ որոշման
A4: ՀԱՅԱՍՏԱՆԻ ՀԱՆՐԱՊԵՏՈՒԹՅԱՆ ԿԱՌԱՎԱՐՈՒԹՅԱՆ 2024 ԹՎԱԿԱՆԻ ԴԵԿՏԵՄԲԵՐԻ 27-Ի N 2060-Ն ՈՐՈՇՄԱՆ N 5 ՀԱՎԵԼՎԱԾԻ N 1 ԱՂՅՈՒՍԱԿՈՒՄ ԿԱՏԱՐՎՈՂ ՓՈՓՈԽՈՒԹՅՈՒՆՆԵՐԸ
I5: հազար դրամներով
A6: ԲԳԿ | B6: Ծրագրային դասիչը | D6: ԲԳԿ/Ծրագրի /միջոցառման անվանումը | E6: Ծրագրի նպատակը/Միջոցառման նկարագրությունը | F6: Վերջնական արդյունքի նկարագրությունը/Միջոցառման տեսակը | G6: Ցուցանիշների փոփոխությունը (ավելացումները նշված են դրական նշանով, իսկ նվազեցումները՝ փակագծերում)
B7: Ծրագիր | C7: Միջոցառում | G7: Առաջին կիսամյակ | H7: Ինն ամիս | I7: Տարի
A8: ԸՆԴԱՄԵՆԸ | G8: =G9 -> 0 | H8: =H9 -> 0 | I8: =I9 -> 0
A9: ՀՀ պետական եկամուտների կոմիտե | G9: =G10+G12 -> 0 | H9: =H10+H12 -> 0 | I9: =I10+I12 -> 0
B10: 1239 | D10: Հիպոթեքային վարկի վճարված տոկոսների գումարի վերադարձ | E10: Հիպոթեքային վարկի սպասարկման համար վճարված տոկոսների գումարների չափով վարձու աշխատողների, անհատ ձեռնարկատերերի և նոտարների կողմից վճարված եկամտային հարկի գումարների վերադարձ | F10: Շինարարության ոլորտում տնտեսական աճի խթանում, սոցիալական քաղաքականության շրջանակներում շահառուներին տրամադրվող բյուջետային աջակցություն | G10: =G11 -> 1722000 | H10: =H11 -> 1722000 | I10: =I11 -> 0
C11: 1239 -12001 | D11: Հիպոթեքային վարկի վճարված տոկոսների գումարների վերադարձ | E11: Հիպոթեքային վարկի սպասարկման համար վճարված տոկոսների գումարների չափով վարձու աշխատողների, անհատ ձեռնարկատերերի և նոտարների կողմից վճարված եկամտային հարկի գումարների վերադարձ | F11: Տրանսֆերտների տրամադրում | G11: ='Հավելված 1'!G18 -> 1722000 | H11: ='Հավելված 1'!H18 -> 1722000 | I11: ='Հավելված 1'!I18 -> 0
B12: 1241 | D12: Առևտրական (առք ու վաճառքի) գործունեություն իրականացնող շրջանառության հարկ վճարող տնտեսվարող սուբյեկտներին աջակցության տրամադրում | E12: ՀՀ-ում ռեզիդենտ հաքնդիսացող առևտրական (առք ու վաճառքի) գործունեություն իրականացնող շրջանառության հարկ վճարողներին պետության կողմից ֆինանսական աջակցության տրամադրում | F12: ՀՀ-ում ռեզիդենտ հաքնդիսացող առևտրական (առք ու վաճառքի) գործունեություն իրականացնող տնտեսվարող սուբեկտների մոտ ապրանքային մնացորդների իրացման պարագայում առաջացացող հարկային բեռի համաչափության ապահովում | G12: =SUM(G13:G13) -> -1722000 | H12: =SUM(H13:H13) -> -1722000 | I12: =SUM(I13:I13) -> 0
C13: 1241-12001 | D13: Առևտրական (առք ու վաճառքի) գործունեություն իրականացնող շրջանառության հարկ վճարող տնտեսվարող սուբյեկտներին աջակցության տրամադրում | E13: Առևտրական (առք ու վաճառքի) գործունեություն իրականացնող շրջանառության հարկ վճարող տնտեսավարող սուբյեկտներին հարկային բեռը մեղմելու նպատակով աջակցության տրամադրում | F13: Տրանսֆերտների տրամադրում | G13: ='Հավելված 1'!G29 -> -1722000 | H13: ='Հավելված 1'!H29 -> -1722000 | I13: ='Հավելված 1'!I29 -> 0

Sheet Հավելված 3 
L1: Հավելված N 3
K2: ՀՀ կառավարության 2025 թվականի
K3: ___________ ___-ի N _______ որոշման
A4: ՀԱՅԱՍՏԱՆԻ ՀԱՆՐԱՊԵՏՈՒԹՅԱՆ ԿԱՌԱՎԱՐՈՒԹՅԱՆ 2024 ԹՎԱԿԱՆԻ ԴԵԿՏԵՄԲԵՐԻ 27-Ի N 2060-Ն ՈՐՈՇՄԱՆ N 9 ԵՎ N 9.1 ՀԱՎԵԼՎԱԾՆԵՐԻ ԱՂՅՈՒՍԱԿՆԵՐՈՒՄ ԿԱՏԱՐՎՈՂ ՓՈՓՈԽՈՒԹՅՈՒՆՆԵՐԸ
L5: հազար դրամներով
A6: ԲԳԿ/ԲՍԿ | B6: Ծրագիր | D6: Միջոցառում | H6: Իրականացնողը/ ակտիվն օգտագործողը/ շահառուի ընտրության չափորոշիչը | I6: Արդյունքային չափորոշիչը | J6: Ցուցանիշների փոփոխությունը (ավելացումները նշված են դրական նշանով, իսկ նվազեցումները՝ փակագծերում)
B7: Դասիչը | C7: Անվանումը | D7: Դասիչը | E7: Անվա-նումը | F7: Նկարագրու-թյունը | G7: Տեսակը | J7: Առաջին կիսամյակ | K7: Ինն ամիս | L7: Տարի
A8: ԸՆԴԱՄԵՆԸ | J8: =J9 -> 0 | K8: =K9 -> 0 | L8: =L9 -> 0
A9: ՀՀ պետական եկամուտների կոմիտե | J9: =J10+J16 -> 0 | K9: =K10+K16 -> 0 | L9: =L10+L16 -> 0
B10: 1239 | C10: Հիպոթեքային վարկի վճարված տոկոսների գումարի վերադարձ | J10: =J11 -> 1722000 | K10: =K11 -> 1722000 | L10: =L11 -> 0
D11: 1239 - 12001 | E11: Հիպոթեքային վարկի վճարված տոկոսների գումարների վերադարձ | J11: ='Հավելված 1'!G20 -> 1722000 | K11: ='Հավելված 1'!H20 -> 1722000 | L11: ='Հավելված 1'!I20 -> 0
F12: Հիպոթեքային վարկի սպասարկման համար վճարված տոկոսների գումարների չափով վարձու աշխատողների, անհատ ձեռնարկատերերի և նոտարների կողմից վճարված եկամտային հարկի գումարների վերադարձ
G13: Տրանսֆերտների տրամադրում
H14: Շահառուների ընտրության չափորոշիչները`ՀՀ կառավարության 05.10.2017թ. N 1321-Ն և 19.02.2015թ. N 205-Ն որոշումներ
I15: Տվյալ տարվա ընթացքում հիպոթեքային վարկի գծով փոխհատուցում ստացող անձանց թվաքանակ | J15: 4200 | L15: 0
B16: 1241 | C16: Առևտրական (առք ու վաճառքի) գործունեություն իրականացնող շրջանառության հարկ վճարող տնտեսվարող սուբյեկտներին աջակցության տրամադրում | J16: =J17 -> -1722000 | K16: =K17 -> -1722000 | L16: =L17 -> 0
D17: 1241-12001 | E17: Առևտրական (առք ու վաճառքի) գործունեություն իրականացնող շրջանառության հարկ վճարող տնտեսվարող սուբյեկտներին աջակցության տրամադրում | J17: ='Հավելված 1'!G31 -> -1722000 | K17: ='Հավելված 1'!H31 -> -1722000 | L17: ='Հավելված 1'!I31 -> 0
F18: Առևտրական (առք ու վաճառքի) գործունեություն իրականացնող շրջանառության հարկ վճարող տնտեսավարող սուբյեկտներին հարկային բեռը մեղմելու նպատակով աջակցության տրամադրում
G19: Տրանսֆերտների տրամադրում
H20: Շահառուների ընտրության չափորոշիչները` ՀՀ-ում առևտրական (առք ու վաճառքի) գործունեություն իրականացնող շրջանառության հարկ վճարող տնտեսավարողներ
I21: Շահառուների քանակ (հատ) | J21: -19000 | L21: 0
