Workbook
Name շախմատիստ: #REF!
Name շախմատիստ: #REF!

Sheet Հավելված N 1
H1: Հավելված N 1
G2: ՀՀ կառավարության 2025 թվականի
G3: ______________ ի ___Ն որոշման
A4: «ՀԱՅԱՍՏԱՆԻ ՀԱՆՐԱՊԵՏՈՒԹՅԱՆ 2025 ԹՎԱԿԱՆԻ ՊԵՏԱԿԱՆ ԲՅՈՒՋԵԻ ՄԱՍԻՆ» ՕՐԵՆՔԻ N 1 ՀԱՎԵԼՎԱԾԻ N 2 ԱՂՅՈՒՍԱԿՈՒՄ ԿԱՏԱՐՎՈՂ ՎԵՐԱԲԱՇԽՈՒՄԸ ԵՎ ՀԱՅԱՍՏԱՆԻ ՀԱՆՐԱՊԵՏՈՒԹՅԱՆ ԿԱՌԱՎԱՐՈՒԹՅԱՆ 2024 ԹՎԱԿԱՆԻ ԴԵԿՏԵՄԲԵՐԻ 27-Ի N 2060-Ն ՈՐՈՇՄԱՆ N 5 ՀԱՎԵԼՎԱԾԻ N 1 ԱՂՅՈՒՍԱԿՈՒՄ ԿԱՏԱՐՎՈՂ ՓՈՓՈԽՈՒԹՅՈՒՆՆԵՐԸ
I5: հազար դրամներով
A6: ԲԳԿ | B6: Ծրագրային դասիչը | D6: ԲԳԿ/Ծրագրի /միջոցառման անվանումը | E6: Ծրագրի նպատակը/Միջոցառման նկարագրությունը | F6: Վերջնական արդյունքի նկարագրությունը/Միջոցառման տեսակը | G6: Ցուցանիշների փոփոխությունը (ավելացումները նշված են դրական նշանով, իսկ նվազեցումները՝ փակագծերում)
B7: Ծրագիր | C7: Միջոցառում | G7: Առաջին կիսամյակ | H7: Ինն ամիս | I7: Տարի
A8: ԸՆԴԱՄԵՆԸ | G8: =G9 -> 0 | H8: =H9 -> 0 | I8: =I9 -> 0
A9: ՀՀ կրթության, գիտության, մշակույթի և սպորտի նախարարություն | G9: =G10+G13 -> 0 | H9: =H10+H13 -> 0 | I9: =I10+I13 -> 0
B10: 1146 | D10: Հանրակրթության ծրագիր | E10: Ապահովել անվճար և որակյալ հանրակրթություն | F10: Մտավոր, հոգևոր, ֆիզիկական և սոցիալական ունակությունների համակողմանի ու ներդաշնակ զարգացմամբ, հայրենասիրության, պետականության և մարդասիրության ոգով դաստիրակված, պատշաճ վարքով և վարվելակերպով անձի ձևավորում | G10: =G11+G12 -> -657 | H10: =H11+H12 -> -657 | I10: =I11+I12 -> -657
C11: 1146-11016 | D11: Կրթական հաստատությունների աշակերտներին դասագրքերով և ուսումնական գրականությամբ ապահովում | E11: Հանրակրթական դպրոցում ուսումնական գործընթացի արդյունավետության ապահովման և բարձրացման նպատակով ուսումնադիդակտիկ պարագաների ապահովում | F11: Ծառայությունների մատուցում | G11: 11224.48 | H11: 0 | I11: 0
C12: 1146 - 12004 | D12: Ատեստավորման միջոցով տարակարգի որակավորում ստացած ուսուցիչներին համապատասխան հավելավճարի տրամադրման ապահովում | E12: Տարակարգ ստացած ուսուցիչներին համաապատասխան հավելավճարի տրամադրման ապահովում | F12: Տրանսֆերտների տրամադրում | G12: -11881.48 | H12: -657 | I12: -657
B13: 1192 | D13: Կրթության որակի ապահովում | E13: Ընթացիկ աշխատանքների, բարեփոխումների և նոր նախաձեռնությունների միջոցով ֆորմալ և ոչ-ֆորմալ կրթության ոլորտում իրականացվող միջոցառումների, մատուցվող ծառայությունների բովանդակության և կազմակերպման որակի շարունակական բարելավում | F13: Նախադպրոցականից մինչև հետբուհական կրթության որակի, այն է սովորողների, միջավայրի, ծրագրերի և ուսումնական նյութերի բովանդակության, գործընթացների, ինչպես նաև վերջնարդյունքների որակի բարելավում ըստ ներպետական և միջազգային ցուցիչների | G13: =G14 -> 657 | H13: =H14 -> 657 | I13: =I14 -> 657
C14: 1192 - 11022 | D14: Հանրակրթական հիմնական ծրագրեր իրականացնող ուսումնական հաստատությունների ատեստավորման ենթակա ուսուցչի և մանկավարժի վերապատրաստում | E14: Հանրակրթական ուսումնական հաստատությունների հերթական, ինչպես նաև կամավոր ատեստավորման արդյունքում 0-59 տոկոս արդյունք ցուցաբերած ուսուցիչների վերապատրաստում | F14: Ծառայությունների մատուցում | G14: 657 | H14: 657 | I14: 657

Sheet Հավելված N 2
F1: Հավելված N 2
F2: ՀՀ կառավարության 2025 թվականի
F3: ______________ ի ___Ն որոշման
A4: ՀԱՅԱՍՏԱՆԻ ՀԱՆՐԱՊԵՏՈՒԹՅԱՆ ԿԱՌԱՎԱՐՈՒԹՅԱՆ 2024 ԹՎԱԿԱՆԻ ԴԵԿՏԵՄԲԵՐԻ 27-Ի N 2060-Ն ՈՐՈՇՄԱՆ N 3 ԵՎ N 4 ՀԱՎԵԼՎԱԾՆԵՐՈՒՄ ԿԱՏԱՐՎՈՂ ՓՈՓՈԽՈՒԹՅՈՒՆՆԵՐԸ
I5: հազար դրամներով
A6: Գործառական դասիչը | D6: Ծրագրային դասիչը | F6: Բյուջետային ծախսերի գործառական դասակարգման բաժինների, խմբերի և դասերի, բյուջետային ծրագրերի միջոցառումների, բյուջետային հատկացումների գլխավոր կարգադրիչների անվանումները | G6: Ցուցանիշների փոփոխությունը (ավելացումները նշված են դրական նշանով, իսկ նվազեցումները՝ փակագծերում)
A7: Բաժին | B7: Խումբ | C7: Դաս | D7: Ծրագիր | E7: Միջոցառում | G7: Առաջին կիսամյակ | H7: Ինն ամիս | I7: Տարի
F8: ԸՆԴԱՄԵՆԸ | G8: =G10 -> 0 | H8: =H10 -> 0 | I8: =I10 -> 0
F9: այդ թվում`
F10: ՀՀ Կրթության, գիտության, մշակույթի և սպորտի նախարարություն | G10: =G12 -> 0 | H10: =H12 -> 0 | I10: =I12 -> 0
F11: այդ թվում`
A12: 09 | F12: ԿՐԹՈՒԹՅՈՒՆ | G12: =G14 -> 0 | H12: =H14 -> 0 | I12: =I14 -> 0
F13: այդ թվում`
B14: 06 | F14: Կրթությանը տրամադրվող օժանդակ ծառայություններ | G14: =G16 -> 0 | H14: =H16 -> 0 | I14: =I16 -> 0
F15: այդ թվում`
C16: 01 | F16: Կրթությանը տրամադրվող օժանդակ ծառայություններ | G16: =G18+G49 -> 0 | H16: =H18+H49 -> 0 | I16: =I18+I49 -> 0
F17: այդ թվում`
D18: 1146 | F18: Հանրակրթության ծրագիր | G18: =G20+G29+G40 -> -657 | H18: =H20+H29+H40 -> -657 | I18: =I20+I29+I40 -> -657
F19: այդ թվում`
E20: 11016 | F20: Կրթական հաստատությունների աշակերտներին դասագրքերով և ուսումնական գրականությամբ ապահովում | G20: =G22 -> 11224.48 | H20: =H22 -> 0 | I20: =I22 -> 0
F21: այդ թվում` ըստ կատարողների
F22: ՀՀ կրթության , գիտության, մշակույթի և սպորտի նախարարություն | G22: =G24 -> 11224.48 | H22: =H24 -> 0 | I22: =I24 -> 0
F23: այդ թվում` բյուջետային ծախսերի տնտեսագիտական դասակարգման հոդվածներ
F24: ԸՆԴԱՄԵՆԸ ԾԱԽՍԵՐ | G24: =G25 -> 11224.48 | H24: =H25 -> 0 | I24: =I25 -> 0
F25: ԸՆԹԱՑԻԿ ԾԱԽՍԵՐ | G25: =G26 -> 11224.48 | H25: =H26 -> 0 | I25: =I26 -> 0
F26: ԾԱՌԱՅՈՒԹՅՈՒՆՆԵՐԻ ԵՎ ԱՊՐԱՆՔՆԵՐԻ ՁԵՌՔԲԵՐՈՒՄ | G26: =G27 -> 11224.48 | H26: =H27 -> 0 | I26: =I27 -> 0
F27: Պայմանագրային այլ ծառայությունների ձեռքբերում | G27: =G28 -> 11224.48 | H27: =H28 -> 0 | I27: =I28 -> 0
F28: - Ընդհանուր բնույթի այլ ծառայություններ | G28: ='Հավելված N 1'!G11 -> 11224.48 | H28: ='Հավելված N 1'!H11 -> 0 | I28: ='Հավելված N 1'!I11 -> 0
E29: 11017 | F29: Կրթական հաստատություններին ուսումնամեթոդական նյութերով ապահովում | G29: =G31 -> 0 | H29: =H31 -> 0 | I29: =I31 -> 0
F30: այդ թվում` ըստ կատարողների
F31: ՀՀ կրթության , գիտության, մշակույթի և սպորտի նախարարություն | G31: =G33 -> 0 | H31: =H33 -> 0 | I31: =I33 -> 0
F32: այդ թվում` բյուջետային ծախսերի տնտեսագիտական դասակարգման հոդվածներ
F33: ԸՆԴԱՄԵՆԸ ԾԱԽՍԵՐ | G33: =G34 -> 0 | H33: =H34 -> 0 | I33: =I34 -> 0
F34: ԸՆԹԱՑԻԿ ԾԱԽՍԵՐ | G34: =G35 -> 0 | H34: =H35 -> 0 | I34: =I35 -> 0
F35: ԾԱՌԱՅՈՒԹՅՈՒՆՆԵՐԻ ԵՎ ԱՊՐԱՆՔՆԵՐԻ ՁԵՌՔԲԵՐՈՒՄ | G35: =G36+G38 -> 0 | H35: =H36+H38 -> 0 | I35: =I36+I38 -> 0
F36: Պայմանագրային այլ ծառայությունների ձեռքբերում | G36: =G37 -> -4244.4 | H36: =H37 -> -1365.7 | I36: =I37 -> 0
F37: - Ընդհանուր բնույթի այլ ծառայություններ | G37: -4244.4 | H37: -1365.7 | I37: 0
F38: Նյութեր (Ապրանքներ) | G38: =G39 -> 4244.4 | H38: =H39 -> 1365.7 | I38: =I39 -> 0
F39: - Վերապատրաստման և ուսուցման նյութեր (աշխատողների զարգացման) | G39: 4244.4 | H39: 1365.7 | I39: 0
E40: 12004 | F40: Ատեստավորման միջոցով տարակարգի որակավորում ստացած ուսուցիչներին համապատասխան հավելավճարի տրամադրման ապահովում | G40: =G42 -> -11881.48 | H40: =H42 -> -657 | I40: =I42 -> -657
F41: այդ թվում` ըստ կատարողների
F42: ՀՀ կրթության , գիտության, մշակույթի և սպորտի նախարարություն | G42: =G44 -> -11881.48 | H42: =H44 -> -657 | I42: =I44 -> -657
F43: այդ թվում` բյուջետային ծախսերի տնտեսագիտական դասակարգման հոդվածներ
F44: ԸՆԴԱՄԵՆԸ ԾԱԽՍԵՐ | G44: =G45 -> -11881.48 | H44: =H45 -> -657 | I44: =I45 -> -657
F45: ԸՆԹԱՑԻԿ ԾԱԽՍԵՐ | G45: =G46 -> -11881.48 | H45: =H46 -> -657 | I45: =I46 -> -657
F46: ՍՈՑԻԱԼԱԿԱՆ ՆՊԱՍՏՆԵՐ ԵՎ ԿԵՆՍԱԹՈՇԱԿՆԵՐ | G46: =G47 -> -11881.48 | H46: =H47 -> -657 | I46: =I47 -> -657
F47: Սոցիալական օգնության դրամական արտահայտությամբ նպաստներ (բյուջեից) | G47: =G48 -> -11881.48 | H47: =H48 -> -657 | I47: =I48 -> -657
F48: - Այլ նպաստներ բյուջեից | G48: ='Հավելված N 1'!G12 -> -11881.48 | H48: ='Հավելված N 1'!H12 -> -657 | I48: ='Հավելված N 1'!I12 -> -657
D49: 1192 | F49: Կրթության որակի ապահովում | G49: =G51 -> 657 | H49: =H51 -> 657 | I49: =I51 -> 657
F50: այդ թվում`
E51: 11022 | F51: Հանրակրթական հիմնական ծրագրեր իրականացնող ուսումնական հաստատությունների ատեստավորման ենթակա ուսուցչի և մանկավարժի վերապատրաստում | G51: =G53+G60 -> 657 | H51: =H53+H60 -> 657 | I51: =I53+I60 -> 657
F52: այդ թվում` ըստ կատարողների
F53: ՀՀ տարածքային կառավարման և ենթակառուցվածքների նախարարություն | G53: =G55 -> 0 | H53: =H55 -> 0 | I53: =I55 -> -18504
F54: այդ թվում` բյուջետային ծախսերի տնտեսագիտական դասակարգման հոդվածներ
F55: ԸՆԴԱՄԵՆԸ ԾԱԽՍԵՐ | G55: =G56 -> 0 | H55: =H56 -> 0 | I55: =I56 -> -18504
F56: ԸՆԹԱՑԻԿ ԾԱԽՍԵՐ | G56: =G57 -> 0 | H56: =H57 -> 0 | I56: =I57 -> -18504
F57: ՍՈՑԻԱԼԱԿԱՆ ՆՊԱՍՏՆԵՐ ԵՎ ԿԵՆՍԱԹՈՇԱԿՆԵՐ | G57: =G58 -> 0 | H57: =H58 -> 0 | I57: =I58 -> -18504
F58: Սոցիալական օգնության դրամական արտահայտությամբ նպաստներ (բյուջեից) | G58: =G59 -> 0 | H58: =H59 -> 0 | I58: =I59 -> -18504
F59: - Այլ նպաստներ բյուջեից | G59: 0 | H59: 0 | I59: -18504
F60: ՀՀ կրթության , գիտության, մշակույթի և սպորտի նախարարություն | G60: =G62 -> 657 | H60: =H62 -> 657 | I60: =I62 -> 19161
F61: այդ թվում` բյուջետային ծախսերի տնտեսագիտական դասակարգման հոդվածներ
F62: ԸՆԴԱՄԵՆԸ ԾԱԽՍԵՐ | G62: =G63 -> 657 | H62: =H63 -> 657 | I62: =I63 -> 19161
F63: ԸՆԹԱՑԻԿ ԾԱԽՍԵՐ | G63: =G64 -> 657 | H63: =H64 -> 657 | I63: =I64 -> 19161
F64: ՍՈՑԻԱԼԱԿԱՆ ՆՊԱՍՏՆԵՐ ԵՎ ԿԵՆՍԱԹՈՇԱԿՆԵՐ | G64: =G65 -> 657 | H64: =H65 -> 657 | I64: =I65 -> 19161
F65: Սոցիալական օգնության դրամական արտահայտությամբ նպաստներ (բյուջեից) | G65: =G66 -> 657 | H65: =H66 -> 657 | I65: =I66 -> 19161
F66: - Այլ նպաստներ բյուջեից | G66: ='Հավելված N 1'!G14 -> 657 | H66: ='Հավելված N 1'!H14 -> 657 | I66: =18504+657 -> 19161

Sheet Հավելված N 3
C1: Հավելված N 3
C2: ՀՀ կառավարության 2025 թվականի
C3: ______________ ի ___Ն որոշման
A5: ՀԱՅԱՍՏԱՆԻ ՀԱՆՐԱՊԵՏՈՒԹՅԱՆ ԿԱՌԱՎԱՐՈՒԹՅԱՆ 2024 ԹՎԱԿԱՆԻ ԴԵԿՏԵՄԲԵՐԻ 27-Ի N 2060-Ն ՈՐՈՇՄԱՆ N 8 ՀԱՎԵԼՎԱԾՈՒՄ ԿԱՏԱՐՎՈՂ ՓՈՓՈԽՈՒԹՅՈՒՆԸ
D6: հազար դրամներով
A7: Ծրագրային դասիչը | C7: Բյուջետային հատակացումների գլխավոր կարգադրիչներ, ծրագրերի, միջոցառումների անվանումները | D7: Ցուցանիշների փոփոխությունը (ավելացումները նշված են դրական նշանով)
A8: Ծրագիր | B8: Միջոցառում
C9: ԸՆԴԱՄԵՆԸ ԾԱԽՍԵՐ | D9: =D11 -> -18504
C10: այդ թվում՝
A11: 1192 | C11: Կրթության որակի ապահովում | D11: =D12 -> -18504
B12: 11022 | C12: Հանրակրթական հիմնական ծրագրեր իրականացնող ուսումնական հաստատությունների հերթական ատեստավորման ենթակա ուսուցչի և մանկավարժի վերապատրաստում | D12: ='Հավելված N 2'!I59 -> -18504

Sheet Հավելված N 4
K1: Հավելված N 4
J2: ՀՀ կառավարության 2025 թվականի
K3: ______________ ի ___Ն որոշման
A5: ՀԱՅԱՍՏԱՆԻ ՀԱՆՐԱՊԵՏՈՒԹՅԱՆ ԿԱՌԱՎԱՐՈՒԹՅԱՆ 2024 ԹՎԱԿԱՆԻ ԴԵԿՏԵՄԲԵՐԻ 27-Ի N 2060-Ն ՈՐՈՇՄԱՆ N 9 ՀԱՎԵԼՎԱԾՈՒՄ ԿԱՏԱՐՎՈՂ ՓՈՓՈԽՈՒԹՅՈՒՆՆԵՐԸ
K6: հազար դրամներով
A7: ԲԳԿ | B7: Ծրագիր | D7: Միջոցառում | H7: Իրականացնողը/ ակտիվն օգտագործողը/ շահառուի ընտրության չափորոշիչը | I7: Արդյունքային չափորոշիչը | J7: Ցուցանիշների փոփոխությունը (ավելացումները նշված են դրական նշանով, իսկ նվազեցումները՝ փակագծերում)
B8: Դասիչը | C8: Անվանումը | D8: Դասիչը | E8: Անվանումը | F8: Նկարագրու-թյունը | G8: Տեսակը | J8: Առաջին կիսամյակ | K8: Ինն ամիս | L8: Տարի
A9: ԸՆԴԱՄԵՆԸ | J9: =J10 -> 0 | K9: =K10 -> 0 | L9: =L10 -> 0
A10: ՀՀ կրթության, գիտության, մշակույթի և սպորտի նախարարություն | J10: =J11+J36 -> 0 | K10: =K11+K36 -> 0 | L10: =L11+L36 -> 0
B11: 1146 | C11: Հանրակրթության ծրագիր | J11: =J18+J22+J30 -> -657 | K11: =K18+K22+K30 -> -657 | L11: =L18+L22+L30 -> -657
D12: 1146-11003 | E12: Միջնակարգ ընդհանուր հանրակրթություն | J12: 0 | K12: 0 | L12: 0
E13: Պարտադիր կրթության երրորդ մակարդակում սովորողների ընդգրկվածության, գրագիտության և համակողմանի զարգացման բարձր մակարդակի ապահովում
G14: Ծառայությունների մատուցում
H15: Ծառայությունը մատուցողի անվանումը` ՀՀ կրթության, գիտության,մշակույթի և սպորտի նախարարության, ՀՀ մարզպետի աշխատակազմների, Երևանի քաղաքապետարանի ենթակայության ուսումնական հաստատություններ
I16: տղա | J16: -13320 | L16: -13320
I17: աղջիկ | J17: -12800 | L17: -12800
D18: 1146 - 11016 | E18: Կրթական հաստատությունների աշակերտներին դասագրքերով և ուսումնական գրականությամբ ապահովում | J18: ='Հավելված N 2'!G20 -> 11224.48 | K18: ='Հավելված N 2'!H20 -> 0 | L18: ='Հավելված N 2'!I20 -> 0
F19: Հանրակրթական դպրոցում ուսումնական գործընթացի արդյունավետության ապահովման և բարձրացման նպատակով ուսումնադիդակտիկ պարագաների ապահովում
G20: Ծառայությունների մատուցում
H21: Ծառայությունը մատուցողի անվանումը` Գնումների մասին ՀՀ օրենքի համաձայն ընտրված կազմակերպություն, ՀՀ ԿԳՄՍ նախարարություն, Մասնագիտացված կազմակերպություն
D22: 1146 - 11017 | E22: Կրթական հաստատություններին ուսումնամեթոդական նյութերով ապահովում | J22: ='Հավելված N 2'!G29 -> 0 | K22: ='Հավելված N 2'!H29 -> 0 | L22: ='Հավելված N 2'!I29 -> 0
F23: Ավարտական փաստաթղթերի, գովասանագրերի, դասամատյանների, մեդալների, ուսումնական ծրագրերի, մանկավարժական պարբերականների և ուսումնադիտողական պարագաների, հավաստագրերի և այլ ծառայությունների ձեռքբերում
G24: Ծառայությունների մատուցում
H25: Ծառայությունը մատուցողի անվանումը` Գնումների մասին ՀՀ օրենքի համաձայն ընտրված կազմակերպություն
I26: Մեդալի հավաստագրեր/հատ/ | J26: -100 | L26: -200
I27: ԿԳՄՍՆ հուշամեդալ, հատ | J27: -80 | L27: -100
I28: Ամսագրեր, անվանում | L28: -4
I29: Ուսումնամեթոդական ձեռնարկներ, անվանում | J29: 3 | L29: 5
D30: 1146 - 12004 | E30: Ատեստավորման միջոցով տարակարգի որակավորում ստացած ուսուցիչներին համապատասխան հավելավճարի տրամադրման ապահովում | J30: ='Հավելված N 2'!G40 -> -11881.48 | K30: ='Հավելված N 2'!H40 -> -657 | L30: ='Հավելված N 2'!I40 -> -657
F31: Տարակարգ ստացած ուսուցիչներին համաապատասխան հավելավճարի տրամադրման ապահովում
G32: Տրանսֆերտների տրամադրում
H33: Շահառուների ընտրության չափորոշիչները` Ատեստավորման արդյունքում որակավորում ստացած ուսուցիչներ
I34: Որակավորման տարակարգ ստացած ուսուցիչների թիվը /մարդ/, որից՛ | J34: -1 | L34: -1
I35: տղամարդ | J35: -1 | L35: -1
B36: 1192 | C36: Կրթության որակի ապահովում | J36: =J37 -> 657 | K36: =K37 -> 657 | L36: =L37 -> 657
D37: 1192 - 11022 | E37: Հանրակրթական հիմնական ծրագրեր իրականացնող ուսումնական հաստատությունների ատեստավորման ենթակա ուսուցչի և մանկավարժի վերապատրաստում | J37: ='Հավելված N 2'!G51 -> 657 | K37: ='Հավելված N 2'!H51 -> 657 | L37: ='Հավելված N 2'!I51 -> 657
F38: Հանրակրթական ուսումնական հաստատությունների հերթական, ինչպես նաև կամավոր ատեստավորման արդյունքում 0-59 տոկոս արդյունք ցուցաբերած ուսուցիչների վերապատրաստում
G39: Ծառայությունների մատուցում
H40: Ծառայությունը մատուցողի անվանումը` Մասնագիտացված կազմակերպություն

Sheet Հավելված N 5
K1: Հավելված 5
J2: ՀՀ կառավարության 2025 թվականի
K3: ______________ ի ___Ն որոշման
A5: ՀԱՅԱՍՏԱՆԻ ՀԱՆՐԱՊԵՏՈՒԹՅԱՆ ԿԱՌԱՎԱՐՈՒԹՅԱՆ 2024 ԹՎԱԿԱՆԻ ԴԵԿՏԵՄԲԵՐԻ 27-Ի N 2060-Ն ՈՐՈՇՄԱՆ N 9.1 ՀԱՎԵԼՎԱԾՈՒՄ ԿԱՏԱՐՎՈՂ ՓՈՓՈԽՈՒԹՅՈՒՆՆԵՐԸ
K6: հազար դրամներով
A7: ԲՍԿ | B7: Ծրագիր | D7: Միջոցառում | H7: Իրականացնողը/ ակտիվն օգտագործողը/ շահառուի ընտրության չափորոշիչը | I7: Արդյունքային չափորոշիչը | J7: Ցուցանիշների փոփոխությունը (ավելացումները նշված են դրական նշանով, իսկ նվազեցումները՝ փակագծերում)
B8: Դասիչը | C8: Անվանումը | D8: Դասիչը | E8: Անվանումը | F8: Նկարագրությունը | G8: Տեսակը | J8: Առաջին կիսամյակ | K8: Ինն ամիս | L8: Տարի
A9: ԸՆԴԱՄԵՆԸ | J9: =J10 -> 0 | K9: =K10+K16 -> 0 | L9: =L10+L16 -> 0
A10: ՀՀ տարածքային կառավարման և ենթակառուցվածքների նախարարություն | J10: =J11 -> 0 | K10: =K11 -> 0 | L10: =L11 -> -18504
B11: 1192 | C11: Կրթության որակի ապահովում | J11: =J12 -> 0 | K11: =K12 -> 0 | L11: =L12 -> -18504
D12: 1192-11022 | E12: Հանրակրթական հիմնական ծրագրեր իրականացնող ուսումնական հաստատությունների ատեստավորման ենթակա ուսուցչի և մանկավարժի վերապատրաստում | J12: ='Հավելված N 2'!G53 -> 0 | K12: ='Հավելված N 2'!H53 -> 0 | L12: ='Հավելված N 2'!I53 -> -18504
F13: Հանրակրթական ուսումնական հաստատությունների հերթական, ինչպես նաև կամավոր ատեստավորման արդյունքում 0-59 տոկոս արդյունք ցուցաբերած ուսուցիչների վերապատրաստում
G14: Ծառայությունների մատուցում
H15: Ծառայությունը մատուցողի անվանումը` Մասնագիտացված կազմակերպություն
A16: ՀՀ կրթության, գիտության, մշակույթի և սպորտի նախարարություն | J16: =J17+J36 -> 0 | K16: =K17+K36 -> 0 | L16: =L17+L36 -> 18504
B17: 1146 | C17: Հանրակրթության ծրագիր | J17: =J18+J22+J30 -> -657 | K17: =K18+K22+K30 -> -657 | L17: =L18+L22+L30 -> -657
D18: 1146-11016 | E18: Կրթական հաստատությունների աշակերտներին դասագրքերով և ուսումնական գրականությամբ ապահովում | J18: ='Հավելված N 4'!J18 -> 11224.48 | K18: ='Հավելված N 4'!K18 -> 0 | L18: ='Հավելված N 4'!L18 -> 0
F19: Հանրակրթական դպրոցում ուսումնական գործընթացի արդյունավետության ապահովման և բարձրացման նպատակով ուսումնադիդակտիկ պարագաների ապահովում
G20: Ծառայությունների մատուցում
H21: Ծառայությունը մատուցողի անվանումը` Գնումների մասին ՀՀ օրենքի համաձայն ընտրված կազմակերպություն, ՀՀ ԿԳՄՍ նախարարություն, Մասնագիտացված կազմակերպություն
D22: 1146 - 11017 | E22: Կրթական հաստատություններին ուսումնամեթոդական նյութերով ապահովում | J22: 0 | K22: 0 | L22: 0
F23: Ավարտական փաստաթղթերի, գովասանագրերի, դասամատյանների, մեդալների, ուսումնական ծրագրերի, մանկավարժական պարբերականների և ուսումնադիտողական պարագաների, հավաստագրերի և այլ ծառայությունների ձեռքբերում
G24: Ծառայությունների մատուցում
H25: Ծառայությունը մատուցողի անվանումը` Գնումների մասին ՀՀ օրենքի համաձայն ընտրված կազմակերպություն
I26: Մեդալի հավաստագրեր/հատ/ | J26: -100 | L26: -200
I27: ԿԳՄՍՆ հուշամեդալ, հատ | J27: -80 | L27: -100
I28: Ամսագրեր, անվանում | L28: -4
I29: Ուսումնամեթոդական ձեռնարկներ, անվանում | J29: 3 | L29: 5
D30: 1146 - 12004 | E30: Ատեստավորման միջոցով տարակարգի որակավորում ստացած ուսուցիչներին համապատասխան հավելավճարի տրամադրման ապահովում | J30: ='Հավելված N 4'!J30 -> -11881.48 | K30: ='Հավելված N 4'!K30 -> -657 | L30: ='Հավելված N 4'!L30 -> -657
F31: Տարակարգ ստացած ուսուցիչներին համաապատասխան հավելավճարի տրամադրման ապահովում
G32: Տրանսֆերտների տրամադրում
H33: Շահառուների ընտրության չափորոշիչները` Ատեստավորման արդյունքում որակավորում ստացած ուսուցիչներ
I34: Որակավորման տարակարգ ստացած ուսուցիչների թիվը /մարդ/, որից՛ | J34: ='Հավելված N 4'!J34 -> -1 | L34: ='Հավելված N 4'!L34 -> -1
I35: տղամարդ | J35: ='Հավելված N 4'!J35 -> -1 | L35: ='Հավելված N 4'!L35 -> -1
B36: 1192 | C36: Կրթության որակի ապահովում | J36: =J37 -> 657 | K36: =K37 -> 657 | L36: =L37 -> 19161
D37: 1192 - 11022 | E37: Հանրակրթական հիմնական ծրագրեր իրականացնող ուսումնական հաստատությունների ատեստավորման ենթակա ուսուցչի և մանկավարժի վերապատրաստում | J37: ='Հավելված N 2'!G60 -> 657 | K37: ='Հավելված N 2'!H60 -> 657 | L37: ='Հավելված N 2'!I60 -> 19161
F38: Հանրակրթական ուսումնական հաստատությունների հերթական, ինչպես նաև կամավոր ատեստավորման արդյունքում 0-59 տոկոս արդյունք ցուցաբերած ուսուցիչների վերապատրաստում
G39: Ծառայությունների մատուցում
H40: Ծառայությունը մատուցողի անվանումը` Մասնագիտացված կազմակերպություն
A41: ՀՀ Լոռու մարզպետի աշխատակազմ
B42: 1146 | C42: Հանրակրթության ծրագիր
D43: 1146 - 11003 | E43: Միջնակարգ ընդհանուր հանրակրթություն | J43: 0 | K43: 0 | L43: 0
F44: Պարտադիր կրթության երրորդ մակարդակում սովորողների ընդգրկվածության, գրագիտության և համակողմանի զարգացման բարձր մակարդակի ապահովում
G45: Ծառայությունների մատուցում
H46: Ծառայությունը մատուցողի անվանումը` Մարզպետարանի ենթակայության հանրակրթական ուսումնական հաստատություններ
I47: տղա | J47: -13320 | L47: -13320
I48: աղջիկ | J48: -12800 | L48: -12800

Sheet Հավելված N 6
H1: Հավելված N 6
G2: ՀՀ կառավարության 2025 թվականի
G3: ------------ ի ------------ Ն որոշման
A5: ՀԱՅԱՍՏԱՆԻ ՀԱՆՐԱՊԵՏՈՒԹՅԱՆ ԿԱՌԱՎԱՐՈՒԹՅԱՆ 2024 ԹՎԱԿԱՆԻ ԴԵԿՏԵՄԲԵՐԻ 27-Ի N 2060-Ն ՈՐՈՇՄԱՆ N 10 ՀԱՎԵԼՎԱԾՈՒՄ ԿԱՏԱՐՎՈՂ ՓՈՓՈԽՈՒԹՅՈՒՆՆԵՐԸ ԵՎ ԼՐԱՑՈՒՄՆԵՐԸ
I6: հազար դրամներով
A7: Գնման առարկայի | I7: Գումարը (ավելացումները նշված են դրական նշանով, իսկ նվազեցումները՝ փակագծերում)
A8: Կոդը | B8: Անվանումը | E8: Գնման ձևը | F8: Չափման միավորը | G8: Միավորի գինը | H8: Քանակը
A9: ՀՀ կրթության, գիտության, մշակույթի և սպորտի նախարարություն | I9: =I11+I15 -> 0.02
A10: Բաժին N 09 | B10: Խումբ N 06 | C10: Դաս N 01 | D10: Կրթությանը տրամադրվող օժանդակ ծառայություններ
A11: 1146-11016 | B11: Կրթական հաստատությունների աշակերտներին դասագրքերով և ուսումնական գրականությամբ ապահովում | I11: =I12 -> 0.02
B12: ՄԱՍ III. ԾԱՌԱՅՈՒԹՅՈՒՆՆԵՐ | I12: =I13+I14 -> 0.02
A13: 79821200 | B13: այլ պոլիգրաֆիական արտադրանքի տպագրման ծառայություն | E13: ԷԱՃ | F13: դրամ | G13: 11224.5 | H13: 1 | I13: =G13*H13 -> 11224.5
A14: 79821200-39 | B14: այլ պոլիգրաֆիական արտադրանքի տպագրման ծառայություն | E14: ԷԱՃ | F14: դրամ | I14: =-11224.48 -> -11224.48
A15: 1146 11017 | B15: Կրթական հաստատություններին ուսումնամեթոդական նյութերով ապահովում | I15: =I16+I22 -> 0
B16: ՄԱՍ I. Ա Պ Ր Ա Ն Ք Ն Ե Ր | I16: =I17+I18+I19+I20+I21 -> -5757.3608
A17: 22211500-1 | B17: ամսագրեր | E17: ԷԱՃ | F17: հատ | G17: 811.81 | H17: -1280 | I17: =G17*H17/1000 -> -1039.1168
A18: 22211500-2 | B18: ամսագրեր | E18: ԷԱՃ | F18: հատ | G18: 811.81 | H18: -1280 | I18: =G18*H18/1000 -> -1039.1168
A19: 22211500-3 | B19: ամսագրեր | E19: ԷԱՃ | F19: հատ | G19: 811.81 | H19: -2260 | I19: =G19*H19/1000 -> -1834.6906
A20: 22211500-4 | B20: ամսագրեր | E20: ԷԱՃ | F20: հատ | G20: 811.81 | H20: -2260 | I20: =G20*H20/1000 -> -1834.6906
A21: 22211500-5 | B21: ամսագրեր | E21: ԷԱՃ | F21: հատ | G21: 886 | H21: -11 | I21: =G21*H21/1000 -> -9.746
B22: ՄԱՍ III. ԾԱՌԱՅՈՒԹՅՈՒՆՆԵՐ | I22: =SUM(I23:I32) -> 5757.3608
A23: 79821200-501 | B23: այլ պոլիգրաֆիական արտադրանքի տպագրման ծառայություն | E23: ԷԱՃ | F23: դրամ | G23: 1560000 | H23: 1 | I23: =G23*H23/1000 -> 1560
A24: 79821200-502 | B24: այլ պոլիգրաֆիական արտադրանքի տպագրման ծառայություն | E24: ԷԱՃ | F24: դրամ | G24: 1489200 | H24: 1 | I24: =G24*H24/1000 -> 1489.2
A25: 79821200-503 | B25: այլ պոլիգրաֆիական արտադրանքի տպագրման ծառայություն | E25: ԷԱՃ | F25: դրամ | G25: 1195200 | H25: 1 | I25: =G25*H25/1000 -> 1195.2
A26: 79821200-1 | B26: այլ պոլիգրաֆիական արտադրանքի տպագրման ծառայություն | E26: ԷԱՃ | F26: դրամ | G26: 1512960.8 | H26: 1 | I26: =G26*H26/1000 -> 1512.9608
