Workbook
Name \A: #REF!
Name _tab10: #REF!
Name _tab10: #REF!
Name _tab11: #REF!
Name _tab12: #REF!
Name _tab13: #REF!
Name _tab14: #REF!
Name _tab15: #REF!
Name _tab16: #REF!
Name _tab17: #REF!
Name _tab18: #REF!
Name _tab19: #REF!
Name _tab20: #REF!
Name _tab21: #REF!
Name _tab22: #REF!
Name _tab23: #REF!
Name _tab24: #REF!
Name _tab5: #REF!
Name _tab6: #REF!
Name _tab7: #REF!
Name _tab8: #REF!
Name _tab9: #REF!
Name AgencyCode: #REF!
Name AgencyCode: #REF!
Name AgencyName: #REF!
Name ampop_krchat: #REF!
Name Armata: #REF!
Name asd: #REF!
Name åû: #REF!
Name BOP: #REF!
Name BOPfoot: #REF!
Name davit: #REF!
Name DebtCG: '[1]Fis-Debt'!#REF!
Name DebtGG: #REF!
Name fff: #REF!
Name Functional1: #REF!
Name ggg: #REF!
Name h: #REF!
Name Hav: #REF!,#REF!
Name mas: #REF!
Name mass: #REF!
Name MonExo: #REF!
Name MonGrow: [2]BM!#REF!
Name PANature: #REF!
Name PANature: #REF!
Name par_count: #REF!,#REF!,#REF!,#REF!,#REF!,#REF!,#REF!,#REF!,#REF!,#REF!,#REF!,#REF!,#REF!,#REF!,#REF!
Name par_count: #REF!,#REF!,#REF!,#REF!,#REF!,#REF!,#REF!,#REF!,#REF!,#REF!,#REF!,#REF!,#REF!,#REF!,#REF!
Name par_qual: #REF!,#REF!,#REF!,#REF!,#REF!
Name par_qual: #REF!,#REF!,#REF!,#REF!,#REF!
Name par_time: #REF!,#REF!,#REF!,#REF!
Name par_time: #REF!,#REF!,#REF!,#REF!
Name par2.12s: #REF!
Name par2.12s: #REF!
Name par2.4s: #REF!,#REF!,#REF!,#REF!,#REF!,#REF!,#REF!,#REF!,#REF!,#REF!,#REF!,#REF!,#REF!,#REF!,#REF!,#REF!
Name par2.4s: #REF!,#REF!,#REF!,#REF!,#REF!,#REF!,#REF!,#REF!,#REF!,#REF!,#REF!,#REF!,#REF!,#REF!,#REF!,#REF!
Name par2.5s: #REF!,#REF!
Name par2.5s: #REF!,#REF!
Name par2.6s: #REF!,#REF!,#REF!,#REF!
Name par2.6s: #REF!,#REF!,#REF!,#REF!
Name par2.7s: #REF!,#REF!

Sheet Havelvats 1
A1: Հավելված 1 ՀՀ կառավարության 2025 թվականի____________ի N _____-Ն որոշման
A3: «ՀԱՅԱՍՏԱՆԻ ՀԱՆՐԱՊԵՏՈՒԹՅԱՆ 2025 ԹՎԱԿԱՆԻ ՊԵՏԱԿԱՆ ԲՅՈՒՋԵԻ ՄԱՍԻՆ» ՕՐԵՆՔԻ N 1 ՀԱՎԵԼՎԱԾԻ NN 1 ԵՎ 2 ԱՂՅՈՒՍԱԿՆԵՐՈՒՄ ԿԱՏԱՐՎՈՂ ՎԵՐԱԲԱՇԽՈՒՄԸ ԵՎ ՀԱՅԱՍՏԱՆԻ ՀԱՆՐԱՊԵՏՈՒԹՅԱՆ ԿԱՌԱՎԱՐՈՒԹՅԱՆ 2024 ԹՎԱԿԱՆԻ ԴԵԿՏԵՄԲԵՐԻ 27-Ի N 2060-Ն ՈՐՈՇՄԱՆ N 5 ՀԱՎԵԼՎԱԾԻ N 1 ԱՂՅՈՒՍԱԿՈՒՄ ԿԱՏԱՐՎՈՂ ՓՈՓՈԽՈՒԹՅՈՒՆՆԵՐԸ ԵՎ ԼՐԱՑՈՒՄԸ
G4: հազար դրամներով
A5: ԲԳԿ | B5: Ծրագրային դասիչը | D5: ԲԳԿ/Ծրագրի /միջոցառման անվանումը | E5: Ծրագրի նպատակը/Միջոցառման նկարագրույունը | F5: Վերջնական արդյունքի նկարագրությունը/Միջոցառման տեսակը | G5: Ցուցանիշների փոփոխությունը (ավելացումները նշված են դրական նշանով, իսկ նվազեցումները՝ փակագծերում)
B6: Ծրագիր | C6: Միջոցառում | G6: Առաջին կիսամյակ | H6: Ինն ամիս | I6: Տարի
A7: ԸՆԴԱՄԵՆԸ | G7: =+G12+G8 -> 0 | H7: =+H12+H8 -> 0 | I7: =+I12+I8 -> 0
A8: ՀՀ բարձր տեխնոլոգիական արդյունաբերության նախարարություն | G8: =+G9 -> 0 | H8: =+H9 -> 0 | I8: =+I9 -> 0
B9: 1043 | D9: Բարձր տեխնոլոգիական արդյունաբերության էկոհամակարգի և շուկայի զարգացման ծրագիր | E9: Բարձր տեխնոլոգիաների ենթակառուցվածքների բարելավում | F9: Բարձր տեխնոլոգիաների ոլորտի աճ | G9: =+G10 -> 0 | H9: =+H10+H11 -> 0 | I9: =+I10+I11 -> 0
C10: 1043 - 11018 | D10: Պետական աջակցություն տեղեկատվական տեխնոլոգիաների ոլորտում գործունեություն իրականացնող առևտրային կազմակերպություններին և անհատ ձեռնարկատերերին | E10: Տեղեկատվական տեխնոլոգիաների ոլորտում գործունեություն իրականացնող առևտրային կազմակերպություններին և անհատ ձեռնարկատերերին պետական աջակցության տրամադրում | F10: Ծառայությունների մատուցում | G10: 0 | H10: ='Havelvats 2'!H19 -> -32830 | I10: ='Havelvats 2'!I19 -> -65660
C11: 1043 - 11024 | D11: Հայաստանի բարձր տեխնոլոգիաների ոլորտի զարգացման ռազմավարական ծրագրի մշակում | E11: Հաշվի առնելով ընտրված տեխնոլոգիական ուղղությունները, բարձր տեխնոլոգիաների ոլորտի զարգացման երկարաժամկետ տեսլականի և ռազմավարական նպատակների սահմանում | F11: Ծառայությունների մատուցում | G11: 0 | H11: ='Havelvats 2'!H28 -> 32830 | I11: ='Havelvats 2'!I28 -> 65660
A12: ՀՀ կառավարություն | G12: =+G13 -> 0 | H12: =+H13 -> 0 | I12: =+I13 -> 0
B13: 1139 | D13: ՀՀ կառավարության պահուստային ֆոնդ | E13: Պետական բյուջեում չկանխատեսված, ինչպես նաեւ բյուջետային երաշխիքների ապահովման ծախսերի ֆինանսավորման ապահովում | F13: Պահուստային ֆոնդի կառավարման արդյունավետության և թափանցիկության ապահովում | G13: =+G14+G15 -> 0 | H13: =+H14+H15 -> 0 | I13: =+I14+I15 -> 0
C14: 1139 - 11001 | D14: ՀՀ կառավարության պահուստային ֆոնդ | E14: ՀՀ պետական բյուջեում նախատեսված ելքերի լրացուցիչ ֆինանսավորման, պետական բյուջեում չկանխատեսված ելքերի, ինչպես նաև բյուջետային երաշխիքների ապահովման ելքերի ֆինանսավորման ապահովում | F14: Ծառայությունների մատուցում | G14: 0 | H14: ='Havelvats 2'!H49 -> 32830 | I14: ='Havelvats 2'!I49 -> 65660
C15: 1139 - 11001 | D15: ՀՀ կառավարության պահուստային ֆոնդ | E15: ՀՀ պետական բյուջեում նախատեսված ելքերի լրացուցիչ ֆինանսավորման, պետական բյուջեում չկանխատեսված ելքերի, ինչպես նաև բյուջետային երաշխիքների ապահովման ելքերի ֆինանսավորման ապահովում | F15: Ծառայությունների մատուցում | G15: 0 | H15: ='Havelvats 2'!H57 -> -32830 | I15: ='Havelvats 2'!I57 -> -65660

Sheet Havelvats 2
F1: Հավելված 2 ՀՀ կառավարության 2025 թվականի____________ի N _____-Ն որոշման
A3: ՀԱՅԱՍՏԱՆԻ ՀԱՆՐԱՊԵՏՈՒԹՅԱՆ ԿԱՌԱՎԱՐՈՒԹՅԱՆ 2024 ԹՎԱԿԱՆԻ ԴԵԿՏԵՄԲԵՐԻ 27-Ի N 2060-Ն ՈՐՈՇՄԱՆ NN 3 ԵՎ 4 ՀԱՎԵԼՎԱԾՆԵՐՈՒՄ ԿԱՏԱՐՎՈՂ ՓՈՓՈԽՈՒԹՅՈՒՆՆԵՐԸ ԵՎ ԼՐԱՑՈՒՄՆԵՐԸ
I4: հազար դրամներով
A5: Գործառնական դասիչ | D5: Ծրագրային դասիչը | F5: Բյուջետային ծախսերի գործառական դասակարգման բաժինների, խմբերի և դասերի, բյուջետային ծրագրերի միջոցառումների, բյուջետային հատկացումների գլխավոր կարգադրիչների անվանումները | G5: Ցուցանիշների փոփոխությունը (ավելացումները նշված են դրական նշանով, իսկ նվազեցումները՝ փակագծերում)
A6: Բաժին | B6: Խումբ | C6: Դաս | D6: Ծրագիր | E6: Միջոցառում | G6: Առաջին կիսամյակ | H6: Ինն ամիս | I6: Տարի
F7: ԸՆԴԱՄԵՆԸ ԾԱԽՍԵՐ | G7: =+G9-G37 -> 0 | H7: =+H9+H37 -> 0 | I7: =+I9+I37 -> 0
F8: ՀՀ ԲԱՐՁՐ ՏԵԽՆՈԼՈԳԻԱԿԱՆ ԱՐԴՅՈՒՆԱԲԵՐՈՒԹՅԱՆ ՆԱԽԱՐԱՐՈՒԹՅՈՒՆ | G8: =-H19-H28 -> 0 | H8: =-I19-I28 -> 0 | I8: =-J19-J28 -> 0
F9: ԸՆԴՀԱՆՈՒՐ ԲՆՈՒՅԹԻ ՀԱՆՐԱՅԻՆ ԾԱՌԱՅՈՒԹՅՈՒՆՆԵՐ | G9: =+G11 -> 0 | H9: =+H11 -> 0 | I9: =+I11 -> 0
F10: այդ թվում`
A11: 01 | F11: ԸՆԴՀԱՆՈՒՐ ԲՆՈՒՅԹԻ ԴԱՍԱԿԱՐԳՈՒՄՆԵՐ | G11: =+G13 -> 0 | H11: =+H13 -> 0 | I11: =+I13 -> 0
F12: այդ թվում`
B13: 03 | F13: Ընդհանուր բնույթի ծառայություններ | G13: =+G15 -> 0 | H13: =+H15 -> 0 | I13: =+I15 -> 0
F14: այդ թվում`
C15: 02 | F15: Ծրագրման և վիճակագրական ընդհանուր ծառայություններ | G15: =+G17 -> 0 | H15: =+H17 -> 0 | I15: =+I17 -> 0
F16: այդ թվում`
D17: 1043 | F17: Բարձր տեխնոլոգիական արդյունաբերության էկոհամակարգի և շուկայի զարգացման ծրագիր | G17: =+G19+G28 -> 0 | H17: =+H19+H28 -> 0 | I17: =+I19+I28 -> 0
F18: այդ թվում`
E19: 11018 | F19: Պետական աջակցություն տեղեկատվական տեխնոլոգիաների ոլորտում գործունեություն իրականացնող առևտրային կազմակերպություններին և անհատ ձեռնարկատերերին | G19: =+G21 -> 0 | H19: =+H21 -> -32830 | I19: =+I21 -> -65660
F20: այդ թվում` ըստ կատարողների
F21: ՀՀ բարձր տեխնոլոգիական արդյունաբերության նախարարություն | G21: =G25 -> 0 | H21: =H25 -> -32830 | I21: =I25 -> -65660
F22: այդ թվում` բյուջետային ծախսերի տնտեսագիտական դասակարգման հոդվածներ
F23: ԸՆԴԱՄԵՆԸ ԾԱԽՍԵՐ | G23: =+G25 -> 0 | H23: =+H25 -> -32830 | I23: =+I25 -> -65660
F24: ԸՆԹԱՑԻԿ ԾԱԽՍԵՐ
F25: ԴՐԱՄԱՇՆՈՐՀՆԵՐ | G25: =+G26 -> 0 | H25: =+H26 -> -32830 | I25: =+I26 -> -65660
F26: Ընթացիկ դրամաշնորհներ պետական հատվածի այլ մակարդակներին | G26: =+G27 -> 0 | H26: =+H27 -> -32830 | I26: -65660
F27: - Այլ ընթացիկ դրամաշնորհներ | G27: 0 | H27: -32830 | I27: -65660
E28: 11024 | F28: Հայաստանի բարձր տեխնոլոգիաների ոլորտի զարգացման ռազմավարական ծրագրի մշակում | G28: =G32 -> 0 | H28: =+H30 -> 32830 | I28: =I32 -> 65660
F29: այդ թվում` ըստ կատարողների
F30: ՀՀ բարձր տեխնոլոգիական արդյունաբերության նախարարություն | G30: =+G32 -> 0 | H30: =+H32 -> 32830 | I30: =+I32 -> 65660
F31: այդ թվում` բյուջետային ծախսերի տնտեսագիտական դասակարգման հոդվածներ
F32: ԸՆԴԱՄԵՆԸ ԾԱԽՍԵՐ | G32: =+G33 -> 0 | H32: =+H33 -> 32830 | I32: =+I33 -> 65660
F33: ԸՆԹԱՑԻԿ ԾԱԽՍԵՐ | G33: =+G34 -> 0 | H33: =+H34 -> 32830 | I33: =+I34 -> 65660
F34: ԾԱՌԱՅՈՒԹՅՈՒՆՆԵՐԻ ԵՎ ԱՊՐԱՆՔՆԵՐԻ ՁԵՌՔԲԵՐՈՒՄ | G34: =G35 -> 0 | H34: =H35 -> 32830 | I34: =I35 -> 65660
F35: Պայմանագրային այլ ծառայությունների ձեռքբերում | G35: =G36 -> 0 | H35: =H36 -> 32830 | I35: =I36 -> 65660
F36: - Ընդհանուր բնույթի այլ ծառայություններ | G36: =+'Havelvats 1'!G10 -> 0 | H36: 32830 | I36: 65660
F37: ՀՀ կառավարություն | G37: =+G39 -> 0 | H37: =+H39 -> 0 | I37: =+I39 -> 0
F38: այդ թվում`
A39: 11 | F39: ՀԻՄՆԱԿԱՆ ԲԱԺԻՆՆԵՐԻՆ ՉԴԱՍՎՈՂ ՊԱՀՈՒՍՏԱՅԻՆ ՖՈՆԴԵՐ | G39: =G41 -> 0 | H39: =H41 -> 0 | I39: =I41 -> 0
F40: այդ թվում`
B41: 01 | F41: ՀՀ կառավարության և համայնքների պահուստային ֆոնդ | G41: =G43 -> 0 | H41: =H43 -> 0 | I41: =I43 -> 0
...

Sheet Havelvats 3
D1: Հավելված N 3
C2: ՀՀ կառավարության 2025 թվականի
C3: ___________ ___-ի N _______ -Ն որոշման
A6: ՀԱՅԱՍՏԱՆԻ ՀԱՆՐԱՊԵՏՈՒԹՅԱՆ ԿԱՌԱՎԱՐՈՒԹՅԱՆ 2024 ԹՎԱԿԱՆԻ ԴԵԿՏԵՄԲԵՐԻ 27-Ի N 2060-Ն ՈՐՈՇՄԱՆ N 5 ՀԱՎԵԼՎԱԾԻ 7 ԱՂՅՈՒՍԱԿՈՒՄ ԿԱՏԱՐՎՈՂ ՓՈՓՈԽՈՒԹՅՈՒՆՆԵՐԸ
G7: հազար դրամներով
A8: Ծրագրային դասիչ | C8: Բյուջետային հատկացումների գլխավոր կարգադրիչների, ծրագրերի, միջոցառումների, ծախսային ուղղությունների անվանումները | F8: Միջոցառումները կատարող պետական մարմինների և դրամաշնորհ ստացող տնտեսվարող սուբյեկտների անվանումները | G8: Ցուցանիշների փոփոխությունները (նվազեցումները նշված են փակագծերում)
A9: Ծրագիր | B9: Միջոցառում | G9: Տարի
A10: 1 | B10: 2 | C10: 3 | F10: 4 | G10: 5
A11: Ընդամենը | G11: =+G12 -> -65660
A12: ՀՀ բարձր տեխնոլոգիական արդյունաբերության նախարարություն | G12: =+G13 -> -65660
A13: 1043 | B13: Բարձր տեխնոլոգիական արդյունաբերության էկոհամակարգի և շուկայի զարգացման ծրագիր | G13: =+G14 -> -65660
B14: 11018 | C14: Պետական աջակցություն տեղեկատվական տեխնոլոգիաների ոլորտում գործունեություն իրականացնող առևտրային կազմակերպություններին և անհատ ձեռնարկատերերին | F14: ՀՀ բարձր տեխնոլոգիական արդյունաբերության նախարարություն | G14: =+G15 -> -65660
F15: Շահառու կազմակերպություններ | G15: ='Havelvats 2'!I19 -> -65660

Sheet Havelvats 4
A1: Հավելված 4 ՀՀ կառավարության 2025 թվականի____________ի N _____-Ն որոշման
A3: ՀԱՅԱՍՏԱՆԻ ՀԱՆՐԱՊԵՏՈՒԹՅԱՆ ԿԱՌԱՎԱՐՈՒԹՅԱՆ 2024 ԹՎԱԿԱՆԻ ԴԵԿՏԵՄԲԵՐԻ 27-Ի N 2060-Ն ՈՐՈՇՄԱՆ NN 9 ԵՎ 9.1 ՀԱՎԵԼՎԱԾՆԵՐՈՒՄ ԿԱՏԱՐՎՈՂ ՓՈՓՈԽՈՒԹՅՈՒՆՆԵՐԸ ԵՎ ԼՐԱՑՈՒՄՆԵՐԸ
L4: հազար դրամներով
A5: ԲԳԿ /ԲՍԿ | B5: Ծրագիր | D5: Միջոցառում | H5: Իրականացնողը/ ակտիվն օգտագործողը/ շահառուի ընտրության չափորոշիչը | I5: Արդյունքային չափորոշիչը | J5: Ցուցանիշների փոփոխությունը (ավելացումները նշված են դրական նշանով, իսկ նվազեցումները՝ փակագծերում)
B6: Դասիչը | C6: Անվա-նումը | D6: Դասիչը | E6: Անվա-նումը | F6: Նկարագրու-թյունը | G6: Տեսակը | J6: Առաջին կիսամյակ | K6: Ինն ամիս | L6: Տարի
A7: ԸՆԴԱՄԵՆԸ | J7: =-K10-K24 -> 0 | K7: =-L10-L24 -> 0 | L7: =-M10-M24 -> 0
A8: ՀՀ բարձր տեխնոլոգիական արդյունաբերության նախարարություն | J8: =-K11-K25 -> 0 | K8: =-L11-L25 -> 0 | L8: =-M11-M25 -> 0
B9: 1043 | C9: Բարձր տեխնոլոգիական արդյունաբերության էկոհամակարգի և շուկայի զարգացման ծրագիր | J9: =+J10+J24 -> 0 | K9: =+K10+K24 -> 0 | L9: =+L10+L24 -> 0
D10: 1043 - 11018 | E10: Պետական աջակցություն տեղեկատվական տեխնոլոգիաների ոլորտում գործունեություն իրականացնող առևտրային կազմակերպություններին և անհատ ձեռնարկատերերին | J10: 0 | K10: ='Havelvats 2'!H19 -> -32830 | L10: ='Havelvats 2'!I19 -> -65660
F11: Տեղեկատվական տեխնոլոգիաների ոլորտում գործունեություն իրականացնող առևտրային կազմակերպություններին և անհատ ձեռնարկատերերին պետական աջակցության տրամադրում
G12: Ծառայությունների մատուցում
H13: Ծառայությունը մատուցողի անվանումը` ՀՀ բարձր տեխնոլոգիական արդյունաբերության նախարարություն
I14: Ներգրավված վարձու աշխատող հանդիսացող աշխատանքային միգրանտների մասով պետական աջակցություն ստացող ՏՏ ոլորտում գործունեություն իրականացնող առևտրային կազմակերպությունների և անհատ ձեռնարկատերերի թիվը, հատ | L14: -376
I15: Ներգրավված նոր վարձու աշխատողների մասով պետական աջակցություն ստացող ՏՏ ոլորտում գործունեություն իրականացնող առևտրային կազմակերպությունների և անհատ ձեռնարկատերերի թիվը, հատ | L15: -2000
I16: Կադրերի պատրաստման և վերապատրաստման մասով պետական աջակցություն ստացող ՏՏ ոլորտում գործունեություն իրականացնող առևտրային կազմակերպությունների և անհատ ձեռնարկատերերի թիվը, հատ | L16: -2000
I17: Կադրերի պատրաստման և վերապատրաստման մասով պետական աջակցություն ստացող ՏՏ ոլորտում գործունեություն իրականացնող առևտրային կազմակերպությունների և անհատ ձեռնարկատերերի վերապատրաստվող կադրերի թիվը, մարդ | L17: -10000
I18: Բարձր տեխնոլոգիաների ոլորտի տնտեսավարող սուբյեկտների կողմից աշխատանքային միգրանտների համար ներկայացրած պետական աջակցության հայտերի քանակը, հատ | L18: 765
I19: Բարձր տեխնոլոգիաների ոլորտի տնտեսավարող սուբյեկտների կողմից աշխատանքային միգրանտների համար ներկայացրած պետական աջակցության հայտերի բավարարման ցուցանիշը, տոկոս | L19: 50
I20: Բարձր տեխնոլոգիաների ոլորտի տնտեսավարող սուբյեկտների կողմից նոր աշխատողներ ներգրավելու համար ներկայացրած պետական աջակցության հայտերի քանակը, հատ | L20: 385
I21: Բարձր տեխնոլոգիաների ոլորտի տնտեսավարող սուբյեկտների կողմից նոր աշխատողներ ներգրավելու համար ներկայացրած պետական աջակցության հայտերի բավարարման ցուցանիշը, տոկոս | L21: 50
I22: Բարձր տեխնոլոգիաների ոլորտի տնտեսավարող սուբյեկտների կողմից մասնագիտական աշխատանք կատարող կադրերի պատրաստման և վերապատրաստման համար ներկայացրած պետական աջակցության հայտերի քանակը, հատ | L22: 50
I23: Բարձր տեխնոլոգիաների ոլորտի տնտեսավարող սուբյեկտների կողմից մասնագիտական աշխատանք կատարող կադրերի պատրաստման և վերապատրաստման համար ներկայացրած պետական աջակցության հայտերի բավարարման ցուցանիշը, տոկոս | L23: 50
D24: 1043-11024 | E24: Հայաստանի բարձր տեխնոլոգիաների ոլորտի զարգացման ռազմավարական ծրագրի մշակում | J24: 0 | K24: ='Havelvats 2'!H28 -> 32830 | L24: ='Havelvats 2'!I28 -> 65660
F25: Հաշվի առնելով ընտրված տեխնոլոգիական ուղղությունները, բարձր տեխնոլոգիաների ոլորտի զարգացման երկարաժամկետ տեսլականի և ռազմավարական նպատակների սահմանում
G26: Ծառայությունների մատուցում
H27: Ծառայությունը մատուցողի անվանումը` ՀՀ բարձր տեխնոլոգիական արդյունաբերության նախարարություն
H28: Բարձր տեխնոլոգիաների ոլորտի զարգացման երկարաժամկետ տեսլական, քանակը, հատ | L28: 1
A29: ՀՀ կառավարություն | J29: =+J31+J35 -> 0 | K29: =+K31+K35 -> 0 | L29: =+L31+L35 -> 0 | N29: =+L29*1000*M29 -> 0
B30: 1139 | C30: ՀՀ կառավարության պահուստային ֆոնդ | J30: =J31+J35 -> 0 | K30: =K31+K35 -> 0 | L30: =L31+L35 -> 0 | N30: =+L30*1000*M30 -> 0
D31: 1139 - 11001 | E31: ՀՀ կառավարության պահուստային ֆոնդ | J31: =+'Havelvats 2'!G49 -> 0 | K31: ='Havelvats 2'!H49 -> 32830 | L31: ='Havelvats 2'!I49 -> 65660 | N31: =+L31*1000*M31 -> 0
F32: ՀՀ պետական բյուջեում նախատեսված ելքերի լրացուցիչ ֆինանսավորման, պետական բյուջեում չկանխատեսված ելքերի, ինչպես նաև բյուջետային երաշխիքների ապահովման ելքերի ֆինանսավորման ապահովում | N32: =+L32*1000*M32 -> 0
G33: Ծառայությունների մատուցում | N33: =+L33*1000*M33 -> 0
H34: Ծառայությունը մատուցողի անվանումը` ՀՀ կառավարություն | N34: =+L34*1000*M34 -> 0
D35: 1139 - 11001 | E35: ՀՀ կառավարության պահուստային ֆոնդ | J35: =+'Havelvats 2'!G57 -> 0 | K35: ='Havelvats 2'!H57 -> -32830 | L35: ='Havelvats 2'!I57 -> -65660 | N35: =+L35*1000*M35 -> 0
F36: ՀՀ պետական բյուջեում նախատեսված ելքերի լրացուցիչ ֆինանսավորման, պետական բյուջեում չկանխատեսված ելքերի, ինչպես նաև բյուջետային երաշխիքների ապահովման ելքերի ֆինանսավորման ապահովում | N36: =+L36*1000*M36 -> 0
G37: Ծառայությունների մատուցում | N37: =+L37*1000*M37 -> 0
H38: Ծառայությունը մատուցողի անվանումը` ՀՀ կառավարություն | N38: =+L38*1000*M38 -> 0
