Workbook
Name a: #REF!
Name a: #REF!
Name AgencyCode: #REF!
Name AgencyCode: #REF!
Name AgencyName: #REF!
Name AgencyName: #REF!
Name davit: #REF!
Name davit: #REF!
Name Functional1: #REF!
Name Functional1: #REF!
Name ggg: #REF!
Name ggg: #REF!
Name HAVELVAC10: #REF!
Name HAVELVAC10: #REF!
Name PANature: #REF!
Name PANature: #REF!
Name PAType: #REF!
Name PAType: #REF!
Name Performance2: #REF!
Name Performance2: #REF!
Name PerformanceType: #REF!
Name PerformanceType: #REF!
Name Հավելված: #REF!
Name Հավելված: #REF!
Name Մաս: #REF!
Name Մաս: #REF!
Name շախմատիստ: #REF!
Name շախմատիստ: #REF!
Name շախմատիստ: #REF!

Sheet havelvac 1
H1: Հավելված N 1
F2: ՀՀ կառավարության 2025 թվականի
G3: __________-ի _____-Ն որոշման
A4: «ՀԱՅԱՍՏԱՆԻ ՀԱՆՐԱՊԵՏՈՒԹՅԱՆ 2025 ԹՎԱԿԱՆԻ ՊԵՏԱԿԱՆ ԲՅՈՒՋԵԻ ՄԱՍԻՆ» ՕՐԵՆՔԻ N 1 ՀԱՎԵԼՎԱԾԻ N 2 ԱՂՅՈՒՍԱԿՈՒՄ ԿԱՏԱՐՎՈՂ ՎԵՐԱԲԱՇԽՈՒՄԸ, ԼՐԱՑՈՒՄԸ ԵՎ ՀԱՅԱՍՏԱՆԻ ՀԱՆՐԱՊԵՏՈՒԹՅԱՆ ԿԱՌԱՎԱՐՈՒԹՅԱՆ 2024 ԹՎԱԿԱՆԻ ԴԵԿՏԵՄԲԵՐԻ 27-Ի N 2060-Ն ՈՐՈՇՄԱՆ N 5 ՀԱՎԵԼՎԱԾԻ N 1 ԱՂՅՈՒՍԱԿՈՒՄ ԿԱՏԱՐՎՈՂ ՓՈՓՈԽՈՒԹՅՈՒՆՆԵՐԸ ԵՎ ԼՐԱՑՈՒՄՆԵՐԸ
H5: հազար դրամներով
A6: ԲԳԿ | B6: Ծրագրային դասիչը | D6: ԲԳԿ/Ծրագրի /միջոցառման անվանումը | E6: Ծրագրի նպատակը/Միջոցառման նկարագրությունը | F6: Վերջնական արդյունքի նկարագրությունը/Միջոցառման տեսակը | G6: Ցուցանիշների փոփոխություն (ավելացումները նշված են դրական նշանով, իսկ նվազեցումները՝ փակագծերում)
B7: Ծրագիր | C7: Միջոցառում | G7: Առաջին կիսամյակ | H7: Ինն ամիս | I7: Տարի
A8: ԸՆԴԱՄԵՆԸ | G8: =G9+G12+G16 -> 0 | H8: =H9+H12+H16 -> 0 | I8: =I9+I12+I16 -> 0
A9: ՀՀ բարձր տեխնոլոգիական արդյունաբերության նախարարություն | G9: =G10 -> -4720 | H9: =H10 -> -42153.8 | I9: =I10 -> -46875
B10: 1235 | D10: Թվային փոխակերպման գործընթացի իրականացում | E10: Պետական մարմինների կողմից իրականացվող թվային փոխակերպման միջոցառումների ֆինանսավորում | F10: Թվային ծառայությունների և համակարգերի ներդրում | G10: =G11 -> -4720 | H10: =H11 -> -42153.8 | I10: =I11 -> -46875
C11: 1235 - 31001 | D11: Միասնական թվային միջավայրի ձևավորում | E11: Թվային փոխակերպման գործընթացի շրջանակներում թվայնացման համակարգերի ներդրում և կայքերի արդիականացում | F11: Պետական մարմինների կողմից օգտագործվող ոչ ֆինանսական ակտիվների հետ գործառնություններ | G11: =-G17 -> -4720 | H11: =-H17 -> -42153.8 | I11: =-I17 -> -46875
A12: ՀՀ կառավարություն | G12: =G13 -> 0 | H12: =H13 -> 0 | I12: =I13 -> 0
B13: 1139 | D13: ՀՀ կառավարության պահուստային ֆոնդ | E13: Պետական բյուջեում չկանխատեսված, ինչպես նաեւ բյուջետային երաշխիքների ապահովման ծախսերի ֆինանսավորման ապահովում | F13: Պահուստային ֆոնդի կառավարման արդյունավետության և թափանցիկության ապահովում | G13: =G14+G15 -> 0 | H13: =H14+H15 -> 0 | I13: =I14+I15 -> 0
C14: 1139 - 11001 | D14: ՀՀ կառավարության պահուստային ֆոնդ | E14: ՀՀ պետական բյուջեում նախատեսված ելքերի լրացուցիչ ֆինանսավորման, պետական բյուջեում չկանխատեսված ելքերի, ինչպես նաև բյուջետային երաշխիքների ապահովման ելքերի ֆինանսավորման ապահովում | F14: Ծառայությունների մատուցում | G14: =G18 -> 4720 | H14: =H18 -> 42153.8 | I14: =I18 -> 46875
C15: 1139 - 11001 | D15: ՀՀ կառավարության պահուստային ֆոնդ | E15: ՀՀ պետական բյուջեում նախատեսված ելքերի լրացուցիչ ֆինանսավորման, պետական բյուջեում չկանխատեսված ելքերի, ինչպես նաև բյուջետային երաշխիքների ապահովման ելքերի ֆինանսավորման ապահովում | F15: Ծառայությունների մատուցում | G15: =-G14 -> -4720 | H15: =-H14 -> -42153.8 | I15: =-I14 -> -46875
A16: ՀՀ կրթության, գիտության, մշակույթի և սպորտի նախարարություն | G16: =G17 -> 4720 | H16: =H17 -> 42153.8 | I16: =I17 -> 46875
B17: 1227 | D17: Կրթության ոլորտում տեղեկատվական և հաղորդակցական տեխնոլոգիաների ներդրում | E17: Կրթության կազմակերպման և կառավարման գործընթացներում թվային գործիքների ներդրում, տեղեկատվական և հաղորդակցական տեխնոլոգիաների կիրառելության ընդլայնում | F17: Կրթության կազմակերպման և կառավարման համակարգերի թվայնացման ու ճկուն գործիքների ներդրմամբ՛ կրթական ծառայությունների մատուցման այլընտրանքային ձևերի ապահովում, ՏՀՏ հմտությունների զարգացում | G17: =G18 -> 4720 | H17: =H18 -> 42153.8 | I17: =I18 -> 46875
C18: 1227-11004 | D18: Հայերենի ստուգման և գնահատման համակարգի ստեղծում | E18: Հայերենի առանձնահատկություններից բխող, միջազգայնորեն ճանաչված, իմացությունը ստուգող և գնահատող համակարգի ստեղծման և գործարկման ապահովում | F18: Ծառայությունների մատուցում | G18: 4720 | H18: 42153.8 | I18: 46875

Sheet havelvac 2
F1: Հավելված N 2
F2: ՀՀ կառավարության 2025 թվականի
F3: ______________ ի ___Ն որոշման
A5: «ՀԱՅԱUՏԱՆԻ ՀԱՆՐԱՊԵՏՈՒԹՅԱՆ 2025 ԹՎԱԿԱՆԻ ՊԵՏԱԿԱՆ ԲՅՈՒՋԵԻ ՄԱUԻՆ» ՀԱՅԱUՏԱՆԻ ՀԱՆՐԱՊԵՏՈՒԹՅԱՆ OՐԵՆՔԻ N 1 ՀԱՎԵԼՎԱԾԻ N 3 ԱՂՅՈՒՍԱԿՈՒՄ ԿԱՏԱՐՎՈՂ ՓՈՓՈԽՈՒԹՅՈՒՆԸ
G7: հազար դրամներով
A8: Ծրագրային դասիչ | C8: Բյուջետային գլխավոր կարգադրիչների, ծրագրերի, միջոցառումների, միջոցառումները կատարող պետական մարմինների և ուղղությունների անվանումները | D8: Ընդամենը | E8: Ցուցանիշների փոփոխություն (նվազեցումները նշված են փակագծերում)
A9: Ծրագիր | B9: Միջոցառում | E9: Կառուցման աշխատանքներ | F9: Վերակառուցման, վերանորոգման և վերականգնման աշխատանքներ | G9: Նախագծահե- տազոտական, գեոդեզիա- քարտեզագրա- կան աշխա- տանքներ | H9: Ոչ ֆինանսական այլ ակտիվների ձեռքբերում
C10: ԸՆԴԱՄԵՆԸ | D10: =D11 -> -46875 | E10: =+E11 -> 0 | F10: =+F11 -> 0 | G10: =+G11 -> 0 | H10: =+H11 -> -46875
C11: ՀՀ բարձր տեխնոլոգիական արդյունաբերության նախարարություն | D11: =D13 -> -46875 | E11: =E13 -> 0 | F11: =+F12 -> 0 | G11: =G13 -> 0 | H11: =H13 -> -46875
C12: այդ թվում`
A13: 1235 | B13: 31001 | C13: Միասնական թվային միջավայրի ձևավորում | D13: =SUM(E13:H13) -> -46875 | F13: - | H13: ='havelvac 1'!I11 -> -46875

Sheet havelvac 3
F1: Հավելված N 3
F2: ՀՀ կառավարության 2025 թվականի
F3: ______________ ի ___Ն որոշման
A4: ՀԱՅԱՍՏԱՆԻ ՀԱՆՐԱՊԵՏՈՒԹՅԱՆ ԿԱՌԱՎԱՐՈՒԹՅԱՆ 2024 ԹՎԱԿԱՆԻ ԴԵԿՏԵՄԲԵՐԻ 27-Ի N 2060-Ն ՈՐՈՇՄԱՆ N 3 ԵՎ N 4 ՀԱՎԵԼՎԱԾՆԵՐՈՒՄ ԿԱՏԱՐՎՈՂ ՓՈՓՈԽՈՒԹՅՈՒՆՆԵՐԸ ԵՎ ԼՐԱՑՈՒՄՆԵՐԸ
H5: հազար դրամներով
A6: Գործառական դասիչը | D6: Ծրագրային դասիչը | F6: Բյուջետային ծախսերի գործառական դասակարգման բաժինների, խմբերի և դասերի, բյուջետային ծրագրերի միջոցառումների, բյուջետային հատկացումների գլխավոր կարգադրիչների անվանումները | G6: Ցուցանիշների փոփոխություն (ավելացումները նշված են դրական նշանով, իսկ նվազեցումները՝ փակագծերում)
A7: Բաժին | B7: Խումբ | C7: Դաս | D7: Ծրագիր | E7: Միջոցառում | G7: Առաջին կիսամյակ | H7: Ինն ամիս | I7: Տարի
F8: ԸՆԴԱՄԵՆԸ | G8: =G10+G28+G54 -> 0 | H8: =H10+H28+H54 -> 0 | I8: =I10+I28+I54 -> 0
F9: այդ թվում`
F10: ՀՀ բարձր տեխնոլոգիական արդյունաբերության նախարարություն | G10: =G11 -> -4720 | H10: =H11 -> -42153.8 | I10: =I11 -> -46875
A11: 01 | F11: ԸՆԴՀԱՆՈՒՐ ԲՆՈՒՅԹԻ ՀԱՆՐԱՅԻՆ ԾԱՌԱՅՈՒԹՅՈՒՆՆԵՐ | G11: =G13 -> -4720 | H11: =H13 -> -42153.8 | I11: =I13 -> -46875
F12: այդ թվում`
B13: 03 | F13: Ընդհանուր բնույթի ծառայություններ | G13: =G15 -> -4720 | H13: =H15 -> -42153.8 | I13: =I15 -> -46875
F14: այդ թվում`
C15: 02 | F15: Ծրագրման և վիճակագրական ընդհանուր ծառայություններ | G15: =G17 -> -4720 | H15: =H17 -> -42153.8 | I15: =I17 -> -46875
F16: այդ թվում`
D17: 1235 | F17: Թվային փոխակերպման գործընթացի իրականացում | G17: =G19 -> -4720 | H17: =H19 -> -42153.8 | I17: =I19 -> -46875
F18: այդ թվում`
E19: 31001 | F19: Միասնական թվային միջավայրի ձևավորում | G19: =G21 -> -4720 | H19: =H21 -> -42153.8 | I19: =I21 -> -46875
F20: այդ թվում` ըստ կատարողների
F21: ՀՀ կառավարություն | G21: =G23 -> -4720 | H21: =H23 -> -42153.8 | I21: =I23 -> -46875
F22: այդ թվում` բյուջետային ծախսերի տնտեսագիտական դասակարգման հոդվածներ
F23: ԸՆԴԱՄԵՆԸ ԾԱԽՍԵՐ | G23: =G24 -> -4720 | H23: =H24 -> -42153.8 | I23: =I24 -> -46875
F24: ՈՉ ՖԻՆԱՆՍԱԿԱՆ ԱԿՏԻՎՆԵՐԻ ԳԾՈՎ ԾԱԽՍԵՐ | G24: =G25 -> -4720 | H24: =H25 -> -42153.8 | I24: =I25 -> -46875
F25: ՀԻՄՆԱԿԱՆ ՄԻՋՈՑՆԵՐ | G25: =G26 -> -4720 | H25: =H26 -> -42153.8 | I25: =I26 -> -46875
F26: ԱՅԼ ՀԻՄՆԱԿԱՆ ՄԻՋՈՑՆԵՐ | G26: =G27 -> -4720 | H26: =H27 -> -42153.8 | I26: =I27 -> -46875
F27: - Ոչ նյութական հիմնական միջոցներ | G27: ='havelvac 1'!G11 -> -4720 | H27: ='havelvac 1'!H11 -> -42153.8 | I27: ='havelvac 1'!I11 -> -46875
F28: ՀՀ կառավարություն | G28: =G30 -> 0 | H28: =H30 -> 0 | I28: =I30 -> 0
F29: այդ թվում`
A30: 11 | F30: ՀԻՄՆԱԿԱՆ ԲԱԺԻՆՆԵՐԻՆ ՉԴԱՍՎՈՂ ՊԱՀՈՒՍՏԱՅԻՆ ՖՈՆԴԵՐ | G30: =G32 -> 0 | H30: =H32 -> 0 | I30: =I32 -> 0
F31: այդ թվում`
B32: 01 | F32: ՀՀ կառավարության և համայնքների պահուստային ֆոնդ | G32: =G34 -> 0 | H32: =H34 -> 0 | I32: =I34 -> 0
F33: այդ թվում`
C34: 01 | F34: ՀՀ կառավարության պահուստային ֆոնդ | G34: =G36 -> 0 | H34: =H36 -> 0 | I34: =I36 -> 0
F35: այդ թվում`
D36: 1139 | E36: ՀՀ կառավարության պահուստային ֆոնդ | G36: =G38+G46 -> 0 | H36: =H38+H46 -> 0 | I36: =I38+I46 -> 0
F37: այդ թվում`
E38: 11001 | F38: ՀՀ կառավարության պահուստային ֆոնդ | G38: =G40 -> 4720 | H38: =H40 -> 42153.8 | I38: =I40 -> 46875
F39: այդ թվում` ըստ կատարողների
F40: ՀՀ կառավարություն | G40: =G42 -> 4720 | H40: =H42 -> 42153.8 | I40: =I42 -> 46875
F41: այդ թվում՝ բյուջետային ծախսերի տնտեսագիտական դասակարգման հոդվածներ
F42: ԸՆԴԱՄԵՆԸ ԾԱԽՍԵՐ | G42: =G43 -> 4720 | H42: =H43 -> 42153.8 | I42: =I43 -> 46875
F43: ԸՆԹԱՑԻԿ ԾԱԽՍԵՐ | G43: =G44 -> 4720 | H43: =H44 -> 42153.8 | I43: =I44 -> 46875
F44: ԱՅԼ ԾԱԽՍԵՐ | G44: =G45 -> 4720 | H44: =H45 -> 42153.8 | I44: =I45 -> 46875
F45: Պահուստային միջոցներ | G45: ='havelvac 1'!G14 -> 4720 | H45: ='havelvac 1'!H14 -> 42153.8 | I45: ='havelvac 1'!I14 -> 46875
E46: 11001 | F46: ՀՀ կառավարության պահուստային ֆոնդ | G46: =G48 -> -4720 | H46: =H48 -> -42153.8 | I46: =I48 -> -46875
F47: այդ թվում` ըստ կատարողների
F48: ՀՀ կառավարություն | G48: =G50 -> -4720 | H48: =H50 -> -42153.8 | I48: =I50 -> -46875
F49: այդ թվում՝ բյուջետային ծախսերի տնտեսագիտական դասակարգման հոդվածներ
F50: ԸՆԴԱՄԵՆԸ ԾԱԽՍԵՐ | G50: =G51 -> -4720 | H50: =H51 -> -42153.8 | I50: =I51 -> -46875
F51: ԸՆԹԱՑԻԿ ԾԱԽՍԵՐ | G51: =G52 -> -4720 | H51: =H52 -> -42153.8 | I51: =I52 -> -46875
F52: ԱՅԼ ԾԱԽՍԵՐ | G52: =G53 -> -4720 | H52: =H53 -> -42153.8 | I52: =I53 -> -46875
F53: Պահուստային միջոցներ | G53: ='havelvac 1'!G15 -> -4720 | H53: ='havelvac 1'!H15 -> -42153.8 | I53: ='havelvac 1'!I15 -> -46875
F54: ՀՀ Կրթության, գիտության, մշակույթի և սպորտի նախարարություն | G54: =G56 -> 4720 | H54: =H56 -> 42153.8 | I54: =I56 -> 46875
F55: այդ թվում`
A56: 09 | F56: ԿՐԹՈՒԹՅՈՒՆ | G56: =G58 -> 4720 | H56: =H58 -> 42153.8 | I56: =I58 -> 46875
F57: այդ թվում`
B58: 06 | F58: Կրթությանը տրամադրվող օժանդակ ծառայություններ | G58: =G60 -> 4720 | H58: =H60 -> 42153.8 | I58: =I60 -> 46875
F59: այդ թվում`
C60: 01 | F60: Կրթությանը տրամադրվող օժանդակ ծառայություններ | G60: =G62 -> 4720 | H60: =H62 -> 42153.8 | I60: =I62 -> 46875
F61: այդ թվում`
D62: 1227 | F62: Կրթության ոլորտում տեղեկատվական և հաղորդակցական տեխնոլոգիաների ներդրում | G62: =G64 -> 4720 | H62: =H64 -> 42153.8 | I62: =I64 -> 46875
F63: այդ թվում`
E64: 11004 | F64: Հայերենի ստուգման և գնահատման համակարգի ստեղծում | G64: =G66 -> 4720 | H64: =H66 -> 42153.8 | I64: =I66 -> 46875
F65: այդ թվում` ըստ կատարողների
F66: ՀՀ կրթության, գիտության, մշակույթի և սպորտի նախարարություն | G66: =G68 -> 4720 | H66: =H68 -> 42153.8 | I66: =I68 -> 46875
F67: այդ թվում` բյուջետային ծախսերի տնտեսագիտական դասակարգման հոդվածներ
F68: ԸՆԴԱՄԵՆԸ ԾԱԽՍԵՐ | G68: =G69 -> 4720 | H68: =H69 -> 42153.8 | I68: =I69 -> 46875
F69: ԸՆԹԱՑԻԿ ԾԱԽՍԵՐ | G69: =G70 -> 4720 | H69: =H70 -> 42153.8 | I69: =I70 -> 46875
F70: ԴՐԱՄԱՇՆՈՐՀՆԵՐ | G70: =G71 -> 4720 | H70: =H71 -> 42153.8 | I70: =I71 -> 46875
F71: Ընթացիկ դրամաշնորհներ պետական հատվածի այլ մակարդակներին | G71: =G72 -> 4720 | H71: =H72 -> 42153.8 | I71: =I72 -> 46875
F72: - Ընթացիկ դրամաշնորհներ պետական և համայնքների ոչ առևտրային կազմակերպություններին | G72: ='havelvac 1'!G18 -> 4720 | H72: ='havelvac 1'!H18 -> 42153.8 | I72: ='havelvac 1'!I18 -> 46875

Sheet havelvac 4
E1: Հավելված N 4
D2: ՀՀ կառավարության 2025 թվականի
E3: ______________ ի ___Ն որոշման
A5: ՀԱՅԱՍՏԱՆԻ ՀԱՆՐԱՊԵՏՈՒԹՅԱՆ ԿԱՌԱՎԱՐՈՒԹՅԱՆ 2024 ԹՎԱԿԱՆԻ ԴԵԿՏԵՄԲԵՐԻ 27-Ի N 2060-Ն ՈՐՈՇՄԱՆ N 5 ՀԱՎԵԼՎԱԾԻ N 2 ԱՂՅՈՒՍԱԿՈՒՄ ԿԱՏԱՐՎՈՂ ՓՈՓՈԽՈՒԹՅՈՒՆԸ
F6: հազար դրամներով
A7: Ծրագրային դասիչ | C7: Բյուջետային գլխավոր կարգադրիչների, ծրագրերի, միջոցառումների, միջոցառումները կատարող պետական մարմինների և ուղղությունների անվանումները | D7: Ցուցանիշների փոփոխություն (նվազեցումները նշված են փակագծերում)
A8: Ծրագիր | B8: Միջոցառում | D8: Առաջին կիսամյակ | E8: Ինն ամիս | F8: Տարի
C9: ՀՀ բարձր տեխնոլոգիական արդյունաբերության նախարարություն | D9: =D11 -> -4720 | E9: =E11 -> -42153.8 | F9: =F11 -> -46875
C10: այդ թվում՝
A11: 1235 | B11: 31001 | C11: Միասնական թվային միջավայրի ձևավորում | D11: =+D13 -> -4720 | E11: =+E13 -> -42153.8 | F11: =+F13 -> -46875
C12: այդ թվում` ըստ կատարողների
C13: ՀՀ կառավարություն | D13: ='havelvac 3'!G27 -> -4720 | E13: ='havelvac 3'!H27 -> -42153.8 | F13: ='havelvac 3'!I27 -> -46875

Sheet havelvac 5
E1: Հավելված N 5 ՀՀ կառավարության 2025 թվականի __________-ի _____-Ն որոշման
A2: ՀԱՅԱՍՏԱՆԻ ՀԱՆՐԱՊԵՏՈՒԹՅԱՆ ԿԱՌԱՎԱՐՈՒԹՅԱՆ 2024 ԹՎԱԿԱՆԻ ԴԵԿՏԵՄԲԵՐԻ 27-Ի ԹԻՎ 2060-Ն ՈՐՈՇՄԱՆ N 5 ՀԱՎԵԼՎԱԾԻ N 7 ԱՂՅՈՒՍԱԿՈՒՄ ԿԱՏԱՐՎՈՂ ԼՐԱՑՈՒՄՆԵՐԸ
D3: հազար դրամներով
A4: Ծրագրային դասիչը | C4: Բյուջետային հատկացումների գլխավոր կարգադրիչների, ծրագրերի, միջոցառումների, ծախսային ուղղությունների անվանումները | D4: Միջոցառումը կատարող պետական մարմինների և դևամաշնորհ ստացող տնտեսվարող սուբյեկտների անվանումները | E4: Ցուցանիշների փոփոխություն (ավելացումները նշված են դրական նշանով)
A5: Ծրագիր | B5: Միջոցառում | E5: Տարի
A6: Ընդամենը | E6: =E7 -> 46875
A7: ՀՀ կրթության, գիտության, մշակույթի և սպորտի նախարարություն | E7: =E8 -> 46875
A8: 1227 | B8: Կրթության ոլորտում տեղեկատվական և հաղորդակցական տեխնոլոգիաների ներդրում | E8: =E9 -> 46875
B9: 11004 | C9: Հայերենի ստուգման և գնահատման համակարգի ստեղծում | D9: ՀՀ կրթության, գիտության, մշակույթի և սպորտի նախարարություն | E9: =E10 -> 46875
D10: «Կրթական տեխնոլոգիաների ազգային կենտրոն» ՊՈԱԿ | E10: ='havelvac 3'!I72 -> 46875

Sheet havelvac 6
J1: Հավելված N 6 ՀՀ կառավարության 2025 թվականի __________-ի _____-Ն որոշման
J2: ՀՀ կառավարության 2025 թ․
J3: __________-ի _____-Ն որոշման
A5: ՀԱՅԱՍՏԱՆԻ ՀԱՆՐԱՊԵՏՈՒԹՅԱՆ ԿԱՌԱՎԱՐՈՒԹՅԱՆ 2024 ԹՎԱԿԱՆԻ ԴԵԿՏԵՄԲԵՐԻ 27-Ի N 2060-Ն ՈՐՈՇՄԱՆ N 9 ՀԱՎԵԼՎԱԾՈՒՄ ԿԱՏԱՐՎՈՂ ՓՈՓՈԽՈՒԹՅՈՒՆՆԵՐԸ ԵՎ ԼՐԱՑՈՒՄՆԵՐԸ
I6: հազար դրամներով
A7: ԲԳԿ | B7: Ծրագիր | D7: Միջոցառում | H7: Իրականացնողը/ ակտիվն օգտագործողը/ շահառուի ընտրության չափորոշիչը | I7: Արդյունքային չափորոշիչը | J7: Ցուցանիշների փոփոխություն (ավելացումները նշված են դրական նշանով, իսկ նվազեցումները՝ փակագծերում)
B8: Դասիչը | C8: Անվանումը | D8: Դասիչը | E8: Անվանումը | F8: Նկարագրու-թյունը | G8: Տեսակը | J8: Առաջին կիսամյակ | K8: Ինն ամիս | L8: Տարի
A9: ԸՆԴԱՄԵՆԸ | J9: =J10+J16+J27 -> 0 | K9: =K10+K16+K27 -> 0 | L9: =L10+L16+L27 -> 0
A10: ՀՀ բարձր տեխնոլոգիական արդյունաբերության նախարարություն | J10: =J11 -> -4720 | K10: =K11 -> -42153.8 | L10: =L11 -> -46875
B11: 1235 | C11: Թվային փոխակերպման գործընթացի իրականացում | J11: =J12 -> -4720 | K11: =K12 -> -42153.8 | L11: =L12 -> -46875
D12: 1235 - 31001 | E12: Միասնական թվային միջավայրի ձևավորում | J12: ='havelvac 3'!G27 -> -4720 | K12: ='havelvac 3'!H27 -> -42153.8 | L12: ='havelvac 3'!I27 -> -46875
F13: Թվային փոխակերպման գործընթացի շրջանակներում թվայնացման համակարգերի ներդրում և կայքերի արդիականացում
G14: Պետական մարմինների կողմից օգտագործվող ոչ ֆինանսական ակտիվների հետ գործառնություններ
H15: Ակտիվն օգտագործող կազմակերպության անվանումը` Հանրային իշխանության մարմիններ
A16: ՀՀ կառավարություն | J16: =J17+J22 -> 0 | K16: =K17+K22 -> 0 | L16: =L17+L22 -> 0
B17: 1139 | C17: ՀՀ կառավարության պահուստային ֆոնդ | J17: =J18 -> 4720 | K17: =K18 -> 42153.8 | L17: =L18 -> 46875
D18: 1139 - 11001 | E18: ՀՀ կառավարության պահուստային ֆոնդ | J18: ='havelvac 3'!G45 -> 4720 | K18: ='havelvac 3'!H45 -> 42153.8 | L18: ='havelvac 3'!I45 -> 46875
F19: ՀՀ պետական բյուջեում նախատեսված ելքերի լրացուցիչ ֆինանսավորման, պետական բյուջեում չկանխատեսված ելքերի, ինչպես նաև բյուջետային երաշխիքների ապահովման ելքերի ֆինանսավորման ապահովում
G20: Ծառայությունների մատուցում
H21: Ծառայությունը մատուցողի անվանումը` ՀՀ կառավարություն
B22: 1139 | C22: ՀՀ կառավարության պահուստային ֆոնդ | J22: =J23 -> -4720 | K22: =K23 -> -42153.8 | L22: =L23 -> -46875
D23: 1139 - 11001 | E23: ՀՀ կառավարության պահուստային ֆոնդ | J23: ='havelvac 3'!G53 -> -4720 | K23: ='havelvac 3'!H53 -> -42153.8 | L23: ='havelvac 3'!I53 -> -46875
F24: ՀՀ պետական բյուջեում նախատեսված ելքերի լրացուցիչ ֆինանսավորման, պետական բյուջեում չկանխատեսված ելքերի, ինչպես նաև բյուջետային երաշխիքների ապահովման ելքերի ֆինանսավորման ապահովում
G25: Ծառայությունների մատուցում
H26: Ծառայությունը մատուցողի անվանումը` ՀՀ կառավարություն
A27: ՀՀ կրթության, գիտության, մշակույթի և սպորտի նախարարություն | J27: =J28 -> 4720 | K27: =K28 -> 42153.8 | L27: =L28 -> 46875
B28: 1227 | C28: Կրթության ոլորտում տեղեկատվական և հաղորդակցական տեխնոլոգիաների ներդրում | J28: =J29 -> 4720 | K28: =K29 -> 42153.8 | L28: =L29 -> 46875
D29: 1227-11004 | E29: Հայերենի ստուգման և գնահատման համակարգի ստեղծում | J29: ='havelvac 3'!G72 -> 4720 | K29: ='havelvac 3'!H72 -> 42153.8 | L29: ='havelvac 3'!I72 -> 46875
F30: Հայերենի առանձնահատկություններից բխող, միջազգայնորեն ճանաչված, իմացությունը ստուգող և գնահատող համակարգի ստեղծման և գործարկման ապահովում
G31: Ծառայությունների մատուցում
H32: Ծառայությունը մատուցողի անվանումը` Մասնագիտացված կազմակերպություն
I33: Հայերենի ստուգման և գնահատման վեցաստիճան (համապատասխանաբար A1,A2,B1,B2,C1,C2) համակարգ ունեցող էլեկտրոնային հարթակի ստեղծում, հատ | L33: 1
I34: Լեզվի իմացությունը ստուգող հարցերի թարմացվող առցանց շտեմարան (էլեկտրոնային տարբերակ) հատ | L34: 1
I35: Ձայնագրված առաջադրանքների համակարգ, հատ | L35: 1

Sheet havelvac 7
J1: Հավելված N 7 ՀՀ կառավարության 2025 թվականի __________-ի _____-Ն որոշման
J2: ՀՀ կառավարության 2025թ․
J3: __________-ի _____-Ն որոշման
A5: ՀԱՅԱՍՏԱՆԻ ՀԱՆՐԱՊԵՏՈՒԹՅԱՆ ԿԱՌԱՎԱՐՈՒԹՅԱՆ 2024 ԹՎԱԿԱՆԻ ԴԵԿՏԵՄԲԵՐԻ 27-Ի N 2060-Ն ՈՐՈՇՄԱՆ N 9․1 ՀԱՎԵԼՎԱԾՈՒՄ ԿԱՏԱՐՎՈՂ ՓՈՓՈԽՈՒԹՅՈՒՆՆԵՐԸ ԵՎ ԼՐԱՑՈՒՄՆԵՐԸ
I6: հազար դրամներով
A7: ԲՍԿ | B7: Ծրագիր | D7: Միջոցառում | H7: Իրականացնողը/ ակտիվն օգտագործողը/ շահառուի ընտրության չափորոշիչը | I7: Արդյունքային չափորոշիչը | J7: Ցուցանիշների փոփոխությունը (ավելացումները նշված են դրական նշանով, իսկ նվազեցումները՝ փակագծերում)
B8: Դասիչը | C8: Անվանումը | D8: Դասիչը | E8: Անվանումը | F8: Նկարագրու-թյունը | G8: Տեսակը | J8: Առաջին կիսամյակ | K8: Ինն ամիս | L8: Տարի
A9: ԸՆԴԱՄԵՆԸ | J9: =J10+J26 -> 0 | K9: =K10+K26 -> 0 | L9: =L10+L26 -> 0
A10: ՀՀ կառավարություն | J10: =J11+J16+J21 -> -4720 | K10: =K11+K16+K21 -> -42153.8 | L10: =L11+L16+L21 -> -46875
B11: 1235 | C11: Թվային փոխակերպման գործընթացի իրականացում | J11: =J12 -> -4720 | K11: =K12 -> -42153.8 | L11: =L12 -> -46875
D12: 1235 - 31001 | E12: Միասնական թվային միջավայրի ձևավորում | J12: ='havelvac 6'!J12 -> -4720 | K12: ='havelvac 6'!K12 -> -42153.8 | L12: ='havelvac 6'!L12 -> -46875
F13: Թվային փոխակերպման գործընթացի շրջանակներում թվայնացման համակարգերի ներդրում և կայքերի արդիականացում
G14: Պետական մարմինների կողմից օգտագործվող ոչ ֆինանսական ակտիվների հետ գործառնություններ
H15: Ակտիվն օգտագործող կազմակերպության անվանումը` Հանրային իշխանության մարմիններ
B16: 1139 | C16: ՀՀ կառավարության պահուստային ֆոնդ | J16: =J17 -> 4720 | K16: =K17 -> 42153.8 | L16: =L17 -> 46875
D17: 1139 - 11001 | E17: ՀՀ կառավարության պահուստային ֆոնդ | J17: ='havelvac 6'!J18 -> 4720 | K17: ='havelvac 6'!K18 -> 42153.8 | L17: ='havelvac 6'!L18 -> 46875
F18: ՀՀ պետական բյուջեում նախատեսված ելքերի լրացուցիչ ֆինանսավորման, պետական բյուջեում չկանխատեսված ելքերի, ինչպես նաև բյուջետային երաշխիքների ապահովման ելքերի ֆինանսավորման ապահովում
G19: Ծառայությունների մատուցում
H20: Ծառայությունը մատուցողի անվանումը` ՀՀ կառավարություն
B21: 1139 | C21: ՀՀ կառավարության պահուստային ֆոնդ | J21: =J22 -> -4720 | K21: =K22 -> -42153.8 | L21: =L22 -> -46875
D22: 1139 - 11001 | E22: ՀՀ կառավարության պահուստային ֆոնդ | J22: ='havelvac 6'!J23 -> -4720 | K22: ='havelvac 6'!K23 -> -42153.8 | L22: ='havelvac 6'!L23 -> -46875
F23: ՀՀ պետական բյուջեում նախատեսված ելքերի լրացուցիչ ֆինանսավորման, պետական բյուջեում չկանխատեսված ելքերի, ինչպես նաև բյուջետային երաշխիքների ապահովման ելքերի ֆինանսավորման ապահովում
G24: Ծառայությունների մատուցում
H25: Ծառայությունը մատուցողի անվանումը` ՀՀ կառավարություն
A26: ՀՀ կրթության , գիտության, մշակույթի և սպորտի նախարարություն | J26: =J27 -> 4720 | K26: =K27 -> 42153.8 | L26: =L27 -> 46875
B27: 1227 | C27: Կրթության ոլորտում տեղեկատվական և հաղորդակցական տեխնոլոգիաների ներդրում | J27: =J28 -> 4720 | K27: =K28 -> 42153.8 | L27: =L28 -> 46875
D28: 1227-11004 | E28: Հայերենի ստուգման և գնահատման համակարգի ստեղծում | J28: ='havelvac 6'!J29 -> 4720 | K28: ='havelvac 6'!K29 -> 42153.8 | L28: ='havelvac 6'!L29 -> 46875
F29: Հայերենի առանձնահատկություններից բխող, միջազգայնորեն ճանաչված, իմացությունը ստուգող և գնահատող համակարգի ստեղծման և գործարկման ապահովում
G30: Ծառայությունների մատուցում
H31: Ծառայությունը մատուցողի անվանումը` Մասնագիտացված կազմակերպություն
I32: Հայերենի ստուգման և գնահատման վեցաստիճան (համապատասխանաբար A1,A2,B1,B2,C1,C2) համակարգ ունեցող էլեկտրոնային հարթակի ստեղծում, հատ | L32: 1
I33: Լեզվի իմացությունը ստուգող հարցերի թարմացվող առցանց շտեմարան (էլեկտրոնային տարբերակ) հատ | L33: 1
I34: Ձայնագրված առաջադրանքների համակարգ, հատ | L34: 1
