Workbook

Sheet Հավելված 1
I1: Հավելված 1
I2: ՀՀ կառավարության 2025 թվականի
I3: ___________ ___-ի N _______ -Ն որոշման
A4: «ՀԱՅԱՍՏԱՆԻ ՀԱՆՐԱՊԵՏՈՒԹՅԱՆ 2025 ԹՎԱԿԱՆԻ ՊԵՏԱԿԱՆ ԲՅՈՒՋԵԻ ՄԱՍԻՆ» ՀԱՅԱՍՏԱՆԻ ՀԱՆՐԱՊԵՏՈՒԹՅԱՆ ՕՐԵՆՔԻ N 1 ՀԱՎԵԼՎԱԾԻ N 2 ԱՂՅՈՒՍԱԿՈՒՄ ԿԱՏԱՐՎՈՂ ՎԵՐԱԲԱՇԽՈՒՄԸ ԵՎ ՀԱՅԱՍՏԱՆԻ ՀԱՆՐԱՊԵՏՈՒԹՅԱՆ ԿԱՌԱՎԱՐՈՒԹՅԱՆ 2024 ԹՎԱԿԱՆԻ ԴԵԿՏԵՄԲԵՐԻ 27-Ի N2060-Ն ՈՐՈՇՄԱՆ N 5 ՀԱՎԵԼՎԱԾԻ N 1 ԱՂՅՈՒՍԱԿՈՒՄ ԿԱՏԱՐՎՈՂ ՓՈՓՈԽՈՒԹՅՈՒՆՆԵՐԸ ԵՎ ԼՐԱՑՈՒՄՆԵՐԸ
I6: հազար դրամներով
A7: ԲԳԿ | B7: Ծրագրային դասիչը | D7: ԲԳԿ/Ծրագրի /միջոցառման անվանումը | E7: Ծրագրի նպատակը/Միջոցառման նկարագրությունը | F7: Վերջնական արդյունքի նկարագրությունը/Միջոցառման տեսակը | G7: Ցուցանիշների փոփոխությունը (ավելացումները նշված են դրական նշանով, իսկ նվազեցումները փակագծերում)
G8: Առաջին կիսամյակ | H8: Ինն ամիս | I8: Տարի
B9: Ծրագիր | C9: Միջոցառում
A10: ԸՆԴԱՄԵՆԸ | G10: =G11+G15 -> 0 | H10: =H11+H15 -> 0 | I10: =I11+I15 -> 0
A11: ՀՀ ազգային անվտանգության ծառայություն | G11: =G12 -> 401171.7 | H11: =H12 -> 401171.7 | I11: =I12 -> 401171.7
B12: 1138 | D12: Ազգային անվտանգություն | E12: Ներքին և արտաքին սպառնալիքներից անձի, հասարակության ու պետության անվտանգության ապահովում | F12: Այլ պետությունների կողմից հետախուզական գործունեության կասեցում,պետական սահմանի անձեռնամխելիության ապահովում, կոռուպցիոն ռիսկերի շեշտակի նվազեցում | G12: =G13 -> 401171.7 | H12: =H13 -> 401171.7 | I12: =I13 -> 401171.7
C13: 1138 - 11004 | D13: Պաշտպանության բնագավառի այլ ծախսեր | E13: Պաշտպանության բնագավառի այլ ծախսեր | F13: Ծառայությունների մատուցում | G13: 401171.7 | H13: 401171.7 | I13: 401171.7
A15: ՀՀ ԿԱՌԱՎԱՐՈՒԹՅՈՒՆ | G15: =G16 -> -401171.7 | H15: =H16 -> -401171.7 | I15: =I16 -> -401171.7
B16: 1139 | D16: ՀՀ կառավարության պահուստային ֆոնդ | E16: Պետական բյուջեում չկանխատեսված, ինչպես նաեւ բյուջետային երաշխիքների ապահովման ծախսերի ֆինանսավորման ապահովում | F16: Պահուստային ֆոնդի կառավարման արդյունավետության և թափանցիկության ապահովում | G16: =G17 -> -401171.7 | H16: =H17 -> -401171.7 | I16: =I17 -> -401171.7
C17: 1139 - 11001 | D17: ՀՀ կառավարության պահուստային ֆոնդ | E17: ՀՀ պետական բյուջեում նախատեսված ելքերի լրացուցիչ ֆինանսավորման, պետական բյուջեում չկանխատեսված ելքերի, ինչպես նաև բյուջետային երաշխիքների ապահովման ելքերի ֆինանսավորման ապահովում | F17: Ծառայությունների մատուցում | G17: -401171.7 | H17: -401171.7 | I17: -401171.7

Sheet Հավելված 2
I1: Հավելված 2
H2: ՀՀ կառավարության 2025 թվականի
H3: ___________ ___-ի N _______ -Ն որոշման
A5: ՀԱՅԱՍՏԱՆԻ ՀԱՆՐԱՊԵՏՈՒԹՅԱՆ ԿԱՌԱՎԱՐՈՒԹՅԱՆ 2024 ԹՎԱԿԱՆԻ ԴԵԿՏԵՄԲԵՐԻ 27-Ի N 2060-Ն ՈՐՈՇՄԱՆ N 3 ԵՎ N 4 ՀԱՎԵԼՎԱԾՆԵՐՈՒՄ ԿԱՏԱՐՎՈՂ ՓՈՓՈԽՈՒԹՅՈՒՆՆԵՐԸ ԵՎ ԼՐԱՑՈՒՄՆԵՐԸ
H7: հազար դրամներով
A8: Գործառական դասիչը | D8: Ծրագրային դասիչը | F8: Բյուջետային հատկացումների գլխավոր կարգադրիչների, ծրագրերի, միջոցառումների և միջոցառումները կատարող պետական մարմինների անվանումները | G8: Ցուցանիշների փոփոխությունը (ավելացումները նշված են դրական նշանով, իսկ նվազեցումները՝ փակագծերում)
A9: Բաժին | B9: Խումբ | C9: Դաս | D9: Ծրագիր | E9: Միջոցառում | G9: Առաջին կիսամյակ | H9: Ինն ամիս | I9: Տարի
F11: ԸՆԴԱՄԵՆԸ ԾԱԽՍԵՐ | G11: =G13+G32 -> 0 | H11: =H13+H32 -> 0 | I11: =I13+I32 -> 0
F12: այդ թվում`
F13: ՀՀ ազգային անվտանգության ծառայություն | G13: =G15 -> 401171.7 | H13: =H15 -> 401171.7 | I13: =I15 -> 401171.7
F14: այդ թվում`
A15: 03 | F15: ՀԱՍԱՐԱԿԱԿԱՆ ԿԱՐԳ, ԱՆՎՏԱՆԳՈՒԹՅՈՒՆ ԵՎ ԴԱՏԱԿԱՆ ԳՈՐԾՈՒՆԵՈՒԹՅՈՒՆ | G15: =+G17 -> 401171.7 | H15: =+H17 -> 401171.7 | I15: =+I17 -> 401171.7
F16: այդ թվում`
B17: 01 | F17: Հասարակական կարգ և անվտանգություն | G17: =+G19 -> 401171.7 | H17: =+H19 -> 401171.7 | I17: =+I19 -> 401171.7
F18: այդ թվում`
C19: 02 | F19: Ազգային անվտանգություն | G19: =+G21 -> 401171.7 | H19: =+H21 -> 401171.7 | I19: =+I21 -> 401171.7
F20: այդ թվում`
D21: 1138 | F21: Ազգային անվտանգություն | G21: =G23 -> 401171.7 | H21: =H23 -> 401171.7 | I21: =I23 -> 401171.7
F22: այդ թվում`
E23: 11004 | F23: Պաշտպանության բնագավառի այլ ծախսեր | G23: =G25 -> 401171.7 | H23: =H25 -> 401171.7 | I23: =I25 -> 401171.7
F24: այդ թվում` ըստ կատարողների
F25: ՀՀ ազգային անվտանգության ծառայություն | G25: =G27 -> 401171.7 | H25: =H27 -> 401171.7 | I25: =I27 -> 401171.7
F26: այդ թվում` բյուջետային ծախսերի տնտեսագիտական դասակարգման հոդվածներ
F27: ԸՆԴԱՄԵՆԸ ԾԱԽՍԵՐ | G27: =G28 -> 401171.7 | H27: =H28 -> 401171.7 | I27: =I28 -> 401171.7
F28: ԸՆԹԱՑԻԿ ԾԱԽՍԵՐ | G28: =G29 -> 401171.7 | H28: =H29 -> 401171.7 | I28: =I29 -> 401171.7
F29: ԴՐԱՄԱՇՆՈՐՀՆԵՐ | G29: =G30 -> 401171.7 | H29: =H30 -> 401171.7 | I29: =I30 -> 401171.7
F30: Ընթացիկ դրամաշնորհներ պետական հատվածի այլ մակարդակներին | G30: =G31 -> 401171.7 | H30: =H31 -> 401171.7 | I30: =I31 -> 401171.7
F31: - Այլ ընթացիկ դրամաշնորհներ | G31: ='Հավելված 1'!G13 -> 401171.7 | H31: ='Հավելված 1'!H13 -> 401171.7 | I31: ='Հավելված 1'!I13 -> 401171.7
F32: ՀՀ կառավարություն | G32: =G34 -> -401171.7 | H32: =H34 -> -401171.7 | I32: =I34 -> -401171.7
F33: այդ թվում`
A34: 11 | F34: ՀԻՄՆԱԿԱՆ ԲԱԺԻՆՆԵՐԻՆ ՉԴԱՍՎՈՂ ՊԱՀՈՒՍՏԱՅԻՆ ՖՈՆԴԵՐ | G34: =G36 -> -401171.7 | H34: =H36 -> -401171.7 | I34: =I36 -> -401171.7
F35: այդ թվում`
B36: 01 | F36: ՀՀ կառավարության և համայնքների պահուստային ֆոնդ | G36: =G38 -> -401171.7 | H36: =H38 -> -401171.7 | I36: =I38 -> -401171.7
F37: այդ թվում`
C38: 01 | F38: ՀՀ կառավարության պահուստային ֆոնդ | G38: =G40 -> -401171.7 | H38: =H40 -> -401171.7 | I38: =I40 -> -401171.7
F39: այդ թվում`
D40: 1139 | F40: ՀՀ կառավարության պահուստային ֆոնդ | G40: =G44 -> -401171.7 | H40: =H44 -> -401171.7 | I40: =I44 -> -401171.7
F41: այդ թվում՝
E42: 11001 | F42: ՀՀ կառավարության պահուստային ֆոնդ | G42: -401171.7 | H42: -401171.7 | I42: -401171.7
F43: այդ թվում` ըստ կատարողների
...

Sheet Հավելված 3
L1: Հավելված 3
J2: ՀՀ կառավարության 2025 թվականի
J3: ___________ ___-ի N _______ -Ն որոշման
A6: ՀԱՅԱՍՏԱՆԻ ՀԱՆՐԱՊԵՏՈՒԹՅԱՆ ԿԱՌԱՎԱՐՈՒԹՅԱՆ 2024 ԹՎԱԿԱՆԻ ԴԵԿՏԵՄԲԵՐԻ 27-Ի N 2060-Ն ՈՐՈՇՄԱՆ N 9 ՀԱՎԵԼՎԱԾՈՒՄ ԿԱՏԱՐՎՈՂ ՓՈՓՈԽՈՒԹՅՈՒՆՆԵՐԸ ԵՎ ԼՐԱՑՈՒՄՆԵՐԸ
A9: ԲԳԿ | B9: Ծրագիր | D9: Միջոցառում | H9: Իրականացնողը/ ակտիվն օգտագործողը/ շահառուի ընտրության չափորոշիչը | I9: Արդյունքային չափորոշիչը | J9: Ցուցանիշների փոփոխությունը (ավելացումները նշված են դրական նշանով, իսկ նվազեցումները՝ փակագծերում)
B10: Դասիչը | C10: Անվանումը | D10: Դասիչը | E10: Անվանումը | F10: Նկարագրությունը | G10: Տեսակը | J10: Առաջին կիսամյակ | K10: Ինն ամիս | L10: Տարի
A11: ԸՆԴԱՄԵՆԸ | J11: =J13+J19 -> 0 | K11: =K13+K19 -> 0 | L11: =L13+L19 -> 0
A12: այդ թվում՝
A13: ՀՀ ազգային անվտանգության ծառայություն | J13: =J14 -> 401171.7 | K13: =K14 -> 401171.7 | L13: =L14 -> 401171.7
B14: 1138 | C14: Ազգային անվտանգություն | J14: =+J15 -> 401171.7 | K14: =+K15 -> 401171.7 | L14: =+L15 -> 401171.7
D15: 1138 - 11004 | E15: Պաշտպանության բնագավառի այլ ծախսեր | J15: ='Հավելված 2'!G31 -> 401171.7 | K15: ='Հավելված 2'!H31 -> 401171.7 | L15: ='Հավելված 2'!I31 -> 401171.7
F16: Պաշտպանության բնագավառի այլ ծախսեր
G17: Ծառայությունների մատուցում
H18: Ծառայությունը մատուցողի անվանումը` ՀՀ ազգային անվտանգության ծառայություն
A19: ՀՀ ԿԱՌԱՎԱՐՈՒԹՅՈՒՆ | J19: =+J20+J34+J40 -> -401171.7 | K19: =+K20+K34+K40 -> -401171.7 | L19: =+L20+L34+L40 -> -401171.7
B20: 1139 | C20: ՀՀ կառավարության պահուստային ֆոնդ | J20: =+J21+J25 -> -401171.7 | K20: =+K21+K25 -> -401171.7 | L20: =+L21+L25 -> -401171.7
D21: 1139 - 11001 | E21: ՀՀ կառավարության պահուստային ֆոնդ | J21: =-J15 -> -401171.7 | K21: =-K15 -> -401171.7 | L21: =-L15 -> -401171.7
F22: ՀՀ պետական բյուջեում նախատեսված ելքերի լրացուցիչ ֆինանսավորման, պետական բյուջեում չկանխատեսված ելքերի, ինչպես նաև բյուջետային երաշխիքների ապահովման ելքերի ֆինանսավորման ապահովում
G23: Ծառայությունների մատուցում
H24: Ծառայությունը մատուցողի անվանումը` ՀՀ կառավարություն

Sheet Հավելված 4
L1: Հավելված 4
K2: ՀՀ կառավարության 2025 թվականի
K3: ___________ ___-ի N _______ -Ն որոշման
A6: ՀԱՅԱՍՏԱՆԻ ՀԱՆՐԱՊԵՏՈՒԹՅԱՆ ԿԱՌԱՎԱՐՈՒԹՅԱՆ 2024 ԹՎԱԿԱՆԻ ԴԵԿՏԵՄԲԵՐԻ 27-Ի N 2060-Ն ՈՐՈՇՄԱՆ N 9.1 ՀԱՎԵԼՎԱԾՈՒՄ ԿԱՏԱՐՎՈՂ ՓՈՓՈԽՈՒԹՅՈՒՆՆԵՐԸ ԵՎ ԼՐԱՑՈՒՄՆԵՐԸ
A8: ԲՍԿ | B8: Ծրագիր | D8: Միջոցառում | H8: Իրականացնողը/ ակտիվն օգտագործողը/ շահառուի ընտրության չափորոշիչը | I8: Արդյունքային չափորոշիչը | J8: Ցուցանիշների փոփոխությունը (ավելացումները նշված են դրական նշանով, իսկ նվազեցումները՝ փակագծերում)
B9: Դասիչը | C9: Անվանումը | D9: Դասիչը | E9: Անվանումը | F9: Նկարագրությունը | G9: Տեսակը | J9: Առաջին կիսամյակ | K9: Ինն ամիս | L9: Տարի
A10: ԸՆԴԱՄԵՆԸ | J10: =J12+J18 -> 0 | K10: =K12+K18 -> 0 | L10: =L12+L18 -> 0
A11: այդ թվում՝
A12: ՀՀ ազգային անվտանգության ծառայություն | J12: =J13 -> 401171.7 | K12: =K13 -> 401171.7 | L12: =L13 -> 401171.7
B13: 1138 | C13: Ազգային անվտանգություն | J13: =+J14 -> 401171.7 | K13: =+K14 -> 401171.7 | L13: =+L14 -> 401171.7
D14: 1138 - 11004 | E14: Պաշտպանության բնագավառի այլ ծախսեր | J14: ='Հավելված 2'!G31 -> 401171.7 | K14: ='Հավելված 2'!H31 -> 401171.7 | L14: ='Հավելված 2'!I31 -> 401171.7
F15: Պաշտպանության բնագավառի այլ ծախսեր
G16: Ծառայությունների մատուցում
H17: Ծառայությունը մատուցողի անվանումը` ՀՀ ազգային անվտանգության ծառայություն
A18: ՀՀ ԿԱՌԱՎԱՐՈՒԹՅՈՒՆ | J18: =+J19+J33+J39 -> -401171.7 | K18: =+K19+K33+K39 -> -401171.7 | L18: =+L19+L33+L39 -> -401171.7
B19: 1139 | C19: ՀՀ կառավարության պահուստային ֆոնդ | J19: =+J20+J24 -> -401171.7 | K19: =+K20+K24 -> -401171.7 | L19: =+L20+L24 -> -401171.7
D20: 1139 - 11001 | E20: ՀՀ կառավարության պահուստային ֆոնդ | J20: =-J14 -> -401171.7 | K20: =-K14 -> -401171.7 | L20: =-L14 -> -401171.7
F21: ՀՀ պետական բյուջեում նախատեսված ելքերի լրացուցիչ ֆինանսավորման, պետական բյուջեում չկանխատեսված ելքերի, ինչպես նաև բյուջետային երաշխիքների ապահովման ելքերի ֆինանսավորման ապահովում
G22: Ծառայությունների մատուցում
H23: Ծառայությունը մատուցողի անվանումը` ՀՀ կառավարություն
