Workbook
Name \A: #REF!
Name Armata: #REF!
Name BOP: #REF!
Name BOPfoot: #REF!
Name DebtCG: '[1]Fis-Debt'!#REF!
Name DebtGG: #REF!
Name MonExo: #REF!
Name MonGrow: [2]BM!#REF!
Name RealExo: #REF!
Name RealPercent: #REF!
Name Table_2._Turkey__Exogenous_assumptions: #REF!
Name է: [2]BM!#REF!
Name ՀՀՀՀՀ: #REF!
Name շախմատիստ: #REF!

Sheet N 1
C1: Հավելված 1 ՀՀ կառավարության 2019 թվականի____________ի N _____-Ն որոշման
A3: «ՀԱՅԱՍՏԱՆԻ ՀԱՆՐԱՊԵՏՈՒԹՅԱՆ 2019 ԹՎԱԿԱՆԻ ՊԵՏԱԿԱՆ ԲՅՈՒՋԵԻ ՄԱՍԻՆ» ՀԱՅԱՍՏԱՆԻ ՀԱՆՐԱՊԵՏՈՒԹՅԱՆ ՕՐԵՆՔԻ N 1 ՀԱՎԵԼՎԱԾԻ N2 ԱՂՅՈՒՍԱԿՈՒՄ ԿԱՏԱՐՎՈՂ ՎԵՐԱԲԱՇԽՈՒՄԸ ՀԱՅԱՍՏԱՆԻ ՀԱՆՐԱՊԵՏՈՒԹՅԱՆ ԿԱՌԱՎԱՐՈՒԹՅԱՆ 2018 ԹՎԱԿԱՆԻ ԴԵԿՏԵՄԲԵՐԻ 27-Ի N 1515-Ն ՈՐՈՇՄԱՆ N 5 ՀԱՎԵԼՎԱԾԻ N1 ԱՂՅՈՒՍԱԿՈՒՄ ԿԱՏԱՐՎՈՂ ՓՈՓՈԽՈՒԹՅՈՒՆՆԵՐԸ ԵՎ ԼՐԱՑՈՒՄՆԵՐԸ
E4: (հազար դրամներով)
A5: Ծրագրային դասիչը | C5: Բյուջետային հատկացումների գլխավոր կարգադրիչների, ծրագրերի և միջոցառումների անվանումները | D5: Ցուցանիշների փոփոխությունը (ավելացումները նշված են դրական նշանով, նվազեցումները՝ փակագծերում)
A6: Ծրագիր | B6: Միջոցառում | D6: Առաջին կիսամյակ | E6: Ինն ամիս | F6: Տարի
C7: ԸՆԴԱՄԵՆԸ | D7: =D8+D22 -> 0 | E7: =E8+E22 -> 0 | F7: =F8+F22 -> 0
C8: ՀՀ կառավարություն | D8: =D9 -> 0 | E8: =E9 -> -25000 | F8: =F9 -> -37954.7
A9: 1139 | C9: Ծրագրի անվանումը` | D9: =D16 -> 0 | E9: =E16 -> -25000 | F9: =F16 -> -37954.7
C10: ՀՀ կառավարության պահուստային ֆոնդ
C11: Ծրագրի նպատակը`
C12: Պետական բյուջեում չկանխատեսված՝ ինչպես նաեւ բյուջետային երաշխիքների ապահովման ծախսերի ֆինանսավորման ապահովում
C13: Վերջնական արդյունքի նկարագրությունը`
C14: Պահուստային ֆոնդի կառավարման արդյունավետության և թափանցիկության
A15: Ծրագրի միջոցառումներ
B16: 11001 | C16: Միջոցառման անվանումը` | D16: 0 | E16: =-E22 -> -25000 | F16: =-F22 -> -37954.7
C17: ՀՀ կառավարության պահուստային ֆոնդ
C18: Միջոցառման նկարագրությունը`
C19: ՀՀ պետական բյուջեում նախատեսված ելքերի լրացուցիչ ֆինանսավորման՝ պետական բյուջեում չկանխատեսված ելքերի՝ ինչպես նաև բյուջետային երաշխիքների ապահովման ելքերի ֆինանսավորման ապահովում
C20: Միջոցառման տեսակը
C21: Ծառայությունների մատուցում
C22: ՀՀ շրջակա միջավայրի նախարարություն այդ թվում` | D22: =-D30 -> 0 | E22: =E30 -> 25000 | F22: =F30 -> 37954.7
A23: 1016 | C23: Ծրագրի անվանումը` | D23: 0 | E23: =E30 -> 25000 | F23: =F30 -> 37954.7
C24: Շրջակա միջավայրի վրա ազդեցության գնահատում և մոնիթորինգ
C25: Ծրագրի նպատակը`
C26: Նպաստել շրջակա միջավայրի և բնական ռեսուրսների (բացառությամբ օգտակար հանածոների) պահպանությանը
C27: Վերջնական արդյունքի նկարագրությունը`
C28: Շրջակա միջավայրի վերաբերյալ ամբողջական տեղեկատվության հրապարակում
A29: Ծրագրի միջոցառումներ
B30: 11003 | C30: Միջոցառման անվանումը` | D30: 0 | E30: 25000 | F30: 37954.7
C31: Արարատյան դաշտի ապօրինի շահագործվող, ինքնաշատրվանող և բացասական մակարդակով հորերի լուծարում և կոնսերվացում
C32: Միջոցառման նկարագրությունը`
C33: Արարատյան դաշտի ապօրինի շահագործվող, ինքնաշատրվանող և բացասական մակարդակով հորերի լուծարման կամ կոնսերվացման աշխատանքների իրականացում
C34: Միջոցառման տեսակը
C35: Ծառայությունների մատուցում

Sheet N 2
F1: Հավելված 2 ՀՀ կառավարության 2019 թվականի____________ի N _____-Ն որոշման
A4: ՀԱՅԱՍՏԱՆԻ ՀԱՆՐԱՊԵՏՈՒԹՅԱՆ ԿԱՌԱՎԱՐՈՒԹՅԱՆ 2018 ԹՎԱԿԱՆԻ ԴԵԿՏԵՄԲԵՐԻ 27-Ի ԹԻՎ 1515-Ն ՈՐՈՇՄԱՆ N3 ԵՎ N4 ՀԱՎԵԼՎԱԾՆԵՐՈՒՄ ԿԱՏԱՐՎՈՂ ՓՈՓՈԽՈՒԹՅՈՒՆՆԵՐԸ ԵՎ ԼՐԱՑՈՒՄՆԵՐԸ
H5: հազար դրամներով
A6: Բաժին | B6: Խումբ | C6: Դաս | D6: Ծրագրային դասիչը | F6: Բյուջետային հատկացումների գլխավոր կարգադրիչների, ծրագրերի, միջոցառումների և միջոցառումները կատարող պետական մարմինների անվանումները | G6: Ցուցանիշների փոփոխությունը (ավելացումները նշված են դրական նշանով, նվազեցումները՝ փակագծերում)
D7: Ծրագիր | E7: Միջոցառում | G7: Առաջին կիսամյակ | H7: Ինն ամիս | I7: Տարի
F8: ԸՆԴԱՄԵՆԸ այդ թվում` | G8: =G9+G22 -> 0 | H8: =H9+H22 -> 0 | I8: =I9+I22 -> 0
A9: 11 | F9: ՀԻՄՆԱԿԱՆ ԲԱԺԻՆՆԵՐԻՆ ՉԴԱՍՎՈՂ ՊԱՀՈՒՍՏԱՅԻՆ ՖՈՆԴԵՐ այդ թվում` | G9: =G10 -> 0 | H9: =H10 -> -25000 | I9: =I10 -> -37954.7
B10: 01 | F10: ՀՀ կառավարության և համայնքների պահուստային ֆոնդ այդ թվում` | G10: =G11 -> 0 | H10: =H11 -> -25000 | I10: =I11 -> -37954.7
C11: 01 | F11: ՀՀ կառավարության պահուստային ֆոնդ այդ թվում` | G11: =G13 -> 0 | H11: =H13 -> -25000 | I11: =I13 -> -37954.7
F12: ՀՀ կառավարություն
D13: 1139 | F13: ՀՀ կառավարության պահուստային ֆոնդ այդ թվում` | G13: =G14 -> 0 | H13: =H14 -> -25000 | I13: =I14 -> -37954.7
E14: 11001 | F14: ՀՀ կառավարության պահուստային ֆոնդ | G14: =G16 -> 0 | H14: =H16 -> -25000 | I14: =I16 -> -37954.7
F15: այդ թվում` ըստ կատարողների
F16: ՀՀ կառավարություն | G16: =G18 -> 0 | H16: =H18 -> -25000 | I16: =I18 -> -37954.7
F17: այդ թվում` բյուջետային ծախսերի տնտեսագիտական դասակարգման հոդվածներ
F18: ԸՆԴԱՄԵՆԸ ԾԱԽՍԵՐ | G18: =G19 -> 0 | H18: =H19 -> -25000 | I18: =I19 -> -37954.7
F19: ԸՆԹԱՑԻԿ ԾԱԽՍԵՐ | G19: =G20 -> 0 | H19: =H20 -> -25000 | I19: =I20 -> -37954.7
F20: ԱՅԼ ԾԱԽՍԵՐ | G20: =G21 -> 0 | H20: =H21 -> -25000 | I20: =I21 -> -37954.7
F21: Պահուստային միջոցներ | G21: =-G22 -> 0 | H21: =-H22 -> -25000 | I21: =-I22 -> -37954.7
A22: 05 | F22: ՇՐՋԱԿԱ ՄԻՋԱՎԱՅՐԻ ՊԱՇՏՊԱՆՈՒԹՅՈՒՆ այդ թվում` | G22: =G23 -> 0 | H22: =H23 -> 25000 | I22: =I23 -> 37954.7
B23: 06 | F23: Շրջակա միջավայրի պաշտպանություն (այլ դասերին չպատկանող) այդ թվում` | G23: =G24 -> 0 | H23: =H24 -> 25000 | I23: =I24 -> 37954.7
C24: 01 | F24: Շրջակա միջավայրի պաշտպանություն (այլ դասերին չպատկանող) այդ թվում` | G24: =G25 -> 0 | H24: =H25 -> 25000 | I24: =I25 -> 37954.7
F25: ՀՀ շրջակա միջավայրի նախարարություն այդ թվում` | G25: =G26 -> 0 | H25: =H26 -> 25000 | I25: =I26 -> 37954.7
D26: 1016 | F26: Շրջակա միջավայրի վրա ազդեցության գնահատում և մոնիթորինգ այդ թվում` | G26: =G27 -> 0 | H26: =H27 -> 25000 | I26: =I27 -> 37954.7
E27: 11003 | F27: ='N 1'!C31 -> Արարատյան դաշտի ապօրինի շահագործվող, ինքնաշատրվանող և բացասական մակարդակով հորերի լուծարում և կոնսերվացում | G27: =G29 -> 0 | H27: =H29 -> 25000 | I27: =I29 -> 37954.7
F28: այդ թվում` ըստ կատարողների
F29: ՀՀ շրջակա միջավայրի նախարարություն | G29: =G31 -> 0 | H29: =H31 -> 25000 | I29: =I31 -> 37954.7
F30: այդ թվում` բյուջետային ծախսերի տնտեսագիտական դասակարգման հոդվածներ
F31: ԸՆԴԱՄԵՆԸ ԾԱԽՍԵՐ | G31: =G32 -> 0 | H31: =H32 -> 25000 | I31: =I32 -> 37954.7
F32: ԸՆԹԱՑԻԿ ԾԱԽՍԵՐ | G32: =G33 -> 0 | H32: =H33 -> 25000 | I32: =I33 -> 37954.7
F33: ԱՅԼ ԾԱԽՍԵՐ | G33: =G34 -> 0 | H33: =H34 -> 25000 | I33: =I34 -> 37954.7
F34: -Այլ ծախսեր | G34: ='N 1'!D30 -> 0 | H34: ='N 1'!E30 -> 25000 | I34: 37954.7

Sheet N3 Doc1
B1: Հավելված 3 ՀՀ կառավարության 2019 թվականի____________ի N _____-Ն որոշման
A3: ՀԱՅԱՍՏԱՆԻ ՀԱՆՐԱՊԵՏՈՒԹՅԱՆ ԿԱՌԱՎԱՐՈՒԹՅԱՆ 2018 ԹՎԱԿԱՆԻ ԴԵԿՏԵՄԲԵՐԻ 27-Ի N 1515-Ն ՈՐՈՇՄԱՆ N11 ՀԱՎԵԼՎԱԾԻ N 11.52 ԱՂՅՈՒՍԱԿՈՒՄ ԿԱՏԱՐՎՈՂ ՓՈՓՈԽՈՒԹՅՈՒՆՆԵՐԸ ԵՎ ԼՐԱՑՈՒՄՆԵՐԸ
A5: ՀՀ կառավարություն
A6: ՄԱՍ 2. ՊԵՏԱԿԱՆ ՄԱՐՄՆԻ ԳԾՈՎ ԱՐԴՅՈՒՆՔԱՅԻՆ (ԿԱՏԱՐՈՂԱԿԱՆ) ՑՈՒՑԱՆԻՇՆԵՐԸ
A8: Ծրագրի դասիչը | B8: Ծրագրի անվանումը
A9: 1139 | B9: ՀՀ կառավարության պահուստային ֆոնդ
A11: Ծրագրի միջոցառումները
A13: Ծրագրի դասիչը` | B13: 1139 | C13: Ցուցանիշների փոփոխությունը (ծախսերի նվազեցումները նշված են փակագծերում)
A14: Միջոցառման դասիչը` | B14: 11001 | C14: Առաջին կիսամյակ | D14: Ինն ամիս | E14: Տարի
A15: Միջոցառման անվանումը` | B15: ՀՀ կառավարության պահուստային ֆոնդ
A16: Նկարագրությունը` | B16: ՀՀ պետական բյուջեում նախատեսված ելքերի լրացուցիչ ֆինանսավորման՝ պետական բյուջեում չկանխատեսված ելքերի՝ ինչպես նաև բյուջետային երաշխիքների ապահովման ելքերի ֆինանսավորման ապահովում
A17: Միջոցառման տեսակը` | B17: Ծառայությունների մատուցում
A18: Միջոցառումն իրականացնողի անվանումը | B18: ՀՀ կառավարություն
A19: Արդյունքի չափորոշիչներ
A20: Միջոցառման վրա կատարվող ծախսը (հազար դրամ) | C20: =-C43 -> 0 | D20: =-D43 -> -25000 | E20: =-E43 -> -37954.7
A23: ՀԱՅԱՍՏԱՆԻ ՀԱՆՐԱՊԵՏՈՒԹՅԱՆ ԿԱՌԱՎԱՐՈՒԹՅԱՆ 2018 ԹՎԱԿԱՆԻ ԴԵԿՏԵՄԲԵՐԻ 27-Ի N 1515-Ն ՈՐՈՇՄԱՆ N 11 ՀԱՎԵԼՎԱԾԻ N 11.13 ԱՂՅՈՒՍԱԿՈՒՄ ԿԱՏԱՐՎՈՂ ՓՈՓՈԽՈՒԹՅՈՒՆՆԵՐԸ
A24: ՀՀ շրջակա միջավայրի նախարարություն
A25: ՄԱՍ 2. ՊԵՏԱԿԱՆ ՄԱՐՄՆԻ ԳԾՈՎ ԱՐԴՅՈՒՆՔԱՅԻՆ (ԿԱՏԱՐՈՂԱԿԱՆ) ՑՈՒՑԱՆԻՇՆԵՐԸ
A27: Ծրագրի դասիչը | B27: Ծրագրի անվանումը
A28: 1016 | B28: Շրջակա միջավայրի վրա ազդեցության գնահատում և մոնիթորինգ
A30: Ծրագրի միջոցառումները
A32: Ծրագրի դասիչը` | B32: 1016 | C32: Ցուցանիշների փոփոխությունը (ծախսերի ավելացումները նշված են դրական նշանով)
A33: Միջոցառման դասիչը` | B33: 11003 | C33: Առաջին կիսամյակ | D33: Ինն ամիս | E33: Տարի
A34: Միջոցառման անվանումը` | B34: ='N 1'!C31 -> Արարատյան դաշտի ապօրինի շահագործվող, ինքնաշատրվանող և բացասական մակարդակով հորերի լուծարում և կոնսերվացում
A35: Նկարագրությունը` | B35: ='N 1'!C33 -> Արարատյան դաշտի ապօրինի շահագործվող, ինքնաշատրվանող և բացասական մակարդակով հորերի լուծարման կամ կոնսերվացման աշխատանքների իրականացում
A36: Միջոցառման տեսակը` | B36: Ծառայությունների մատուցում
A37: Միջոցառումն իրականացնողի անվանումը՛ | B37: Համաձայն «Գնումների մասին» ՀՀ oրենքի ընտրված կազմակերպություններ
A38: Արդյունքի չափորոշիչներ
A39: Ազատ հոսքով, չշահագործվող ինքնաթափ խորքային կոնսերվացված հորերի թիվը, հատ | D39: 40 | E39: 97
A40: Ազատ հոսքով, չշահագործվող ինքնաթափ խորքային լուծարված հորերի թիվը, հատ | D40: 4 | E40: 8
A41: Աշխատանքների ավարտվածության աստիճան, տոկոս | D41: 50 | E41: 100
A42: Խնայված ջրի քանակ մլն.խմ /տարի | E42: 30
A43: Միջոցառման վրա կատարվող ծախսը (հազար դրամ) | C43: 0 | D43: ='N 2'!H34 -> 25000 | E43: ='N 2'!I34 -> 37954.7

Sheet N4 Doc4
B1: Հավելված 4 ՀՀ կառավարության 2019 թվականի____________ի N _____-Ն որոշման
A2: ՀԱՅԱՍՏԱՆԻ ՀԱՆՐԱՊԵՏՈՒԹՅԱՆ ԿԱՌԱՎԱՐՈՒԹՅԱՆ 2018 ԹՎԱԿԱՆԻ ԴԵԿՏԵՄԲԵՐԻ 27-Ի N 1515-Ն ՈՐՈՇՄԱՆ N11.1 ՀԱՎԵԼՎԱԾԻ N 11.1.66 ԱՂՅՈՒՍԱԿՈՒՄ ԿԱՏԱՐՎՈՂ ՓՈՓՈԽՈՒԹՅՈՒՆՆԵՐԸ ԵՎ ԼՐԱՑՈՒՄՆԵՐԸ
A4: ՀՀ կառավարություն
A6: ՄԱՍ 1. ՊԵՏԱԿԱՆ ՄԱՐՄՆԻ ԳԾՈՎ ԱՐԴՅՈՒՆՔԱՅԻՆ (ԿԱՏԱՐՈՂԱԿԱՆ) ՑՈՒՑԱՆԻՇՆԵՐԸ
A8: Ծրագրի դասիչը | B8: Ծրագրի անվանումը
A9: 1139 | B9: ՀՀ կառավարության պահուստային ֆոնդ
A11: Ծրագրի միջոցառումները
A13: Ծրագրի դասիչը` | B13: 1139 | C13: Ցուցանիշների փոփոխությունը (ծախսերի նվազեցումները նշված են փակագծերում)
A14: Միջոցառման դասիչը` | B14: 11001 | C14: Առաջին կիսամյակ | D14: Ինն ամիս | E14: Տարի
A15: Միջոցառման անվանումը` | B15: ՀՀ կառավարության պահուստային ֆոնդ
A16: Նկարագրությունը` | B16: ՀՀ պետական բյուջեում նախատեսված ելքերի լրացուցիչ ֆինանսավորման՝ պետական բյուջեում չկանխատեսված ելքերի՝ ինչպես նաև բյուջետային երաշխիքների ապահովման ելքերի ֆինանսավորման ապահովում
A17: Միջոցառման տեսակը` | B17: Ծառայությունների մատուցում
A18: Միջոցառումն իրականացնողի անվանումը | B18: ՀՀ կառավարություն
A19: Արդյունքի չափորոշիչներ
A20: Միջոցառման վրա կատարվող ծախսը (հազար դրամ) | C20: =-C44 -> 0 | D20: =-D44 -> -25000 | E20: =-E44 -> -37954.7
A23: ՀԱՅԱՍՏԱՆԻ ՀԱՆՐԱՊԵՏՈՒԹՅԱՆ ԿԱՌԱՎԱՐՈՒԹՅԱՆ 2018 ԹՎԱԿԱՆԻ ԴԵԿՏԵՄԲԵՐԻ 27-Ի N 1515-Ն ՈՐՈՇՄԱՆ N11.1 ՀԱՎԵԼՎԱԾԻ N 11.1.13 ԱՂՅՈՒՍԱԿՈՒՄ ԿԱՏԱՐՎՈՂ ՓՈՓՈԽՈՒԹՅՈՒՆՆԵՐԸ ԵՎ ԼՐԱՑՈՒՄՆԵՐԸ
A25: ՀՀ շրջակա միջավայրի նախարարություն
A26: ՄԱՍ 1. ՊԵՏԱԿԱՆ ՄԱՐՄՆԻ ԳԾՈՎ ԱՐԴՅՈՒՆՔԱՅԻՆ (ԿԱՏԱՐՈՂԱԿԱՆ) ՑՈՒՑԱՆԻՇՆԵՐԸ
A28: Ծրագրի դասիչը | B28: Ծրագրի անվանումը
A29: 1016 | B29: Շրջակա միջավայրի վրա ազդեցության գնահատում և մոնիթորինգ
A31: Ծրագրի միջոցառումները
A33: Ծրագրի դասիչը` | B33: 1016 | C33: Ցուցանիշների փոփոխությունը (ծախսերի ավելացումները նշված են դրական նշանով)
A34: Միջոցառման դասիչը` | B34: 11003 | C34: Առաջին կիսամյակ | D34: Ինն ամիս | E34: Տարի
A35: Միջոցառման անվանումը` | B35: ='N3 Doc1'!B34 -> Արարատյան դաշտի ապօրինի շահագործվող, ինքնաշատրվանող և բացասական մակարդակով հորերի լուծարում և կոնսերվացում
A36: Նկարագրությունը` | B36: ='N3 Doc1'!B35 -> Արարատյան դաշտի ապօրինի շահագործվող, ինքնաշատրվանող և բացասական մակարդակով հորերի լուծարման կամ կոնսերվացման աշխատանքների իրականացում
A37: Միջոցառման տեսակը` | B37: Ծառայությունների մատուցում
A38: Միջոցառումն իրականացնողի անվանումը՛ | B38: Համաձայն «Գնումների մասին» ՀՀ oրենքի ընտրված կազմակերպություններ
A39: Արդյունքի չափորոշիչներ
A40: ='N3 Doc1'!A39:B39 -> Ազատ հոսքով, չշահագործվող ինքնաթափ խորքային կոնսերվացված հորերի թիվը, հատ | D40: ='N3 Doc1'!D39 -> 40 | E40: ='N3 Doc1'!E39 -> 97
A41: ='N3 Doc1'!A40:B40 -> Ազատ հոսքով, չշահագործվող ինքնաթափ խորքային լուծարված հորերի թիվը, հատ | D41: ='N3 Doc1'!D40 -> 4 | E41: ='N3 Doc1'!E40 -> 8
A42: ='N3 Doc1'!A41:B41 -> Աշխատանքների ավարտվածության աստիճան, տոկոս | D42: ='N3 Doc1'!D41 -> 50 | E42: ='N3 Doc1'!E41 -> 100
A43: ='N3 Doc1'!A42:B42 -> Խնայված ջրի քանակ մլն.խմ /տարի | D43: ='N3 Doc1'!D42 -> 0 | E43: ='N3 Doc1'!E42 -> 30
A44: Միջոցառման վրա կատարվող ծախսը (հազար դրամ) | C44: ='N3 Doc1'!C43 -> 0 | D44: ='N3 Doc1'!D43 -> 25000 | E44: ='N3 Doc1'!E43 -> 37954.7

Sheet N5_gnum
D1: Հավելված 5 ՀՀ կառավարության 2019 թվականի____________ի N _____-Ն որոշման
A3: ՀԱՅԱՍՏԱՆԻ ՀԱՆՐԱՊԵՏՈՒԹՅԱՆ ԿԱՌԱՎԱՐՈՒԹՅԱՆ 2018 ԹՎԱԿԱՆԻ ԴԵԿՏԵՄԲԵՐԻ 27-Ի ԹԻՎ 1515-Ն ՈՐՈՇՄԱՆ N12 ՀԱՎԵԼՎԱԾՈՒՄ ԿԱՏԱՐՎՈՂ ԼՐԱՑՈՒՄՆԵՐԸ
A4: Գնման առարկայի | C4: Գնման ձևը | D4: Չափի միավորը | E4: Միավորի գինը | F4: Ցուցանիշների փոփոխությունը (ավելացումները նշված են դրական նշանով)
A5: միջանցիկ CPV կոդը | B5: անվանումը | F5: քանակը | G5: գումարը (հազար դրամ)
A6: Շրջակա միջավայրի նախարարություն | G6: =G7 -> 37954.71
A7: Բաժին N 11. Խումբ N 01. դաս N 01. | C7: ՀՀ կառավարության պահուստային ֆոնդ | G7: =G9 -> 37954.71
A8: ՀՀ կառավարության պահուստային ֆոնդ
B9: ՄԱՍ II. ԱՇԽԱՏԱՆՔՆԵՐ | G9: =G10+G12 -> 37954.71
A10: 45261161/501 | B10: Շրջակա միջավայրի բարելավման աշխատանքներ | C10: ԳՀ | D10: դրամ | E10: 37210500 | F10: 1 | G10: 37210.5
B11: ՄԱՍ III. ԾԱՌԱՅՈՒԹՅՈՒՆՆԵՐ
A12: 71351540/501 | B12: Տեխնիկական հսկողության ծառայություններ | C12: ԳՀ | D12: դրամ | E12: 744200 | F12: 1 | G12: =G10*2% -> 744.21
