Workbook

Sheet հ1
I1: Հավելված № 1
G2: ՀՀ կառավարության 2025 թվականի
I3: N ------------ -Ն որոշման
B4: «ՀԱՅԱՍՏԱՆԻ ՀԱՆՐԱՊԵՏՈՒԹՅԱՆ 2025 ԹՎԱԿԱՆԻ ՊԵՏԱԿԱՆ ԲՅՈՒՋԵԻ ՄԱՍԻՆ» ՕՐԵՆՔԻ N 1 ՀԱՎԵԼՎԱԾԻ N 2 ԱՂՅՈՒՍԱԿՈՒՄ ԿԱՏԱՐՎՈՂ ՎԵՐԱԲԱՇԽՈՒՄԸ ԵՎ ՀԱՅԱՍՏԱՆԻ ՀԱՆՐԱՊԵՏՈՒԹՅԱՆ ԿԱՌԱՎԱՐՈՒԹՅԱՆ 2024 ԹՎԱԿԱՆԻ ԴԵԿՏԵՄԲԵՐԻ 27-Ի N 2060-Ն ՈՐՈՇՄԱՆ N 5 ՀԱՎԵԼՎԱԾԻ N 1 ԱՂՅՈՒՍԱԿՈՒՄ ԿԱՏԱՐՎՈՂ ՓՈՓՈԽՈՒԹՅՈՒՆԸ ԵՎ ԼՐԱՑՈՒՄԸ
G7: հազար դրամներով
A8: ԲԳԿ | B8: Ծրագրային դասիչը | D8: ԲԳԿ/Ծրագրի /միջոցառման անվանումը | E8: Ծրագրի նպատակը/Միջոցառման նկարագրությունը | F8: Վերջնական արդյունքի նկարագրությունը/Միջոցառման տեսակը | G8: Ցուցանիշների փոփոխությունը (ավելացումները նշված են դրական նշանով, իսկ նվազեցումները` փակագծերում)
B9: Ծրագիր | C9: Միջոցառում | G9: Առաջին կիսամյակ | H9: Ինն ամիս | I9: Տարի
A10: ԸՆԴԱՄԵՆԸ | G10: 0 | H10: 0 | I10: 0
A11: ՀՀ տարածքային կառավարման և ենթակառուցվածքների նախարարություն | G11: 0 | H11: 0 | I11: 0
B12: 1176 | D12: Ավիացիայի բնագավառում վերահսկողության և կանոնակարգման ապահովում | E12: ՀՀ քաղաքացիական ավիացիայի համակարգի ենթակառուցվածքների գործունեության կանոնակարգում և զարգացում | F12: ՀՀ օդային տարածքով քաղաքացիների և բեռների անվտանգ և արագ տեղափոխման գործընթացների պատշաճ կանոնակարգում և դրանց պահանջների ապահովում | G12: =+G13 -> 2800 | H12: =+H13 -> 2800 | I12: =+I13 -> 2800
C13: 1176 - 11001 | D13: Ավիացիայի բնագավառում վերահսկողության և կանոնակարգման ծառայություններ | E13: ՀՀ քաղաքացիական ավիացիայի համակարգի ենթակառուցվածքների գործունեության կանոնակարգման ու զարգացման ծառայությունների մատուցում, այդ թվում՛ մասնակցություն պետական քաղաքականության շրջանակներում ուղևորահոսքի ծավալների աճի համար նախադրյալների ստեղծմանը | F13: Ծառայությունների մատուցում | G13: =H13 -> 2800 | H13: =I13 -> 2800 | I13: 2800
B14: 1049 | D14: Ճանապարհային ցանցի բարելավում | E14: Ճանապարհային ցանցի բարելավում և անվտանգ երթևեկության ապահովում | F14: Ճանապարհների ծածկի որակի և փոխադրումների արդյունավետության բարելավում, ճանապարհների վիճակով պայմանավորված պատահարների նվազում | G14: =+G15 -> -2800 | H14: =+H15 -> -2800 | I14: =+I15 -> -2800
C15: 1049 - 11003 | D15: Հայաստանի Հանրապետությունում հսկիչ սարքերի (թվային տախոգրաֆի) համակարգի կարգավորում | E15: Հայաստանի Հանրապետությունում հսկիչ սարքերի (թվային տախոգրաֆի) համակարգի անընդհատ և անխափան աշխատանքի ապահովման նպատակով տախոնետ կապի ապահովում | F15: Ծառայությունների մատուցում | G15: =-G13 -> -2800 | H15: =-H13 -> -2800 | I15: =-I13 -> -2800
B18: ՀԱՅԱՍՏԱՆԻ ՀԱՆՐԱՊԵՏՈՒԹՅԱՆ
B19: ՎԱՐՉԱՊԵՏԻ ԱՇԽԱՏԱԿԱԶՄԻ
C20: ՂԵԿԱՎԱՐ ՝ Ա. ՀԱՐՈՒԹՅՈՒՆՅԱՆ

Sheet հ2
I1: Հավելված № 2
G2: ՀՀ կառավարության 2025 թվականի
I3: N ------------ -Ն որոշման
A4: ՀԱՅԱՍՏԱՆԻ ՀԱՆՐԱՊԵՏՈՒԹՅԱՆ ԿԱՌԱՎԱՐՈՒԹՅԱՆ 2024 ԹՎԱԿԱՆԻ ԴԵԿՏԵՄԲԵՐԻ 27-Ի N 2060-Ն ՈՐՈՇՄԱՆ NN 3 ԵՎ 4 ՀԱՎԵԼՎԱԾՆԵՐՈՒՄ ԿԱՏԱՐՎՈՂ ՓՈՓՈԽՈՒԹՅՈՒՆՆԵՐԸ ԵՎ ԼՐԱՑՈՒՄՆԵՐԸ
G6: հազար դրամներով
A7: Գործառական դասիչը | D7: Ծրագրային դասիչը | F7: Բյուջետային հատկացումների գլխավոր կարգադրիչների, ծրագրերի, միջոցառումների և միջոցառումները կատարող պետական մարմինների անվանումները | G7: Ցուցանիշների փոփոխությունը (ավելացումները նշված են դրական նշանով, իսկ նվազեցումները` փակագծերում)
A8: Բաժին | B8: Խումբ | C8: Դաս | D8: Ծրագիր | E8: Միջոցառում | G8: Առաջին կիսամյակ | H8: Ինն ամիս | I8: Տարի
F9: ԸՆԴԱՄԵՆԸ | G9: =G13 -> 0 | H9: =H13 -> 0 | I9: =I13 -> 0
F10: այդ թվում`
F11: ՀՀ տարածքային կառավարման և ենթակառուցվածքների նախարարություն | G11: =G13 -> 0 | H11: =H13 -> 0 | I11: =I13 -> 0
F12: այդ թվում`
A13: 04 | F13: ՏՆՏԵՍԱԿԱՆ ՀԱՐԱԲԵՐՈՒԹՅՈՒՆՆԵՐ | G13: =G15 -> 0 | H13: =H15 -> 0 | I13: =I15 -> 0
F14: այդ թվում`
B15: 05 | F15: ՏՐԱՆՍՊՈՐՏ | G15: =G17+G31 -> 0 | H15: =H17+H31 -> 0 | I15: =I17+I31 -> 0
F16: այդ թվում`
C17: 01 | F17: Ճանապարհային տրանսպորտ | G17: =+G20 -> -2800 | H17: =+H20 -> -2800 | I17: =+I20 -> -2800
F18: այդ թվում`
F19: ՀՀ տարածքային կառավարման և ենթակառուցվածքների նախարարություն | G19: =G20 -> -2800 | H19: =H20 -> -2800 | I19: =I20 -> -2800
D20: 1049 | F20: Ճանապարհային ցանցի բարելավում | G20: =+G22 -> -2800 | H20: =+H22 -> -2800 | I20: =+I22 -> -2800
F21: այդ թվում`
E22: 11003 | F22: Հայաստանի Հանրապետությունում հսկիչ սարքերի (թվային տախոգրաֆի) համակարգի կարգավորում | G22: =G24 -> -2800 | H22: =H24 -> -2800 | I22: =I24 -> -2800
F23: այդ թվում` ըստ կատարողների
F24: ՀՀ տարածքային կառավարման և ենթակառուցվածքների նախարարություն | G24: =G26 -> -2800 | H24: =H26 -> -2800 | I24: =I26 -> -2800
F25: այդ թվում` բյուջետային ծախսերի տնտեսագիտական դասակարգման հոդվածներ
F26: ԸՆԴԱՄԵՆԸ ԾԱԽՍԵՐ | G26: =G27 -> -2800 | H26: =H27 -> -2800 | I26: =I27 -> -2800
F27: ԸՆԹԱՑԻԿ ԾԱԽՍԵՐ | G27: =G28 -> -2800 | H27: =H28 -> -2800 | I27: =I28 -> -2800
F28: ԾԱՌԱՅՈՒԹՅՈՒՆՆԵՐԻ ԵՎ ԱՊՐԱՆՔՆԵՐԻ ՁԵՌՔԲԵՐՈՒՄ | G28: =G29 -> -2800 | H28: =H29 -> -2800 | I28: =I29 -> -2800
F29: Ընթացիկ նորոգում և պահպանում (ծառայություններ և նյութեր) | G29: =+G30 -> -2800 | H29: =+H30 -> -2800 | I29: =+I30 -> -2800
F30: - Մեքենաների և սարքավորումների ընթացիկ նորոգում և պահպանում | G30: =հ1!G15 -> -2800 | H30: =հ1!H15 -> -2800 | I30: =հ1!I15 -> -2800
C31: 04 | F31: ՕԴԱՅԻՆ ՏՐԱՆՍՊՈՐՏ | G31: =+G35 -> 2800 | H31: =+H35 -> 2800 | I31: =+I35 -> 2800
F32: այդ թվում`
F33: ՀՀ տարածքային կառավարման և ենթակառուցվածքների նախարարություն | G33: =G35 -> 2800 | H33: =H35 -> 2800 | I33: =I35 -> 2800
F34: այդ թվում`
D35: 1176 | F35: Ավիացիայի բնագավառում վերահսկողության և կանոնակարգման ապահովում | G35: =G37 -> 2800 | H35: =H37 -> 2800 | I35: =I37 -> 2800
F36: այդ թվում`
E37: 11001 | F37: Ավիացիայի բնագավառում վերահսկողության և կանոնակարգման ծառայություններ | G37: =G39 -> 2800 | H37: =H39 -> 2800 | I37: =I39 -> 2800
F38: այդ թվում` ըստ կատարողների
F39: ՀՀ տարածքային կառավարման և ենթակառուցվածքների նախարարության քաղաքացիական ավիացիայի կոմիտե | G39: =G41 -> 2800 | H39: =H41 -> 2800 | I39: =I41 -> 2800
F40: այդ թվում` բյուջետային ծախսերի տնտեսագիտական դասակարգման հոդվածներ
F41: ԸՆԴԱՄԵՆԸ՝ ԾԱԽՍԵՐ | G41: =G42 -> 2800 | H41: =H42 -> 2800 | I41: =I42 -> 2800
F42: ԸՆԹԱՑԻԿ ԾԱԽՍԵՐ | G42: =G43 -> 2800 | H42: =H43 -> 2800 | I42: =I43 -> 2800
F43: ԾԱՌԱՅՈՒԹՅՈՒՆՆԵՐԻ ԵՎ ԱՊՐԱՆՔՆԵՐԻ ՁԵՌՔԲԵՐՈՒՄ | G43: =G44 -> 2800 | H43: =H44 -> 2800 | I43: =I44 -> 2800
F44: Պայմանագրային այլ ծառայությունների ձեռքբերում | G44: =G45 -> 2800 | H44: =H45 -> 2800 | I44: =I45 -> 2800
F45: - Կառավարչական ծառայություններ | G45: =հ1!G13 -> 2800 | H45: =հ1!H13 -> 2800 | I45: =հ1!I13 -> 2800
B48: ՀԱՅԱՍՏԱՆԻ ՀԱՆՐԱՊԵՏՈՒԹՅԱՆ
B49: ՎԱՐՉԱՊԵՏԻ ԱՇԽԱՏԱԿԱԶՄԻ
C50: ՂԵԿԱՎԱՐ ՝ Ա. ՀԱՐՈՒԹՅՈՒՆՅԱՆ

Sheet հ3
L1: Հավելված № 3
K2: ՀՀ կառավարության 2025 թվականի
K3: ------------- ի № ---- -Ն որոշման
B5: ՀԱՅԱՍՏԱՆԻ ՀԱՆՐԱՊԵՏՈՒԹՅԱՆ ԿԱՌԱՎԱՐՈՒԹՅԱՆ 2024 ԹՎԱԿԱՆԻ ԴԵԿՏԵՄԲԵՐԻ 27-Ի № 2060-Ն ՈՐՈՇՄԱՆ № 9 ՀԱՎԵԼՎԱԾԻ ԱՂՅՈՒՍԱԿՆԵՐՈՒՄ ԿԱՏԱՐՎՈՂ ՓՈՓՈԽՈՒԹՅՈՒՆԸ ԵՎ ԼՐԱՑՈՒՄԸ
B8: ԲԳԿ | C8: Ծրագիր | E8: Միջոցառում | I8: Իրականացնողը/ ակտիվն օգտագործողը/ շահառուի ընտրության չափորոշիչը | J8: Արդյունքային չափորոշիչը | K8: Ցուցանիշների փոփոխությունը (ավելացումները նշված են դրական նշանով, իսկ նվազեցումները` փակագծերում)
C9: Դասիչը | D9: Անվանումը | E9: Դասիչը | F9: Անվանումը | G9: Նկարագրությունը | H9: Տեսակը | K9: Առաջին կիսամյակ | L9: Ինն ամիս | M9: Տարի
B10: ԸՆԴԱՄԵՆԸ | K10: =K11 -> 0 | L10: =L11 -> 0 | M10: =M11 -> 0
B11: ՀՀ տարածքային կառավարման և ենթակառուցվածքների նախարարություն | K11: =K12+K17 -> 0 | L11: =L12+L17 -> 0 | M11: =M12+M17 -> 0
C12: 1049 | D12: Ճանապարհային ցանցի բարելավում | K12: =K13 -> -2800 | L12: =L13 -> -2800 | M12: =M13 -> -2800
E13: 1049 - 11003 | F13: Հայաստանի Հանրապետությունում հսկիչ սարքերի (թվային տախոգրաֆի) համակարգի կարգավորում | K13: =հ2!G30 -> -2800 | L13: =հ2!H30 -> -2800 | M13: =հ2!I30 -> -2800
G14: Հայաստանի Հանրապետությունում հսկիչ սարքերի (թվային տախոգրաֆի) համակարգի անընդհատ և անխափան աշխատանքի ապահովման նպատակով տախոնետ կապի ապահովում
H15: Ծառայությունների մատուցում
I16: Ծառայությունը մատուցողի անվանումը` Մրցութային ընտրակարգով հաղթող ճանաչված ընկերություն
C17: 1176 | D17: Ավիացիայի բնագավառում վերահսկողության և կանոնակարգման ապահովում | K17: =K18 -> 2800 | L17: =L18 -> 2800 | M17: =M18 -> 2800
E18: 1176 - 11001 | F18: Ավիացիայի բնագավառում վերահսկողության և կանոնակարգման ծառայություններ | K18: =հ2!G37 -> 2800 | L18: =հ2!H37 -> 2800 | M18: =հ2!I37 -> 2800
G19: ՀՀ քաղաքացիական ավիացիայի համակարգի ենթակառուցվածքների գործունեության կանոնակարգման ու զարգացման ծառայությունների մատուցում, այդ թվում՛ մասնակցություն պետական քաղաքականության շրջանակներում ուղևորահոսքի ծավալների աճի համար նախադրյալների ստեղծմանը
H20: Ծառայությունների մատուցում
I21: Ծառայությունը մատուցողի անվանումը` ՀՀ տարածքային կառավարման և ենթակառուցվածքների նախարարության քաղաքացիական ավիացիայի կոմիտե
D24: ՀԱՅԱՍՏԱՆԻ ՀԱՆՐԱՊԵՏՈՒԹՅԱՆ
D25: ՎԱՐՉԱՊԵՏԻ ԱՇԽԱՏԱԿԱԶՄԻ
E26: ՂԵԿԱՎԱՐ ՝ Ա. ՀԱՐՈՒԹՅՈՒՆՅԱՆ

Sheet հ4
L1: Հավելված № 4
K2: ՀՀ կառավարության 2025 թվականի
K3: ------------- ի № ---- -Ն որոշման
B5: ՀԱՅԱՍՏԱՆԻ ՀԱՆՐԱՊԵՏՈՒԹՅԱՆ ԿԱՌԱՎԱՐՈՒԹՅԱՆ 2024 ԹՎԱԿԱՆԻ ԴԵԿՏԵՄԲԵՐԻ 27-Ի № 2060-Ն ՈՐՈՇՄԱՆ № 9.1 ՀԱՎԵԼՎԱԾԻ ԱՂՅՈՒՍԱԿՆԵՐՈՒՄ ԿԱՏԱՐՎՈՂ ՓՈՓՈԽՈՒԹՅՈՒՆԸ ԵՎ ԼՐԱՑՈՒՄԸ
B7: ԲՍԿ | C7: Ծրագիր | E7: Միջոցառում | I7: Իրականացնողը/ ակտիվն օգտագործողը/ շահառուի ընտրության չափորոշիչը | J7: Արդյունքային չափորոշիչը | K7: Ցուցանիշների փոփոխությունը (ավելացումները նշված են դրական նշանով, իսկ նվազեցումները` փակագծերում)
C8: Դասիչը | D8: Անվանումը | E8: Դասիչը | F8: Անվանումը | G8: Նկարագրությունը | H8: Տեսակը | K8: Առաջին կիսամյակ | L8: Ինն ամիս | M8: Տարի
B9: ԸՆԴԱՄԵՆԸ | K9: =K10+K16 -> 0 | L9: =L10+L16 -> 0 | M9: =M10+M16 -> 0
B10: ՀՀ տարածքային կառավարման և ենթակառուցվածքների նախարարություն | K10: =K11 -> -2800 | L10: =L11 -> -2800 | M10: =M11 -> -2800
C11: 1049 | D11: Ճանապարհային ցանցի բարելավում | K11: =K12 -> -2800 | L11: =L12 -> -2800 | M11: =M12 -> -2800
E12: 1049 - 11003 | F12: Հայաստանի Հանրապետությունում հսկիչ սարքերի (թվային տախոգրաֆի) համակարգի կարգավորում | K12: =հ2!G30 -> -2800 | L12: =հ2!H30 -> -2800 | M12: =հ2!I30 -> -2800
G13: Հայաստանի Հանրապետությունում հսկիչ սարքերի (թվային տախոգրաֆի) համակարգի անընդհատ և անխափան աշխատանքի ապահովման նպատակով տախոնետ կապի ապահովում
H14: Ծառայությունների մատուցում
I15: Ծառայությունը մատուցողի անվանումը` Մրցութային ընտրակարգով հաղթող ճանաչված ընկերություն
B16: ՀՀ տարածքային կառավարման և ենթակառուցվածքների նախարարության քաղաքացիական ավիացիայի կոմիտե | K16: =K17 -> 2800 | L16: =L17 -> 2800 | M16: =M17 -> 2800
C17: 1176 | D17: Ավիացիայի բնագավառում վերահսկողության և կանոնակարգման ապահովում | K17: =K18 -> 2800 | L17: =L18 -> 2800 | M17: =M18 -> 2800
E18: 1176 - 11001 | F18: Ավիացիայի բնագավառում վերահսկողության և կանոնակարգման ծառայություններ | K18: =հ2!G37 -> 2800 | L18: =հ2!H37 -> 2800 | M18: =հ2!I37 -> 2800
G19: ՀՀ քաղաքացիական ավիացիայի համակարգի ենթակառուցվածքների գործունեության կանոնակարգման ու զարգացման ծառայությունների մատուցում, այդ թվում՛ մասնակցություն պետական քաղաքականության շրջանակներում ուղևորահոսքի ծավալների աճի համար նախադրյալների ստեղծմանը
H20: Ծառայությունների մատուցում
I21: Ծառայությունը մատուցողի անվանումը` ՀՀ տարածքային կառավարման և ենթակառուցվածքների նախարարության քաղաքացիական ավիացիայի կոմիտե
D25: ՀԱՅԱՍՏԱՆԻ ՀԱՆՐԱՊԵՏՈՒԹՅԱՆ
D26: ՎԱՐՉԱՊԵՏԻ ԱՇԽԱՏԱԿԱԶՄԻ
E27: ՂԵԿԱՎԱՐ ՝ Ա. ՀԱՐՈՒԹՅՈՒՆՅԱՆ

Sheet հ5
G1: Հավելված № 5
D2: ՀՀ կառավարության 2025 թվականի
G3: N ------------ -Ն որոշման
A5: ՀԱՅԱՍՏԱՆԻ ՀԱՆՐԱՊԵՏՈՒԹՅԱՆ ԿԱՌԱՎԱՐՈՒԹՅԱՆ 2024 ԹՎԱԿԱՆԻ ԴԵԿՏԵՄԲԵՐԻ 27-Ի N 2060-Ն ՈՐՈՇՄԱՆ N 10 ՀԱՎԵԼՎԱԾՈՒՄ ԿԱՏԱՐՎՈՂ ՓՈՓՈԽՈՒԹՅՈՒՆԸ ԵՎ ԼՐԱՑՈՒՄԸ
E6: հազար դրամներով
A7: Կոդը | B7: Անվանումը | C7: Գնման ձևը | D7: Չափի միավորը | E7: Միավորի գինը | F7: Ցուցանիշների փոփոխությունը (ավելացումները նշված են դրական նշանով, իսկ նվազեցումները` փակագծերում)
F8: քանակը | G8: գումարը (հազ. դրամ)
B9: Ընդամենը | G9: =G10+G15 -> 0
A10: ՀՀ տարածքային կառավարման և ենթակառուցվածքների նախարարություն | G10: =G13 -> -2800
A11: Բաժին N 04 | B11: Խումբ N 05 | C11: Դաս N 01 | D11: Ճանապարհային տրանսպորտ | G11: =G10 -> -2800
A12: 1049 11003 | B12: Հայաստանի Հանրապետությունում հսկիչ սարքերի (թվային տախոգրաֆի) համակարգի կարգավորում | G12: =G13 -> -2800
B13: ՄԱՍ III. ԾԱՌԱՅՈՒԹՅՈՒՆՆԵՐ | G13: =G14 -> -2800
A14: 50411170-1 | B14: Ստուգող սարքերի վերանորոգման և պահպանման ծառայություն | C14: ԲՄ | D14: դրամ | G14: =հ1!I15 -> -2800
A15: ՀՀ տարածքային կառավարման և ենթակառուցվածքների նախարարության քաղաքացիական ավիացիայի կոմիտե | G15: =G16 -> 2800
A16: Բաժին N 04 | B16: Խումբ N 05 | C16: Դաս N 04 | D16: օդային տրանսպորտ | G16: =G17 -> 2800
A17: 1176 11001 | B17: Ավիացիայի բնագավառում վերահսկողության և կանոնակարգման ծառայություններ | G17: =G19 -> 2800
B18: ՄԱՍ III. ԾԱՌԱՅՈՒԹՅՈՒՆՆԵՐ | G18: =G19 -> 2800
A19: 79211180-1 | B19: ներքին աուդիտի ծառայություններ | C19: ԷԱՃ | D19: դրամ | E19: =G19*1000 -> 2800000 | F19: 1 | G19: =հ2!I35 -> 2800
A25: ՀԱՅԱՍՏԱՆԻ ՀԱՆՐԱՊԵՏՈՒԹՅԱՆ
A26: ՎԱՐՉԱՊԵՏԻ ԱՇԽԱՏԱԿԱԶՄԻ
B27: ՂԵԿԱՎԱՐ ՝ Ա. ՀԱՐՈՒԹՅՈՒՆՅԱՆ
