Workbook

Sheet 1
G1: Հավելված N1
I2: ՀՀ կառավարության 2025 թվականի
I3: ______________ ի ___Ն որոշման
B5: «ՀԱՅԱUՏԱՆԻ ՀԱՆՐԱՊԵՏՈՒԹՅԱՆ 2025 ԹՎԱԿԱՆԻ ՊԵՏԱԿԱՆ ԲՅՈՒՋԵԻ ՄԱUԻՆ» OՐԵՆՔԻ N 1 ՀԱՎԵԼՎԱԾԻ N 2 ԱՂՅՈՒՍԱԿՈՒՄ ԿԱՏԱՐՎՈՂ ՎԵՐԱԲԱՇԽՈՒՄԸ, ՓՈՓՈԽՈՒԹՅՈՒՆՆԵՐԸ ԵՎ ԼՐԱՑՈՒՄՆԵՐԸ, ՀԱՅԱՍՏԱՆԻ ՀԱՆՐԱՊԵՏՈՒԹՅԱՆ ԿԱՌԱՎԱՐՈՒԹՅԱՆ 2024 ԹՎԱԿԱՆԻ ԴԵԿՏԵՄԲԵՐԻ 27-Ի N 2060-Ն ՈՐՈՇՄԱՆ N 5 ՀԱՎԵԼՎԱԾԻ N 1 ԱՂՅՈՒՍԱԿՈՒՄ ԿԱՏԱՐՎՈՂ ՓՈՓՈԽՈՒԹՅՈՒՆՆԵՐԸ ԵՎ ԼՐԱՑՈՒՄՆԵՐԸ
H6: հազար դրամներով
A7: ԲԳԿ | B7: Ծրագրային դասիչը | D7: ԲԳԿ/Ծրագրի /միջոցառման անվանումը | E7: Ծրագրի նպատակը/Միջոցառման նկարագրությունը | F7: Վերջնական արդյունքի նկարագրությունը/Միջոցառման տեսակը | G7: Ցուցանիշների փոփոխությունը (ավելացումները նշված են դրական նշանով, իսկ նվազեցումները՝ փակագծերում)
G8: Առաջին կիսամյակ | H8: Ինն ամիս | I8: Տարի
B9: Ծրագիր | C9: Միջոցառում
A10: ԸՆԴԱՄԵՆԸ | G10: =G11+G28 -> 0 | H10: =H11+H28 -> 0 | I10: =I11+I28 -> 0
A11: ՀՀ տարածքային կառավարման և ենթակառուցվածքների նախարարություն | G11: =G12+G19+G26 -> 0 | H11: =H12+H19+H26 -> 0 | I11: =I12+I19+I26 -> 0
B12: 1004 | D12: Ոռոգման համակարգի առողջացում | E12: Ոռոգման ծառայությունների հասանելիության և մատչելիության ապահովում | F12: Ոռոգման ջրի մատակարարման արդյունավետության և հասանելիության բարելավում, կորուստների կրճատում | G12: =SUM(G13:G18) -> -12115.5 | H12: =SUM(H13:H18) -> -18195.5 | I12: =SUM(I13:I18) -> -18195.5
C13: 1004 - 11005 | D13: Եվրասիական զարգացման բանկի աջակցությամբ իրականացվող ոռոգման համակարգերի զարգացման ծրագրի խորհրդատվություն և կառավարում | E13: Եվրասիական զարգացման բանկի աջակցությամբ իրականացվող ոռոգման համակարգերի զարգացման ծրագրի համակարգում և ղեկավարում | F13: Ծառայությունների մատուցում | G13: ='3'!G21 -> -42.1 | H13: ='3'!H21 -> -42.1 | I13: ='3'!I21 -> -42.1
C14: 1004 - 11009 | D14: Գերմանիայի զարգացման վարկերի բանկի աջակցությամբ իրականացվող Ախուրյան գետի ջրային ռեսուրսների ինտեգրացված կառավարման դրամաշնորհային ծրագիր | E14: Գերմանիայի զարգացման վարկերի բանկի աջակցությամբ իրականացվող Ախուրյան գետի ջրային ռեսուրսների ինտեգրացված կառավարման դրամաշնորհային ծրագրի համակարգում և ղեկավարում | F14: Ծառայությունների մատուցում | G14: ='3'!G29 -> -2500 | H14: ='3'!H29 -> -5043.3 | I14: ='3'!I29 -> -7536.7
C15: 1004 - 11011 | D15: Զարգացման ֆրանսիական գործակալության աջակցությամբ իրականացվող ոռոգման ոլորտի ֆինանսական կայունության և ոռոգման կառավարման կարողությունների բարելավման դրամաշնորհային ծրագրի խորհրդատվություն և կառավարում | E15: Զարգացման ֆրանսիական գործակալության աջակցությամբ իրականացվող ոռոգման ոլորտի ֆինանսական կայունության և ոռոգման կառավարման կարողությունների բարելավման ծրագրի համակարգում և ղեկավարում | F15: Ծառայությունների մատուցում | G15: ='3'!G37 -> -5036.7 | H15: ='3'!H37 -> -2493.4 | I15: ='3'!I37 -> 0
C16: 1004 - 12001 | D16: Աջակցություն ոռոգման համակարգի առողջացմանը | E16: Աջակցություն ոռոգման համակարգի ընկերությունների ֆինանսական կենսունակության բարելավման նպատակով իրականացվող միջոցառումներին | F16: Տրանսֆերտների տրամադրում | G16: ='3'!G45 -> 0 | H16: ='3'!H45 -> 0 | I16: ='3'!I45 -> 22000
C17: 1004 - 31009 | D17: Օրվա կարգավորման ջրավազանների կառուցում և վերակառուցում | E17: Օրվա կարգավորման ջրավազանների կառուցման և վերակառուցման համար նախագծերի և աշխատանքների ձեռքբերում | F17: Պետական մարմինների կողմից օգտագործվող ոչ ֆինանսական ակտիվների հետ գործառնություններ | G17: ='3'!G54 -> -7536.7 | H17: ='3'!H54 -> -31916.7 | I17: ='3'!I54 -> 0
C18: 1004 - 31014 | D18: Ջրամբարների վերականգնման և վերազինման աշխատանքներ | E18: Ջրամբարների վերականգնման և վերազինման համար նախագծերի և աշխատանքների ձեռքբերում | F18: Պետական մարմինների կողմից օգտագործվող ոչ ֆինանսական ակտիվների հետ գործառնություններ | G18: ='3'!G63 -> 3000 | H18: ='3'!H63 -> 21300 | I18: ='3'!I63 -> -32616.7
B19: 1072 | D19: Ջրամատակարարաման և ջրահեռացման բարելավում | E19: Ջրամատակարարման ծառայությունների հասանելիության և մատչելիության ապահովում | F19: Խմելու ջրի մատակարարման և ջրահեռացման համակարգի բարելավում, կորուստների կրճատում | G19: =SUM(G20:G25) -> 6355.5 | H19: =SUM(H20:H25) -> 7435.5 | I19: =SUM(I20:I25) -> 7435.5
C20: 1072 - 11001 | D20: Խմելու ջրի մատակարարման և ջրահեռացման ծառայությունների սուբսիդավորում | E20: Խմելու ջուր մատակարարող ընկերության սուբսիդավորում՛ հաստատված սակագնի և նվազագույն շահավետ գնի տարբերության չափով | F20: Ծառայությունների մատուցում | G20: ='3'!G82 -> -8274.5 | H20: ='3'!H82 -> -8274.5 | I20: ='3'!I82 -> -8274.5
C21: 1072 - 11007 | D21: Գերմանիայի զարգացման վարկերի բանկի աջակցությամբ իրականացվող ջրամատակարարման և ջրահեռացման ենթակառուցվածքների վերականգնման ծրագրի երրորդ փուլ | E21: Համայնքային ջրամատակարարման և ջրահեռացման ենթակառուցվածքների վերականգնման ծրագրի համակարգում և ղեկավարում | F21: Ծառայությունների մատուցում | G21: ='3'!G91 -> 42.1 | H21: ='3'!H91 -> 42.1 | I21: ='3'!I91 -> 42.1
C22: 1072 - 11011 | D22: Գերմանիայի զարգացման վարկերի բանկի աջակցությամբ իրականացվող Համայնքային ենթակառուցվածքների երկրորդ ծրագրի երրորդ փուլի դրամաշնորհային ծրագիր | E22: Համայնքային ջրամատակարարման և ջրահեռացման ենթակառուցվածքների վերականգնման դրամաշնորհային ծրագրի համակարգում և ղեկավարում | F22: Ծառայությունների մատուցում | G22: 7480.2 | H22: 7480.2 | I22: 7480.2
C23: 1072 - 12001 | D23: Գերմանիայի զարգացման և Եվրոպական միության հարևանության ներդրումային բանկի աջակցությամբ իրականացվող ջրամատակարարման և ջրահեռացման ենթակառուցվածքների դրամաշնորհային ծրագիր` երրորդ փուլ | E23: 579 գյուղական բնակավայրերից ընտրված որոշ համայնքների ջրամատակարարման և ջրահեռացման համակարգերի հատվածների հրատապ վերականգնման աշխատանքների իրականացում ինչպես նաև Արմավիրի կեղտաջրերի մաքրման կայանի կառուցում | F23: Տրանսֆերտների տրամադրում | G23: ='3'!G108 -> 56.5 | H23: ='3'!H108 -> 56.5 | I23: ='3'!I108 -> 56.5
C24: 1072 - 31009 | D24: ՀՀ տարածքում վարձակալի կողմից չսպասարկվող բնակավայրերում ջրամատակարարման և ջրահեռացման համակարգերի կառուցում | E24: ՀՀ տարածքում Վարձակալի կողմից չսպասարկվող բնակավայրերում ջրամատակարարման և ջրահեռացման համակարգերի կառուցման ծրագիր | F24: Պետական մարմինների կողմից օգտագործվող ոչ ֆինանսական ակտիվների հետ գործառնություններ | G24: ='6'!D28 -> 3960 | H24: ='6'!E28 -> 3960 | I24: ='6'!F28 -> 3960
C25: 1072 - 31013 | D25: Ջրամատակարարման և ջրահեռացման համակարգի կառուցում | E25: Ջրամատակարարման և ջրահեռացման համակարգի կառուցման նախագծերի և աշխատանքների ձեռքբերում | F25: Պետական մարմինների կողմից օգտագործվող ոչ ֆինանսական ակտիվների հետ գործառնություններ | G25: ='3'!G126 -> 3091.2 | H25: ='3'!H126 -> 4171.2 | I25: ='3'!I126 -> 4171.2
B26: 1109 | D26: Ջրային տնտեսության ոլորտում ծրագրերի համակարգում և մոնիտորինգ | E26: Ջրային տնտեսության ոլորտում պետական արդյունավետ ծրագրերի մշակման և իրականացման ապահովում | F26: Ջրային տնտեսության ոլորտում իրականացվող ծրագրերի ազդեցության և արդյունավետության բարելավում | G26: =SUM(G27) -> 5760 | H26: =SUM(H27) -> 10760 | I26: =SUM(I27) -> 10760
C27: 1109 - 11001 | D27: Ջրային տնտեսության ոլորտում պետական քաղաքականության մշակում, ծրագրերի համակարգում և մոնիտորինգ | E27: Ոլորտի քաղաքականության խորհրդատվության, կոմիտեի իրավասության տակ ընկնող ծառայությունների ու ծրագրերի համակարգման ծառայություններ | F27: Ծառայությունների մատուցում | G27: ='3'!G137 -> 5760 | H27: ='3'!H137 -> 10760 | I27: ='3'!I137 -> 10760
A28: ՀՀ կառավարություն | G28: =G29 -> 0 | H28: =H29 -> 0 | I28: =I29 -> 0
B29: 1139 | D29: ՀՀ կառավարության պահուստային ֆոնդ | E29: Պետական բյուջեում չկանխատեսված, ինչպես նաեւ բյուջետային երաշխիքների ապահովման ծախսերի ֆինանսավորման ապահովում | F29: Պահուստային ֆոնդի կառավարման արդյունավետության և թափանցիկության ապահովում | G29: =G30+G31 -> 0 | H29: =H30+H31 -> 0 | I29: =I30+I31 -> 0
C30: 1139 - 11001 | D30: ՀՀ կառավարության պահուստային ֆոնդ | E30: ՀՀ պետական բյուջեում նախատեսված ելքերի լրացուցիչ ֆինանսավորման, պետական բյուջեում չկանխատեսված ելքերի, ինչպես նաև բյուջետային երաշխիքների ապահովման ելքերի ֆինանսավորման ապահովում | F30: Ծառայությունների մատուցում | G30: ='3'!G159 -> -9544.6 | H30: ='3'!H159 -> -10624.6 | I30: ='3'!I159 -> -10624.6
C31: 1139 - 11001 | D31: ՀՀ կառավարության պահուստային ֆոնդ | E31: ՀՀ պետական բյուջեում նախատեսված ելքերի լրացուցիչ ֆինանսավորման, պետական բյուջեում չկանխատեսված ելքերի, ինչպես նաև բյուջետային երաշխիքների ապահովման ելքերի ֆինանսավորման ապահովում | F31: Ծառայությունների մատուցում | G31: ='3'!G167 -> 9544.6 | H31: ='3'!H167 -> 10624.6 | I31: ='3'!I167 -> 10624.6

Sheet 2 
A1: Հավելված N 2
A2: ՀՀ կառավարության 2025 թվականի
A3: -ի N -Ն որոշման
A4: «ՀԱՅԱՍՏԱՆԻ ՀԱՆՐԱՊԵՏՈՒԹՅԱՆ 2025 ԹՎԱԿԱՆԻ ՊԵՏԱԿԱՆ ԲՅՈՒՋԵԻ ՄԱՍԻՆ» ՀԱՅԱՍՏԱՆԻ ՀԱՆՐԱՊԵՏՈՒԹՅԱՆ ՕՐԵՆՔԻ N 1 ՀԱՎԵԼՎԱԾԻ N 3 ԱՂՅՈՒՍԱԿՈՒՄ ԿԱՏԱՐՎՈՂ ՓՈՓՈԽՈՒԹՅՈՒՆՆԵՐԸ ԵՎ ԼՐԱՑՈՒՄՆԵՐԸ
G5: հազար դրամներով
A6: Ծրագրային դասիչ | C6: Բյուջետային գլխավոր կարգադրիչների, ծրագրերի, միջոցառումների և ուղղությունների անվանումները | D6: Ցուցանիշների փոփոխությունը (ավելացումները նշված են դրական նշանով, իսկ նվազեցումները՝ փակագծերում)
D7: Ընդամենը, | E7: այդ թվում՝
A8: Ծրագիր | B8: Միջոցառում | E8: Կառուցման աշխատանքներ | F8: Վերակառուցման, վերանորոգման և վերականգնման աշխատանքներ | G8: Նախագծահե- տազոտական, գեոդեզիա- քարտեզագրա- կան աշխա- տանքներ | H8: Ոչ ֆինանսական այլ ակտիվների ձեռքբերում
C9: ԸՆԴԱՄԵՆԸ | D9: =SUM(E9:H9) -> -24485.5 | E9: =E11 -> 0 | F9: =F11 -> -53916.7 | G9: =G11 -> 29431.2 | H9: =H11 -> 0
C10: այդ թվում՝
C11: ՀՀ ՏԱՐԱԾՔԱՅԻՆ ԿԱՌԱՎԱՐՄԱՆ ԵՎ ԵՆԹԱԿԱՌՈՒՑՎԱԾՔՆԵՐԻ ՆԱԽԱՐԱՐՈՒԹՅՈՒՆ | D11: =SUM(E11:H11) -> -24485.5 | E11: =E14+E19+E22 -> 0 | F11: =F14+F19+F22 -> -53916.7 | G11: =G14+G19+G22 -> 29431.2 | H11: =H14+H19+H22 -> 0
C12: այդ թվում`
A14: 1004 | B14: 31014 | C14: Ջրամբարների վերականգնման և վերազինման աշխատանքներ | D14: =SUM(E14:H14) -> -32616.7 | E14: =SUM(E16:E18) -> 0 | F14: =SUM(F16:F18) -> -53916.7 | G14: =SUM(G16:G18) -> 21300 | H14: =SUM(H16:H18) -> 0
C15: այդ թվում՝
C16: ՀՀ Տավուշի մարզի Տավուշի ջրամբարի պատվարի վերականգնման աշխատանքներ | D16: =SUM(E16:H16) -> -53916.7 | F16: -53916.7
C17: ՀՀ Տավուշի մարզի Այգեձորի ջրամբարի վերականգնման և վերազինման աշխատանքների նախագծանախահաշվային փաստաթղթերի ձեռքբերում | D17: =SUM(E17:H17) -> 3300 | G17: 3300
C18: ՀՀ Շիրակի մարզի Սառնաղբյուր ջրամբարի պատվարի անվտանգ շահագործման նպատակով նախագծերի ձեռքբերում | D18: =SUM(E18:H18) -> 18000 | G18: 18000
A19: 1072 | B19: 31009 | C19: ՀՀ տարածքում Վարձակալի կողմից չսպասարկվող բնակավայրերում ջրամատակարարման և ջրահեռացման համակարգերի կառուցում | D19: =SUM(E19:H19) -> 3960 | E19: =SUM(E21:E22) -> 0 | F19: =SUM(F21:F22) -> 0 | G19: =SUM(G21) -> 3960 | H19: =SUM(H21:H22) -> 0
C20: այդ թվում`
C21: ՀՀ Տավուշի մարզի Բաղանիս բնակավայրի խմելու ջրի գլխամասային հանգույցի (գետային ջրընդունիչ) և մաքրման կայանի ապամոնտաժման և վերակառուցման նախագծերի և աշխատանքների ձեռքբերում | D21: =SUM(E21:H21) -> 3960 | G21: 3960
A22: 1072 | B22: 31013 | C22: Ջրամատակարարման և ջրահեռացման համակարգի կառուցում | D22: =SUM(E22:H22) -> 4171.2 | G22: =G24 -> 4171.2
C23: այդ թվում`
C24: ՀՀ Սյունիքի մարզի Բռնակոթ համայնքի այլընտրանքային աղբյուրից ջրատարի կառուցման աշխատանքներ | D24: =SUM(E24:H24) -> 4171.2 | G24: 4171.2

Sheet 3
A1: Հավելված N 3
A2: ՀՀ կառավարության 2025 թվականի
A3: -ի N -Ն որոշման
A4: ՀԱՅԱՍՏԱՆԻ ՀԱՆՐԱՊԵՏՈՒԹՅԱՆ ԿԱՌԱՎԱՐՈՒԹՅԱՆ 2024 ԹՎԱԿԱՆԻ ԴԵԿՏԵՄԲԵՐԻ 27-Ի N 2060-Ն ՈՐՈՇՄԱՆ N 3 ԵՎ N 4 ՀԱՎԵԼՎԱԾՆԵՐՈՒՄ ԿԱՏԱՐՎՈՂ ՓՈՓՈԽՈՒԹՅՈՒՆՆԵՐԸ ԵՎ ԼՐԱՑՈՒՄՆԵՐԸ
H5: հազար դրամներով
A6: Գործառական դասիչը | D6: Ծրագրային դասիչը | F6: Բյուջետային ծախսերի գործառական դասակարգման բաժինների, խմբերի և դասերի, բյուջետային ծրագրերի միջոցառումների, բյուջետային հատկացումների գլխավոր կարգադրիչների անվանումները | G6: Ցուցանիշների փոփոխությունը (ավելացումները նշված են դրական նշանով, իսկ նվազեցումները՝ փակագծերում)
A7: Բաժին | B7: Խումբ | C7: Դաս | D7: Ծրագիր | E7: Միջոցառում | G7: Առաջին կիսամյակ | H7: Ինն ամիս | I7: Տարի
F8: ԸՆԴԱՄԵՆԸ ԾԱԽՍԵՐ | G8: =G10+G148 -> 0 | H8: =H10+H148 -> 0 | I8: =I10+I148 -> 0
F9: այդ թվում`
F10: ՀՀ տարածքային կառավարման և ենթակառուցվածքների նախարարություն | G10: =G11+G74 -> 0 | H10: =H11+H74 -> 0 | I10: =I11+I74 -> 0
A11: 04 | F11: ՏՆՏԵՍԱԿԱՆ ՀԱՐԱԲԵՐՈՒԹՅՈՒՆՆԵՐ | G11: =G13 -> -12115.5 | H11: =H13 -> -18195.5 | I11: =I13 -> -18195.5
F12: այդ թվում`
B13: 02 | F13: Գյուղատնտեսություն, անտառային տնտեսություն, ձկնորսություն և որսորդություն | G13: =G15 -> -12115.5 | H13: =H15 -> -18195.5 | I13: =I15 -> -18195.5
F14: այդ թվում`
C15: 04 | F15: Ոռոգում | G15: =G17 -> -12115.5 | H15: =H17 -> -18195.5 | I15: =I17 -> -18195.5
F16: այդ թվում`
F17: ՀՀ տարածքային կառավարման և ենթակառուցվածքների նախարարություն | G17: =G19 -> -12115.5 | H17: =H19 -> -18195.5 | I17: =I19 -> -18195.5
F18: այդ թվում`
D19: 1004 | F19: Ոռոգման համակարգի առողջացում | G19: =G21+G29+G45+G54+G63+G37 -> -12115.5 | H19: =H21+H29+H45+H54+H63+H37 -> -18195.5 | I19: =I21+I29+I45+I54+I63+I37 -> -18195.5
F20: այդ թվում`
E21: 11005 | F21: Եվրասիական զարգացման բանկի աջակցությամբ իրականացվող ոռոգման համակարգերի զարգացման ծրագրի խորհրդատվություն և կառավարում | G21: =G23 -> -42.1 | H21: =H23 -> -42.1 | I21: =I23 -> -42.1
F22: այդ թվում` ըստ կատարողների
F23: ՀՀ տարածքային կառավարման և ենթակառուցվածքների նախարարության ջրային կոմիտե | G23: =G25 -> -42.1 | H23: =H25 -> -42.1 | I23: =I25 -> -42.1
F24: այդ թվում` բյուջետային ծախսերի տնտեսագիտական դասակարգման հոդվածներ
F25: ԸՆԴԱՄԵՆԸ ԾԱԽՍԵՐ | G25: =G27 -> -42.1 | H25: =H27 -> -42.1 | I25: =I27 -> -42.1
F26: ԸՆԹԱՑԻԿ ԾԱԽՍԵՐ | G26: =G27 -> -42.1 | H26: =H27 -> -42.1 | I26: =I27 -> -42.1
F27: ԱՅԼ ԾԱԽՍԵՐ | G27: =G28 -> -42.1 | H27: =H28 -> -42.1 | I27: =I28 -> -42.1
F28: Այլ ծախսեր | G28: ='4'!D25 -> -42.1 | H28: =G28 -> -42.1 | I28: =H28 -> -42.1
E29: 11009 | F29: Գերմանիայի զարգացման վարկերի բանկի աջակցությամբ իրականացվող Ախուրյան գետի ջրային ռեսուրսների ինտեգրացված կառավարման դրամաշնորհային ծրագիր | G29: =G31 -> -2500 | H29: =H31 -> -5043.3 | I29: =I31 -> -7536.7
F30: այդ թվում` ըստ կատարողների
F31: ՀՀ տարածքային կառավարման և ենթակառուցվածքների նախարարության ջրային կոմիտե | G31: =G33 -> -2500 | H31: =H33 -> -5043.3 | I31: =I33 -> -7536.7
F32: այդ թվում` բյուջետային ծախսերի տնտեսագիտական դասակարգման հոդվածներ
F33: ԸՆԴԱՄԵՆԸ ԾԱԽՍԵՐ | G33: =G34 -> -2500 | H33: =H34 -> -5043.3 | I33: =I34 -> -7536.7
F34: ԸՆԹԱՑԻԿ ԾԱԽՍԵՐ | G34: =G35 -> -2500 | H34: =H35 -> -5043.3 | I34: =I35 -> -7536.7
F35: ԱՅԼ ԾԱԽՍԵՐ | G35: =G36 -> -2500 | H35: =H36 -> -5043.3 | I35: =I36 -> -7536.7
F36: Այլ ծախսեր | G36: ='5'!D18 -> -2500 | H36: ='5'!G18 -> -5043.3 | I36: ='5'!J18 -> -7536.7
E37: 11011 | F37: Զարգացման ֆրանսիական գործակալության աջակցությամբ իրականացվող ոռոգման ոլորտի ֆինանսական կայունության և ոռոգման կառավարման կարողությունների բարելավման դրամաշնորհային ծրագրի խորհրդատվություն և կառավարում | G37: =G39 -> -5036.7 | H37: =H39 -> -2493.4 | I37: =I39 -> 0
F38: այդ թվում` ըստ կատարողների
F39: ՀՀ տարածքային կառավարման և ենթակառուցվածքների նախարարության ջրային կոմիտե | G39: =G41 -> -5036.7 | H39: =H41 -> -2493.4 | I39: =I41 -> 0
F40: այդ թվում` բյուջետային ծախսերի տնտեսագիտական դասակարգման հոդվածներ
...

Sheet 4
L1: Հավելված N 4
L2: ՀՀ կառավարության 2025 թվականի
L3: ______________ ի ___Ն որոշման
A5: «ՀԱՅԱUՏԱՆԻ ՀԱՆՐԱՊԵՏՈՒԹՅԱՆ 2025 ԹՎԱԿԱՆԻ ՊԵՏԱԿԱՆ ԲՅՈՒՋԵԻ ՄԱUԻՆ» OՐԵՆՔԻ N 1 ՀԱՎԵԼՎԱԾԻ N 4 ԱՂՅՈՒՍԱԿՈՒՄ ԵՎ ՀԱՅԱՍՏԱՆԻ ՀԱՆՐԱՊԵՏՈՒԹՅԱՆ ԿԱՌԱՎԱՐՈՒԹՅԱՆ 2024 ԹՎԱԿԱՆԻ ԴԵԿՏԵՄԲԵՐԻ 27-Ի N 2060-Ն ՈՐՈՇՄԱՆ N 5 ՀԱՎԵԼՎԱԾԻ N 3 ԱՂՅՈՒՍԱԿՈՒՄ ԿԱՏԱՐՎՈՂ ՓՈՓՈԽՈՒԹՅՈՒՆՆԵՐԸ ԵՎ ԼՐԱՑՈՒՄՆԵՐԸ
K6: հազար դրամներով
A7: Ծրագրային դասիչը | C7: Բյուջետային գլխավոր կարգադրիչների, ծրագրերի և միջոցառումների անվանումները | D7: Ցուցանիշների փոփոխությունը(ավելացումները նշված են դրական նշանով, իսկ նվազեցումները՝ փակագծերում)
D8: Կիսամյակ | G8: Ինն ամիս | J8: Տարի
D9: Ընդամենը | E9: այդ թվում` | G9: Ընդամենը | H9: այդ թվում` | J9: Ընդամենը | K9: այդ թվում`
A10: Ծրագիր | B10: Միջոց առում | E10: Վարկային միջոցներ | F10: Համաֆինանսավորում | H10: Վարկային միջոցներ | I10: Համաֆինանսավորում | K10: Վարկային միջոցներ | L10: Համաֆինանսավորում
C11: ԸՆԴԱՄԵՆԸ | D11: =SUM(E11:F11) -> 0 | E11: =E13 -> 0 | G11: =SUM(H11:I11) -> 0 | H11: =H13 -> 0 | J11: =SUM(K11:L11) -> 0 | K11: =K13 -> 0 | L11: =+L14 -> 0
C12: այդ թվում`
C13: ԸՆԹԱՑԻԿ ԾԱԽՍԵՐ | D13: =SUM(E13:F13) -> 0 | E13: =E14 -> 0 | G13: =SUM(H13:I13) -> 0 | H13: =H14 -> 0 | J13: =SUM(K13:L13) -> 0 | K13: =K14 -> 0 | L13: =L28 -> 0
C14: ՀՀ ՏԱՐԱԾՔԱՅԻՆ ԿԱՌԱՎԱՐՄԱՆ ԵՎ ԵՆԹԱԿԱՌՈՒՑՎԱԾՔՆԵՐԻ ՆԱԽԱՐԱՐՈՒԹՅՈՒՆ | D14: =SUM(E14:F14) -> 0 | E14: =E16+E26 -> 0 | G14: =SUM(H14:I14) -> 0 | H14: =H16+H26 -> 0 | J14: =SUM(K14:L14) -> 0 | K14: =K16+K26 -> 0 | L14: =L26 -> 0
C15: այդ թվում`
A16: 1004 | C16: Ոռոգման համակարգի առողջացում | D16: =SUM(E16:F16) -> -42.1 | E16: =E18 -> -42.1 | G16: =SUM(H16:I16) -> -42.1 | H16: =H18 -> -42.1 | J16: =SUM(K16:L16) -> -42.1 | K16: =K18 -> -42.1
C17: այդ թվում`
B18: 11005 | C18: Եվրասիական զարգացման բանկի աջակցությամբ իրականացվող ոռոգման համակարգերի զարգացման ծրագրի խորհրդատվություն և կառավարում | D18: =SUM(E18:F18) -> -42.1 | E18: =E20 -> -42.1 | G18: =SUM(H18:I18) -> -42.1 | H18: =H20 -> -42.1 | J18: =SUM(K18:L18) -> -42.1 | K18: =K20 -> -42.1
C19: այդ թվում` ըստ կատարողների
C20: ՀՀ տարածքային կառավարման և ենթակառուցվածքների նախարարության ջրային կոմիտե | D20: =SUM(E20:F20) -> -42.1 | E20: =E22 -> -42.1 | G20: =SUM(H20:I20) -> -42.1 | H20: =H22 -> -42.1 | J20: =SUM(K20:L20) -> -42.1 | K20: =K22 -> -42.1
C21: այդ թվում` բյուջետային ծախսերի տնտեսագիտական դասակարգման հոդվածներ
C22: ԸՆԴԱՄԵՆԸ ԾԱԽՍԵՐ | D22: =SUM(E22:F22) -> -42.1 | E22: =E23 -> -42.1 | G22: =SUM(H22:I22) -> -42.1 | H22: =H23 -> -42.1 | J22: =SUM(K22:L22) -> -42.1 | K22: =K23 -> -42.1
C23: ԸՆԹԱՑԻԿ ԾԱԽՍԵՐ | D23: =SUM(E23:F23) -> -42.1 | E23: =E24 -> -42.1 | G23: =SUM(H23:I23) -> -42.1 | H23: =H24 -> -42.1 | J23: =SUM(K23:L23) -> -42.1 | K23: =K24 -> -42.1
C24: ԱՅԼ ԾԱԽՍԵՐ | D24: =SUM(E24:F24) -> -42.1 | E24: =E25 -> -42.1 | G24: =SUM(H24:I24) -> -42.1 | H24: =H25 -> -42.1 | J24: =SUM(K24:L24) -> -42.1 | K24: =K25 -> -42.1
C25: Այլ ծախսեր | D25: =SUM(E25:F25) -> -42.1 | E25: -42.1 | G25: =SUM(H25:I25) -> -42.1 | H25: -42.1 | J25: =SUM(K25:L25) -> -42.1 | K25: -42.1
A26: 1072 | C26: Ջրամատակարարաման և ջրահեռացման բարելավում | D26: =SUM(E26:F26) -> 42.1 | E26: =E28 -> 42.1 | G26: =SUM(H26:I26) -> 42.1 | H26: =H28 -> 42.1 | J26: =SUM(K26:L26) -> 42.1 | K26: =+K28 -> 42.1 | L26: =+L28 -> 0
C27: այդ թվում`
B28: 11007 | C28: Գերմանիայի զարգացման վարկերի բանկի աջակցությամբ իրականացվող ջրամատակարարման և ջրահեռացման ենթակառուցվածքների վերականգնման ծրագրի երրորդ փուլ | D28: =SUM(E28:F28) -> 42.1 | E28: =E30 -> 42.1 | G28: =SUM(H28:I28) -> 42.1 | H28: =H30 -> 42.1 | J28: =SUM(K28:L28) -> 42.1 | K28: =+K30 -> 42.1 | L28: =+L30 -> 0
C29: այդ թվում` ըստ կատարողների
C30: ՀՀ տարածքային կառավարման և ենթակառուցվածքների նախարարության ջրային կոմիտե | D30: =SUM(E30:F30) -> 42.1 | E30: =E32 -> 42.1 | G30: =SUM(H30:I30) -> 42.1 | H30: =H32 -> 42.1 | J30: =SUM(K30:L30) -> 42.1 | K30: =+K32 -> 42.1 | L30: =+L32 -> 0
C31: այդ թվում` բյուջետային ծախսերի տնտեսագիտական դասակարգման հոդվածներ
C32: ԸՆԴԱՄԵՆԸ ԾԱԽՍԵՐ | D32: =SUM(E32:F32) -> 42.1 | E32: =E33 -> 42.1 | G32: =SUM(H32:I32) -> 42.1 | H32: =H33 -> 42.1 | J32: =SUM(K32:L32) -> 42.1 | K32: =+K33 -> 42.1 | L32: =+L33 -> 0
C33: ԸՆԹԱՑԻԿ ԾԱԽՍԵՐ | D33: =SUM(E33:F33) -> 42.1 | E33: =E34 -> 42.1 | G33: =SUM(H33:I33) -> 42.1 | H33: =H34 -> 42.1 | J33: =SUM(K33:L33) -> 42.1 | K33: =+K34 -> 42.1 | L33: =+L34 -> 0
C34: ԾԱՌԱՅՈՒԹՅՈՒՆՆԵՐԻ ԵՎ ԱՊՐԱՆՔՆԵՐԻ ՁԵՌՔԲԵՐՈՒՄ | D34: =SUM(E34:F34) -> 42.1 | E34: =E35 -> 42.1 | G34: =SUM(H34:I34) -> 42.1 | H34: =H35 -> 42.1 | J34: =SUM(K34:L34) -> 42.1 | K34: =K35 -> 42.1 | L34: =L35 -> 0
C35: Շարունակական ծախսեր | D35: =SUM(E35:F35) -> 42.1 | E35: =E36 -> 42.1 | G35: =SUM(H35:I35) -> 42.1 | H35: =H36 -> 42.1 | J35: =SUM(K35:L35) -> 42.1 | K35: =K36 -> 42.1 | L35: =L36 -> 0
C36: - Գործառնական և բանկային ծառայությունների ծախսեր | D36: =SUM(E36:F36) -> 42.1 | E36: 42.1 | G36: =SUM(H36:I36) -> 42.1 | H36: =E36 -> 42.1 | J36: =SUM(K36:L36) -> 42.1 | K36: 42.1

Sheet 5
L1: Հավելված N 5
L2: ՀՀ կառավարության 2025 թվականի
L3: ______________ ի ___Ն որոշման
A5: «ՀԱՅԱUՏԱՆԻ ՀԱՆՐԱՊԵՏՈՒԹՅԱՆ 2025 ԹՎԱԿԱՆԻ ՊԵՏԱԿԱՆ ԲՅՈՒՋԵԻ ՄԱUԻՆ» OՐԵՆՔԻ N 1 ՀԱՎԵԼՎԱԾԻ N 5 ԱՂՅՈՒՍԱԿՈՒՄ ԵՎ ՀԱՅԱՍՏԱՆԻ ՀԱՆՐԱՊԵՏՈՒԹՅԱՆ ԿԱՌԱՎԱՐՈՒԹՅԱՆ 2024 ԹՎԱԿԱՆԻ ԴԵԿՏԵՄԲԵՐԻ 27-Ի N 2060-Ն ՈՐՈՇՄԱՆ N 5 ՀԱՎԵԼՎԱԾԻ N 4 ԱՂՅՈՒՍԱԿՈՒՄ ԿԱՏԱՐՎՈՂ ՓՈՓՈԽՈՒԹՅՈՒՆՆԵՐԸ ԵՎ ԼՐԱՑՈՒՄՆԵՐԸ
K6: հազար դրամներով
A7: Ծրագրային դասիչը | C7: Բյուջետային գլխավոր կարգադրիչների, ծրագրերի և միջոցառումների անվանումները | D7: Ցուցանիշների փոփոխությունը(ավելացումները նշված են դրական նշանով, իսկ նվազեցումները՝ փակագծերում)
D8: Կիսամյակ | G8: Ինն ամիս | J8: Տարի
D9: Ընդամենը | E9: այդ թվում` | G9: Ընդամենը | H9: այդ թվում` | J9: Ընդամենը | K9: այդ թվում`
A10: Ծրագիր | B10: Միջոց առում | E10: Դրամաշնորհային միջոցներ | F10: Համաֆինանսավորում | H10: Դրամաշնորհային միջոցներ | I10: Համաֆինանսավորում | K10: Դրամաշնորհային միջոցներ | L10: Համաֆինանսավորում
C11: ԸՆԴԱՄԵՆԸ | D11: =D13 -> 0 | E11: =E13 -> 0 | G11: =G13 -> 0 | H11: =H13 -> 0 | J11: =J13 -> 0 | K11: =K13 -> 0
C12: այդ թվում`
C13: ԸՆԹԱՑԻԿ ԾԱԽՍԵՐ | D13: =D14 -> 0 | E13: =E14 -> 0 | G13: =G14 -> 0 | H13: =H14 -> 0 | J13: =J14 -> 0 | K13: =K14 -> 0
C14: ՀՀ ՏԱՐԱԾՔԱՅԻՆ ԿԱՌԱՎԱՐՄԱՆ ԵՎ ԵՆԹԱԿԱՌՈՒՑՎԱԾՔՆԵՐԻ ՆԱԽԱՐԱՐՈՒԹՅՈՒՆ | D14: =SUM(E14:F14) -> 0 | E14: =E16+E34 -> 0 | F14: =F16+F34 -> 0 | G14: =SUM(H14:I14) -> 0 | H14: =H16+H34 -> 0 | I14: =I16+I34 -> 0 | J14: =SUM(K14:L14) -> 0 | K14: =K16+K34 -> 0 | L14: =L16+L34 -> 0
C15: այդ թվում`
A16: 1004 | C16: Ոռոգման համակարգի առողջացում | D16: =SUM(E16:F16) -> -7536.7 | E16: =E18+E26 -> -5043.3 | F16: =F18+F26 -> -2493.4 | G16: =SUM(H16:I16) -> -7536.7 | H16: =H18 -> -5043.3 | I16: =I18+I26 -> -2493.4 | J16: =SUM(K16:L16) -> -7536.7 | K16: =K18 -> -5043.3 | L16: =L18 -> -2493.4
C17: այդ թվում`
B18: 11009 | C18: Գերմանիայի զարգացման վարկերի բանկի աջակցությամբ իրականացվող Ախուրյան գետի ջրային ռեսուրսների ինտեգրացված կառավարման դրամաշնորհային ծրագիր | D18: =SUM(E18:F18) -> -2500 | E18: =E20 -> -2500 | F18: =F20 -> 0 | G18: =SUM(H18:I18) -> -5043.3 | H18: =H20 -> -5043.3 | I18: =I20 -> 0 | J18: =SUM(K18:L18) -> -7536.7 | K18: =K20 -> -5043.3 | L18: =L20 -> -2493.4
C19: այդ թվում` ըստ կատարողների
C20: ՀՀ տարածքային կառավարման և ենթակառուցվածքների նախարարության ջրային կոմիտե | D20: =SUM(E20:F20) -> -2500 | E20: =E22 -> -2500 | F20: =F22 -> 0 | G20: =SUM(H20:I20) -> -5043.3 | H20: =H22 -> -5043.3 | I20: =I22 -> 0 | J20: =SUM(K20:L20) -> -7536.7 | K20: =K22 -> -5043.3 | L20: =L22 -> -2493.4
C21: այդ թվում` բյուջետային ծախսերի տնտեսագիտական դասակարգման հոդվածներ
C22: ԸՆԴԱՄԵՆԸ ԾԱԽՍԵՐ | D22: =SUM(E22:F22) -> -2500 | E22: =E23 -> -2500 | F22: =F23 -> 0 | G22: =SUM(H22:I22) -> -5043.3 | H22: =H23 -> -5043.3 | I22: =I23 -> 0 | J22: =SUM(K22:L22) -> -7536.7 | K22: =K23 -> -5043.3 | L22: =L23 -> -2493.4
C23: ԸՆԹԱՑԻԿ ԾԱԽՍԵՐ | D23: =SUM(E23:F23) -> -2500 | E23: =E24 -> -2500 | F23: =F24 -> 0 | G23: =SUM(H23:I23) -> -5043.3 | H23: =H24 -> -5043.3 | I23: =I24 -> 0 | J23: =SUM(K23:L23) -> -7536.7 | K23: =K24 -> -5043.3 | L23: =L24 -> -2493.4
C24: ԱՅԼ ԾԱԽՍԵՐ | D24: =SUM(E24:F24) -> -2500 | E24: =E25 -> -2500 | F24: =F25 -> 0 | G24: =SUM(H24:I24) -> -5043.3 | H24: =H25 -> -5043.3 | I24: =I25 -> 0 | J24: =SUM(K24:L24) -> -7536.7 | K24: =K25 -> -5043.3 | L24: =L25 -> -2493.4
C25: Այլ ծախսեր | D25: =SUM(E25:F25) -> -2500 | E25: -2500 | G25: =SUM(H25:I25) -> -5043.3 | H25: -5043.3 | J25: =SUM(K25:L25) -> -7536.7 | K25: -5043.3 | L25: -2493.4
B26: 11011 | C26: Զարգացման ֆրանսիական գործակալության աջակցությամբ իրականացվող ոռոգման ոլորտի ֆինանսական կայունության և ոռոգման կառավարման կարողությունների բարելավման դրամաշնորհային ծրագրի խորհրդատվություն և կառավարում | D26: =SUM(E26:F26) -> -5036.7 | E26: =E28 -> -2543.3 | F26: =F28 -> -2493.4 | G26: =SUM(H26:I26) -> -2493.4 | H26: 0 | I26: =I28 -> -2493.4 | J26: 0 | K26: 0 | L26: 0
C27: այդ թվում` ըստ կատարողների
C28: ՀՀ տարածքային կառավարման և ենթակառուցվածքների նախարարության ջրային կոմիտե | D28: =SUM(E28:F28) -> -5036.7 | E28: =E30 -> -2543.3 | F28: =F30 -> -2493.4 | G28: =SUM(H28:I28) -> -2493.4 | H28: 0 | I28: =I30 -> -2493.4 | J28: 0 | K28: 0 | L28: 0
C29: այդ թվում` բյուջետային ծախսերի տնտեսագիտական դասակարգման հոդվածներ
C30: ԸՆԴԱՄԵՆԸ ԾԱԽՍԵՐ | D30: =SUM(E30:F30) -> -5036.7 | E30: =E31 -> -2543.3 | F30: =F31 -> -2493.4 | G30: =SUM(H30:I30) -> -2493.4 | H30: 0 | I30: =I31 -> -2493.4 | J30: 0 | K30: 0 | L30: 0
C31: ԸՆԹԱՑԻԿ ԾԱԽՍԵՐ | D31: =SUM(E31:F31) -> -5036.7 | E31: =E32 -> -2543.3 | F31: =F32 -> -2493.4 | G31: =SUM(H31:I31) -> -2493.4 | H31: 0 | I31: =I32 -> -2493.4 | J31: 0 | K31: 0 | L31: 0
C32: ԱՅԼ ԾԱԽՍԵՐ | D32: =SUM(E32:F32) -> -5036.7 | E32: =E33 -> -2543.3 | F32: =F33 -> -2493.4 | G32: =SUM(H32:I32) -> -2493.4 | H32: 0 | I32: =I33 -> -2493.4 | J32: 0 | K32: 0 | L32: 0
C33: Այլ ծախսեր | D33: =SUM(E33:F33) -> -5036.7 | E33: -2543.3 | F33: -2493.4 | G33: =SUM(H33:I33) -> -2493.4 | H33: 0 | I33: -2493.4 | J33: 0 | K33: 0 | L33: 0
A34: 1072 | C34: Ջրամատակարարաման և ջրահեռացման բարելավում | D34: =SUM(E34:F34) -> 7536.7 | E34: =E36+E44 -> 5043.3 | F34: =F36+F44 -> 2493.4 | G34: =SUM(H34:I34) -> 7536.7 | H34: =H36+H44 -> 5043.3 | I34: =I36+I44 -> 2493.4 | J34: =SUM(K34:L34) -> 7536.7 | K34: =K36+K44 -> 5043.3 | L34: =L36+L44 -> 2493.4
C35: այդ թվում`
B36: 11011 | C36: Գերմանիայի զարգացման վարկերի բանկի աջակցությամբ իրականացվող Համայնքային ենթակառուցվածքների երկրորդ ծրագրի երրորդ փուլի դրամաշնորհային ծրագիր | D36: =SUM(E36:F36) -> 7480.2 | E36: =E38 -> 4986.8 | F36: =F38 -> 2493.4 | G36: =SUM(H36:I36) -> 7480.2 | H36: =H38 -> 4986.8 | I36: =I38 -> 2493.4 | J36: =J38 -> 7480.2 | K36: =K38 -> 4986.8 | L36: =L38 -> 2493.4
C37: այդ թվում` ըստ կատարողների
C38: ՀՀ տարածքային կառավարման և ենթակառուցվածքների նախարարության ջրային կոմիտե | D38: =SUM(E38:F38) -> 7480.2 | E38: =E40 -> 4986.8 | F38: =F40 -> 2493.4 | G38: =SUM(H38:I38) -> 7480.2 | H38: =H40 -> 4986.8 | I38: =I40 -> 2493.4 | J38: =J40 -> 7480.2 | K38: =K40 -> 4986.8 | L38: =L40 -> 2493.4
C39: այդ թվում` բյուջետային ծախսերի տնտեսագիտական դասակարգման հոդվածներ
C40: ԸՆԴԱՄԵՆԸ ԾԱԽՍԵՐ | D40: =SUM(E40:F40) -> 7480.2 | E40: =E41 -> 4986.8 | F40: =F41 -> 2493.4 | G40: =SUM(H40:I40) -> 7480.2 | H40: =H41 -> 4986.8 | I40: =I41 -> 2493.4 | J40: =J41 -> 7480.2 | K40: =K41 -> 4986.8 | L40: =L41 -> 2493.4
C41: ԸՆԹԱՑԻԿ ԾԱԽՍԵՐ | D41: =SUM(E41:F41) -> 7480.2 | E41: =E42 -> 4986.8 | F41: =F42 -> 2493.4 | G41: =SUM(H41:I41) -> 7480.2 | H41: =H42 -> 4986.8 | I41: =I42 -> 2493.4 | J41: =J42 -> 7480.2 | K41: =K42 -> 4986.8 | L41: =L42 -> 2493.4
...

Sheet 6
A1: Հավելված N 6
A2: ՀՀ կառավարության 2025 թվականի
A3: -ի N -Ն որոշման
A4: ՀԱՅԱՍՏԱՆԻ ՀԱՆՐԱՊԵՏՈՒԹՅԱՆ ԿԱՌԱՎԱՐՈՒԹՅԱՆ 2024 ԹՎԱԿԱՆԻ ԴԵԿՏԵՄԲԵՐԻ 27-Ի N 2060-Ն ՈՐՈՇՄԱՆ N 5 ՀԱՎԵԼՎԱԾԻ N 2 ԱՂՅՈՒՍԱԿՈՒՄ ԿԱՏԱՐՎՈՂ ՓՈՓՈԽՈՒԹՅՈՒՆՆԵՐԸ ԵՎ ԼՐԱՑՈՒՄՆԵՐԸ
A6: հազար դրամներով
A7: Ծրագրային դասիչ | C7: Բյուջետային գլխավոր կարգադրիչների, ծրագրերի, միջոցառումների և ուղղությունների անվանումները | D7: Ցուցանիշների փոփոխությունը (ավելացումները նշված են դրական նշանով, իսկ նվազեցումները` փակագծերում)
D8: Առաջին կիսամյակ | E8: Ինն ամիս | F8: Տարի
A9: Ծրագիր | B9: Միջոց առում
C10: ԸՆԴԱՄԵՆԸ | D10: =D12 -> 2514.5 | E10: =E12 -> -2485.5 | F10: =F12 -> -24485.5
C11: այդ թվում`
C12: ՀՀ տարածքային կառավարման և ենթակառուցվածքների նախարարություն | D12: =D14+D17+D24+D29 -> 2514.5 | E12: =E14+E17+E24+E29 -> -2485.5 | F12: =F14+F17+F24+F29 -> -24485.5
C13: այդ թվում՛
A14: 1004 | B14: 31009 | C14: Օրվա կարգավորման ջրավազանների կառուցում և վերակառուցում | D14: =+D16 -> -7536.7 | E14: =+E16 -> -31916.7 | F14: =+F16 -> 0
C15: այդ թվում` ըստ կատարողների
C16: ՀՀ տարածքային կառավարման և ենթակառուցվածքների նախարարության ջրային կոմիտե | D16: ='3'!G54 -> -7536.7 | E16: ='3'!H54 -> -31916.7 | F16: ='3'!I54 -> 0
A17: 1004 | B17: 31014 | C17: Ջրամբարների վերականգնման և վերազինման աշխատանքներ | D17: =D19 -> 3000 | E17: =E19 -> 21300 | F17: =F19 -> -32616.7
C18: այդ թվում` ըստ կատարողների
C19: ՀՀ տարածքային կառավարման և ենթակառուցվածքների նախարարության ջրային կոմիտե | D19: =SUM(D21:D23) -> 3000 | E19: =SUM(E21:E23) -> 21300 | F19: =SUM(F21:F23) -> -32616.7
C20: այդ թվում՝ ըստ ուղղությունների
C21: ='2 '!C16 -> ՀՀ Տավուշի մարզի Տավուշի ջրամբարի պատվարի վերականգնման աշխատանքներ | D21: 0 | E21: 0 | F21: -53916.7
C22: ՀՀ Տավուշի մարզի Այգեձորի ջրամբարի վերականգնման և վերազինման աշխատանքների նախագծանախահաշվային փաստաթղթերի ձեռքբերում | D22: 3000 | E22: 3300 | F22: 3300
C23: ՀՀ Շիրակի մարզի Սառնաղբյուր ջրամբարի պատվարի անվտանգ շահագործման նպատակով նախագծերի ձեռքբերում | D23: 0 | E23: 18000 | F23: 18000
A24: 1072 | B24: 31009 | C24: ՀՀ տարածքում Վարձակալի կողմից չսպասարկվող բնակավայրերում ջրամատակարարման և ջրահեռացման համակարգերի կառուցում | D24: =D26 -> 3960 | E24: =E26 -> 3960 | F24: =F26 -> 3960
C25: այդ թվում` ըստ կատարողների
C26: ՀՀ տարածքային կառավարման և ենթակառուցվածքների նախարարության ջրային կոմիտե | D26: =SUM(D28) -> 3960 | E26: =SUM(E28) -> 3960 | F26: =SUM(F28) -> 3960
C27: այդ թվում՝ ըստ ուղղությունների
C28: ՀՀ Տավուշի մարզի Բաղանիս բնակավայրի խմելու ջրի գլխամասային հանգույցի (գետային ջրընդունիչ) և մաքրման կայանի ապամոնտաժման և վերակառուցման նախագծերի և աշխատանքների ձեռքբերում | D28: ='3'!G117 -> 3960 | E28: ='3'!H117 -> 3960 | F28: ='3'!I117 -> 3960
A29: 1072 | B29: 31013 | C29: Ջրամատակարարման և ջրահեռացման համակարգի կառուցում | D29: =D31 -> 3091.2 | E29: =E31 -> 4171.2 | F29: =F31 -> 4171.2
C30: այդ թվում` ըստ կատարողների
C31: ՀՀ տարածքային կառավարման և ենթակառուցվածքների նախարարության ջրային կոմիտե | D31: =SUM(D33:D39) -> 3091.2 | E31: =SUM(E33:E39) -> 4171.2 | F31: =SUM(F33:F39) -> 4171.2
C32: այդ թվում՝ ըստ ուղղությունների
C33: ՀՀ Սյունիքի մարզի Բռնակոթ համայնքի այլընտրանքային աղբյուրից ջրատարի կառուցման աշխատանքներ | D33: ='3'!G134 -> 3091.2 | E33: ='3'!H134 -> 4171.2 | F33: ='3'!I134 -> 4171.2

Sheet 7
A1: Հավելված N 7
A2: ՀՀ կառավարության 2025 թվականի
A3: -ի N -Ն որոշման
A5: ՀԱՅԱՍՏԱՆԻ ՀԱՆՐԱՊԵՏՈՒԹՅԱՆ ԿԱՌԱՎԱՐՈՒԹՅԱՆ 2024 ԹՎԱԿԱՆԻ ԴԵԿՏԵՄԲԵՐԻ 27-Ի N 2060-Ն ՈՐՈՇՄԱՆ N 5 ՀԱՎԵԼՎԱԾԻ N 7 ԱՂՅՈՒՍԱԿՈՒՄ ԿԱՏԱՐՎՈՂ ԼՐԱՑՈՒՄՆԵՐԸ
H7: հազար դրամներով
B8: Ծրագրային դասիչը | D8: Բյուջետային հատկացումների գլխավոր կարգադրիչների, ծրագրերի, միջոցառումների, ծախսային ուղղությունների անվանումները | G8: Միջոցառումները կատարող պետական մարմինների և դրամաշնորհ ստացող տնտեսվարող սուբյեկտների անվանումները | H8: Ցուցանիշների փոփոխությունը (ավելացումները նշված են դրական նշանով)
B9: Ծրագիր | C9: Միջոցառում | H9: Տարի
D10: ԸՆԴԱՄԵՆԸ | H10: =H11 -> 22000
B11: ՀՀ տարածքային կառավարման և ենթակառուցվածքների նախարարություն | H11: =H12 -> 22000
B12: 1004 | D12: Ոռոգման համակարգի առողջացում | H12: =H13 -> 22000
C13: 12001 | D13: Աջակցություն ոռոգման համակարգի առողջացմանը | G13: ՀՀ տարածքային կառավարման և ենթակառուցվածքների նախարարության ջրային կոմիտե | H13: =H14 -> 22000
G14: «Ջրառ» ՓԲԸ | H14: 22000

Sheet 8
A1: Հավելված N 8
A2: ՀՀ կառավարության 2025 թվականի
A3: -ի N -Ն որոշման
A5: ՀԱՅԱՍՏԱՆԻ ՀԱՆՐԱՊԵՏՈՒԹՅԱՆ ԿԱՌԱՎԱՐՈՒԹՅԱՆ 2024 ԹՎԱԿԱՆԻ ԴԵԿՏԵՄԲԵՐԻ 27-Ի N 2060-Ն ՈՐՈՇՄԱՆ N 9 ՀԱՎԵԼՎԱԾՈՒՄ ԿԱՏԱՐՎՈՂ ՓՈՓՈԽՈՒԹՅՈՒՆՆԵՐԸ ԵՎ ԼՐԱՑՈՒՄՆԵՐԸ
L6: հազար դրամներով
A7: ԲԳԿ | B7: Ծրագիր | D7: Միջոցառում | H7: Իրականացնողը/ ակտիվն օգտագործողը/ շահառուի ընտրության չափորոշիչը | I7: Արդյունքային չափորոշիչը | J7: Ցուցանիշների փոփոխությունը (ավելացումները նշված են դրական նշանով, իսկ նվազեցումները՝ փակագծերում)
B8: Դասիչը | C8: Անվա-նումը | D8: Դասիչը | E8: Անվա-նումը | F8: Նկարագրու-թյունը | G8: Տեսակը | J8: Առաջին կիսամյակ | K8: Ինն ամիս | L8: Տարի
A9: ԸՆԴԱՄԵՆԸ | J9: =J10 -> 0 | K9: =K10 -> 0 | L9: =L10 -> 0
A10: ՀՀ տարածքային կառավարման և ենթակառուցվածքների նախարարություն | J10: =J11+J43+J73 -> 0 | K10: =K11+K43+K73 -> 0 | L10: =L11+L43+L73 -> 0
B11: 1004 | C11: Ոռոգման համակարգի առողջացում | J11: =J12+J16+J29+J34+J38+J20+J24 -> -12115.5 | K11: =K12+K16+K29+K34+K38+K20+K24 -> -18195.5 | L11: =L12+L16+L29+L34+L38+L20+L24 -> -18195.5
D12: 1004 - 11005 | E12: Եվրասիական զարգացման բանկի աջակցությամբ իրականացվող ոռոգման համակարգերի զարգացման ծրագրի խորհրդատվություն և կառավարում | J12: ='1'!G13 -> -42.1 | K12: ='1'!H13 -> -42.1 | L12: ='1'!I13 -> -42.1
F13: Եվրասիական զարգացման բանկի աջակցությամբ իրականացվող ոռոգման համակարգերի զարգացման ծրագրի համակարգում և ղեկավարում
G14: Ծառայությունների մատուցում
H15: Ծառայությունը մատուցողի անվանումը` Մասնագիտացված միավոր
D16: 1004 - 11009 | E16: Գերմանիայի զարգացման վարկերի բանկի աջակցությամբ իրականացվող Ախուրյան գետի ջրային ռեսուրսների ինտեգրացված կառավարման դրամաշնորհային ծրագիր | J16: ='1'!G14 -> -2500 | K16: ='1'!H14 -> -5043.3 | L16: ='1'!I14 -> -7536.7
F17: Գերմանիայի զարգացման վարկերի բանկի աջակցությամբ իրականացվող Ախուրյան գետի ջրային ռեսուրսների ինտեգրացված կառավարման դրամաշնորհային ծրագրի համակարգում և ղեկավարում
G18: Ծառայությունների մատուցում
H19: Ծառայությունը մատուցողի անվանումը` Մասնագիտացված միավոր
D20: 1004 - 11011 | E20: Զարգացման ֆրանսիական գործակալության աջակցությամբ իրականացվող ոռոգման ոլորտի ֆինանսական կայունության և ոռոգման կառավարման կարողությունների բարելավման դրամաշնորհային ծրագրի խորհրդատվություն և կառավարում | J20: ='1'!G15 -> -5036.7 | K20: ='1'!H15 -> -2493.4 | L20: ='1'!I15 -> 0
F21: Զարգացման ֆրանսիական գործակալության աջակցությամբ իրականացվող ոռոգման ոլորտի ֆինանսական կայունության և ոռոգման կառավարման կարողությունների բարելավման ծրագրի համակարգում և ղեկավարում
G22: Ծառայությունների մատուցում
H23: Ծառայությունը մատուցողի անվանումը` Մասնագիտացված միավոր
D24: 1004 - 11013 | E24: Փոքր և միջին ջրամբարների կառուցման, ջրային ոլորտի այլ ծրագրերի խորհրդատվություն և կառավարում | J24: 0 | K24: 0 | L24: 0
F25: Փոքր և միջին ջրամբարների տեխնիկատնտեսական հիմնավորման ուսումնասիրությունների, նախագծման և կառուցման, ջրային ոլորտի այլ ծրագրերի խորհրդատվություն և կառավարում
G26: Ծառայությունների մատուցում
H27: Ծառայությունը մատուցողի անվանումը` Մասնագիտացված կազմակերպություններ
I28: Կնքվող պայմանագրեր, հատ | J28: 15 | L28: 15
D29: 1004 - 12001 | E29: Աջակցություն ոռոգման համակարգի առողջացմանը | J29: ='1'!G16 -> 0 | K29: ='1'!H16 -> 0 | L29: ='1'!I16 -> 22000
F30: Աջակցություն ոռոգման համակարգի ընկերությունների ֆինանսական կենսունակության բարելավման նպատակով իրականացվող միջոցառումներին
G31: Տրանսֆերտների տրամադրում
H32: Միջոցառումն իրականացնողի անվանումը ` Ոռոգման համակարգի ընկերություններ
I33: Աջակցություն ստացած ընկերություն, հատ | L33: 1
D34: 1004 - 31009 | E34: Օրվա կարգավորման ջրավազանների կառուցում և վերակառուցում | J34: ='1'!G17 -> -7536.7 | K34: ='1'!H17 -> -31916.7 | L34: ='1'!I17 -> 0
F35: Օրվա կարգավորման ջրավազանների կառուցման և վերակառուցման համար նախագծերի և աշխատանքների ձեռքբերում
G36: Պետական մարմինների կողմից օգտագործվող ոչ ֆինանսական ակտիվների հետ գործառնություններ
H37: Ակտիվն օգտագործող կազմակերպության անվանումը` ՀՀ ՏԿԵՆ ջրային կոմիտե
D38: 1004 - 31014 | E38: Ջրամբարների վերականգնման և վերազինման աշխատանքներ | J38: ='1'!G18 -> 3000 | K38: ='1'!H18 -> 21300 | L38: ='1'!I18 -> -32616.7
F39: Ջրամբարների վերականգնման և վերազինման համար նախագծերի և աշխատանքների ձեռքբերում
G40: Պետական մարմինների կողմից օգտագործվող ոչ ֆինանսական ակտիվների հետ գործառնություններ
H41: Ակտիվն օգտագործող կազմակերպության անվանումը` ՀՀ ՏԿԵՆ ջրային կոմիտե
...

Sheet 9
A1: Հավելված N 9
A2: ՀՀ կառավարության 2025 թվականի
A3: -ի N -Ն որոշման
A5: ՀԱՅԱՍՏԱՆԻ ՀԱՆՐԱՊԵՏՈՒԹՅԱՆ ԿԱՌԱՎԱՐՈՒԹՅԱՆ 2024 ԹՎԱԿԱՆԻ ԴԵԿՏԵՄԲԵՐԻ 27-Ի N 2060-Ն ՈՐՈՇՄԱՆ N 9.1 ՀԱՎԵԼՎԱԾՈՒՄ ԿԱՏԱՐՎՈՂ ՓՈՓՈԽՈՒԹՅՈՒՆՆԵՐԸ ԵՎ ԼՐԱՑՈՒՄՆԵՐԸ
L7: հազար դրամներով
A8: ԲՍԿ | B8: Ծրագիր | D8: Միջոցառում | H8: Իրականացնողը/ ակտիվն օգտագործողը/ շահառուի ընտրության չափորոշիչը | I8: Արդյունքային չափորոշիչը | J8: Ցուցանիշների փոփոխությունը (ավելացումները նշված են դրական նշանով, իսկ նվազեցումները՝ փակագծերում)
B9: Դասիչը | C9: Անվանումը | D9: Դասիչը | E9: Անվանումը | F9: Նկարագրությունը | G9: Տեսակը | J9: Առաջին կիսամյակ | K9: Ինն ամիս | L9: Տարի
A10: ԸՆԴԱՄԵՆԸ | J10: =J11 -> 0 | K10: =K11 -> 0 | L10: =L11 -> 0
A11: ՀՀ տարածքային կառավարման և ենթակառուցվածքների նախարարության ջրային կոմիտե | J11: =J12+J44+J74 -> 0 | K11: =K12+K44+K74 -> 0 | L11: =L12+L44+L74 -> 0
B12: 1004 | C12: Ոռոգման համակարգի առողջացում | J12: =J13+J17+J30+J35+J39+J21+J25 -> -12115.5 | K12: =K13+K17+K30+K35+K39+K21+K25 -> -18195.5 | L12: =L13+L17+L30+L35+L39+L21+L25 -> -18195.5
D13: 1004 - 11005 | E13: Եվրասիական զարգացման բանկի աջակցությամբ իրականացվող ոռոգման համակարգերի զարգացման ծրագրի խորհրդատվություն և կառավարում | J13: ='8'!J12 -> -42.1 | K13: ='8'!K12 -> -42.1 | L13: ='8'!L12 -> -42.1
F14: Եվրասիական զարգացման բանկի աջակցությամբ իրականացվող ոռոգման համակարգերի զարգացման ծրագրի համակարգում և ղեկավարում
G15: Ծառայությունների մատուցում
H16: Ծառայությունը մատուցողի անվանումը` Մասնագիտացված միավոր
D17: 1004 - 11009 | E17: Գերմանիայի զարգացման վարկերի բանկի աջակցությամբ իրականացվող Ախուրյան գետի ջրային ռեսուրսների ինտեգրացված կառավարման դրամաշնորհային ծրագիր | J17: ='8'!J16 -> -2500 | K17: ='8'!K16 -> -5043.3 | L17: ='8'!L16 -> -7536.7
F18: Գերմանիայի զարգացման վարկերի բանկի աջակցությամբ իրականացվող Ախուրյան գետի ջրային ռեսուրսների ինտեգրացված կառավարման դրամաշնորհային ծրագրի համակարգում և ղեկավարում
G19: Ծառայությունների մատուցում
H20: Ծառայությունը մատուցողի անվանումը` Մասնագիտացված միավոր
D21: 1004 - 11011 | E21: Զարգացման ֆրանսիական գործակալության աջակցությամբ իրականացվող ոռոգման ոլորտի ֆինանսական կայունության և ոռոգման կառավարման կարողությունների բարելավման դրամաշնորհային ծրագրի խորհրդատվություն և կառավարում | J21: ='8'!J20 -> -5036.7 | K21: ='8'!K20 -> -2493.4 | L21: ='8'!L20 -> 0
F22: Զարգացման ֆրանսիական գործակալության աջակցությամբ իրականացվող ոռոգման ոլորտի ֆինանսական կայունության և ոռոգման կառավարման կարողությունների բարելավման ծրագրի համակարգում և ղեկավարում
G23: Ծառայությունների մատուցում
H24: Ծառայությունը մատուցողի անվանումը` Մասնագիտացված միավոր
D25: 1004 - 11013 | E25: Փոքր և միջին ջրամբարների կառուցման, ջրային ոլորտի այլ ծրագրերի խորհրդատվություն և կառավարում | J25: ='8'!J24 -> 0 | K25: ='8'!K24 -> 0 | L25: ='8'!L24 -> 0
F26: Փոքր և միջին ջրամբարների տեխնիկատնտեսական հիմնավորման ուսումնասիրությունների, նախագծման և կառուցման, ջրային ոլորտի այլ ծրագրերի խորհրդատվություն և կառավարում
G27: Ծառայությունների մատուցում
H28: Ծառայությունը մատուցողի անվանումը` Մասնագիտացված կազմակերպություններ
I29: Կնքվող պայմանագրեր, հատ | J29: 15 | L29: 15
D30: 1004 - 12001 | E30: Աջակցություն ոռոգման համակարգի առողջացմանը | J30: ='8'!J29 -> 0 | K30: ='8'!K29 -> 0 | L30: ='8'!L29 -> 22000
F31: Աջակցություն ոռոգման համակարգի ընկերությունների ֆինանսական կենսունակության բարելավման նպատակով իրականացվող միջոցառումներին
G32: Տրանսֆերտների տրամադրում
H33: Միջոցառումն իրականացնողի անվանումը ` Ոռոգման համակարգի ընկերություններ
I34: Աջակցություն ստացած ընկերություն, հատ | L34: 1
D35: 1004 - 31009 | E35: Օրվա կարգավորման ջրավազանների կառուցում և վերակառուցում | J35: ='8'!J34 -> -7536.7 | K35: ='8'!K34 -> -31916.7 | L35: ='8'!L34 -> 0
F36: Օրվա կարգավորման ջրավազանների կառուցման և վերակառուցման համար նախագծերի և աշխատանքների ձեռք բերում
G37: Պետական մարմինների կողմից օգտագործվող ոչ ֆինանսական ակտիվների հետ գործառնություններ
H38: Ակտիվն օգտագործող կազմակերպության անվանումը` ՀՀ ՏԿԵՆ ջրային կոմիտե
D39: 1004 - 31014 | E39: Ջրամբարների վերականգնման և վերազինման աշխատանքներ | J39: ='8'!J38 -> 3000 | K39: ='8'!K38 -> 21300 | L39: ='8'!L38 -> -32616.7
F40: Ջրամբարների վերականգնման և վերազինման համար նախագծերի և աշխատանքների ձեռքբերում
G41: Պետական մարմինների կողմից օգտագործվող ոչ ֆինանսական ակտիվների հետ գործառնություններ
H42: Ակտիվն օգտագործող կազմակերպության անվանումը` ՀՀ ՏԿԵՆ ջրային կոմիտե
...

Sheet 10
A1: Հավելված N 10
A2: ՀՀ կառավարության 2025 թվականի
A3: -ի N -Ն որոշման
A5: ՀՀ ԿԱՌԱՎԱՐՈՒԹՅԱՆ 2024 ԹՎԱԿԱՆԻ ԴԵԿՏԵՄԲԵՐԻ 27-Ի N 2060-Ն ՈՐՈՇՄԱՆ N 10 ՀԱՎԵԼՎԱԾՈՒՄ ԿԱՏԱՐՎՈՂ ՓՈՓՈԽՈՒԹՅՈՒՆՆԵՐԸ ԵՎ ԼՐԱՑՈՒՄՆԵՐԸ
A7: Կոդը | B7: Անվանումը | C7: Գնման ձևը | D7: Չափի միավորը | E7: Ցուցանիշների փոփոխությունը (ավելացումները նշված են դրական նշանով, իսկ նվազեցումները՝ փակագծերում)
E8: Միավորի գինը | F8: քանակը | G8: գումարը (հազ. դրամ)
A9: ՀՀ տարածքային կառավարման և ենթակառուցվածքների նախարարության ջրային կոմիտե | G9: =G10+G18 -> -15725.5
A10: Բաժին N 04 | B10: Խումբ N 02 | C10: Դաս N 04 | D10: Ոռոգում | G10: =G11 -> -32616.7
A11: 1004 31014 | B11: Ջրամբարների վերականգնման և վերազինման աշխատանքներ | G11: =G12+G14 -> -32616.7
B12: ՄԱՍ II ԱՇԽԱՏԱՆՔՆԵՐ | G12: =G13 -> -53916.7
A13: 45611300/1 | B13: Այլ շենքերի, շինությունների հիմնանորոգում | C13: ԲՄ | D13: դրամ | G13: -53916.7
B14: ՄԱՍ III ԾԱՌԱՅՈՒԹՅՈՒՆՆԵՐ | G14: =G15+G16+G17 -> 21300
A15: 50531140/ | B15: Փորձաքննության ծառայություններ | C15: ԳՀ | D15: դրամ | E15: 300000 | F15: 1 | G15: 300
A16: 71241200/545 | B16: Նախագծերի պատրաստում, ծախսերի գմնահատում | C16: ԳՀ | D16: դրամ | E16: 3000000 | F16: 1 | G16: =E16*F16/1000 -> 3000
A17: 71241200/546 | B17: Նախագծերի պատրաստում, ծախսերի գմնահատում | C17: ԳՀ | D17: դրամ | E17: 18000000 | F17: 1 | G17: =E17*F17/1000 -> 18000
A18: Բաժին N 06 | B18: Խումբ N 03 | C18: Դաս N 01 | D18: Ջրամատակարարաման և ջրահեռացման բարելավում | G18: =G19+G23+G27 -> 16891.2
A19: 1072 31009 | B19: ՀՀ տարածքում Վարձակալի կողմից չսպասարկվող բնակավայրերում ջրամատակարարման և ջրահեռացման | G19: =G20 -> 3960
B20: ՄԱՍ III ԾԱՌԱՅՈՒԹՅՈՒՆՆԵՐ | G20: =G21+G22 -> 3960
A21: 50531140/ | B21: Փորձաքննության ծառայություններ | C21: ԳՀ | D21: դրամ | E21: 360000 | F21: 1 | G21: =E21*F21/1000 -> 360
A22: 71241200/540 | B22: Նախագծերի պատրաստում, ծախսերի գմնահատում | C22: ԳՀ | D22: դրամ | E22: 3600000 | F22: 1 | G22: =E22*F22/1000 -> 3600
A23: 1072 31013 | B23: Ջրամատակարարման և ջրահեռացման համակարգի կառուցում | G23: =G24 -> 4171.2
B24: ՄԱՍ III ԾԱՌԱՅՈՒԹՅՈՒՆՆԵՐ | G24: =G25+G26 -> 4171.2
A25: 50531140/ | B25: Փորձաքննության ծառայություններ | C25: ԳՀ | D25: դրամ | E25: 1080000 | F25: 1 | G25: 1080
A26: 71241200/ | B26: Նախագծերի պատրաստում, ծախսերի գնահատում | C26: ԳՀ | D26: դրամ | E26: 3091200 | F26: 1 | G26: =E26*F26/1000 -> 3091.2
A27: 1109 11001 | B27: Ջրային տնտեսության ոլորտում պետական քաղաքականության մշակում, ծրագրերի համակարգում և մոնիտորինգ | G27: =G28 -> 8760
B28: ՄԱՍ III ԾԱՌԱՅՈՒԹՅՈՒՆՆԵՐ | G28: =G29+G30+G31 -> 8760
A29: 71251100/ | B29: Ճարտարապետական և շենքերի չափագրման ծառայություն | C29: ԳՀ | D29: դրամ | E29: 5000000 | F29: 1 | G29: =E29*F29/1000 -> 5000
A30: 7911110/ | B30: Իրավական խորհրդատվության ծառայություններ | C30: ԳՀ | D30: դրամ | E30: 1880000 | F30: 1 | G30: =E30*F30/1000 -> 1880
A31: 7911110/ | B31: Իրավական խորհրդատվության ծառայություններ | C31: ԳՀ | D31: դրամ | E31: 1880000 | F31: 1 | G31: =E31*F31/1000 -> 1880

Sheet 11
A1: Հավելված N 11
A2: ՀՀ կառավարության 2025 թվականի
A3: -ի N -Ն որոշման
A4: ՀԱՅԱՍՏԱՆԻ ՀԱՆՐԱՊԵՏՈՒԹՅԱՆ ԿԱՌԱՎԱՐՈՒԹՅԱՆ ՊԱՀՈՒՍՏԱՅԻՆ ՖՈՆԴԻՑ ԿԱՏԱՐՎՈՂ ՀԱՏԿԱՑՈՒՄԸ
I5: հազար դրամներով
A6: Գործառական դասիչը | D6: Ծրագրային դասիչը | F6: Բյուջետային ծախսերի գործառական դասակարգման բաժինների, խմբերի և դասերի, բյուջետային ծրագրերի միջոցառումների, բյուջետային հատկացումների գլխավոր կարգադրիչների անվանումները | G6: Ցուցանիշների փոփոխությունը (գումարների ավելացումները նշված են դրական նշանով, իսկ նվազեցումները՝ փակագծերում)
G7: Առաջին կիսամյակ | H7: Ինն ամիս | I7: Տարի
A8: Բաժին | B8: Խումբ | C8: Դաս | D8: Ծրագիր | E8: Միջոցառում
F9: ԸՆԴԱՄԵՆԸ ԾԱԽՍԵՐ | G9: =G11+G31 -> 0 | H9: =H11+H31 -> 0 | I9: =I11+I31 -> 0
F10: այդ թվում`
F11: ՀՀ կառավարություն | G11: =G13 -> -9544.6 | H11: =H13 -> -10624.6 | I11: =I13 -> -10624.6
F12: այդ թվում`
A13: 11 | F13: ՀԻՄՆԱԿԱՆ ԲԱԺԻՆՆԵՐԻՆ ՉԴԱՍՎՈՂ ՊԱՀՈՒՍՏԱՅԻՆ ՖՈՆԴԵՐ | G13: =G15 -> -9544.6 | H13: =H15 -> -10624.6 | I13: =I15 -> -10624.6
F14: այդ թվում`
B15: 01 | F15: ՀՀ կառավարության և համայնքների պահուստային ֆոնդ | G15: =G17 -> -9544.6 | H15: =H17 -> -10624.6 | I15: =I17 -> -10624.6
F16: այդ թվում`
C17: 01 | F17: ՀՀ կառավարության պահուստային ֆոնդ | G17: =G19 -> -9544.6 | H17: =H19 -> -10624.6 | I17: =I19 -> -10624.6
F18: այդ թվում`
F19: ՀՀ կառավարություն | G19: =G21 -> -9544.6 | H19: =H21 -> -10624.6 | I19: =I21 -> -10624.6
F20: այդ թվում`
D21: 1139 | F21: ՀՀ կառավարության պահուստային ֆոնդ | G21: =G23 -> -9544.6 | H21: =H23 -> -10624.6 | I21: =I23 -> -10624.6
F22: այդ թվում`
E23: 11001 | F23: ՀՀ կառավարության պահուստային ֆոնդ | G23: =G25 -> -9544.6 | H23: =H25 -> -10624.6 | I23: =I25 -> -10624.6
F24: այդ թվում` ըստ կատարողների
F25: ՀՀ կառավարություն | G25: =G27 -> -9544.6 | H25: =H27 -> -10624.6 | I25: =I27 -> -10624.6
F26: այդ թվում` բյուջետային ծախսերի տնտեսագիտական դասակարգման հոդվածներ
F27: ԸՆԴԱՄԵՆԸ ԾԱԽՍԵՐ | G27: =G28 -> -9544.6 | H27: =H28 -> -10624.6 | I27: =I28 -> -10624.6
F28: ԸՆԹԱՑԻԿ ԾԱԽՍԵՐ | G28: =G29 -> -9544.6 | H28: =H29 -> -10624.6 | I28: =I29 -> -10624.6
F29: ԱՅԼ ԾԱԽՍԵՐ | G29: =G30 -> -9544.6 | H29: =H30 -> -10624.6 | I29: =I30 -> -10624.6
F30: Պահուստային միջոցներ | G30: ='3'!G166 -> -9544.6 | H30: ='3'!H166 -> -10624.6 | I30: ='3'!I166 -> -10624.6
F31: ՀՀ տարածքային կառավարման և ենթակառուցվածքների նախարարություն | G31: =G33 -> 9544.6 | H31: =H33 -> 10624.6 | I31: =I33 -> 10624.6
F32: այդ թվում`
A33: 06 | F33: ԲՆԱԿԱՐԱՆԱՅԻՆ ՇԻՆԱՐԱՐՈՒԹՅՈՒՆ ԵՎ ԿՈՄՈՒՆԱԼ ԾԱՌԱՅՈՒԹՅՈՒՆՆԵՐ | G33: =G35 -> 9544.6 | H33: =H35 -> 10624.6 | I33: =I35 -> 10624.6
F34: այդ թվում`
B35: 03 | F35: Ջրամատակարարում | G35: =G37 -> 9544.6 | H35: =H37 -> 10624.6 | I35: =I37 -> 10624.6
F36: այդ թվում`
C37: 01 | F37: Ջրամատակարարում | G37: =G39+G82 -> 9544.6 | H37: =H39+H82 -> 10624.6 | I37: =I39+I82 -> 10624.6
F38: այդ թվում`
D39: 1072 | F39: Ջրամատակարարաման և ջրահեռացման բարելավում | G39: =G41+G49+G58 -> 9544.6 | H39: =H41+H49+H58 -> 10624.6 | I39: =I41+I49+I58 -> 10624.6
F40: այդ թվում`
...
