Workbook
Name _tab10: #REF!
Name _tab10: #REF!
Name _tab10: #REF!
Name _tab10: #REF!
Name _tab10: #REF!
Name _tab11: #REF!
Name _tab11: #REF!
Name _tab11: #REF!
Name _tab11: #REF!
Name _tab11: #REF!
Name _tab12: #REF!
Name _tab12: #REF!
Name _tab12: #REF!
Name _tab12: #REF!
Name _tab12: #REF!
Name _tab13: #REF!
Name _tab13: #REF!
Name _tab13: #REF!
Name _tab13: #REF!
Name _tab13: #REF!
Name _tab14: #REF!
Name _tab14: #REF!
Name _tab14: #REF!
Name _tab14: #REF!
Name _tab14: #REF!
Name _tab15: #REF!
Name _tab15: #REF!
Name _tab15: #REF!
Name _tab15: #REF!
Name _tab15: #REF!
Name _tab16: #REF!
Name _tab16: #REF!
Name _tab16: #REF!
Name _tab16: #REF!
Name _tab16: #REF!
Name _tab17: #REF!
Name _tab17: #REF!
Name _tab17: #REF!
Name _tab17: #REF!
Name _tab17: #REF!
Name _tab18: #REF!
Name _tab18: #REF!
Name _tab18: #REF!
Name _tab18: #REF!
Name _tab18: #REF!
Name _tab19: #REF!
Name _tab19: #REF!
Name _tab19: #REF!
Name _tab19: #REF!
Name _tab19: #REF!
Name _tab20: #REF!
Name _tab20: #REF!
Name _tab20: #REF!
Name _tab20: #REF!
Name _tab20: #REF!
Name _tab21: #REF!
Name _tab21: #REF!
Name _tab21: #REF!
Name _tab21: #REF!
Name _tab21: #REF!

Sheet Օ N 1 Ա N 2 և  N 5 Ա N 1
J1: Հավելված N 1
J2: ='N 3 և N 4'!J2 -> ՀՀ կառավարության 2025 թվականի
J3: ='N 3 և N 4'!J3 -> ______________ ի N ___ -Ն որոշման
B7: «ՀԱՅԱՍՏԱՆԻ ՀԱՆՐԱՊԵՏՈՒԹՅԱՆ 2025 ԹՎԱԿԱՆԻ ՊԵՏԱԿԱՆ ԲՅՈՒՋԵԻ ՄԱՍԻՆ» ՀԱՅԱՍՏԱՆԻ ՀԱՆՐԱՊԵՏՈՒԹՅԱՆ ՕՐԵՆՔԻ N 1 ՀԱՎԵԼՎԱԾԻ N 2 ԱՂՅՈՒՍԱԿՈՒՄ
B8: ԿԱՏԱՐՎՈՂ ԼՐԱՑՈՒՄՆԵՐՆ ՈՒ ՎԵՐԱԲԱՇԽՈՒՄԸ ԵՎ ՀԱՅԱՍՏԱՆԻ ՀԱՆՐԱՊԵՏՈՒԹՅԱՆ ԿԱՌԱՎԱՐՈՒԹՅԱՆ 2024 ԹՎԱԿԱՆԻ ԴԵԿՏԵՄԲԵՐԻ 27-Ի N 2060-Ն ՈՐՈՇՄԱՆ
B9: N 5 ՀԱՎԵԼՎԱԾԻ N 1 ԱՂՅՈՒՍԱԿՈՒՄ ԿԱՏԱՐՎՈՂ ԼՐԱՑՈՒՄՆԵՐՆ ՈՒ ՓՈՓՈԽՈՒԹՅՈՒՆՆԵՐԸ
J10: հազար դրամներով
B11: ԲԳԿ | C11: Ծրագրային դասիչը | E11: ԲԳԿ/Ծրագրի /միջոցառման անվանումը | F11: Ծրագրի նպատակը/ Միջոցառման նկարագրությունը | G11: Վերջնական արդյունքի նկարագրությունը/ Միջոցառման տեսակը | H11: Ցուցանիշների փոփոխությունը (ավելացումները նշված են դրական նշանով, իսկ նվազեցումները՝ փակագծերում)
C12: Ծրագիր | D12: Միջոցառում | H12: առաջին կիսամյակ | I12: ինն ամիս | J12: տարի
B13: ԸՆԴԱՄԵՆԸ | H13: =H14+H18 -> 0 | I13: =I14+I18 -> 0 | J13: =J14+J18 -> 0
B14: ՀՀ պաշտպանության նախարարություն | H14: =H15 -> 0 | I14: =I15 -> 0 | J14: =J15 -> 0
C15: 1169 | E15: ՀՀ պաշտպանության ապահովում | F15: ՀՀ ԶՈւ ռազմավարական ծավալումն ապահովող մարտական պատրաստականության պահպանում, արտաքին թշնամուց ՀՀ պետական սահմանների պաշտպանության ապահովում | G15: ՀՀ ԶՈւ ռազմավարական ծավալումն ապահովող մարտական պատրաստականության պահպանում | H15: =SUM(H16:H17) -> 0 | I15: =SUM(I16:I17) -> 0 | J15: =SUM(J16:J17) -> 0
D16: 1169 - 11001 | E16: Ռազմական կարիքների բավարարում | F16: Ընթացիկ գործունեության ապահովման գործողություններ | G16: Ծառայությունների մատուցում | H16: =+'N 3 և N 4'!H22 -> -38939.7 | I16: =+'N 3 և N 4'!I22 -> -38939.7 | J16: =+'N 3 և N 4'!J22 -> -38939.7
D17: 1169 - 11006 | E17: Գիտահետազոտական և փորձակոնստրուկտորական աշխատանքների գիտատեխնիկական /ռազմատեխնիկական/ ուղեկցում | F17: Գիտահետազոտական և փորձակոնստրուկտորական աշխատանքների տակտիկատեխնիկական առաջադրանքների իրականացման ռազմատեխնիկական ուղեկցում պետական փորձարկումների ավարտով | G17: Ծառայությունների մատուցում | H17: =+'N 3 և N 4'!H37 -> 38939.7 | I17: =+'N 3 և N 4'!I37 -> 38939.7 | J17: =+'N 3 և N 4'!J37 -> 38939.7
B18: ՀՀ կառավարություն | H18: =H19 -> 0 | I18: =I19 -> 0 | J18: =J19 -> 0
C19: 1139 | E19: ՀՀ կառավարության պահուստային ֆոնդ | F19: Պետական բյուջեում չկանխատեսված, ինչպես նաեւ բյուջետային երաշխիքների ապահովման ծախսերի ֆինանսավորման ապահովում | G19: Պահուստային ֆոնդի կառավարման արդյունավետության և թափանցիկության ապահովում | H19: =SUM(H20:H21) -> 0 | I19: =SUM(I20:I21) -> 0 | J19: =SUM(J20:J21) -> 0
D20: 1139 - 11001 | E20: ՀՀ կառավարության պահուստային ֆոնդ | F20: ՀՀ պետական բյուջեում նախատեսված ելքերի լրացուցիչ ֆինանսավորման, պետական բյուջեում չկանխատեսված ելքերի, ինչպես նաև բյուջետային երաշխիքների ապահովման ելքերի ֆինանսավորման ապահովում | G20: Ծառայությունների մատուցում | H20: =H17 -> 38939.7 | I20: =I17 -> 38939.7 | J20: =J17 -> 38939.7
D21: 1139 - 11001 | E21: ՀՀ կառավարության պահուստային ֆոնդ | F21: ՀՀ պետական բյուջեում նախատեսված ելքերի լրացուցիչ ֆինանսավորման, պետական բյուջեում չկանխատեսված ելքերի, ինչպես նաև բյուջետային երաշխիքների ապահովման ելքերի ֆինանսավորման ապահովում | G21: Ծառայությունների մատուցում | H21: =-H20 -> -38939.7 | I21: =-I20 -> -38939.7 | J21: =-J20 -> -38939.7

Sheet N 3 և N 4
J1: Հավելված N 2
J2: ՀՀ կառավարության 2025 թվականի
J3: ______________ ի N ___ -Ն որոշման
B5: ՀԱՅԱՍՏԱՆԻ ՀԱՆՐԱՊԵՏՈՒԹՅԱՆ ԿԱՌԱՎԱՐՈՒԹՅԱՆ 2024 ԹՎԱԿԱՆԻ ԴԵԿՏԵՄԲԵՐԻ 27-Ի N 2060-Ն ՈՐՈՇՄԱՆ
B6: N 3 և N 4 ՀԱՎԵԼՎԱԾՆԵՐՈՒՄ ԿԱՏԱՐՎՈՂ ԼՐԱՑՈՒՄՆԵՐՆ ՈՒ ՓՈՓՈԽՈՒԹՅՈՒՆՆԵՐԸ
J7: հազար դրամներով
B8: Գործառական դասիչը | E8: Ծրագրային դասիչը | G8: Բյուջետային ծախսերի գործառական դասակարգման բաժինների, խմբերի և դասերի, բյուջետային ծրագրերի միջոցառումների, բյուջետային հատկացումների գլխավոր կարգադրիչների անվանումները | H8: Ցուցանիշների փոփոխությունը (ավելացումները նշված են դրական նշանով, իսկ նվազեցումները՝ փակագծերում)
B9: բաժին | C9: խումբ | D9: դաս | E9: ծրագիր | F9: միջոցա-ռում | H9: առաջին կիսամյակ | I9: ինն ամիս | J9: տարի
G10: ԸՆԴԱՄԵՆԸ ԾԱԽՍԵՐ | H10: =H12+H46 -> 0 | I10: =I12+I46 -> 0 | J10: =J12+J46 -> 0
G11: այդ թվում`
G12: ՀՀ պաշտպանության նախարարություն | H12: =H14 -> 0 | I12: =I14 -> 0 | J12: =J14 -> 0
G13: այդ թվում`
B14: 02 | G14: ՊԱՇՏՊԱՆՈՒԹՅՈՒՆ | H14: =H16+H31 -> 0 | I14: =I16+I31 -> 0 | J14: =J16+J31 -> 0
G15: այդ թվում`
C16: 01 | G16: Ռազմական պաշտպանություն | H16: =H18 -> -38939.7 | I16: =I18 -> -38939.7 | J16: =J18 -> -38939.7
G17: այդ թվում`
D18: 01 | G18: Ռազմական պաշտպանություն | H18: =H20 -> -38939.7 | I18: =I20 -> -38939.7 | J18: =J20 -> -38939.7
G19: այդ թվում`
E20: 1169 | G20: ՀՀ պաշտպանության ապահովում | H20: =H22 -> -38939.7 | I20: =I22 -> -38939.7 | J20: =J22 -> -38939.7
G21: այդ թվում`
F22: 11001 | G22: Ռազմական կարիքների բավարարում | H22: =H24 -> -38939.7 | I22: =I24 -> -38939.7 | J22: =J24 -> -38939.7
G23: այդ թվում` ըստ կատարողների
G24: ՀՀ պաշտպանության նախարարություն | H24: =H26 -> -38939.7 | I24: =I26 -> -38939.7 | J24: =J26 -> -38939.7
G25: այդ թվում` բյուջետային ծախսերի տնտեսագիտական դասակարգման հոդվածներ
G26: ԸՆԴԱՄԵՆԸ ԾԱԽՍԵՐ | H26: =H27 -> -38939.7 | I26: =I27 -> -38939.7 | J26: =J27 -> -38939.7
G27: ԸՆԹԱՑԻԿ ԾԱԽՍԵՐ | H27: =H28 -> -38939.7 | I27: =I28 -> -38939.7 | J27: =J28 -> -38939.7
G28: ԾԱՌԱՅՈՒԹՅՈՒՆՆԵՐԻ ԵՎ ԱՊՐԱՆՔՆԵՐԻ ՁԵՌՔԲԵՐՈՒՄ | H28: =H29 -> -38939.7 | I28: =I29 -> -38939.7 | J28: =J29 -> -38939.7
G29: ՇԱՐՈՒՆԱԿԱԿԱՆ ԾԱԽՍԵՐ | H29: =SUM(H30:H30) -> -38939.7 | I29: =SUM(I30:I30) -> -38939.7 | J29: =SUM(J30:J30) -> -38939.7
G30: - Կոմունալ ծառայություններ | H30: =-38939.7 -> -38939.7 | I30: =-38939.7 -> -38939.7 | J30: =-38939.7 -> -38939.7
C31: 04 | G31: Հետազոտական և նախագծային աշխատանքներ պաշտպանության ոլորտում | H31: =H33 -> 38939.7 | I31: =I33 -> 38939.7 | J31: =J33 -> 38939.7
G32: այդ թվում`
D33: 01 | G33: Հետազոտական և նախագծային աշխատանքներ պաշտպանության ոլորտում | H33: =H35 -> 38939.7 | I33: =I35 -> 38939.7 | J33: =J35 -> 38939.7
G34: այդ թվում`
E35: 1169 | G35: ՀՀ պաշտպանության ապահովում | H35: =H37 -> 38939.7 | I35: =I37 -> 38939.7 | J35: =J37 -> 38939.7
G36: այդ թվում`
F37: 11006 | G37: Գիտահետազոտական և փորձակոնստրուկտորական աշխատանքների գիտատեխնիկական /ռազմատեխնիկական/ ուղեկցում | H37: =H39 -> 38939.7 | I37: =I39 -> 38939.7 | J37: =J39 -> 38939.7
G38: այդ թվում` ըստ կատարողների
G39: ՀՀ պաշտպանության նախարարություն | H39: =H41 -> 38939.7 | I39: =I41 -> 38939.7 | J39: =J41 -> 38939.7
G40: այդ թվում` բյուջետային ծախսերի տնտեսագիտական դասակարգման հոդվածներ
G41: ԸՆԴԱՄԵՆԸ ԾԱԽՍԵՐ | H41: =H42 -> 38939.7 | I41: =I42 -> 38939.7 | J41: =J42 -> 38939.7
...

Sheet N 5 Ա 7
F1: Հավելված N 3
F2: ՀՀ կառավարության 2025 թվականի
E3: ___________ -ի N _______ -Ն որոշման
B5: ՀԱՅԱՍՏԱՆԻ ՀԱՆՐԱՊԵՏՈՒԹՅԱՆ ԿԱՌԱՎԱՐՈՒԹՅԱՆ 2024 ԹՎԱԿԱՆԻ ԴԵԿՏԵՄԲԵՐԻ 27-Ի N 2060-Ն ՈՐՈՇՄԱՆ N 5 ՀԱՎԵԼՎԱԾԻ N 7 ԱՂՅՈՒՍԱԿՈՒՄ ԿԱՏԱՐՎՈՂ ՓՈՓՈԽՈՒԹՅՈՒՆՆԵՐԸ ԵՎ ԼՐԱՑՈՒՄՆԵՐԸ
F6: հազար դրամներով
B7: Ծրագրային դասիչ | D7: Բյուջետային հատկացումների գլխավոր կարգադրիչների, ծրագրերի, միջոցառումների, ծախսային ուղղությունների անվանումները | E7: Միջոցառումները կատարող պետական մարմինների և դրամաշնորհ ստացող տնտեսվարող սուբյեկտների անվանումները | F7: Ցուցանիշների փոփոխությունը (ավելացումները նշված են դրական նշանով)
B8: ծրագիր | C8: միջոցառում
B9: ԸՆԴԱՄԵՆԸ | F9: =+F10 -> 38939.7
B10: ՀՀ պաշտպանության նախարարություն | F10: =F11 -> 38939.7
B11: 1169 | C11: ՀՀ պաշտպանության ապահովում | F11: =F12 -> 38939.7
C12: 11006 | D12: Գիտահետազոտական և փորձակոնստրուկտորական աշխատանքների գիտատեխնիկական (ռազմատեխնիկական) ուղեկցում | E12: ՀՀ պաշտպանության նախարարություն | F12: ='N 3 և N 4'!J45 -> 38939.7
E13: Ռազմատեխնիկական գիտահետազոտական ինստիտուտ» (ՌՏ ԳՀԻ) ՊՈԱԿ | F13: =+F12 -> 38939.7

Sheet N 5 Ա 7.1
G1: Հավելված N 4
G2: ՀՀ կառավարության 2025 թվականի
E3: ___________ -ի N _______ -Ն որոշման
B5: ՀԱՅԱՍՏԱՆԻ ՀԱՆՐԱՊԵՏՈՒԹՅԱՆ ԿԱՌԱՎԱՐՈՒԹՅԱՆ 2024 ԹՎԱԿԱՆԻ ԴԵԿՏԵՄԲԵՐԻ 27-Ի N 2060-Ն ՈՐՈՇՄԱՆ N 5 ՀԱՎԵԼՎԱԾԻ N 7.1 ԱՂՅՈՒՍԱԿՈՒՄ ԿԱՏԱՐՎՈՂ ՓՈՓՈԽՈՒԹՅՈՒՆՆԵՐԸ ԵՎ ԼՐԱՑՈՒՄՆԵՐԸ
G6: հազար դրամներով
B7: Ծրագրային դասիչ | D7: Բյուջետային հատկացումների գլխավոր կարգադրիչների, ծրագրերի, միջոցառումների, ծախսային ուղղությունների անվանումները | E7: Միջոցառումները կատարող պետական մարմինների և դրամաշնորհ ստացող տնտեսվարող սուբյեկտների անվանումները | F7: Գերատեսչական պատկանելություն | G7: Ցուցանիշների փոփոխությունը (ավելացումները նշված են դրական նշանով)
B8: ծրագիր | C8: միջոցառում
D9: ՀՀ պաշտպանության նախարարություն | G9: =G10 -> 38939.7
B10: 1169 | D10: ՀՀ պաշտպանության ապահովում | G10: =G11 -> 38939.7
C11: 11006 | D11: Գիտահետազոտական և փորձակոնստրուկտորական աշխատանքների գիտատեխնիկական (ռազմատեխնիկական) ուղեկցում | E11: Ռազմատեխնիկական գիտահետազոտական ինստիտուտ» (ՌՏ ԳՀԻ) ՊՈԱԿ | F11: ՀՀ պաշտպանության նախարարություն | G11: ='N 3 և N 4'!J45 -> 38939.7

Sheet N 5 Ա 7.2
F1: Հավելված N 5
F2: ՀՀ կառավարության 2025 թվականի
E3: ___________ -ի N _______ -Ն որոշման
B5: ՀԱՅԱՍՏԱՆԻ ՀԱՆՐԱՊԵՏՈՒԹՅԱՆ ԿԱՌԱՎԱՐՈՒԹՅԱՆ 2024 ԹՎԱԿԱՆԻ ԴԵԿՏԵՄԲԵՐԻ 27-Ի N 2060-Ն ՈՐՈՇՄԱՆ N 5 ՀԱՎԵԼՎԱԾԻ N 7.2 ԱՂՅՈՒՍԱԿՈՒՄ ԿԱՏԱՐՎՈՂ ՓՈՓՈԽՈՒԹՅՈՒՆՆԵՐԸ ԵՎ ԼՐԱՑՈՒՄՆԵՐԸ
F6: հազար դրամներով
B7: Ծրագրային դասիչ | D7: Բյուջետային հատկացումների գլխավոր կարգադրիչների, ծրագրերի, միջոցառումների անվանումները | E7: Միջոցառումները կատարող պետական մարմինների անվանումները | F7: Ցուցանիշների փոփոխությունը (ավելացումները նշված են դրական նշանով)
B8: ծրագիր | C8: միջոցառում
D9: ԸՆԴԱՄԵՆԸ | F9: =+F10 -> 38939.7
D10: ՀՀ պաշտպանության նախարարություն | F10: =F11 -> 38939.7
B11: 1169 | D11: ՀՀ պաշտպանության ապահովում | F11: =F12 -> 38939.7
C12: 11006 | D12: Գիտահետազոտական և փորձակոնստրուկտորական աշխատանքների գիտատեխնիկական (ռազմատեխնիկական) ուղեկցում | E12: ՀՀ պաշտպանության նախարարություն | F12: ='N 3 և N 4'!J45 -> 38939.7

Sheet  N 9
M1: Հավելված N 6
M2: ='N 3 և N 4'!J2 -> ՀՀ կառավարության 2025 թվականի
M3: ='N 3 և N 4'!J3 -> ______________ ի N ___ -Ն որոշման
B6: =+'N 3 և N 4'!B5:J5 -> ՀԱՅԱՍՏԱՆԻ ՀԱՆՐԱՊԵՏՈՒԹՅԱՆ ԿԱՌԱՎԱՐՈՒԹՅԱՆ 2024 ԹՎԱԿԱՆԻ ԴԵԿՏԵՄԲԵՐԻ 27-Ի N 2060-Ն ՈՐՈՇՄԱՆ
B7: N 9 ՀԱՎԵԼՎԱԾՈՒՄ ԿԱՏԱՐՎՈՂ ԼՐԱՑՈՒՄՆԵՐՆ ՈՒ ՓՈՓՈԽՈՒԹՅՈՒՆՆԵՐԸ
M8: հազար դրամներով
B9: ԲԳԿ | C9: Ծրագիր | E9: Միջոցառում | I9: Իրականացնողը/ ակտիվն օգտագործողը/ շահառուի ընտրության չափորոշիչը | J9: Արդյունքային չափորոշիչը | K9: Ցուցանիշների փոփոխությունը (ավելացումները նշված են դրական նշանով, իսկ նվազեցումները՝ փակագծերում)
C10: Դասիչը | D10: Անվա-նումը | E10: Դասիչը | F10: Անվա-նումը | G10: Նկարագրու-թյունը | H10: Տեսակը | K10: առաջին կիսամյակ | L10: ինն ամիս | M10: տարի
B11: ԸՆԴԱՄԵՆԸ | K11: =K12+K22 -> 0 | L11: =L12+L22 -> 0 | M11: =M12+M22 -> 0
B12: ՀՀ պաշտպանության նախարարություն | K12: =K13 -> 0 | L12: =L13 -> 0 | M12: =M13 -> 0
C13: 1169 | D13: ՀՀ պաշտպանության ապահովում | K13: =K14+K18 -> 0 | L13: =L14+L18 -> 0 | M13: =M14+M18 -> 0
E14: 1169 - 11001 | F14: Ռազմական կարիքների բավարարում | K14: ='N 3 և N 4'!H22 -> -38939.7 | L14: ='N 3 և N 4'!I22 -> -38939.7 | M14: ='N 3 և N 4'!J22 -> -38939.7
G15: Ընթացիկ գործունեության ապահովման գործողություններ
H16: Ծառայությունների մատուցում
I17: Ծառայությունը մատուցողի անվանումը` ՀՀ պաշտպանության նախարարություն
E18: 1169 - 11006 | F18: Գիտահետազոտական և փորձակոնստրուկտորական աշխատանքների գիտատեխնիկական /ռազմատեխնիկական/ ուղեկցում | K18: =+'N 3 և N 4'!H37 -> 38939.7 | L18: =+'N 3 և N 4'!I37 -> 38939.7 | M18: =+'N 3 և N 4'!J37 -> 38939.7
G19: Գիտահետազոտական և փորձակոնստրուկտորական աշխատանքների տակտիկատեխնիկական առաջադրանքների իրականացման ռազմատեխնիկական ուղեկցում պետական փորձարկումների ավարտով
H20: Ծառայությունների մատուցում
I21: Միջոցառումն իրականացնողի անվանումը` ՀՀ պաշտպանության նախարարություն
B22: ՀՀ կառավարություն | K22: =K23 -> 0 | L22: =L23 -> 0 | M22: =M23 -> 0
C23: 1139 | D23: ՀՀ կառավարության պահուստային ֆոնդ | K23: =K24+K28 -> 0 | L23: =L24+L28 -> 0 | M23: =M24+M28 -> 0
E24: 1139 - 11001 | F24: ՀՀ կառավարության պահուստային ֆոնդ | K24: =+K18 -> 38939.7 | L24: =+L18 -> 38939.7 | M24: =+M18 -> 38939.7
G25: ՀՀ պետական բյուջեում նախատեսված ելքերի լրացուցիչ ֆինանսավորման, պետական բյուջեում չկանխատեսված ելքերի, ինչպես նաև բյուջետային երաշխիքների ապահովման ելքերի ֆինանսավորման ապահովում
H26: Ծառայությունների մատուցում
I27: Ծառայությունը մատուցողի անվանումը` ՀՀ կառավարություն
E28: 1139 - 11001 | F28: ՀՀ կառավարության պահուստային ֆոնդ | K28: =-K24 -> -38939.7 | L28: =-L24 -> -38939.7 | M28: =-M24 -> -38939.7
G29: ՀՀ պետական բյուջեում նախատեսված ելքերի լրացուցիչ ֆինանսավորման, պետական բյուջեում չկանխատեսված ելքերի, ինչպես նաև բյուջետային երաշխիքների ապահովման ելքերի ֆինանսավորման ապահովում
H30: Ծառայությունների մատուցում
I31: Ծառայությունը մատուցողի անվանումը` ՀՀ կառավարություն

Sheet  N 9.1
M1: Հավելված N 7
M2: ='N 3 և N 4'!J2 -> ՀՀ կառավարության 2025 թվականի
M3: ='N 3 և N 4'!J3 -> ______________ ի N ___ -Ն որոշման
B6: =+'N 3 և N 4'!B5:J5 -> ՀԱՅԱՍՏԱՆԻ ՀԱՆՐԱՊԵՏՈՒԹՅԱՆ ԿԱՌԱՎԱՐՈՒԹՅԱՆ 2024 ԹՎԱԿԱՆԻ ԴԵԿՏԵՄԲԵՐԻ 27-Ի N 2060-Ն ՈՐՈՇՄԱՆ
B7: N 9.1 ՀԱՎԵԼՎԱԾՈՒՄ ԿԱՏԱՐՎՈՂ ԼՐԱՑՈՒՄՆԵՐՆ ՈՒ ՓՈՓՈԽՈՒԹՅՈՒՆՆԵՐԸ
M8: հազար դրամներով
B9: ԲՍԿ | C9: Ծրագիր | E9: Միջոցառում | I9: Իրականացնողը/ ակտիվն օգտագործողը/ շահառուի ընտրության չափորոշիչը | J9: Արդյունքային չափորոշիչը | K9: Ցուցանիշների փոփոխությունը (ավելացումները նշված են դրական նշանով, իսկ նվազեցումները՝ փակագծերում)
C10: Դասիչը | D10: Անվա-նումը | E10: Դասիչը | F10: Անվա-նումը | G10: Նկարագրու-թյունը | H10: Տեսակը | K10: առաջին կիսամյակ | L10: ինն ամիս | M10: տարի
B11: ԸՆԴԱՄԵՆԸ | K11: =K12+K22 -> 0 | L11: =L12+L22 -> 0 | M11: =M12+M22 -> 0
B12: ՀՀ պաշտպանության նախարարություն | K12: =K13 -> 0 | L12: =L13 -> 0 | M12: =M13 -> 0
C13: 1169 | D13: ՀՀ պաշտպանության ապահովում | K13: =K14+K18 -> 0 | L13: =L14+L18 -> 0 | M13: =M14+M18 -> 0
E14: 1169 - 11001 | F14: Ռազմական կարիքների բավարարում | K14: ='N 3 և N 4'!H22 -> -38939.7 | L14: ='N 3 և N 4'!I22 -> -38939.7 | M14: ='N 3 և N 4'!J22 -> -38939.7
G15: Ընթացիկ գործունեության ապահովման գործողություններ
H16: Ծառայությունների մատուցում
I17: Ծառայությունը մատուցողի անվանումը` ՀՀ պաշտպանության նախարարություն
E18: 1169 - 11006 | F18: Գիտահետազոտական և փորձակոնստրուկտորական աշխատանքների գիտատեխնիկական /ռազմատեխնիկական/ ուղեկցում | K18: =+'N 3 և N 4'!H37 -> 38939.7 | L18: =+'N 3 և N 4'!I37 -> 38939.7 | M18: =+'N 3 և N 4'!J37 -> 38939.7
G19: Գիտահետազոտական և փորձակոնստրուկտորական աշխատանքների տակտիկատեխնիկական առաջադրանքների իրականացման ռազմատեխնիկական ուղեկցում պետական փորձարկումների ավարտով
H20: Ծառայությունների մատուցում
I21: Միջոցառումն իրականացնողի անվանումը` ՀՀ պաշտպանության նախարարություն
B22: ՀՀ կառավարություն | K22: =K23 -> 0 | L22: =L23 -> 0 | M22: =M23 -> 0
C23: 1139 | D23: ՀՀ կառավարության պահուստային ֆոնդ | K23: =K24+K28 -> 0 | L23: =L24+L28 -> 0 | M23: =M24+M28 -> 0
E24: 1139 - 11001 | F24: ՀՀ կառավարության պահուստային ֆոնդ | K24: =+K18 -> 38939.7 | L24: =+L18 -> 38939.7 | M24: =+M18 -> 38939.7
G25: ՀՀ պետական բյուջեում նախատեսված ելքերի լրացուցիչ ֆինանսավորման, պետական բյուջեում չկանխատեսված ելքերի, ինչպես նաև բյուջետային երաշխիքների ապահովման ելքերի ֆինանսավորման ապահովում
H26: Ծառայությունների մատուցում
I27: Ծառայությունը մատուցողի անվանումը` ՀՀ կառավարություն
E28: 1139 - 11001 | F28: ՀՀ կառավարության պահուստային ֆոնդ | K28: =-K24 -> -38939.7 | L28: =-L24 -> -38939.7 | M28: =-M24 -> -38939.7
G29: ՀՀ պետական բյուջեում նախատեսված ելքերի լրացուցիչ ֆինանսավորման, պետական բյուջեում չկանխատեսված ելքերի, ինչպես նաև բյուջետային երաշխիքների ապահովման ելքերի ֆինանսավորման ապահովում
H30: Ծառայությունների մատուցում
I31: Ծառայությունը մատուցողի անվանումը` ՀՀ կառավարություն

Sheet N 10
J1: Հավելված N 8
J2: ='N 3 և N 4'!J2 -> ՀՀ կառավարության 2025 թվականի
J3: ='N 3 և N 4'!J3 -> ______________ ի N ___ -Ն որոշման
B7: ='N 3 և N 4'!B5:J5 -> ՀԱՅԱՍՏԱՆԻ ՀԱՆՐԱՊԵՏՈՒԹՅԱՆ ԿԱՌԱՎԱՐՈՒԹՅԱՆ 2024 ԹՎԱԿԱՆԻ ԴԵԿՏԵՄԲԵՐԻ 27-Ի N 2060-Ն ՈՐՈՇՄԱՆ
B8: N 10 ՀԱՎԵԼՎԱԾՈՒՄ ԿԱՏԱՐՎՈՂ ՓՈՓՈԽՈՒԹՅՈՒՆՆԵՐԸ
B10: Կոդը | C10: Անվանումը | F10: Գնման ձևը | G10: Չափման միավորը | H10: Միավորի գինը | I10: Ցուցանիշների փոփոխությունը (նվազեցումները նշված են փակագծերում)
I11: քանակը | J11: գումարը (հազար դրամով)
B12: ՀՀ պաշտպանության նախարարություն | J12: =J13 -> -38939.7
B13: Բաժին N 02 | C13: Խումբ N 01 | D13: Դաս N 01 | E13: Ռազմական պաշտպանություն | J13: =J14 -> -38939.7
B14: 1169 11001 | C14: Ռազմական կարիքների բավարարում | J14: =J15 -> -38939.7
C15: ՄԱՍ III. ԾԱՌԱՅՈՒԹՅՈՒՆՆԵՐ | J15: =SUM(J16:J16) -> -38939.7
B16: 65111100/1 | C16: խմելու ջրի բաշխում | F16: ՄԱ | G16: դրամ | J16: -38939.7
