Workbook
Name \A: #REF!
Name \A: #REF!
Name \A: #REF!
Name \A: #REF!
Name \A: #REF!
Name _tab10: #REF!
Name _tab11: #REF!
Name _tab12: #REF!
Name _tab13: #REF!
Name _tab14: #REF!
Name _tab15: #REF!
Name _tab16: #REF!
Name _tab17: #REF!
Name _tab18: #REF!
Name _tab19: #REF!
Name _tab20: #REF!
Name _tab21: #REF!
Name _tab22: #REF!
Name _tab23: #REF!
Name _tab24: #REF!
Name _tab5: #REF!
Name _tab6: #REF!
Name _tab7: #REF!
Name _tab8: #REF!
Name _tab9: #REF!
Name AgencyCode: #REF!
Name AgencyCode: #REF!
Name AgencyCode: #REF!
Name AgencyName: #REF!
Name AgencyName: #REF!
Name AgencyName: #REF!
Name ampop_krchat: #REF!
Name ampop_krchat: #REF!
Name ampop_krchat: #REF!
Name Armata: #REF!
Name Armata: #REF!
Name Armata: #REF!
Name Armata: #REF!
Name Armata: #REF!
Name BOP: #REF!
Name BOP: #REF!
Name BOP: #REF!
Name BOP: #REF!
Name BOP: #REF!
Name BOPfoot: #REF!
Name BOPfoot: #REF!
Name BOPfoot: #REF!
Name DebtCG: '[1]Fis-Debt'!#REF!
Name DebtCG: '[1]Fis-Debt'!#REF!
Name DebtCG: '[1]Fis-Debt'!#REF!
Name DebtCG: '[1]Fis-Debt'!#REF!
Name DebtGG: #REF!
Name DebtGG: #REF!
Name DebtGG: #REF!
Name Functional1: #REF!
Name Functional1: #REF!
Name Functional1: #REF!
Name Hav: #REF!,#REF!
Name MonExo: #REF!
Name MonExo: #REF!

Sheet N  1
A1: Հավելված N1 ՀՀ կառավարության 2025 թվականի____________ի N _____-Ն որոշման
A4: «ՀԱՅԱՍՏԱՆԻ ՀԱՆՐԱՊԵՏՈՒԹՅԱՆ 2025 ԹՎԱԿԱՆԻ ՊԵՏԱԿԱՆ ԲՅՈՒՋԵԻ ՄԱՍԻՆ» ՀԱՅԱՍՏԱՆԻ ՀԱՆՐԱՊԵՏՈՒԹՅԱՆ ՕՐԵՆՔԻ 2-ՐԴ ՀՈԴՎԱԾԻ ԱՂՅՈՒՍԱԿՈՒՄ ԿԱՏԱՐՎՈՂ ՓՈՓՈԽՈՒԹՅՈՒՆՆԵՐԸ
B5: (հազար դրամներով)
B6: Ցուցանիշների փոփոխությունը (ավելացումները նշված են դրական նշանով)
A7: Եկամուտների գծով | B7: =B8-'N 2'!D13 -> 1019768.3
A8: Ծախսերի գծով | B8: ='N 8'!J8 -> 1150455.2
A9: Դեֆիցիտը (պակասուրդը) | B9: =B8-B7 -> 130686.9

Sheet N 2
A1: Հավելված N2 ՀՀ կառավարության 2025 թվականի____________ի N _____-Ն որոշման
A2: «ՀԱՅԱՍՏԱՆԻ ՀԱՆՐԱՊԵՏՈՒԹՅԱՆ 2025 ԹՎԱԿԱՆԻ ՊԵՏԱԿԱՆ ԲՅՈՒՋԵԻ ՄԱՍԻՆ» ՀԱՅԱՍՏԱՆԻ ՀԱՆՐԱՊԵՏՈՒԹՅԱՆ ՕՐԵՆՔԻ N3 ՀԱՎԵԼՎԱԾԻ N1 ԱՂՅՈՒՍԱԿՈՒՄ ԵՎ ՀԱՅԱՍՏԱՆԻ ՀԱՆՐԱՊԵՏՈՒԹՅԱՆ ԿԱՌԱՎԱՐՈՒԹՅԱՆ 2024 ԹՎԱԿԱՆԻ ԴԵԿՏԵՄԲԵՐԻ 27-Ի N2060-Ն ՈՐՈՇՄԱՆ N1 ՀԱՎԵԼՎԱԾԻ N1 ԱՂՅՈՒՍԱԿՈՒՄ ԿԱՏԱՐՎՈՂ ՓՈՓՈԽՈՒԹՅՈՒՆՆԵՐԸ
C4: (հազ. դրամ)
A5: Պետական բյուջեի դեֆիցիտի ֆինանսավորման աղբյուրներն ու դրանց տարրերի անվանումները | B5: Ցուցանիշների փոփոխությունը (ծախսերի ավելացումները նշված են դրական նշանով)
B6: Առաջին կիսամյակ | C6: Ինն ամիս | D6: Տարի
A7: ԸՆԴԱՄԵՆԸ | B7: =B9 -> 130686.9 | C7: =C9 -> 130686.9 | D7: =D9 -> 130686.9
A8: այդ թվում՝
A9: Բ. Արտաքին աղբյուրներ - ընդամենը | B9: =B11 -> 130686.9 | C9: =C11 -> 130686.9 | D9: =D11 -> 130686.9
A10: այդ թվում՝
A11: 2. Ֆինանսական զուտ ակտիվներ | B11: =B13 -> 130686.9 | C11: =C13 -> 130686.9 | D11: =D13 -> 130686.9
A12: այդ թվում՝
A13: 2.4 Ելքերի ֆինանսավորմանն ուղղվող պետական բյուջեի տարեսկզբի ազատ մնացորդի միջոցներ | B13: 130686.9 | C13: =B13 -> 130686.9 | D13: =C13 -> 130686.9

Sheet N  3
A1: Հավելված N3 ՀՀ կառավարության 2025 թվականի____________ի N _____-Ն որոշման
A4: «ՀԱՅԱՍՏԱՆԻ ՀԱՆՐԱՊԵՏՈՒԹՅԱՆ 2025 ԹՎԱԿԱՆԻ ՊԵՏԱԿԱՆ ԲՅՈՒՋԵԻ ՄԱՍԻՆ» ՀԱՅԱՍՏԱՆԻ ՀԱՆՐԱՊԵՏՈՒԹՅԱՆ ՕՐԵՆՔԻ 6-ՐԴ ՀՈԴՎԱԾԻ ԱՂՅՈՒՍԱԿՈՒՄ ԵՎ ՀԱՅԱՍՏԱՆԻ ՀԱՆՐԱՊԵՏՈՒԹՅԱՆ ԿԱՌԱՎԱՐՈՒԹՅԱՆ 2024 ԹՎԱԿԱՆԻ ԴԵԿՏԵՄԲԵՐԻ 27-Ի N 2060-Ն ՈՐՈՇՄԱՆ 2-ՐԴ ՀԱՎԵԼՎԱԾՈՒՄ ԿԱՏԱՐՎՈՂ ՓՈՓՈԽՈՒԹՅՈՒՆՆԵՐԸ
C5: (հազար դրամներով)
A6: Պետական բյուջեի եկամուտները | B6: Ցուցանիշների փոփոխությունը (ավելացումները նշված են դրական նշանով)
B7: Առաջին կիսամյակ | C7: Ինն ամիս | D7: Տարի
A8: ԸՆԴԱՄԵՆԸ | B8: =B10+B11 -> 519787.8 | C8: =C10+C11 -> 803765.4 | D8: =D10+D11 -> 1019768.3
A9: այդ թվում`
A10: Հարկային եկամուտներ և պետական տուրքեր | B10: ='N 8'!F8 -> 108412.4 | C10: ='N 8'!I8 -> 155742 | D10: ='N 8'!L8 -> 191742.4
A11: Պաշտոնական դրամաշնորհներ | B11: ='N 8'!E8-'N 2'!B13 -> 411375.4 | C11: ='N 8'!H8-'N 2'!C13 -> 648023.4 | D11: ='N 8'!K8-'N 2'!D13 -> 828025.9

Sheet N 4
A1: Հավելված N4 ՀՀ կառավարության 2025 թվականի____________ի N _____-Ն որոշման
A3: «ՀԱՅԱՍՏԱՆԻ ՀԱՆՐԱՊԵՏՈՒԹՅԱՆ 2025 ԹՎԱԿԱՆԻ ՊԵՏԱԿԱՆ ԲՅՈՒՋԵԻ ՄԱՍԻՆ» ՀԱՅԱՍՏԱՆԻ ՀԱՆՐԱՊԵՏՈՒԹՅԱՆ ՕՐԵՆՔԻ N 1 ՀԱՎԵԼՎԱԾԻ N 1 ԱՂՅՈՒՍԱԿՈՒՄ ԿԱՏԱՐՎՈՂ ԼՐԱՑՈՒՄԸ
A5: Ծրագրային դասիչը | B5: Ծրագրի անվանումը | C5: Գումարը (հազար դրամ)
A6: Ընդամենը | C6: =C7 -> 1150455.2
A7: 1155 | B7: Բնական ռեսուրսների և բնության հատուկ պահպանվող տարածքների կառավարում | C7: ='N 8'!J8 -> 1150455.2

Sheet N 5
C1: Հավելված N5 ՀՀ կառավարության 2025 թվականի____________ի N _____-Ն որոշման
A2: «ՀԱՅԱՍՏԱՆԻ ՀԱՆՐԱՊԵՏՈՒԹՅԱՆ 2025 ԹՎԱԿԱՆԻ ՊԵՏԱԿԱՆ ԲՅՈՒՋԵԻ ՄԱՍԻՆ» ՀԱՅԱՍՏԱՆԻ ՀԱՆՐԱՊԵՏՈՒԹՅԱՆ ՕՐԵՆՔԻ N 1 ՀԱՎԵԼՎԱԾԻ N 2 ԱՂՅՈՒՍԱԿՈՒՄ ԵՎ ՀԱՅԱՍՏԱՆԻ ՀԱՆՐԱՊԵՏՈՒԹՅԱՆ ԿԱՌԱՎԱՐՈՒԹՅԱՆ 2024 ԹՎԱԿԱՆԻ ԴԵԿՏԵՄԲԵՐԻ 27-Ի N 2060-Ն ՈՐՈՇՄԱՆ N 5 ՀԱՎԵԼՎԱԾԻ N 1 ԱՂՅՈՒՍԱԿՈՒՄ ԿԱՏԱՐՎՈՂ ՓՈՓՈԽՈՒԹՅՈՒՆՆԵՐԸ ԵՎ ԼՐԱՑՈՒՄՆԵՐԸ
H3: (հազար դրամներով)
A4: ԲԳԿ | B4: Ծրագրային դասիչը | D4: ԲԳԿ/Ծրագրի /միջոցառման անվանումը | E4: Ծրագրի նպատակը/Միջոցառման նկարագրությունը | F4: Վերջնական արդյունքի նկարագրությունը/Միջոցառման տեսակը | G4: Ցուցանիշների փոփոխությունը (ծախսերի ավելացումները նշված են դրական նշանով)
B5: Ծրագիր | C5: Միջոցառում | G5: Առաջին կիսամյակ | H5: Ինն ամիս | I5: Տարի
A6: ԸՆԴԱՄԵՆԸ | G6: =G7 -> 650474.7 | H6: =H7 -> 934452.3 | I6: =I7 -> 1150455.2
A7: ՀՀ շրջակա միջավայրի նախարարություն | G7: =G8 -> 650474.7 | H7: =H8 -> 934452.3 | I7: =I8 -> 1150455.2
B8: 1155 | D8: Բնական ռեսուրսների և բնության հատուկ պահպանվող տարածքների կառավարում | E8: Բնական ռեսուրսների և կենսաբազմազանության արդյունավետ կառավարում | F8: Բնական ռեսուրսների և կենսաբազմազանության վերարտադրության աճի ապահովում | G8: =G9+G10 -> 650474.7 | H8: =H9+H10 -> 934452.3 | I8: =I9+I10 -> 1150455.2
C9: 1155 - 11001 | D9: Գերմանիայի զարգացման վարկերի բանկի (KFW) կողմից տրամադրվող դրամաշնորհային ծրագրի շրջանակներում ՀՀ Սյունիքի մարզի բնության հատուկ պահպանվող տարածքների կառավարման բարելավմանն ուղղված ծրագրերի իրականացում | E9: ՀՀ Սյունիքի մարզի բնության հատուկ պահպանվող տարածքների կառավարման և հարակից համայնքների սոցիալ-տնտեսական վիճակի բարելավմանն ուղղված ծրագրերի մշակման և նախագծման աշխատանքների իրականացում | F9: Ծառայությունների մատուցում | G9: ='N 6'!G19 -> 84130.8 | H9: ='N 6'!H19 -> 140218 | I9: ='N 6'!I19 -> 186957.2
C10: 1155 - 32001 | D10: Գերմանիայի զարգացման վարկերի բանկի (KFW) կողմից տրամադրվող դրամաշնորհային ծրագրի շրջանակներում ՀՀ Սյունիքի մարզի բնության հատուկ պահպանվող տարածքների պահպանությունն իրականացնող պետական կազմակերպությունների կարողությունների զարգացում | E10: Սյունիքի մարզի բնության հատուկ պահպանվող տարածքների և անտառային տարածքների պահպանությունն իրականացնող պետական կազմակերպությունների կարողությունների հզորացում | F10: Այլ պետական կազմակերպությունների կողմից օգտագործվող ոչ ֆինանսական ակտիվների հետ գործառնություններ | G10: ='N 6'!G27 -> 566343.9 | H10: ='N 6'!H27 -> 794234.3 | I10: ='N 6'!I27 -> 963498

Sheet N 6
F1: Հավելված N6 ՀՀ կառավարության 2025 թվականի____________ի N _____-Ն որոշման
A3: ՀԱՅԱՍՏԱՆԻ ՀԱՆՐԱՊԵՏՈՒԹՅԱՆ ԿԱՌԱՎԱՐՈՒԹՅԱՆ 2024 ԹՎԱԿԱՆԻ ԴԵԿՏԵՄԲԵՐԻ 27-Ի N 2060-Ն ՈՐՈՇՄԱՆ N3 ԵՎ N4 ՀԱՎԵԼՎԱԾՆԵՐՈՒՄ ԿԱՏԱՐՎՈՂ ՓՈՓՈԽՈՒԹՅՈՒՆՆԵՐԸ ԵՎ ԼՐԱՑՈՒՄՆԵՐԸ
H4: (հազար դրամներով)
A5: Բաժին | B5: Խումբ | C5: Դաս | D5: Ծրագրային դասիչը | F5: Բյուջետային հատկացումների գլխավոր կարգադրիչների, ծրագրերի, միջոցառումների և միջոցառումները կատարող պետական մարմինների անվանումները | G5: Ցուցանիշների փոփոխությունը (ծախսերի ավելացումները նշված են դրական նշանով)
D6: Ծրագիր | E6: Միջոցառում | G6: Առաջին կիսամյակ | H6: Ինն ամիս | I6: Տարի
F7: ԸՆԴԱՄԵՆԸ | G7: =G9 -> 650474.7 | H7: =H9 -> 934452.3 | I7: =I9 -> 1150455.2
F8: այդ թվում`
A9: 05 | F9: ՇՐՋԱԿԱ ՄԻՋԱՎԱՅՐԻ ՊԱՇՏՊԱՆՈՒԹՅՈՒՆ | G9: =G11 -> 650474.7 | H9: =H11 -> 934452.3 | I9: =I11 -> 1150455.2
F10: այդ թվում`
B11: 04 | F11: Կենսաբազմազանության և բնության պաշտպանություն | G11: =G13 -> 650474.7 | H11: =H13 -> 934452.3 | I11: =I13 -> 1150455.2
F12: այդ թվում`
C13: 01 | F13: Կենսաբազմազանության և բնության պաշտպանություն | G13: =G15 -> 650474.7 | H13: =H15 -> 934452.3 | I13: =I15 -> 1150455.2
F14: այդ թվում`
F15: ՀՀ շրջակա միջավայրի նախարարություն | G15: =G17 -> 650474.7 | H15: =H17 -> 934452.3 | I15: =I17 -> 1150455.2
F16: այդ թվում`
D17: 1155 | F17: Բնական ռեսուրսների և բնության հատուկ պահպանվող տարածքների կառավարում | G17: =G19+G27 -> 650474.7 | H17: =H19+H27 -> 934452.3 | I17: =I19+I27 -> 1150455.2
F18: այդ թվում`
E19: 11001 | F19: Գերմանիայի զարգացման վարկերի բանկի (KFW) կողմից տրամադրվող դրամաշնորհային ծրագրի շրջանակներում ՀՀ Սյունիքի մարզի բնության հատուկ պահպանվող տարածքների կառավարման բարելավմանն ուղղված ծրագրերի իրականացում | G19: =G21 -> 84130.8 | H19: =H21 -> 140218 | I19: =I21 -> 186957.2
F20: այդ թվում` ըստ կատարողների
F21: ՀՀ շրջակա միջավայրի նախարարություն | G21: =G23 -> 84130.8 | H21: =H23 -> 140218 | I21: =I23 -> 186957.2
F22: այդ թվում` բյուջետային ծախսերի տնտեսագիտական դասակարգման հոդվածներ
F23: ԸՆԴԱՄԵՆԸ ԾԱԽՍԵՐ | G23: =G24 -> 84130.8 | H23: =H24 -> 140218 | I23: =I24 -> 186957.2
F24: ԸՆԹԱՑԻԿ ԾԱԽՍԵՐ | G24: =G25 -> 84130.8 | H24: =H25 -> 140218 | I24: =I25 -> 186957.2
F25: ԱՅԼ ԾԱԽՍԵՐ | G25: =G26 -> 84130.8 | H25: =H26 -> 140218 | I25: =I26 -> 186957.2
F26: - Այլ ծախսեր | G26: ='N 8'!D15 -> 84130.8 | H26: ='N 8'!G15 -> 140218 | I26: ='N 8'!J15 -> 186957.2
E27: 32001 | F27: Գերմանիայի զարգացման վարկերի բանկի (KFW) կողմից տրամադրվող դրամաշնորհային ծրագրի շրջանակներում ՀՀ Սյունիքի մարզի բնության հատուկ պահպանվող տարածքների պահպանությունն իրականացնող պետական կազմակերպությունների կարողությունների զարգացում | G27: =G29 -> 566343.9 | H27: =H29 -> 794234.3 | I27: =I29 -> 963498
F28: այդ թվում` ըստ կատարողների
F29: ՀՀ շրջակա միջավայրի նախարարություն | G29: =G31 -> 566343.9 | H29: =H31 -> 794234.3 | I29: =I31 -> 963498
F30: այդ թվում` բյուջետային ծախսերի տնտեսագիտական դասակարգման հոդվածներ
F31: ԸՆԴԱՄԵՆԸ ԾԱԽՍԵՐ | G31: =G32 -> 566343.9 | H31: =H32 -> 794234.3 | I31: =I32 -> 963498
F32: ՈՉ ՖԻՆԱՆՍԱԿԱՆ ԱԿՏԻՎՆԵՐԻ ԳԾՈՎ ԾԱԽՍԵՐ | G32: =G33 -> 566343.9 | H32: =H33 -> 794234.3 | I32: =I33 -> 963498
F33: ՀԻՄՆԱԿԱՆ ՄԻՋՈՑՆԵՐ | G33: =G34+G36 -> 566343.9 | H33: =H34+H36 -> 794234.3 | I33: =I34+I36 -> 963498
F34: ՇԵՆՔԵՐ ԵՎ ՇԻՆՈՒԹՅՈՒՆՆԵՐ | G34: =+G35 -> 218412.2 | H34: =+H35 -> 218412.2 | I34: =+I35 -> 218412.2
F35: - Շենքերի և շինությունների կապիտալ վերանորոգում | G35: ='N 8'!D29 -> 218412.2 | H35: ='N 8'!G29 -> 218412.2 | I35: ='N 8'!J29 -> 218412.2
F36: ՄԵՔԵՆԱՆԵՐ ԵՎ ՍԱՐՔԱՎՈՐՈՒՄՆԵՐ | G36: =SUM(G37:G38) -> 347931.7 | H36: =SUM(H37:H38) -> 575822.1 | I36: =SUM(I37:I38) -> 745085.8
F37: - Վարչական սարքավորումներ | G37: ='N 8'!D31 -> 186455.9 | H37: ='N 8'!G31 -> 414346.3 | I37: ='N 8'!J31 -> 583610
F38: - Այլ մեքենաներ և սարքավորումներ | G38: ='N 8'!D32 -> 161475.8 | H38: ='N 8'!G32 -> 161475.8 | I38: ='N 8'!J32 -> 161475.8

Sheet N 7
A1: Հավելված N7 ՀՀ կառավարության 2025 թվականի____________ի N _____-Ն որոշման
A3: ՀԱՅԱՍՏԱՆԻ ՀԱՆՐԱՊԵՏՈՒԹՅԱՆ ԿԱՌԱՎԱՐՈՒԹՅԱՆ 2024 ԹՎԱԿԱՆԻ ԴԵԿՏԵՄԲԵՐԻ 27-Ի N 2060-Ն ՈՐՈՇՄԱՆ NN9 ԵՎ 9.1 ՀԱՎԵԼՎԱԾՆԵՐԻ ԱՂՅՈՒՍԱԿՆԵՐՈՒՄ ԿԱՏԱՐՎՈՂ ՓՈՓՈԽՈՒԹՅՈՒՆՆԵՐԸ ԵՎ ԼՐԱՑՈՒՄՆԵՐԸ
A5: ԲԳԿ/ԲՍԿ | B5: Ծրագիր | D5: Միջոցառում | H5: Իրականացնողը/ ակտիվն օգտագործողը/ շահառուի ընտրության չափորոշիչը | I5: Արդյունքային չափորոշիչը | J5: Ցուցանիշների փոփոխությունը (ծախսերի ավելացումները նշված են դրական նշանով)
B6: Դասիչը | C6: Անվա-նումը | D6: Դասիչը | E6: Անվա-նումը | F6: Նկարագրու-թյունը | G6: Տեսակը | J6: Առաջին կիսամյակ | K6: Ինն ամիս | L6: Տարի
A7: ԸՆԴԱՄԵՆԸ
A8: ՀՀ շրջակա միջավայրի նախարարություն | J8: =J9 -> 650474.7 | K8: =K9 -> 934452.3 | L8: =L9 -> 1150455.2
B9: 1155 | C9: Բնական ռեսուրսների և բնության հատուկ պահպանվող տարածքների կառավարում | J9: =J10+J17 -> 650474.7 | K9: =K10+K17 -> 934452.3 | L9: =L10+L17 -> 1150455.2
D10: 1155 - 11001 | E10: Գերմանիայի զարգացման վարկերի բանկի (KFW) կողմից տրամադրվող դրամաշնորհային ծրագրի շրջանակներում ՀՀ Սյունիքի մարզի բնության հատուկ պահպանվող տարածքների կառավարման բարելավմանն ուղղված ծրագրերի իրականացում | J10: ='N 8'!D20 -> 84130.8 | K10: ='N 8'!G20 -> 140218 | L10: ='N 8'!J20 -> 186957.2
F11: ՀՀ Սյունիքի մարզի բնության հատուկ պահպանվող տարածքների կառավարման և հարակից համայնքների սոցիալ-տնտեսական վիճակի բարելավմանն ուղղված ծրագրերի մշակման և նախագծման աշխատանքների իրականացում
G12: Ծառայությունների մատուցում
H13: Ծառայությունը մատուցողի անվանումը` Մասնագիտացված կազմակերպություններ
I14: «Զանգեզուրի Կենսոլորտային Համալիր (ԶԿՀ) ՊՈԱԿ-ում ընդգրկված պահպանվող տարածքների կառավարման խորհրդատվության ծառայության թիվ, հատ | J14: 1 | L14: 1
I15: Աուդիտորական ծառայությունների մատուցման թիվ, հատ | J15: 1 | L15: 2
I16: ՊՏԱԾ ծրագրի միջազգային խորհրդատու «ԳԻՏԵԿ ԻԳԻԲ» ՍՊԸ-ի կողմից խորհրդատվական ծառայությունների մատուցման պայմանագրային պարտավորությունների կատարում, տոկոս | J16: 0 | L16: 100
D17: 1155 - 32001 | E17: Գերմանիայի զարգացման վարկերի բանկի (KFW) կողմից տրամադրվող դրամաշնորհային ծրագրի շրջանակներում ՀՀ Սյունիքի մարզի բնության հատուկ պահպանվող տարածքների պահպանությունն իրականացնող պետական կազմակերպությունների կարողությունների զարգացում | J17: ='N 8'!D21 -> 566343.9 | K17: ='N 8'!G21 -> 794234.3 | L17: ='N 8'!J21 -> 963498
F18: Սյունիքի մարզի բնության հատուկ պահպանվող տարածքների և անտառային տարածքների պահպանությունն իրականացնող պետական կազմակերպությունների կարողությունների հզորացում
G19: Այլ պետական կազմակերպությունների կողմից օգտագործվող ոչ ֆինանսական ակտիվների հետ գործառնություններ
H20: Ակտիվն օգտագործող կազմակերպության (կազմակերպությունների) անվանումը (անվանումները)` Մասնագիտացված միավոր
I21: «Զանգեզուր կենսոլորտային համալիր» ՊՈԱԿ-ի վարչական շենքի կապիտալ վերանորոգում, վերանորոգված միավորի թիվը, հատ | J21: 0 | L21: 1
I22: «Զանգեզուր կենսոլորտային համալիր» ՊՈԱԿ-ի պահպանվող տարածքների համար ձեռք բերված վարչական սարքավորումներ, քանակ, հատ | J22: 0 | L22: 250
I23: Մեղրի համայնքի տնային տնտեսություններում մինչև 9մ2 ջերմամեկուսիչ պատուհանների տեղադրում, տնային տնտեսությունների թիվը, հատ | J23: 0 | L23: =590-225 -> 365

Sheet N 8
I1: Հավելված N8 ՀՀ կառավարության 2025 թվականի____________ի N _____-Ն որոշման
A3: «ՀԱՅԱՍՏԱՆԻ ՀԱՆՐԱՊԵՏՈՒԹՅԱՆ 2025 ԹՎԱԿԱՆԻ ՊԵՏԱԿԱՆ ԲՅՈՒՋԵԻ ՄԱՍԻՆ» ՀԱՅԱՍՏԱՆԻ ՀԱՆՐԱՊԵՏՈՒԹՅԱՆ ՕՐԵՆՔԻ N 1 ՀԱՎԵԼՎԱԾԻ N 5 ԱՂՅՈՒՍԱԿՈՒՄ ԵՎ «ՀԱՅԱՍՏԱՆԻ ՀԱՆՐԱՊԵՏՈՒԹՅԱՆ 2024 ԹՎԱԿԱՆԻ ՊԵՏԱԿԱՆ ԲՅՈՒՋԵԻ ԿԱՏԱՐՈՒՄՆ ԱՊԱՀՈՎՈՂ ՄԻՋՈՑԱՌՈՒՄՆԵՐԻ ՄԱՍԻՆ» ՀԱՅԱՍՏԱՆԻ ՀԱՆՐԱՊԵՏՈՒԹՅԱՆ ԿԱՌԱՎԱՐՈՒԹՅԱՆ 2024 ԹՎԱԿԱՆԻ ԴԵԿՏԵՄԲԵՐԻ 27-Ի N 2060-Ն ՈՐՈՇՄԱՆ N 5 ՀԱՎԵԼՎԱԾԻ N 4 ԱՂՅՈՒՍԱԿՈՒՄ ԿԱՏԱՐՎՈՂ ՓՈՓՈԽՈՒԹՅՈՒՆՆԵՐԸ ԵՎ ԼՐԱՑՈՒՄՆԵՐԸ
K4: (հազար դրամներով)
A5: Ծրագրային դասիչը | C5: Բյուջետային հատկացումների գլխավոր կարգադրիչների, ծրագրերի, միջոցառումների և միջոցառումները կատարող պետական մարմինների անվանումները | D5: Առաջին կիսամյակ | G5: Ինն ամիս | J5: Տարի
A6: Ծրագիր | B6: Միջոց_x000D_ առում | D6: Ընդամենը | E6: այդ թվում | G6: Ընդամենը | H6: այդ թվում | J6: Ընդամենը | K6: այդ թվում
E7: Դրամաշնոր_x000D_ հային միջոցներ | F7: Համաֆինանս ավորում | H7: Դրամաշնոր_x000D_ հային միջոցներ | I7: Համաֆինանս ավորում | K7: Դրամաշնոր_x000D_ հային միջոցներ | L7: Համաֆինանս ավորում
C8: ԸՆԴԱՄԵՆԸ_x000D_ այդ թվում` | D8: =E8+F8 -> 650474.7 | E8: =E9+E10 -> 542062.3 | F8: =F9+F10 -> 108412.4 | G8: =H8+I8 -> 934452.3 | H8: =H9+H10 -> 778710.3 | I8: =I9+I10 -> 155742 | J8: =K8+L8 -> 1150455.2 | K8: =K9+K10 -> 958712.8 | L8: =+L9+L10 -> 191742.4
C9: - ԸՆԹԱՑԻԿ ԾԱԽՍԵՐ | D9: =E9+F9 -> 84130.8 | E9: =E15 -> 70109 | F9: =F15 -> 14021.8 | G9: =H9+I9 -> 140218 | H9: =H15 -> 116848.3 | I9: =I15 -> 23369.7 | J9: =K9+L9 -> 186957.2 | K9: =K15 -> 155797.7 | L9: =L15 -> 31159.5
C10: - ՈՉ ՖԻՆԱՆՍԱԿԱՆ ԱԿՏԻՎՆԵՐԻ ԳԾՈՎ ԾԱԽՍԵՐ | D10: =E10+F10 -> 566343.9 | E10: =E21 -> 471953.3 | F10: =F21 -> 94390.6 | G10: =H10+I10 -> 794234.3 | H10: =H21 -> 661862 | I10: =I21 -> 132372.3 | J10: =K10+L10 -> 963498 | K10: =K21 -> 802915.1 | L10: =L21 -> 160582.9
C11: ՀՀ ՇՐՋԱԿԱ ՄԻՋԱՎԱՅՐԻ ՆԱԽԱՐԱՐՈՒԹՅՈՒՆ | D11: =E11+F11 -> 650474.7 | E11: =+E13 -> 542062.3 | F11: =+F13 -> 108412.4 | G11: =H11+I11 -> 934452.3 | H11: =+H13 -> 778710.3 | I11: =+I13 -> 155742 | J11: =K11+L11 -> 1150455.2 | K11: =+K13 -> 958712.8 | L11: =+L13 -> 191742.4
C12: այդ թվում`
A13: 1155 | C13: Բնական ռեսուրսների և բնության հատուկ պահպանվող տարածքների կառավարում | D13: =E13+F13 -> 650474.7 | E13: =+E15+E21 -> 542062.3 | F13: =+F15+F21 -> 108412.4 | G13: =H13+I13 -> 934452.3 | H13: =+H15+H21 -> 778710.3 | I13: =+I15+I21 -> 155742 | J13: =K13+L13 -> 1150455.2 | K13: =+K15+K21 -> 958712.8 | L13: =+L15+L21 -> 191742.4
C14: այդ թվում`
B15: 11001 | C15: Գերմանիայի զարգացման վարկերի բանկի (KFW) կողմից տրամադրվող դրամաշնորհային ծրագրի շրջանակներում ՀՀ Սյունիքի մարզի բնության հատուկ պահպանվող տարածքների կառավարման բարելավմանն ուղղված ծրագրերի իրականացում | D15: =E15+F15 -> 84130.8 | E15: =E17 -> 70109 | F15: =F17 -> 14021.8 | G15: =H15+I15 -> 140218 | H15: =H17 -> 116848.3 | I15: =I17 -> 23369.7 | J15: =K15+L15 -> 186957.2 | K15: =K17 -> 155797.7 | L15: =L17 -> 31159.5
C16: այդ թվում` ըստ կատարողների
C17: ՀՀ շրջակա միջավայրի նախարարություն | D17: =E17+F17 -> 84130.8 | E17: =E19 -> 70109 | F17: =F19 -> 14021.8 | G17: =H17+I17 -> 140218 | H17: =H19 -> 116848.3 | I17: =I19 -> 23369.7 | J17: =K17+L17 -> 186957.2 | K17: =K19 -> 155797.7 | L17: =L19 -> 31159.5
C18: այդ թվում` բյուջետային ծախսերի տնտեսագիտական դասակարգման հոդվածներ
C19: ԸՆԹԱՑԻԿ ԾԱԽՍԵՐ | D19: =D20 -> 84130.8 | E19: =E20 -> 70109 | F19: =F20 -> 14021.8 | G19: =G20 -> 140218 | H19: =H20 -> 116848.3 | I19: =I20 -> 23369.7 | J19: =J20 -> 186957.2 | K19: =K20 -> 155797.7 | L19: =L20 -> 31159.5
C20: - Այլ ծախսեր | D20: =E20+F20 -> 84130.8 | E20: 70109 | F20: 14021.8 | G20: =H20+I20 -> 140218 | H20: 116848.3 | I20: 23369.7 | J20: =K20+L20 -> 186957.2 | K20: 155797.7 | L20: 31159.5
B21: 32001 | C21: Գերմանիայի զարգացման վարկերի բանկի (KFW) կողմից տրամադրվող դրամաշնորհային ծրագրի շրջանակներում ՀՀ Սյունիքի մարզի բնության հատուկ պահպանվող տարածքների և անտառային տարածքների պահպանությունն իրականացնող պետական կազմակերպությունների կարողությունների զարգացում | D21: =E21+F21 -> 566343.9 | E21: =E23 -> 471953.3 | F21: =F23 -> 94390.6 | G21: =H21+I21 -> 794234.3 | H21: =H23 -> 661862 | I21: =I23 -> 132372.3 | J21: =K21+L21 -> 963498 | K21: =K23 -> 802915.1 | L21: =L23 -> 160582.9
C22: այդ թվում` ըստ կատարողների
C23: ՀՀ շրջակա միջավայրի նախարարություն | D23: =E23+F23 -> 566343.9 | E23: =E25 -> 471953.3 | F23: =F25 -> 94390.6 | G23: =H23+I23 -> 794234.3 | H23: =H25 -> 661862 | I23: =I25 -> 132372.3 | J23: =K23+L23 -> 963498 | K23: =K25 -> 802915.1 | L23: =L25 -> 160582.9
C24: այդ թվում` բյուջետային ծախսերի տնտեսագիտական դասակարգման հոդվածներ
C25: ԸՆԴԱՄԵՆԸ ԾԱԽՍԵՐ | D25: =D26 -> 566343.9 | E25: =E26 -> 471953.3 | F25: =F26 -> 94390.6 | G25: =G26 -> 794234.3 | H25: =H26 -> 661862 | I25: =I26 -> 132372.3 | J25: =J26 -> 963498 | K25: =K26 -> 802915.1 | L25: =L26 -> 160582.9
C26: ՈՉ ՖԻՆԱՆՍԱԿԱՆ ԱԿՏԻՎՆԵՐԻ ԳԾՈՎ ԾԱԽՍԵՐ | D26: =D27 -> 566343.9 | E26: =E27 -> 471953.3 | F26: =F27 -> 94390.6 | G26: =G27 -> 794234.3 | H26: =H27 -> 661862 | I26: =I27 -> 132372.3 | J26: =J27 -> 963498 | K26: =K27 -> 802915.1 | L26: =L27 -> 160582.9
C27: ՀԻՄՆԱԿԱՆ ՄԻՋՈՑՆԵՐ | D27: =D28+D30 -> 566343.9 | E27: =E28+E30 -> 471953.3 | F27: =F28+F30 -> 94390.6 | G27: =G28+G30 -> 794234.3 | H27: =H28+H30 -> 661862 | I27: =I28+I30 -> 132372.3 | J27: =J28+J30 -> 963498 | K27: =K28+K30 -> 802915.1 | L27: =L28+L30 -> 160582.9
C28: ՇԵՆՔԵՐ ԵՎ ՇԻՆՈՒԹՅՈՒՆՆԵՐ | D28: =E28+F28 -> 218412.2 | E28: =SUM(E29:E29) -> 182010.2 | F28: =SUM(F29:F29) -> 36402 | G28: =H28+I28 -> 218412.2 | H28: =SUM(H29:H29) -> 182010.2 | I28: =SUM(I29:I29) -> 36402 | J28: =K28+L28 -> 218412.2 | K28: =SUM(K29:K29) -> 182010.2 | L28: =SUM(L29:L29) -> 36402
C29: - Շենքերի և շինությունների կապիտալ վերանորոգում | D29: =+E29+F29 -> 218412.2 | E29: 182010.2 | F29: 36402 | G29: =+H29+I29 -> 218412.2 | H29: 182010.2 | I29: 36402 | J29: =+K29+L29 -> 218412.2 | K29: 182010.2 | L29: 36402
C30: ՄԵՔԵՆԱՆԵՐ ԵՎ ՍԱՐՔԱՎՈՐՈՒՄՆԵՐ | D30: =E30+F30 -> 347931.7 | E30: =E31+E32 -> 289943.1 | F30: =F31+F32 -> 57988.6 | G30: =H30+I30 -> 575822.1 | H30: =H31+H32 -> 479851.8 | I30: =I31+I32 -> 95970.3 | J30: =K30+L30 -> 745085.8 | K30: =K31+K32 -> 620904.9 | L30: =L31+L32 -> 124180.9
C31: - Վարչական սարքավորումներ | D31: =E31+F31 -> 186455.9 | E31: 155379.9 | F31: 31076 | G31: =+H31+I31 -> 414346.3 | H31: 345288.6 | I31: 69057.7 | J31: =+K31+L31 -> 583610 | K31: 486341.7 | L31: 97268.3
C32: - Այլ մեքենաներ և սարքավորումներ | D32: =E32+F32 -> 161475.8 | E32: 134563.2 | F32: 26912.6 | G32: =+H32+I32 -> 161475.8 | H32: 134563.2 | I32: 26912.6 | J32: =+K32+L32 -> 161475.8 | K32: 134563.2 | L32: 26912.6
