Workbook

Sheet 1
B1: Հավելված N 1
B2: ՀՀ կառավարության 2025 թվականի
B3: -----------------ի N -----------Ն որոշման
A5: «ՀԱՅԱՍՏԱՆԻ ՀԱՆՐԱՊԵՏՈՒԹՅԱՆ 2025 ԹՎԱԿԱՆԻ ՊԵՏԱԿԱՆ ԲՅՈՒՋԵԻ ՄԱՍԻՆ» ՀԱՅԱՍՏԱՆԻ ՀԱՆՐԱՊԵՏՈՒԹՅԱՆ ՕՐԵՆՔԻ 2-ՐԴ ՀՈԴՎԱԾԻ ԱՂՅՈՒՍԱԿՈՒՄ ԿԱՏԱՐՎՈՂ ԼՐԱՑՈՒՄԸ
B6: հազար դրամներով
B7: Ցուցանիշների փոփոխությունը (գումարների ավելացումը նշված է դրական նշանով)
A8: 1. Եկամուտների գծով | B8: 209000
A9: 2. Ծախսերի գծով | B9: 209000
A10: 3. Դեֆիցիտը (պակասուրդը) | B10: 0

Sheet 2
D1: Հավելված N 2
D2: ՀՀ կառավարության 2025 թվականի
D3: -----------------ի N -----------Ն որոշման
A5: ,«ՀԱՅԱՍՏԱՆԻ ՀԱՆՐԱՊԵՏՈՒԹՅԱՆ 2025 ԹՎԱԿԱՆԻ ՊԵՏԱԿԱՆ ԲՅՈՒՋԵԻ ՄԱՍԻՆ» ՀԱՅԱՍՏԱՆԻՀԱՆՐԱՊԵՏՈՒԹՅԱՆ ՕՐԵՆՔԻ 6-ՐԴ ՀՈԴՎԱԾԻ ԱՂՅՈՒՍԱԿՈՒՄ ԵՎ ՀԱՅԱՍՏԱՆԻ ՀԱՆՐԱՊԵՏՈՒԹՅԱՆ ԿԱՌԱՎԱՐՈՒԹՅԱՆ 2024 ԹՎԱԿԱՆԻ ԴԵԿՏԵՄԲԵՐԻ 27-Ի N 2060-Ն ՈՐՈՇՄԱՆ N 2 ՀԱՎԵԼՎԱԾՈՒՄ ԿԱՏԱՐՎՈՂ ԼՐԱՑՈՒՄԸ
D6: հազար դրամներով
A7: Պետական բյուջեի եկամուտները | B7: Ցուցանիշների փոփոխությունը (գումարների ավելացումը նշված է դրական նշանով)
B8: Առաջին կիսամյակ | C8: Ինն ամիս | D8: Տարի
A9: Ընդամենը | B9: =B11 -> 209000 | C9: =C11 -> 209000 | D9: =D11 -> 209000
A10: այդ թվում՝
A11: Հարկային եկամուտներ և պետական տուրքեր | B11: 209000 | C11: 209000 | D11: 209000

Sheet 3
I1: Հավելված N 3
E2: ՀՀ կառավարության 2025 թվականի
E3: -----------------ի N -----------Ն որոշման
A5: «ՀԱՅԱՍՏԱՆԻ ՀԱՆՐԱՊԵՏՈՒԹՅԱՆ 2025 ԹՎԱԿԱՆԻ ՊԵՏԱԿԱՆ ԲՅՈՒՋԵԻ ՄԱՍԻՆ» ՕՐԵՆՔԻ N 1 ՀԱՎԵԼՎԱԾԻ N 2 ԱՂՅՈՒՍԱԿՈՒՄ ԿԱՏԱՐՎՈՂ ՎԵՐԱԲԱՇԽՈՒՄԸ ԵՎ ԼՐԱՑՈՒՄԸ, ՀԱՅԱՍՏԱՆԻ ՀԱՆՐԱՊԵՏՈՒԹՅԱՆ ԿԱՌԱՎԱՐՈՒԹՅԱՆ 2024 ԹՎԱԿԱՆԻ ԴԵԿՏԵՄԲԵՐԻ 27-Ի N 2060-Ն ՈՐՈՇՄԱՆ N 5 ՀԱՎԵԼՎԱԾԻ N 1 ԱՂՅՈՒՍԱԿՈՒՄ ԿԱՏԱՐՎՈՂ ՓՈՓՈԽՈՒԹՅՈՒՆՆԵՐԸ ԵՎ ԼՐԱՑՈՒՄՆԵՐԸ
H6: հազար դրամներով
A7: ԲԳԿ | B7: Ծրագրային դասիչը | D7: ԲԳԿ/Ծրագրի /միջոցառման անվանումը | E7: Ծրագրի նպատակը/Միջոցառման նկարագրույունը | F7: Վերջնական արդյունքի նկարագրությունը/Միջոցառման տեսակը | G7: Ցուցանիշների փոփոխությունները ավելացումները նշված են դրական նշանով, իսկ նվազեցումները՝ փակագծերում
B8: Ծրագիր | C8: Միջոցառում | G8: Առաջին կիսամյակ | H8: Ինն ամիս | I8: Տարի
A9: ԸՆԴԱՄԵՆԸ | G9: =G10 -> 209000 | H9: =H10 -> 209000 | I9: =I10 -> 209000
A10: ՀՀ աշխատանքի և սոցիալական հարցերի նախարարություն | G10: =G11 -> 209000 | H10: =H11 -> 209000 | I10: =I11 -> 209000
B11: 1088 | D11: Զբաղվածության ծրագիր | E11: Բնակչության կայուն և ժամանակավոր զբաղվածության ապահովմանը միտված պայմանների ստեղծում | F11: Կայուն և ժամանակավոր զբաղվածների թվաքանակի աճ | G11: =G12 -> 209000 | H11: =H12 -> 209000 | I11: =I12 -> 209000
C12: 1088-12024 | D12: Անհուսալի վարկային դասով դասակարգված վարկային պարտավորություն(ներ) ունեցող աշխատաշուկայից (ֆորմալ զբաղվածությունից) դուրս մնացած կամ մասնակի ֆորմալ զբաղվածություն ունեցող անձանց աջակցություն | E12: Աջակցել աշխատաշուկայից (ֆորմալ զբաղվածությունից) դուրս մնացածներին կամ մասնակի ֆորմալ զբաղվածություն ունեցողներին, որոնք ունեն անհուսալի վարկային դասով դասակարգված վարկային պարտավորություն(ներ)՝ վերականգնելու իրենց տնտեսական ակտիվությունն աշխատաշուկա վերադառնալու միջոցով | F12: Տրանսֆերտների տրամադրում | G12: ='2'!B11 -> 209000 | H12: ='2'!C11 -> 209000 | I12: ='2'!D11 -> 209000

Sheet 4
I1: Հավելված N 4
F2: ՀՀ կառավարության 2025 թվականի
F3: -----------------ի N -----------Ն որոշման
A5: ՀԱՅԱՍՏԱՆԻ ՀԱՆՐԱՊԵՏՈՒԹՅԱՆ ԿԱՌԱՎԱՐՈՒԹՅԱՆ 2024 ԹՎԱԿԱՆԻ ԴԵԿՏԵՄԲԵՐԻ 27-Ի N 2060-Ն ՈՐՈՇՄԱՆ N N 3 ԵՎ 4 ՀԱՎԵԼՎԱԾՆԵՐՈՒՄ ԿԱՏԱՐՎՈՂ ՓՈՓՈԽՈՒԹՅՈՒՆՆԵՐԸ ԵՎ ԼՐԱՑՈՒՄՆԵՐԸ
H6: հազար դրամներով
A7: Գործառական դասիչը | D7: Ծրագրային դասիչը | F7: Բյուջետային ծախսերի գործառական դասակարգման բաժինների, խմբերի և դասերի, բյուջետային ծրագրերի միջոցառումների, բյուջետային հատկացումների գլխավոր կարգադրիչների անվանումները | G7: Ցուցանիշների փոփոխությունները ավելացումները նշված են դրական նշանով, իսկ նվազեցումները՝ փակագծերում
A8: Բաժինը | B8: Խումբը | C8: Դասը | D8: Ծրագիր | E8: Միջոցառում | G8: Առաջին կիսամյակ | H8: Ինն ամիս | I8: Տարի
F9: ԸՆԴԱՄԵՆԸ ԾԱԽՍԵՐ | G9: =G11 -> 209000 | H9: =H11 -> 209000 | I9: =I11 -> 209000
F10: այդ թվում`
F11: ՀՀ աշխատանքի և սոցիալական հարցերի նախարարություն | G11: =G13 -> 209000 | H11: =H13 -> 209000 | I11: =I13 -> 209000
F12: այդ թվում՝
A13: 10 | F13: ՍՈՑԻԱԼԱԿԱՆ ՊԱՇՏՊԱՆՈՒԹՅՈՒՆ | G13: =G15 -> 209000 | H13: =H15 -> 209000 | I13: =I15 -> 209000
F14: այդ թվում՝
B15: 05 | F15: Գործազրկություն | G15: =G17 -> 209000 | H15: =H17 -> 209000 | I15: =I17 -> 209000
F16: այդ թվում՝
C17: 01 | F17: Գործազրկություն | G17: =G19 -> 209000 | H17: =H19 -> 209000 | I17: =I19 -> 209000
F18: այդ թվում՝
F19: ՀՀ աշխատանքի և սոցիալական հարցերի նախարարություն | G19: =G21 -> 209000 | H19: =H21 -> 209000 | I19: =I21 -> 209000
F20: այդ թվում՝
D21: ='3'!B11 -> 1088 | F21: ='3'!D11 -> Զբաղվածության ծրագիր | G21: =G23 -> 209000 | H21: =H23 -> 209000 | I21: =I23 -> 209000
F22: այդ թվում`
E23: 12024 | F23: ='3'!D12 -> Անհուսալի վարկային դասով դասակարգված վարկային պարտավորություն(ներ) ունեցող աշխատաշուկայից (ֆորմալ զբաղվածությունից) դուրս մնացած կամ մասնակի ֆորմալ զբաղվածություն ունեցող անձանց աջակցություն | G23: =G25 -> 209000 | H23: =H25 -> 209000 | I23: =I25 -> 209000
F24: այդ թվում` ըստ կատարողների
F25: ՀՀ աշխատանքի և սոցիալական հարցերի նախարարության միասնական սոցիալական ծառայություն | G25: =G27 -> 209000 | H25: =H27 -> 209000 | I25: =I27 -> 209000
F26: ԸՆԴԱՄԵՆԸ ԾԱԽՍԵՐ
F27: ԸՆԹԱՑԻԿ ԾԱԽՍԵՐ | G27: =G28 -> 209000 | H27: =H28 -> 209000 | I27: =I28 -> 209000
F28: ՍՈՑԻԱԼԱԿԱՆ ՆՊԱՍՏՆԵՐ ԵՎ ԿԵՆՍԱԹՈՇԱԿՆԵՐ | G28: =G29 -> 209000 | H28: =H29 -> 209000 | I28: =I29 -> 209000
F29: Սոցիալական օգնության դրամական արտահայտությամբ նպաստներ (բյուջեից) | G29: =G30 -> 209000 | H29: =H30 -> 209000 | I29: =I30 -> 209000
F30: - Այլ նպաստներ բյուջեից | G30: ='3'!G12 -> 209000 | H30: ='3'!H12 -> 209000 | I30: ='2'!D11 -> 209000

Sheet 5
L1: Հավելված N 5
L2: ՀՀ կառավարության 2025 թվականի
L3: -----------------ի N -----------Ն որոշման
A6: ՀԱՅԱՍՏԱՆԻ ՀԱՆՐԱՊԵՏՈՒԹՅԱՆ ԿԱՌԱՎԱՐՈՒԹՅԱՆ 2024 ԹՎԱԿԱՆԻ ԴԵԿՏԵՄԲԵՐԻ 27-Ի N 2060-Ն ՈՐՈՇՄԱՆ N 9 ՀԱՎԵԼՎԱԾՈՒՄ ԿԱՏԱՐՎՈՂ ՓՈՓՈԽՈՒԹՅՈՒՆՆԵՐԸ ԵՎ ԼՐԱՑՈՒՄՆԵՐԸ
A8: ՀՀ աշխատանքի և սոցիալական հարցերի նախարարություն | K8: հազար դրամներով
A9: ԲԳԿ | B9: Ծրագիր | D9: Միջոցառում | H9: Իրականացնողը/ ակտիվն օգտագործողը/ շահառուի ընտրության չափորոշիչը | I9: Արդյունքային չափորոշիչը | J9: Ցուցանիշների փոփոխությունները ավելացումները նշված են դրական նշանով, իսկ նվազեցումները՝ փակագծերում
B10: Դասիչը | C10: Անվանումը | D10: Դասիչը | E10: Անվանումը | F10: Նկարագրությունը | G10: Տեսակը | J10: Առաջին կիսամյակ | K10: Ինն ամիս | L10: Տարի
A11: ԸՆԴԱՄԵՆԸ | J11: =J12 -> 209000 | K11: =K12 -> 209000 | L11: =L12 -> 209000
A12: ՀՀ աշխատանքի և սոցիալական հարցերի նախարարություն | J12: =J13 -> 209000 | K12: =K13 -> 209000 | L12: =L13 -> 209000
B13: ='3'!B11 -> 1088 | C13: ='3'!D11 -> Զբաղվածության ծրագիր | J13: =J14 -> 209000 | K13: =K14 -> 209000 | L13: =L14 -> 209000
D14: ='3'!C12 -> 1088-12024 | E14: ='3'!D12 -> Անհուսալի վարկային դասով դասակարգված վարկային պարտավորություն(ներ) ունեցող աշխատաշուկայից (ֆորմալ զբաղվածությունից) դուրս մնացած կամ մասնակի ֆորմալ զբաղվածություն ունեցող անձանց աջակցություն | J14: ='3'!G12 -> 209000 | K14: ='3'!H12 -> 209000 | L14: ='3'!I12 -> 209000
F15: ='3'!E12 -> Աջակցել աշխատաշուկայից (ֆորմալ զբաղվածությունից) դուրս մնացածներին կամ մասնակի ֆորմալ զբաղվածություն ունեցողներին, որոնք ունեն անհուսալի վարկային դասով դասակարգված վարկային պարտավորություն(ներ)՝ վերականգնելու իրենց տնտեսական ակտիվությունն աշխատաշուկա վերադառնալու միջոցով
G16: Տրանսֆերտների տրամադրում
H17: Ծառայությունը մատուցողի անվանումը` կազմակերպություններ
I18: Անհուսալի դասով դասակարգված վարկային պարտավորություն ունեցող անձանց թվաքանակ | J18: 1468 | L18: 1468

Sheet 6
L1: Հավելված N 6
L2: ՀՀ կառավարության 2025 թվականի
L3: -----------------ի N -----------Ն որոշման
A6: ՀԱՅԱՍՏԱՆԻ ՀԱՆՐԱՊԵՏՈՒԹՅԱՆ ԿԱՌԱՎԱՐՈՒԹՅԱՆ 2024 ԹՎԱԿԱՆԻ ԴԵԿՏԵՄԲԵՐԻ 27-Ի N 2060-Ն ՈՐՈՇՄԱՆ N 9.1 ՀԱՎԵԼՎԱծում ԿԱՏԱՐՎՈՂ ՓՈՓՈԽՈՒԹՅՈՒՆՆԵՐԸ ԵՎ ԼՐԱՑՈՒՄՆԵՐԸ
A7: ՀՀ աշխատանքի և սոցիալական հարցերի նախարարության միասնական սոցիալական ծառայություն | K7: հազար դրամներով
A8: ԲՍԿ | B8: Ծրագիր | D8: Միջոցառում | H8: Իրականացնողը/ ակտիվն օգտագործողը/ շահառուի ընտրության չափորոշիչը | I8: Արդյունքային չափորոշիչը | J8: Ցուցանիշների փոփոխությունները ավելացումները նշված են դրական նշանով, իսկ նվազեցումները՝ փակագծերում
B9: Դասիչը | C9: Անվանումը | D9: Դասիչը | E9: Անվանումը | F9: Նկարագրությունը | G9: Տեսակը | J9: Առաջին կիսամյակ | K9: Ինն ամիս | L9: Տարի
A10: ԸՆԴԱՄԵՆԸ | J10: =J11 -> 209000 | K10: =K11 -> 209000 | L10: =L11 -> 209000
A11: ՀՀ աշխատանքի և սոցիալական հարցերի նախարարության միասնական սոցիալական ծառայություն | J11: =J12 -> 209000 | K11: =K12 -> 209000 | L11: =L12 -> 209000
B12: ='5'!B13 -> 1088 | C12: ='5'!C13:I13 -> Զբաղվածության ծրագիր | J12: =J13 -> 209000 | K12: =K13 -> 209000 | L12: =L13 -> 209000
D13: ='3'!C12 -> 1088-12024 | E13: ='3'!D12 -> Անհուսալի վարկային դասով դասակարգված վարկային պարտավորություն(ներ) ունեցող աշխատաշուկայից (ֆորմալ զբաղվածությունից) դուրս մնացած կամ մասնակի ֆորմալ զբաղվածություն ունեցող անձանց աջակցություն | J13: ='3'!G12 -> 209000 | K13: ='3'!H12 -> 209000 | L13: ='3'!I12 -> 209000
F14: ='3'!E12 -> Աջակցել աշխատաշուկայից (ֆորմալ զբաղվածությունից) դուրս մնացածներին կամ մասնակի ֆորմալ զբաղվածություն ունեցողներին, որոնք ունեն անհուսալի վարկային դասով դասակարգված վարկային պարտավորություն(ներ)՝ վերականգնելու իրենց տնտեսական ակտիվությունն աշխատաշուկա վերադառնալու միջոցով
G15: Տրանսֆերտների տրամադրում
H16: Ծառայությունը մատուցողի անվանումը` կազմակերպություններ
I17: Անհուսալի դասով դասակարգված վարկային պարտավորություն ունեցող անձանց թվաքանակ | J17: 1468 | L17: 1468
