Workbook
Name a: #REF!
Name a: #REF!
Name a: #REF!
Name AgencyCode: #REF!
Name AgencyCode: #REF!
Name AgencyCode: #REF!
Name AgencyCode: #REF!
Name AgencyCode: #REF!
Name AgencyCode: #REF!
Name AgencyName: #REF!
Name AgencyName: #REF!
Name AgencyName: #REF!
Name åû: #REF!
Name åû: #REF!
Name davit: #REF!
Name davit: #REF!
Name Functional1: #REF!
Name Functional1: #REF!
Name Functional1: #REF!
Name ggg: #REF!
Name ggg: #REF!
Name hav: #REF!
Name hav: #REF!
Name mas: #REF!
Name mas: #REF!
Name mass: #REF!
Name mass: #REF!
Name PANature: #REF!
Name PANature: #REF!
Name PANature: #REF!
Name PAType: #REF!
Name PAType: #REF!
Name PAType: #REF!
Name Performance2: #REF!
Name Performance2: #REF!
Name Performance2: #REF!
Name PerformanceType: #REF!
Name PerformanceType: #REF!
Name PerformanceType: #REF!
Name x: #REF!
Name x: #REF!
Name Հավելված: #REF!
Name Հավելված: #REF!
Name Հավելված10: #REF!
Name Հավելված10: #REF!
Name Հավելված11: #REF!
Name Հավելված11: #REF!
Name Հավելված20: #REF!
Name Հավելված20: #REF!
Name Հավելված9: #REF!
Name Հավելված9: #REF!
Name Մաս: #REF!
Name Մաս: #REF!
Name շախմատիստ: #REF!
Name շախմատիստ: #REF!
Name վֆյգյգ: #REF!
Name վֆյգյգ: #REF!

Sheet Հավելված N 1
F1: Հավելված N 1
F2: ՀՀ կառավարության 2025 թվականի
F3: ______________ ի ___Ն որոշման
A6: «ՀԱՅԱUՏԱՆԻ ՀԱՆՐԱՊԵՏՈՒԹՅԱՆ 2025 ԹՎԱԿԱՆԻ ՊԵՏԱԿԱՆ ԲՅՈՒՋԵԻ ՄԱUԻՆ» ՀԱՅԱUՏԱՆԻ ՀԱՆՐԱՊԵՏՈՒԹՅԱՆ OՐԵՆՔԻ N 1 ՀԱՎԵԼՎԱԾԻ N 2 ԱՂՅՈՒՍԱԿՈՒՄ ԿԱՏԱՐՎՈՂ ՎԵՐԱԲԱՇԽՈՒՄԸ ԵՎ ՀԱՅԱՍՏԱՆԻ ՀԱՆՐԱՊԵՏՈՒԹՅԱՆ ԿԱՌԱՎԱՐՈՒԹՅԱՆ 2024 ԹՎԱԿԱՆԻ ԴԵԿՏԵՄԲԵՐԻ 27-Ի N 2060-Ն ՈՐՈՇՄԱՆ N 5 ՀԱՎԵԼՎԱԾԻ N 1 ԱՂՅՈՒՍԱԿՈՒՄ ԿԱՏԱՐՎՈՂ ՓՈՓՈԽՈՒԹՅՈՒՆՆԵՐԸ ԵՎ ԼՐԱՑՈՒՄՆԵՐԸ
I9: հազ. դրամներով
A10: ԲԳԿ | B10: Ծրագրային դասիչը | D10: ԲԳԿ/Ծրագրի /միջոցառման անվանումը | E10: Ծրագրի նպատակը/Միջոցառման նկարագրությունը | F10: Վերջնական արդյունքի նկարագրությունը/Միջոցառման տեսակը | G10: Ցուցանիշների փոփոխությունը (ավելացումները նշված են դրական նշանով, իսկ նվազեցումները փակագծերում)
G11: Առաջին կիսամյակ | H11: Ինն ամիս | I11: Տարի
B12: Ծրագիր | C12: Միջոցառում
A13: ԸՆԴԱՄԵՆԸ | G13: =+G15+G25 -> 0 | H13: =+H15+H25 -> 0 | I13: =+I15+I25 -> 0
A14: այդ թվում՝
A15: ՀՀ ԿՐԹՈՒԹՅԱՆ, ԳԻՏՈՒԹՅԱՆ, ՄՇԱԿՈՒՅԹԻ ԵՎ ՍՊՈՐՏԻ ՆԱԽԱՐԱՐՈՒԹՅՈՒՆ | G15: =+G16+G18+G20 -> 0 | H15: =+H16+H18+H20 -> 0 | I15: =+I16+I18+I20 -> 0
B16: 1163 | D16: Մասսայական սպորտ | E16: Բնակչության շրջանում առողջ ապրելակերպի արմատավորում, անհատի բազմակողմանի ու ներդաշնակ զարգացման գործում ֆիզիկական կուլտուրայի և սպորտի դերի բարձրացում | F16: Սպորտի նկատմամբ հետաքրքրվածության և մասնակցության ընդլայնում | G16: =+G17 -> -7789 | H16: =+H17 -> -7789 | I16: =+I17 -> -7789
C17: 1163 - 32003 | D17: Թեթև կոնստրուկցիաներով մարզադահլիճների հիմնում | E17: ՀՀ մարզերում արագ հավաքվող, թեթև կոնստրուկցիաներով, օդահենային պնևմատիկ, եվրոպական ստանդարտներին համապատասխան մարզադահլիճների հիմնում | F17: Այլ պետական կազմակերպությունների կողմից օգտագործվող ոչ ֆինանսական ակտիվների հետ գործառնություններ | G17: =+'Հավելված N 2'!G26 -> -7789 | H17: =+'Հավելված N 2'!H26 -> -7789 | I17: =+'Հավելված N 2'!I26 -> -7789
B18: 1196 | D18: Մարզերի մշակութային զարգացման ծրագիր | E18: Մարզերում մշակութային կյանքի և մշակութաստեղծ գործունեության ակտիվացում | F18: Համայնքներում մշակույթի հասանելիության և մշակութային կյանքին մարզային բնակչության ընդգրկվածության ընդլայնում | G18: =+G19 -> 7789 | H18: =+H19 -> 7789 | I18: =+I19 -> 7789
C19: 1196 - 12003 | D19: Մշակութային կենտրոնների գույքային հագեցվածության բարելավում | E19: Մշակութային կենտրոնների համար անհրաժեշտ գույքի, տեխնիկայի և սարքավորումների ձեռքբերում | F19: Տրանսֆերտների տրամադրում | G19: =+'Հավելված N 2'!G43 -> 7789 | H19: =+'Հավելված N 2'!H43 -> 7789 | I19: =+'Հավելված N 2'!I43 -> 7789
B20: 1236 | D20: Հանրակրթական և նախադպրոցական հաստատությունների հիմնում, կառուցում, բարելավում | E20: Առնվազն 300 դպրոցի և 500 մանկապարտեզի կառուցման, վերակառուցման, հիմնանորոգման ծրագրերի իրականացում ՀՀ պետական բյուջեի միջոցների շրջանակներում | F20: Կրթական միջավայրի բարելավում | G20: =+G21+G22+G23 -> 0 | H20: =+H21+H22+H23 -> 0 | I20: =+I21+I22+I23 -> 0
C21: 1236 - 11001 | D21: Հանրակրթական և նախադպրոցական հաստատությունների կառուցման, վերակառուցման, հիմնանորոգման ծրագրերի համակարգման և մոնիտորինգի ծառայություններ | E21: Հանրակրթական և նախադպրոցական հաստատություններիկառուցման, վերակառուցման, հիմնանորոգման ծրագրերիհամակարգման և մոնիտորինգի ծառայությունների ապահովում | F21: Ծառայությունների մատուցում | G21: =+'Հավելված N 2'!G79 -> 220888.5 | H21: =+'Հավելված N 2'!H79 -> 613252 | I21: =+'Հավելված N 2'!I79 -> 903128.4
C22: 1236 - 31001 | D22: Հանրակրթական և նախադպրոցական հաստատությունների կառուցման, վերակառուցման, հիմնանորոգման ծրագրերի համակարգման շրջանակներում Հայաստանի տարածքային զարգացման հիմնադրամի կարողությունների զարգացում և տեխնիկական հագեցվածության ապահովում | E22: Հայաստանի տարածքային զարգացման հիմնադրամի աշխատանքային պայմանների բարելավման համար վարչական սարքավորումների ձեռքբերում | F22: Պետական մարմինների կողմից օգտագործվող ոչ ֆինանսական ակտիվների հետ գործառնություններ | G22: =+'Հավելված N 2'!G106 -> 88820.6 | H22: =+'Հավելված N 2'!H106 -> 88820.6 | I22: =+'Հավելված N 2'!I106 -> 88820.6
C23: 1236 - 32002 | D23: Մանկապարտեզների շենքերի վերակառուցում, հիմնանորոգում | E23: Նախադպրոցական կրթության հասանելիության ապահովման նպատակով՛ մանկապարտեզների շենքերի (մասնաշենքերի), վերակառուցում, հիմնանորոգում և նախագծում | F23: Այլ պետական կազմակերպությունների կողմից օգտագործվող ոչ ֆինանսական ակտիվների հետ գործառնություններ | G23: =+'Հավելված N 2'!G62 -> -309709.1 | H23: =+'Հավելված N 2'!H62 -> -702072.6 | I23: =+'Հավելված N 2'!I62 -> -991949
A25: ՀՀ ԿԱՌԱՎԱՐՈՒԹՅՈՒՆ | G25: =+G26+G29+G31 -> 0 | H25: =+H26+H29+H31 -> 0 | I25: =+I26+I29+I31 -> 0
B26: 1139 | D26: ՀՀ կառավարության պահուստային ֆոնդ | E26: Պետական բյուջեում չկանխատեսված, ինչպես նաեւ բյուջետային երաշխիքների ապահովման ծախսերի ֆինանսավորման ապահովում | F26: Պահուստային ֆոնդի կառավարման արդյունավետության և թափանցիկության ապահովում | G26: =+G27+G28 -> 0 | H26: =+H27+H28 -> 0 | I26: =+I27+I28 -> 0
C27: 1139 - 11001 | D27: ՀՀ կառավարության պահուստային ֆոնդ | E27: ՀՀ պետական բյուջեում նախատեսված ելքերի լրացուցիչ ֆինանսավորման, պետական բյուջեում չկանխատեսված ելքերի, ինչպես նաև բյուջետային երաշխիքների ապահովման ելքերի ֆինանսավորման ապահովում | F27: Ծառայությունների մատուցում | G27: =+'Հավելված N 2'!G127 -> 96609.6 | H27: =+'Հավելված N 2'!H127 -> 96609.6 | I27: =+'Հավելված N 2'!I127 -> 96609.6
C28: 1139 - 11001 | D28: ՀՀ կառավարության պահուստային ֆոնդ | E28: ՀՀ պետական բյուջեում նախատեսված ելքերի լրացուցիչ ֆինանսավորման, պետական բյուջեում չկանխատեսված ելքերի, ինչպես նաև բյուջետային երաշխիքների ապահովման ելքերի ֆինանսավորման ապահովում | F28: Ծառայությունների մատուցում | G28: =+'Հավելված N 2'!G135 -> -96609.6 | H28: =+'Հավելված N 2'!H135 -> -96609.6 | I28: =+'Հավելված N 2'!I135 -> -96609.6

Sheet Հավելված N 2
F1: Հավելված N 2
F2: ՀՀ կառավարության 2025 թվականի
F3: ______________ ի ___Ն որոշման
A7: ՀԱՅԱՍՏԱՆԻ ՀԱՆՐԱՊԵՏՈՒԹՅԱՆ ԿԱՌԱՎԱՐՈՒԹՅԱՆ 2024 ԹՎԱԿԱՆԻ ԴԵԿՏԵՄԲԵՐԻ 27-Ի N 2060-Ն ՈՐՈՇՄԱՆ N 3 ԵՎ N 4 ՀԱՎԵԼՎԱԾՆԵՐՈՒՄ ԿԱՏԱՐՎՈՂ ՓՈՓՈԽՈՒԹՅՈՒՆՆԵՐԸ ԵՎ ԼՐԱՑՈՒՄՆԵՐԸ
I10: հազ. դրամներով
A11: Գործառական դասիչը | D11: Ծրագրային դասիչը | F11: Բյուջետային հատկացումների գլխավոր կարգադրիչների, ծրագրերի, միջոցառումների և միջոցառումները կատարող պետական մարմինների անվանումները | G11: Ցուցանիշների փոփոխությունը (ավելացումները նշված են դրական նշանով, իսկ նվազեցումները՝ փակագծերում)
A12: Բաժին | B12: Խումբ | C12: Դաս | D12: Ծրագիր | E12: Միջոցառում | G12: Առաջին կիսամյակ | H12: Ինն ամիս | I12: Տարի
F13: ԸՆԴԱՄԵՆԸ | G13: =+G15+G116 -> 0 | H13: =+H15+H116 -> 0 | I13: =+I15+I116 -> 0
F14: այդ թվում՝
F15: ՀՀ ԿՐԹՈՒԹՅԱՆ, ԳԻՏՈՒԹՅԱՆ, ՄՇԱԿՈՒՅԹԻ ԵՎ ՍՊՈՐՏԻ ՆԱԽԱՐԱՐՈՒԹՅՈՒՆ | G15: =+G16+G52 -> 0 | H15: =+H16+H52 -> 0 | I15: =+I16+I52 -> 0
A16: 08 | F16: ՀԱՆԳԻՍՏ, ՄՇԱԿՈՒՅԹ ԵՎ ԿՐՈՆ | G16: =+G18+G35 -> 0 | H16: =+H18+H35 -> 0 | I16: =+I18+I35 -> 0
F17: այդ թվում`
B18: 01 | F18: Հանգստի և սպորտի ծառայություններ | G18: =+G20 -> -7789 | H18: =+H20 -> -7789 | I18: =+I20 -> -7789
F19: այդ թվում`
C20: 01 | F20: Հանգստի և սպորտի ծառայություններ | G20: =+G22 -> -7789 | H20: =+H22 -> -7789 | I20: =+I22 -> -7789
F21: այդ թվում`
F22: ՀՀ կրթության, գիտության, մշակույթի և սպորտի նախարարություն | G22: =+G24 -> -7789 | H22: =+H24 -> -7789 | I22: =+I24 -> -7789
F23: այդ թվում`
D24: 1163 | E24: Մասսայական սպորտ | G24: =+G26 -> -7789 | H24: =+H26 -> -7789 | I24: =+I26 -> -7789
F25: այդ թվում`
E26: 32003 | F26: Թեթև կոնստրուկցիաներով մարզադահլիճների հիմնում | G26: =+G28 -> -7789 | H26: =+H28 -> -7789 | I26: =+I28 -> -7789
F27: այդ թվում` ըստ կատարողների
F28: ՀՀ կրթության, գիտության, մշակույթի և սպորտի նախարարություն | G28: =+G30 -> -7789 | H28: =+H30 -> -7789 | I28: =+I30 -> -7789
F29: այդ թվում՝ բյուջետային ծախսերի տնտեսագիտական դասակարգման հոդվածներ
F30: ԸՆԴԱՄԵՆԸ ԾԱԽՍԵՐ | G30: =+G31 -> -7789 | H30: =+H31 -> -7789 | I30: =+I31 -> -7789
F31: ՈՉ ՖԻՆԱՆՍԱԿԱՆ ԱԿՏԻՎՆԵՐԻ ԳԾՈՎ ԾԱԽՍԵՐ | G31: =+G32 -> -7789 | H31: =+H32 -> -7789 | I31: =+I32 -> -7789
F32: ՀԻՄՆԱԿԱՆ ՄԻՋՈՑՆԵՐ | G32: =+G33 -> -7789 | H32: =+H33 -> -7789 | I32: =+I33 -> -7789
F33: ՇԵՆՔԵՐ ԵՎ ՇԻՆՈՒԹՅՅՈՒՆՆԵՐ | G33: =+G34 -> -7789 | H33: =+H34 -> -7789 | I33: =+I34 -> -7789
F34: - Շենքերի և շինությունների շինարարություն | G34: =+'Հավելված N 4'!E15 -> -7789 | H34: =+'Հավելված N 4'!F15 -> -7789 | I34: =+'Հավելված N 4'!G15 -> -7789
B35: 02 | F35: Մշակութային ծառայություններ | G35: =+G37 -> 7789 | H35: =+H37 -> 7789 | I35: =+I37 -> 7789
F36: այդ թվում`
C37: 03 | F37: Մշակույթի տներ, ակումբներ, կենտրոններ | G37: =+G39 -> 7789 | H37: =+H39 -> 7789 | I37: =+I39 -> 7789
F38: այդ թվում`
F39: ՀՀ կրթության, գիտության, մշակույթի և սպորտի նախարարություն | G39: =+G41 -> 7789 | H39: =+H41 -> 7789 | I39: =+I41 -> 7789
F40: այդ թվում`
D41: 1196 | E41: Մարզերի մշակութային զարգացման ծրագիր | G41: =+G43 -> 7789 | H41: =+H43 -> 7789 | I41: =+I43 -> 7789
F42: այդ թվում`
E43: 12003 | F43: Մշակութային կենտրոնների գույքային հագեցվածության բարելավում | G43: =+G45 -> 7789 | H43: =+H45 -> 7789 | I43: =+I45 -> 7789
F44: այդ թվում` ըստ կատարողների
F45: ՀՀ կրթության, գիտության, մշակույթի և սպորտի նախարարություն | G45: =+G47 -> 7789 | H45: =+H47 -> 7789 | I45: =+I47 -> 7789
...

Sheet Հավելված N 3
F1: Հավելված N 3
F2: ՀՀ կառավարության 2025 թվականի
F3: ______________ ի ___Ն որոշման
A5: «ՀԱՅԱUՏԱՆԻ ՀԱՆՐԱՊԵՏՈՒԹՅԱՆ 2025 ԹՎԱԿԱՆԻ ՊԵՏԱԿԱՆ ԲՅՈՒՋԵԻ ՄԱUԻՆ» ՀԱՅԱUՏԱՆԻ ՀԱՆՐԱՊԵՏՈՒԹՅԱՆ OՐԵՆՔԻ N 1 ՀԱՎԵԼՎԱԾԻ N 3 ԱՂՅՈՒՍԱԿՈՒՄ ԿԱՏԱՐՎՈՂ ՓՈՓՈԽՈՒԹՅՈՒՆՆԵՐԸ ԵՎ ԼՐԱՑՈՒՄԸ
G8: հազ. դրամներով
A9: Ծրագրային դասիչ | C9: Բյուջետային գլխավոր կարգադրիչների, ծրագրերի, միջոցառումների, միջոցառումները կատարող պետական մարմինների և ուղղությունների անվանումները | D9: Ընդամենը | E9: Ցուցանիշների փոփոխությունը (ավելացումները նշված են դրական նշանով, իսկ նվազեցումները՝ փակագծերում)
A10: Ծրագիր | B10: Միջոցառում | E10: Կառուցման աշխատանքներ | F10: Վերակառուցման, վերանորոգման և վերականգնման աշխատանքներ | G10: Նախագծահե- տազոտական, գեոդեզիա- քարտեզագրա- կան աշխա- տանքներ | H10: Ոչ ֆինանսական այլ ակտիվների ձեռքբերում
C11: ԸՆԴԱՄԵՆԸ | D11: =SUM(E11:H11) -> -991949 | E11: =+E13 -> -7789 | F11: =+F13 -> -991949 | G11: =+G13 -> 0 | H11: =+H13 -> 7789
C12: այդ թվում՝
C13: ՀՀ ԿՐԹՈՒԹՅԱՆ, ԳԻՏՈՒԹՅԱՆ, ՄՇԱԿՈՒՅԹԻ ԵՎ ՍՊՈՐՏԻ ՆԱԽԱՐԱՐՈՒԹՅՈՒՆ | D13: =SUM(E13:H13) -> -991949 | E13: =+E15+E19+E23 -> -7789 | F13: =+F15+F19+F23 -> -991949 | G13: =+G15+G19+G23 -> 0 | H13: =+H15+H19+H23 -> 7789
C14: այդ թվում`
A15: 1163 | B15: 32003 | C15: Թեթև կոնստրուկցիաներով մարզադահլիճների հիմնում | D15: -7789 | E15: =+E17 -> -7789 | F15: =+F17 -> 0 | G15: =+G17 -> 0 | H15: =+H17 -> 0
C16: այդ թվում`
C17: ՀՀ Կոտայքի մարզ | D17: -7789 | E17: =+E18 -> -7789 | F17: =+F18 -> 0 | G17: =+G18 -> 0 | H17: =+H18 -> 0
C18: ՀՀ Կոտայքի մարզի Նաիրի համայնքում Զովունի գյուղում թեթև կոնստրուկցիաներով մարզադահլիճ | D18: -7789 | E18: =+'Հավելված N 7'!I17 -> -7789
A19: 1196 | B19: 12003 | C19: Մշակութային կենտրոնների գույքային հագեցվածության բարելավում | D19: 7789 | E19: =+E21 -> 0 | F19: =+F21 -> 0 | G19: =+G21 -> 0 | H19: =+H21 -> 7789
C20: այդ թվում`
C21: ՀՀ Վայոց Ձորի մարզ | D21: 7789 | E21: =+E22 -> 0 | F21: =+F22 -> 0 | G21: =+G22 -> 0 | H21: =+H22 -> 7789
C22: Քարագլուխ բնակավայրի մարզամշակութային կենտրոն | D22: 7789 | H22: =+'Հավելված N 7'!I20 -> 7789
A23: 1236 | B23: 32002 | C23: Մանկապարտեզների շենքերի վերակառուցում, հիմնանորոգում | D23: =SUM(E23:H23) -> -991949 | E23: =+E25 -> 0 | F23: =+F25 -> -991949 | G23: =+G25 -> 0 | H23: =+H25 -> 0
C24: այդ թվում`
C25: Մանկապարտեզների շենքերի վերակառուցում, հիմնանորոգում | D25: =SUM(E25:H25) -> -991949 | E25: 0 | F25: =-'Հավելված N 2'!I77 -> -991949 | G25: 0 | H25: 0

Sheet Հավելված N 4
F1: Հավելված N 4
E2: ՀՀ կառավարության 2025 թվականի
F3: ______________ ի ___Ն որոշման
B6: ՀԱՅԱՍՏԱՆԻ ՀԱՆՐԱՊԵՏՈՒԹՅԱՆ ԿԱՌԱՎԱՐՈՒԹՅԱՆ 2024 ԹՎԱԿԱՆԻ ԴԵԿՏԵՄԲԵՐԻ 27-Ի N 2060-Ն ՈՐՈՇՄԱՆ N 5 ՀԱՎԵԼՎԱԾԻ N 2 ԱՂՅՈՒՍԱԿՈՒՄ ԿԱՏԱՐՎՈՂ ՓՈՓՈԽՈՒԹՅՈՒՆՆԵՐԸ ԵՎ ԼՐԱՑՈՒՄԸ
G8: հազ. դրամներով
B9: Ծրագրային դասիչ | D9: Բյուջետային գլխավոր կարգադրիչների, ծրագրերի, միջոցառումների, միջոցառումները կատարող պետական մարմինների և ուղղությունների անվանումները | E9: Ցուցանիշների փոփոխությունը (ավելացումները նշված են դրական նշանով, իսկ նվազեցումները՝ փակագծերում)
B10: Ծրագիր | C10: Միջոցառում | E10: Առաջին կիսամյակ | F10: Ինն ամիս | G10: Տարի
D11: ՀՀ ԿՐԹՈՒԹՅԱՆ, ԳԻՏՈՒԹՅԱՆ, ՄՇԱԿՈՒՅԹԻ ԵՎ ՍՊՈՐՏԻ ՆԱԽԱՐԱՐՈՒԹՅՈՒՆ | E11: =+E25 -> -309709.1 | F11: =+F25 -> -702072.6 | G11: =+G25 -> -991949
D12: այդ թվում՝
B13: 1163 | C13: 32003 | D13: Թեթև կոնստրուկցիաներով մարզադահլիճների հիմնում | E13: =+E15 -> -7789 | F13: =+F15 -> -7789 | G13: =+G15 -> -7789
D14: այդ թվում` ըստ կատարողների
D15: ՀՀ կրթության, գիտության, մշակույթի և սպորտի նախարարություն | E15: =+E17 -> -7789 | F15: =+F17 -> -7789 | G15: =+G17 -> -7789
D16: այդ թվում`ըստ ուղղությունների
D17: ՀՀ Կոտայքի մարզ | E17: =+E18 -> -7789 | F17: =+F18 -> -7789 | G17: =+G18 -> -7789
D18: =+'Հավելված N 3'!C18 -> ՀՀ Կոտայքի մարզի Նաիրի համայնքում Զովունի գյուղում թեթև կոնստրուկցիաներով մարզադահլիճ | E18: =+G18 -> -7789 | F18: =+G18 -> -7789 | G18: =+'Հավելված N 3'!D18 -> -7789
B19: 1196 | C19: 12003 | D19: Մշակութային կենտրոնների գույքային հագեցվածության բարելավում | E19: =+E21 -> 7789 | F19: =+F21 -> 7789 | G19: =+G21 -> 7789
D20: այդ թվում` ըստ կատարողների
D21: ՀՀ կրթության, գիտության, մշակույթի և սպորտի նախարարություն | E21: =+E23 -> 7789 | F21: =+F23 -> 7789 | G21: =+G23 -> 7789
D22: այդ թվում`ըստ ուղղությունների
D23: ՀՀ Վայոց Ձորի մարզ | E23: =+E24 -> 7789 | F23: =+F24 -> 7789 | G23: =+G24 -> 7789
D24: =+'Հավելված N 3'!C22 -> Քարագլուխ բնակավայրի մարզամշակութային կենտրոն | E24: =+G24 -> 7789 | F24: =+G24 -> 7789 | G24: =+'Հավելված N 3'!D22 -> 7789
B25: 1236 | C25: 32002 | D25: Մանկապարտեզների շենքերի վերակառուցում, հիմնանորոգում | E25: =+E27 -> -309709.1 | F25: =+F27 -> -702072.6 | G25: =+G27 -> -991949
D26: այդ թվում` ըստ կատարողների
D27: ՀՀ կառավարություն | E27: =-'Հավելված N 2'!G77 -> -309709.1 | F27: =-'Հավելված N 2'!H77 -> -702072.6 | G27: =+'Հավելված N 3'!D25 -> -991949

Sheet Հավելված N 5
J1: Հավելված N 5
J2: ՀՀ կառավարության 2025 թվականի
J3: ______________ ի ___Ն որոշման
A6: ՀԱՅԱՍՏԱՆԻ ՀԱՆՐԱՊԵՏՈՒԹՅԱՆ ԿԱՌԱՎԱՐՈՒԹՅԱՆ 2024 ԹՎԱԿԱՆԻ ԴԵԿՏԵՄԲԵՐԻ 27-Ի N 2060-Ն ՈՐՈՇՄԱՆ N 9 ՀԱՎԵԼՎԱԾՈՒՄ ԿԱՏԱՐՎՈՂ ՓՈՓՈԽՈՒԹՅՈՒՆՆԵՐԸ ԵՎ ԼՐԱՑՈՒՄՆԵՐԸ
A9: ԲԳԿ | B9: Ծրագիր | D9: Միջոցառում | H9: Իրականացնողը/ ակտիվն օգտագործողը/ շահառուի ընտրության չափորոշիչը | I9: Արդյունքային չափորոշիչը | J9: Ցուցանիշների փոփոխությունը (ավելացումները նշված են դրական նշանով, իսկ նվազեցումները՝ փակագծերում)
B10: Դասիչը | C10: Անվանումը | D10: Դասիչը | E10: Անվանումը | F10: Նկարագրությունը | G10: Տեսակը | J10: Առաջին կիսամյակ | K10: Ինն ամիս | L10: Տարի
A11: ԸՆԴԱՄԵՆԸ | J11: =+J13+J45 -> 0 | K11: =+K13 -> 0 | L11: =+L13 -> 0
A12: այդ թվում՝
A13: ՀՀ ԿՐԹՈՒԹՅԱՆ, ԳԻՏՈՒԹՅԱՆ, ՄՇԱԿՈԻՅԹԻ ԵՎ ՍՊՈՐՏԻ ՆԱԽԱՐԱՐՈՒԹՅՈՒՆ | J13: =+J14+J20+J27 -> 0 | K13: =+K14+K20+K27 -> 0 | L13: =+L14+L20+L27 -> 0
B14: 1163 | C14: Մասսայական սպորտ | J14: =+J15 -> -7789 | K14: =+K15 -> -7789 | L14: =+L15 -> -7789
D15: 1163 - 32003 | E15: Թեթև կոնստրուկցիաներով մարզադահլիճների հիմնում | J15: =+'Հավելված N 1'!G17 -> -7789 | K15: =+'Հավելված N 1'!H17 -> -7789 | L15: =+'Հավելված N 1'!I17 -> -7789
F16: ՀՀ մարզերում արագ հավաքվող, թեթև կոնստրուկցիաներով, օդահենային պնևմատիկ, եվրոպական ստանդարտներին համապատասխան մարզադահլիճների հիմնում
G17: Այլ պետական կազմակերպությունների կողմից օգտագործվող ոչ ֆինանսական ակտիվների հետ գործառնություններ
H18: Ակտիվն օգտագործող կազմակերպությունների անվանումները` Մարզական հաստատություններ
B20: 1196 | C20: Մարզերի մշակութային զարգացման ծրագիր | J20: =+J21 -> 7789 | K20: =+K21 -> 7789 | L20: =+L21 -> 7789
D21: 1196 - 12003 | E21: Մշակութային կենտրոնների գույքային հագեցվածության բարելավում | J21: =+'Հավելված N 1'!G19 -> 7789 | K21: =+'Հավելված N 1'!H19 -> 7789 | L21: =+'Հավելված N 1'!I19 -> 7789
F22: Մշակութային կենտրոնների համար անհրաժեշտ գույքի, տեխնիկայի և սարքավորումների ձեռքբերում
G23: Տրանսֆերտների տրամադրում
H24: Շահառուների ընտրության չափորոշիչները` ՀՀ համայնքների ենթակայության մշակութային կենտրոնների գույքային հագեցվածության բարելավման անհրաժեշտությունը
I25: Գույքով ապահովվող մշակութային կենտրոնների թիվը, հատ | J25: 1 | L25: 1
B27: 1236 | C27: Հանրակրթական և նախադպրոցական հաստատությունների հիմնում, կառուցում, բարելավում | J27: =+J28+J32+J40 -> 0 | K27: =+K28+K32+K40 -> 0 | L27: =+L28+L32+L40 -> 0
D28: 1236 - 11001 | E28: Հանրակրթական և նախադպրոցական հաստատությունների կառուցման, վերակառուցման, հիմնանորոգման ծրագրերի համակարգման և մոնիտորինգի ծառայություններ | J28: =+'Հավելված N 1'!G21 -> 220888.5 | K28: =+'Հավելված N 1'!H21 -> 613252 | L28: =+'Հավելված N 1'!I21 -> 903128.4
F29: Հանրակրթական և նախադպրոցական հաստատություններիկառուցման, վերակառուցման, հիմնանորոգման ծրագրերիհամակարգման և մոնիտորինգի ծառայությունների ապահովում
G30: Ծառայությունների մատուցում
H31: Միջոցառումն իրականացնողի անվանումը՝ Մասնագիտացված միավոր
D32: 1236 - 31001 | E32: Հանրակրթական և նախադպրոցական հաստատությունների կառուցման, վերակառուցման, հիմնանորոգման ծրագրերի համակարգման շրջանակներում Հայաստանի տարածքային զարգացման հիմնադրամի կարողությունների զարգացում և տեխնիկական հագեցվածության ապահովում | J32: =+'Հավելված N 1'!G22 -> 88820.6 | K32: =+'Հավելված N 1'!H22 -> 88820.6 | L32: =+'Հավելված N 1'!I22 -> 88820.6
F33: Հայաստանի տարածքային զարգացման հիմնադրամի աշխատանքային պայմանների բարելավման համար վարչական սարքավորումների ձեռքբերում
G34: Պետական մարմինների կողմից օգտագործվող ոչ ֆինանսական ակտիվների հետ գործառնություններ
H35: Միջոցառումն իրականացնողի անվանումը՝ Մասնագիտացված միավոր
I36: Համակարգչային սարքավորումների քանակ, հատ | J36: 55 | L36: 55
I37: Գրասենյակային գույքի միավորի քանակ, հատ | J37: 80 | L37: 80
I38: Շինարարական աշխատանքների տեխնիկական հսկողության իրականացման համար սարքեր և սարքավորումներ, հատ | J38: 285 | L38: 285
I39: Տեխնիկա և սարքեր, հատ | J39: 12 | L39: 12
D40: 1236 - 32002 | E40: Մանկապարտեզների շենքերի վերակառուցում, հիմնանորոգում | J40: =+'Հավելված N 1'!G23 -> -309709.1 | K40: =+'Հավելված N 1'!H23 -> -702072.6 | L40: =+'Հավելված N 1'!I23 -> -991949
F41: Նախադպրոցական կրթության հասանելիության ապահովման նպատակով՛ մանկապարտեզների շենքերի (մասնաշենքերի), վերակառուցում, հիմնանորոգում և նախագծում
G42: Այլ պետական կազմակերպությունների կողմից օգտագործվող ոչ ֆինանսական ակտիվների հետ գործառնություններ
H43: Ակտիվն օգտագործող կազմակերպության անվանումը` Նախադպրոցական կրթություն իրականացնող ուսումնական հաստատություններ
A45: ՀՀ ԿԱՌԱՎԱՐՈՒԹՅՈՒՆ | J45: =+J47+J51 -> 0 | K45: =+K47+K51 -> 0 | L45: =+L47+L51 -> 0
B46: 1139 | C46: ՀՀ կառավարության պահուստային ֆոնդ | J46: =+J47+J51 -> 0 | K46: =+K47+K51 -> 0 | L46: =+L47+L51 -> 0
D47: 1139 - 11001 | E47: ՀՀ կառավարության պահուստային ֆոնդ | J47: =+'Հավելված N 1'!G27 -> 96609.6 | K47: =+'Հավելված N 1'!H27 -> 96609.6 | L47: =+'Հավելված N 1'!I27 -> 96609.6
...

Sheet Հավելված N 6
J1: Հավելված N 6
J2: ՀՀ կառավարության 2025 թվականի
J3: ______________ ի ___Ն որոշման
A6: ՀԱՅԱՍՏԱՆԻ ՀԱՆՐԱՊԵՏՈՒԹՅԱՆ ԿԱՌԱՎԱՐՈՒԹՅԱՆ 2024 ԹՎԱԿԱՆԻ ԴԵԿՏԵՄԲԵՐԻ 27-Ի N 2060-Ն ՈՐՈՇՄԱՆ N 9.1 ՀԱՎԵԼՎԱԾՈՒՄ ԿԱՏԱՐՎՈՂ ՓՈՓՈԽՈՒԹՅՈՒՆՆԵՐԸ ԵՎ ԼՐԱՑՈՒՄՆԵՐԸ
A9: ԲՍԿ | B9: Ծրագիր | D9: Միջոցառում | H9: Իրականացնողը/ ակտիվն օգտագործողը/ շահառուի ընտրության չափորոշիչը | I9: Արդյունքային չափորոշիչը | J9: Ցուցանիշների փոփոխությունը (ավելացումները նշված են դրական նշանով, իսկ նվազեցումները՝ փակագծերում)
B10: Դասիչը | C10: Անվանումը | D10: Դասիչը | E10: Անվանումը | F10: Նկարագրությունը | G10: Տեսակը | J10: Առաջին կիսամյակ | K10: Ինն ամիս | L10: Տարի
A11: ԸՆԴԱՄԵՆԸ | J11: =+J13+J41 -> 0 | K11: =+K13+K41 -> 0 | L11: =+L13+L41 -> 0
A12: այդ թվում՝
A13: ՀՀ ԿՐԹՈՒԹՅԱՆ, ԳԻՏՈՒԹՅԱՆ, ՄՇԱԿՈԻՅԹԻ ԵՎ ՍՊՈՐՏԻ ՆԱԽԱՐԱՐՈՒԹՅՈՒՆ | J13: =+J14+J20+J27 -> 309709.1 | K13: =+K14+K20+K27 -> 702072.6 | L13: =+L14+L20+L27 -> 991949
B14: 1163 | C14: Մասսայական սպորտ | J14: =+J15 -> -7789 | K14: =+K15 -> -7789 | L14: =+L15 -> -7789
D15: 1163 - 32003 | E15: Թեթև կոնստրուկցիաներով մարզադահլիճների հիմնում | J15: =+'Հավելված N 2'!G28 -> -7789 | K15: =+'Հավելված N 2'!H28 -> -7789 | L15: =+'Հավելված N 2'!I28 -> -7789
F16: ՀՀ մարզերում արագ հավաքվող, թեթև կոնստրուկցիաներով, օդահենային պնևմատիկ, եվրոպական ստանդարտներին համապատասխան մարզադահլիճների հիմնում
G17: Այլ պետական կազմակերպությունների կողմից օգտագործվող ոչ ֆինանսական ակտիվների հետ գործառնություններ
H18: Ակտիվն օգտագործող կազմակերպությունների անվանումները` Մարզական հաստատություններ
B20: 1196 | C20: Մարզերի մշակութային զարգացման ծրագիր | J20: =+J21 -> 7789 | K20: =+K21 -> 7789 | L20: =+L21 -> 7789
D21: 1196 - 12003 | E21: Մշակութային կենտրոնների գույքային հագեցվածության բարելավում | J21: =+'Հավելված N 2'!G45 -> 7789 | K21: =+'Հավելված N 2'!H45 -> 7789 | L21: =+'Հավելված N 2'!I45 -> 7789
F22: Մշակութային կենտրոնների համար անհրաժեշտ գույքի, տեխնիկայի և սարքավորումների ձեռքբերում
G23: Տրանսֆերտների տրամադրում
H24: Շահառուների ընտրության չափորոշիչները` ՀՀ համայնքների ենթակայության մշակութային կենտրոնների գույքային հագեցվածության բարելավման անհրաժեշտությունը
I25: Գույքով ապահովվող մշակութային կենտրոնների թիվը, հատ | J25: 1 | L25: 1
B27: 1236 | C27: Հանրակրթական և նախադպրոցական հաստատությունների հիմնում, կառուցում, բարելավում | J27: =+J28+J32 -> 309709.1 | K27: =+K28+K32 -> 702072.6 | L27: =+L28+L32 -> 991949
D28: 1236 - 11001 | E28: Հանրակրթական և նախադպրոցական հաստատությունների կառուցման, վերակառուցման, հիմնանորոգման ծրագրերի համակարգման և մոնիտորինգի ծառայություններ | J28: =+'Հավելված N 2'!G81 -> 220888.5 | K28: =+'Հավելված N 2'!H81 -> 613252 | L28: =+'Հավելված N 2'!I81 -> 903128.4
F29: Հանրակրթական և նախադպրոցական հաստատություններիկառուցման, վերակառուցման, հիմնանորոգման ծրագրերիհամակարգման և մոնիտորինգի ծառայությունների ապահովում
G30: Ծառայությունների մատուցում
H31: Միջոցառումն իրականացնողի անվանումը՝ Մասնագիտացված միավոր
D32: 1236 - 31001 | E32: Հանրակրթական և նախադպրոցական հաստատությունների կառուցման, վերակառուցման, հիմնանորոգման ծրագրերի համակարգման շրջանակներում Հայաստանի տարածքային զարգացման հիմնադրամի կարողությունների զարգացում և տեխնիկական հագեցվածության ապահովում | J32: =+'Հավելված N 2'!G108 -> 88820.6 | K32: =+'Հավելված N 2'!H108 -> 88820.6 | L32: =+'Հավելված N 2'!I108 -> 88820.6
F33: Հայաստանի տարածքային զարգացման հիմնադրամի աշխատանքային պայմանների բարելավման համար վարչական սարքավորումների ձեռքբերում
G34: Պետական մարմինների կողմից օգտագործվող ոչ ֆինանսական ակտիվների հետ գործառնություններ
H35: Միջոցառումն իրականացնողի անվանումը՝ Մասնագիտացված միավոր
I36: Համակարգչային սարքավորումների քանակ, հատ | J36: 55 | L36: 55
I37: Գրասենյակային գույքի միավորի քանակ, հատ | J37: 80 | L37: 80
I38: Շինարարական աշխատանքների տեխնիկական հսկողության իրականացման համար սարքեր և սարքավորումներ, հատ | J38: 285 | L38: 285
I39: Տեխնիկա և սարքեր, հատ | J39: 12 | L39: 12
A41: ՀՀ ԿԱՌԱՎԱՐՈՒԹՅՈՒՆ | J41: =+J42+J51 -> -309709.1 | K41: =+K42+K51 -> -702072.6 | L41: =+L42+L51 -> -991949
B42: 1139 | C42: ՀՀ կառավարության պահուստային ֆոնդ | J42: =+J43+J47 -> 0 | K42: =+K43+K47 -> 0 | L42: =+L43+L47 -> 0
D43: 1139 - 11001 | E43: ՀՀ կառավարության պահուստային ֆոնդ | J43: =+'Հավելված N 2'!G129 -> 96609.6 | K43: =+'Հավելված N 2'!H129 -> 96609.6 | L43: =+'Հավելված N 2'!I129 -> 96609.6
F44: ՀՀ պետական բյուջեում նախատեսված ելքերի լրացուցիչ ֆինանսավորման, պետական բյուջեում չկանխատեսված ելքերի, ինչպես նաև բյուջետային երաշխիքների ապահովման ելքերի ֆինանսավորման ապահովում
G45: Ծառայությունների մատուցում
H46: Ծառայությունը մատուցողի անվանումը` ՀՀ կառավարություն
D47: 1139 - 11001 | E47: ՀՀ կառավարության պահուստային ֆոնդ | J47: =+'Հավելված N 2'!G135 -> -96609.6 | K47: =+'Հավելված N 2'!H135 -> -96609.6 | L47: =+'Հավելված N 2'!I135 -> -96609.6
...

Sheet Հավելված N 7
H1: Հավելված N 7
H2: ՀՀ կառավարության 2025 թվականի
H3: ______________ ի ___Ն որոշման
A6: ՀԱՅԱՍՏԱՆԻ ՀԱՆՐԱՊԵՏՈՒԹՅԱՆ ԿԱՌԱՎԱՐՈՒԹՅԱՆ 2024 ԹՎԱԿԱՆԻ ԴԵԿՏԵՄԲԵՐԻ 27-Ի N 2060-Ն N 10 ՀԱՎԵԼՎԱԾՈՒՄ ԿԱՏԱՐՎՈՂ ՓՈՓՈԽՈՒԹՅՈՒՆԸ ԵՎ ԼՐԱՑՈՒՄՆԵՐԸ
A10: Կոդը | B10: Անվանումը | E10: Գնման ձևը | F10: Չափման միավորը | G10: Միավորի գինը | H10: Ցուցանիշների փոփոխությունը (ավելացումները նշված են դրական նշանով, իսկ նվազեցումները՝ փակագծերում)
H11: Քանակը | I11: Գումարը (հազար դրամ)
A12: 1 | B12: 2 | E12: 3 | F12: 4 | G12: 5 | H12: 6 | I12: 7
A13: ՀՀ կրթության, գիտության, մշակույթի և սպորտի նախարարություն | I13: =+I14+I18+I57 -> 462700.2
A14: Բաժին N 08 | B14: Խումբ N 01 | C14: Դաս N 01 | D14: Հանգստի և սպորտի ծառայություններ | I14: =+I15 -> -7789
A15: 1163-32003 | B15: Թեթև կոնստրուկցիաներով մարզադահլիճների հիմնում | I15: =+I16 -> -7789
B16: ՄԱՍ II. ԱՇԽԱՏԱՆՔՆԵՐ | I16: =+I17 -> -7789
A17: 45211131-1 | B17: մարզական օբյեկտների շինարարական աշխատանքներ | E17: ԲՄ | F17: դրամ | I17: -7789
A18: Բաժին N 08 | B18: Խումբ N 02 | C18: Դաս N 03 | D18: Մշակույթի տներ, ակումբներ, կենտրոններ | I18: =+I19 -> 7789
A19: 1196-12003 | B19: Մշակութային կենտրոնների գույքային հագեցվածության բարելավում | I19: =+I20 -> 7789
B20: ՄԱՍ I. ԱՊՐԱՆՔՆԵՐ | I20: =SUM(I21:I56) -> 7789
A21: 44531191 | B21: երկաթե խողովակներ | E21: ԷԱՃ | F21: մետր | G21: 6900 | H21: 14.7 | I21: 101.5
A22: 19721100 | B22: սինթետիկ մանրաթելից լարաններ | E22: ԷԱՃ | F22: մետր | G22: 60 | H22: 100 | I22: 6
A23: 32341111 | B23: խոսափողի և բարձրախոսի տակդիրներ | E23: ԷԱՃ | F23: հատ | G23: 27000 | H23: 2 | I23: 54
A24: 32341200 | B24: ձայնային օպերատորի վահանակ | E24: ԷԱՃ | F24: հատ | G24: 147000 | H24: 1 | I24: 147
A25: 32341100 | B25: խոսափողներ | E25: ԷԱՃ | F25: հատ | G25: 215000 | H25: 1 | I25: 215
A26: 32341111 | B26: խոսափողի և բարձրախոսի տակդիրներ | E26: ԷԱՃ | F26: հատ | G26: 16000 | H26: 1 | I26: 16
A27: 31221230 | B27: միացման մալուխներ | E27: ԷԱՃ | F27: հատ | G27: 3500 | H27: 2 | I27: 7
A28: 38651220 | B28: տեսապրոյեկտորներ | E28: ԷԱՃ | F28: հատ | G28: 353100 | H28: 1 | I28: 353.1
A29: 38651300 | B29: պրոյեկցիոն էկրաններ | E29: ԷԱՃ | F29: հատ | G29: 28000 | H29: 1 | I29: 28
A30: 39515440-501 | B30: ուղղահայաց շերտավարագույր | E30: ԷԱՃ | F30: քմ | G30: 6000 | H30: 10.8 | I30: 64.8
A31: 39121100-501 | B31: գրասեղաններ | E31: ԷԱՃ | F31: հատ | G31: 33300 | H31: 4 | I31: 133.2
A32: 39121200-501 | B32: սեղաններ | E32: ԷԱՃ | F32: հատ | G32: 78000 | H32: 1 | I32: 78
A33: 39111140-501 | B33: աթոռներ | E33: ԷԱՃ | F33: հատ | G33: 11027.03 | H33: 37 | I33: 408.1
A34: 39121520-501 | B34: գրապահարաններ | E34: ԷԱՃ | F34: հատ | G34: 50640 | H34: 1 | I34: 50.7
A35: 39141260-501 | B35: զգեստապահարաններ | E35: ԷԱՃ | F35: հատ | G35: 74400 | H35: 2 | I35: 148.8
A36: 39132220-501 | B36: կախիչներ | E36: ԷԱՃ | F36: հատ | G36: 26400 | H36: 1 | I36: 26.4
A37: 39292110-501 | B37: գրատախտակներ | E37: ԷԱՃ | F37: հատ | G37: 74400 | H37: 2 | I37: 148.8
A38: 39299310-501 | B38: հայելի, շրջանակով | E38: ԷԱՃ | F38: քմ | G38: 17460 | H38: 1 | I38: 17.5
A39: 30192610-501 | B39: եռոտանի մոլբերտ | E39: ԷԱՃ | F39: հատ | G39: 12560 | H39: 5 | I39: 62.8
A40: 39299320-501 | B40: հայելի, առանց շրջանակի | E40: ԷԱՃ | F40: քմ | G40: 24107.97 | H40: 15.3 | I40: 368.9
A41: 03411120-501 | B41: փայտանյութից պատրաստված արտադրանք | E41: ԷԱՃ | F41: հատ | G41: 283514 | H41: 1 | I41: 283.6
... A56: 37421153-501 | B56: մարմնամարզական նստարան | E56: ԷԱՃ | F56: հատ | G56: 60750 | H56: 4 | I56: 243
A57: Բաժին N 09 | B57: Խումբ N 02 | C57: Դաս N 01 | D57: Հիմնական ընդհանուր կրթություն | I57: =+I58+I80 -> 462700.2
A58: 1236-11001 | B58: Հանրակրթական և նախադպրոցական հաստատությունների կառուցման, վերակառուցման, հիմնանորոգման ծրագրերի համակարգման և մոնիտորինգի ծառայություններ | I58: =+I59+I69 -> 373879.6
B59: ՄԱՍ I. ԱՊՐԱՆՔՆԵՐ | I59: =SUM(I60:I68) -> 21804.6
...

Sheet Հավելված N 8
F1: Հավելված N 8
I2: ՀՀ կառավարության 2025 թվականի
I3: ______________ ի ___Ն որոշման
A6: ՀԱՅԱՍՏԱՆԻ ՀԱՆՐԱՊԵՏՈՒԹՅԱՆ 2025 ԹՎԱԿԱՆԻ ՊԵՏԱԿԱՆ ԲՅՈՒՋԵՈՎ ՆԱԽԱՏԵՍՎԱԾ՝ ՀԱՅԱՍՏԱՆԻ ՀԱՆՐԱՊԵՏՈՒԹՅԱՆ ԿԱՌԱՎԱՐՈՒԹՅԱՆ ՊԱՀՈՒՍՏԱՅԻՆ ՖՈՆԴԻՑ ՀԱՏԿԱՑՈՒՄՆԵՐ ԿԱՏԱՐԵԼՈՒ ՎԵՐԱԲԵՐՅԱԼ
A9: Գործառական դասիչը | D9: Ծրագրային դասիչը | F9: Բյուջետային հատկացումների գլխավոր կարգադրիչների, ծրագրերի, միջոցառումների և միջոցառումները կատարող պետական մարմինների անվանումները | G9: Ցուցանիշների փոփոխությունը (ավելացումները նշված են դրական նշանով, իսկ նվազեցումները` փակագծերում)
A10: Բաժին | B10: Խումբ | C10: Դաս | D10: Ծրագիր | E10: Միջոցառում | G10: Առաջին կիսամյակ | H10: Ինն ամիս | I10: Տարի
F11: ԸՆԴԱՄԵՆԸ | G11: =+G13+G33 -> 0 | H11: =+H13+H33 -> 0 | I11: =+I13+I33 -> 0
F12: այդ թվում
F13: ՀՀ ԿԱՌԱՎԱՐՈՒԹՅՈՒՆ | G13: =+G14 -> -96609.6 | H13: =+H14 -> -96609.6 | I13: =+I14 -> -96609.6
A14: 11 | F14: ՀԻՄՆԱԿԱՆ ԲԱԺԻՆՆԵՐԻՆ ՉԴԱՍՎՈՂ ՊԱՀՈՒՍՏԱՅԻՆ ՖՈՆԴԵՐ | G14: =+G16 -> -96609.6 | H14: =+H16 -> -96609.6 | I14: =+I16 -> -96609.6
F15: այդ թվում`
B16: 01 | F16: ՀՀ կառավարության և համայնքների պահուստային ֆոնդ | G16: =+G18 -> -96609.6 | H16: =+H18 -> -96609.6 | I16: =+I18 -> -96609.6
F17: այդ թվում`
C18: 01 | F18: ՀՀ կառավարության պահուստային ֆոնդ | G18: =+G20 -> -96609.6 | H18: =+H20 -> -96609.6 | I18: =+I20 -> -96609.6
F19: այդ թվում`
F20: ՀՀ կառավարություն | G20: =+G22 -> -96609.6 | H20: =+H22 -> -96609.6 | I20: =+I22 -> -96609.6
F21: այդ թվում`
D22: 1139 | E22: ՀՀ կառավարության պահուստային ֆոնդ | F22: ՀՀ կառավարության պահուստային ֆոնդ | G22: =+G24 -> -96609.6 | H22: =+H24 -> -96609.6 | I22: =+I24 -> -96609.6
F23: այդ թվում`
E24: 11001 | F24: ՀՀ կառավարության պահուստային ֆոնդ | G24: =+G26 -> -96609.6 | H24: =+H26 -> -96609.6 | I24: =+I26 -> -96609.6
F25: այդ թվում` ըստ կատարողների
F26: ՀՀ կառավարություն | G26: =+G28 -> -96609.6 | H26: =+H28 -> -96609.6 | I26: =+I28 -> -96609.6
F27: այդ թվում՝ բյուջետային ծախսերի տնտեսագիտական դասակարգման հոդվածներ
F28: ԸՆԴԱՄԵՆԸ ԾԱԽՍԵՐ | G28: =+G29 -> -96609.6 | H28: =+H29 -> -96609.6 | I28: =+I29 -> -96609.6
F29: ԸՆԹԱՑԻԿ ԾԱԽՍԵՐ | G29: =+G30 -> -96609.6 | H29: =+H30 -> -96609.6 | I29: =+I30 -> -96609.6
F30: ԱՅԼ ԾԱԽՍԵՐ | G30: =+G31 -> -96609.6 | H30: =+H31 -> -96609.6 | I30: =+I31 -> -96609.6
F31: - Պահուստային միջոցներ | G31: =+'Հավելված N 2'!G142 -> -96609.6 | H31: =+'Հավելված N 2'!H142 -> -96609.6 | I31: =+'Հավելված N 2'!I142 -> -96609.6
F33: ՀՀ ԿՐԹՈՒԹՅԱՆ, ԳԻՏՈՒԹՅԱՆ, ՄՇԱԿՈՒՅԹԻ ԵՎ ՍՊՈՐՏԻ ՆԱԽԱՐԱՐՈՒԹՅՈՒՆ | G33: =+G34+G53 -> 96609.6 | H33: =+H34+H53 -> 96609.6 | I33: =+I34+I53 -> 96609.6
A34: 08 | F34: ՀԱՆԳԻՍՏ, ՄՇԱԿՈՒՅԹ ԵՎ ԿՐՈՆ | G34: 7789 | H34: 7789 | I34: 7789
F35: այդ թվում`
B36: 02 | F36: Մշակութային ծառայություններ | G36: 7789 | H36: 7789 | I36: 7789
F37: այդ թվում`
C38: 03 | F38: Մշակույթի տներ, ակումբներ, կենտրոններ | G38: 7789 | H38: 7789 | I38: 7789
F39: այդ թվում`
F40: ՀՀ կրթության, գիտության, մշակույթի և սպորտի նախարարություն | G40: 7789 | H40: 7789 | I40: 7789
F41: այդ թվում`
D42: 1196 | E42: Մարզերի մշակութային զարգացման ծրագիր | G42: 7789 | H42: 7789 | I42: 7789
F43: այդ թվում`
E44: 12003 | F44: Մշակութային կենտրոնների գույքային հագեցվածության բարելավում | G44: 7789 | H44: 7789 | I44: 7789
F45: այդ թվում` ըստ կատարողների
...
