Workbook
Name a: #REF!
Name a: #REF!
Name a: #REF!
Name AgencyCode: #REF!
Name AgencyCode: #REF!
Name AgencyCode: #REF!
Name AgencyCode: #REF!
Name AgencyCode: #REF!
Name AgencyCode: #REF!
Name AgencyName: #REF!
Name AgencyName: #REF!
Name AgencyName: #REF!
Name åû: #REF!
Name åû: #REF!
Name davit: #REF!
Name davit: #REF!
Name Functional1: #REF!
Name Functional1: #REF!
Name Functional1: #REF!
Name ggg: #REF!
Name ggg: #REF!
Name hav: #REF!
Name hav: #REF!
Name mas: #REF!
Name mas: #REF!
Name mass: #REF!
Name mass: #REF!
Name PANature: #REF!
Name PANature: #REF!
Name PANature: #REF!
Name PAType: #REF!
Name PAType: #REF!
Name PAType: #REF!
Name Performance2: #REF!
Name Performance2: #REF!
Name Performance2: #REF!
Name PerformanceType: #REF!
Name PerformanceType: #REF!
Name PerformanceType: #REF!
Name x: #REF!
Name x: #REF!
Name Հավելված: #REF!
Name Հավելված: #REF!
Name Հավելված10: #REF!
Name Հավելված10: #REF!
Name Հավելված11: #REF!
Name Հավելված11: #REF!
Name Հավելված20: #REF!
Name Հավելված20: #REF!
Name Հավելված9: #REF!
Name Հավելված9: #REF!
Name Մաս: #REF!
Name Մաս: #REF!
Name շախմատիստ: #REF!
Name շախմատիստ: #REF!
Name վֆյգյգ: #REF!
Name վֆյգյգ: #REF!

Sheet Հավելված N 1
F1: Հավելված N 1
F2: ՀՀ կառավարության 2025 թվականի
F3: ______________ ի ___Ն որոշման
A6: «ՀԱՅԱUՏԱՆԻ ՀԱՆՐԱՊԵՏՈՒԹՅԱՆ 2025 ԹՎԱԿԱՆԻ ՊԵՏԱԿԱՆ ԲՅՈՒՋԵԻ ՄԱUԻՆ» ՀԱՅԱUՏԱՆԻ ՀԱՆՐԱՊԵՏՈՒԹՅԱՆ OՐԵՆՔԻ N 1 ՀԱՎԵԼՎԱԾԻ N 2 ԱՂՅՈՒՍԱԿՈՒՄ ԿԱՏԱՐՎՈՂ ՎԵՐԱԲԱՇԽՈՒՄԸ ԵՎ ՀԱՅԱՍՏԱՆԻ ՀԱՆՐԱՊԵՏՈՒԹՅԱՆ ԿԱՌԱՎԱՐՈՒԹՅԱՆ 2024 ԹՎԱԿԱՆԻ ԴԵԿՏԵՄԲԵՐԻ 27-Ի N 2060-Ն ՈՐՈՇՄԱՆ N 5 ՀԱՎԵԼՎԱԾԻ N 1 ԱՂՅՈՒՍԱԿՈՒՄ ԿԱՏԱՐՎՈՂ ՓՈՓՈԽՈՒԹՅՈՒՆՆԵՐԸ ԵՎ ԼՐԱՑՈՒՄՆԵՐԸ
I9: հազ. դրամներով
A10: ԲԳԿ | B10: Ծրագրային դասիչը | D10: ԲԳԿ/Ծրագրի /միջոցառման անվանումը | E10: Ծրագրի նպատակը/Միջոցառման նկարագրությունը | F10: Վերջնական արդյունքի նկարագրությունը/Միջոցառման տեսակը | G10: Ցուցանիշների փոփոխությունը (ավելացումները նշված են դրական նշանով, իսկ նվազեցումները փակագծերում)
G11: Առաջին կիսամյակ | H11: Ինն ամիս | I11: Տարի
B12: Ծրագիր | C12: Միջոցառում
A13: ԸՆԴԱՄԵՆԸ | G13: =+G15+G25 -> 0 | H13: =+H15+H25 -> 0 | I13: =+I15+I25 -> 0
A14: այդ թվում՝
A15: ՀՀ ԿՐԹՈՒԹՅԱՆ, ԳԻՏՈՒԹՅԱՆ, ՄՇԱԿՈՒՅԹԻ ԵՎ ՍՊՈՐՏԻ ՆԱԽԱՐԱՐՈՒԹՅՈՒՆ | G15: =+G16+G18+G20 -> 0 | H15: =+H16+H18+H20 -> 0 | I15: =+I16+I18+I20 -> 0
B16: 1163 | D16: Մասսայական սպորտ | E16: Բնակչության շրջանում առողջ ապրելակերպի արմատավորում, անհատի բազմակողմանի ու ներդաշնակ զարգացման գործում ֆիզիկական կուլտուրայի և սպորտի դերի բարձրացում | F16: Սպորտի նկատմամբ հետաքրքրվածության և մասնակցության ընդլայնում | G16: =+G17 -> -7789 | H16: =+H17 -> -7789 | I16: =+I17 -> -7789
C17: 1163 - 32003 | D17: Թեթև կոնստրուկցիաներով մարզադահլիճների հիմնում | E17: ՀՀ մարզերում արագ հավաքվող, թեթև կոնստրուկցիաներով, օդահենային պնևմատիկ, եվրոպական ստանդարտներին համապատասխան մարզադահլիճների հիմնում | F17: Այլ պետական կազմակերպությունների կողմից օգտագործվող ոչ ֆինանսական ակտիվների հետ գործառնություններ | G17: =+'Հավելված N 2'!G26 -> -7789 | H17: =+'Հավելված N 2'!H26 -> -7789 | I17: =+'Հավելված N 2'!I26 -> -7789
B18: 1196 | D18: Մարզերի մշակութային զարգացման ծրագիր | E18: Մարզերում մշակութային կյանքի և մշակութաստեղծ գործունեության ակտիվացում | F18: Համայնքներում մշակույթի հասանելիության և մշակութային կյանքին մարզային բնակչության ընդգրկվածության ընդլայնում | G18: =+G19 -> 7789 | H18: =+H19 -> 7789 | I18: =+I19 -> 7789
C19: 1196 - 12003 | D19: Մշակութային կենտրոնների գույքային հագեցվածության բարելավում | E19: Մշակութային կենտրոնների համար անհրաժեշտ գույքի, տեխնիկայի և սարքավորումների ձեռքբերում | F19: Տրանսֆերտների տրամադրում | G19: =+'Հավելված N 2'!G43 -> 7789 | H19: =+'Հավելված N 2'!H43 -> 7789 | I19: =+'Հավելված N 2'!I43 -> 7789
B20: 1236 | D20: Հանրակրթական և նախադպրոցական հաստատությունների հիմնում, կառուցում, բարելավում | E20: Առնվազն 300 դպրոցի և 500 մանկապարտեզի կառուցման, վերակառուցման, հիմնանորոգման ծրագրերի իրականացում ՀՀ պետական բյուջեի միջոցների շրջանակներում | F20: Կրթական միջավայրի բարելավում | G20: =+G21+G22+G23 -> 0 | H20: =+H21+H22+H23 -> 0 | I20: =+I21+I22+I23 -> 0
C21: 1236 - 11001 | D21: Հանրակրթական և նախադպրոցական հաստատությունների կառուցման, վերակառուցման, հիմնանորոգման ծրագրերի համակարգման և մոնիտորինգի ծառայություններ | E21: Հանրակրթական և նախադպրոցական հաստատություններիկառուցման, վերակառուցման, հիմնանորոգման ծրագրերիհամակարգման և մոնիտորինգի ծառայությունների ապահովում | F21: Ծառայությունների մատուցում | G21: =+'Հավելված N 2'!G79 -> 220888.5 | H21: =+'Հավելված N 2'!H79 -> 613252 | I21: =+'Հավելված N 2'!I79 -> 903128.4
C22: 1236 - 31001 | D22: Հանրակրթական և նախադպրոցական հաստատությունների կառուցման, վերակառուցման, հիմնանորոգման ծրագրերի համակարգման շրջանակներում Հայաստանի տարածքային զարգացման հիմնադրամի կարողությունների զարգացում և տեխնիկական հագեցվածության ապահովում | E22: Հայաստանի տարածքային զարգացման հիմնադրամի աշխատանքային պայմանների բարելավման համար վարչական սարքավորումների ձեռքբերում | F22: Պետական մարմինների կողմից օգտագործվող ոչ ֆինանսական ակտիվների հետ գործառնություններ | G22: =+'Հավելված N 2'!G106 -> 88820.6 | H22: =+'Հավելված N 2'!H106 -> 88820.6 | I22: =+'Հավելված N 2'!I106 -> 88820.6
C23: 1236 - 32002 | D23: Մանկապարտեզների շենքերի վերակառուցում, հիմնանորոգում | E23: Նախադպրոցական կրթության հասանելիության ապահովման նպատակով՛ մանկապարտեզների շենքերի (մասնաշենքերի), վերակառուցում, հիմնանորոգում և նախագծում | F23: Այլ պետական կազմակերպությունների կողմից օգտագործվող ոչ ֆինանսական ակտիվների հետ գործառնություններ | G23: =+'Հավելված N 2'!G62 -> -309709.1 | H23: =+'Հավելված N 2'!H62 -> -702072.6 | I23: =+'Հավելված N 2'!I62 -> -991949
A25: ՀՀ ԿԱՌԱՎԱՐՈՒԹՅՈՒՆ | G25: =+G26+G29+G31 -> 0 | H25: =+H26+H29+H31 -> 0 | I25: =+I26+I29+I31 -> 0
B26: 1139 | D26: ՀՀ կառավարության պահուստային ֆոնդ | E26: Պետական բյուջեում չկանխատեսված, ինչպես նաեւ բյուջետային երաշխիքների ապահովման ծախսերի ֆինանսավորման ապահովում | F26: Պահուստային ֆոնդի կառավարման արդյունավետության և թափանցիկության ապահովում | G26: =+G27+G28 -> 0 | H26: =+H27+H28 -> 0 | I26: =+I27+I28 -> 0
C27: 1139 - 11001 | D27: ՀՀ կառավարության պահուստային ֆոնդ | E27: ՀՀ պետական բյուջեում նախատեսված ելքերի լրացուցիչ ֆինանսավորման, պետական բյուջեում չկանխատեսված ելքերի, ինչպես նաև բյուջետային երաշխիքների ապահովման ելքերի ֆինանսավորման ապահովում | F27: Ծառայությունների մատուցում | G27: =+'Հավելված N 2'!G127 -> 96609.6 | H27: =+'Հավելված N 2'!H127 -> 96609.6 | I27: =+'Հավելված N 2'!I127 -> 96609.6
C28: 1139 - 11001 | D28: ՀՀ կառավարության պահուստային ֆոնդ | E28: ՀՀ պետական բյուջեում նախատեսված ելքերի լրացուցիչ ֆինանսավորման, պետական բյուջեում չկանխատեսված ելքերի, ինչպես նաև բյուջետային երաշխիքների ապահովման ելքերի ֆինանսավորման ապահովում | F28: Ծառայությունների մատուցում | G28: =+'Հավելված N 2'!G135 -> -96609.6 | H28: =+'Հավելված N 2'!H135 -> -96609.6 | I28: =+'Հավելված N 2'!I135 -> -96609.6

Sheet Հավելված N 2
F1: Հավելված N 2
F2: ՀՀ կառավարության 2025 թվականի
F3: ______________ ի ___Ն որոշման
A7: ՀԱՅԱՍՏԱՆԻ ՀԱՆՐԱՊԵՏՈՒԹՅԱՆ ԿԱՌԱՎԱՐՈՒԹՅԱՆ 2024 ԹՎԱԿԱՆԻ ԴԵԿՏԵՄԲԵՐԻ 27-Ի N 2060-Ն ՈՐՈՇՄԱՆ N 3 ԵՎ N 4 ՀԱՎԵԼՎԱԾՆԵՐՈՒՄ ԿԱՏԱՐՎՈՂ ՓՈՓՈԽՈՒԹՅՈՒՆՆԵՐԸ ԵՎ ԼՐԱՑՈՒՄՆԵՐԸ
I10: հազ. դրամներով
A11: Գործառական դասիչը | D11: Ծրագրային դասիչը | F11: Բյուջետային հատկացումների գլխավոր կարգադրիչների, ծրագրերի, միջոցառումների և միջոցառումները կատարող պետական մարմինների անվանումները | G11: Ցուցանիշների փոփոխությունը (ավելացումները նշված են դրական նշանով, իսկ նվազեցումները՝ փակագծերում)
A12: Բաժին | B12: Խումբ | C12: Դաս | D12: Ծրագիր | E12: Միջոցառում | G12: Առաջին կիսամյակ | H12: Ինն ամիս | I12: Տարի
F13: ԸՆԴԱՄԵՆԸ | G13: =+G15+G116 -> 0 | H13: =+H15+H116 -> 0 | I13: =+I15+I116 -> 0
F14: այդ թվում՝
F15: ՀՀ ԿՐԹՈՒԹՅԱՆ, ԳԻՏՈՒԹՅԱՆ, ՄՇԱԿՈՒՅԹԻ ԵՎ ՍՊՈՐՏԻ ՆԱԽԱՐԱՐՈՒԹՅՈՒՆ | G15: =+G16+G52 -> 0 | H15: =+H16+H52 -> 0 | I15: =+I16+I52 -> 0
A16: 08 | F16: ՀԱՆԳԻՍՏ, ՄՇԱԿՈՒՅԹ ԵՎ ԿՐՈՆ | G16: =+G18+G35 -> 0 | H16: =+H18+H35 -> 0 | I16: =+I18+I35 -> 0
F17: այդ թվում`
B18: 01 | F18: Հանգստի և սպորտի ծառայություններ | G18: =+G20 -> -7789 | H18: =+H20 -> -7789 | I18: =+I20 -> -7789
F19: այդ թվում`
C20: 01 | F20: Հանգստի և սպորտի ծառայություններ | G20: =+G22 -> -7789 | H20: =+H22 -> -7789 | I20: =+I22 -> -7789
F21: այդ թվում`
F22: ՀՀ կրթության, գիտության, մշակույթի և սպորտի նախարարություն | G22: =+G24 -> -7789 | H22: =+H24 -> -7789 | I22: =+I24 -> -7789
F23: այդ թվում`
D24: 1163 | E24: Մասսայական սպորտ | G24: =+G26 -> -7789 | H24: =+H26 -> -7789 | I24: =+I26 -> -7789
F25: այդ թվում`
E26: 32003 | F26: Թեթև կոնստրուկցիաներով մարզադահլիճների հիմնում | G26: =+G28 -> -7789 | H26: =+H28 -> -7789 | I26: =+I28 -> -7789
F27: այդ թվում` ըստ կատարողների
F28: ՀՀ կրթության, գիտության, մշակույթի և սպորտի նախարարություն | G28: =+G30 -> -7789 | H28: =+H30 -> -7789 | I28: =+I30 -> -7789
F29: այդ թվում՝ բյուջետային ծախսերի տնտեսագիտական դասակարգման հոդվածներ
F30: ԸՆԴԱՄԵՆԸ ԾԱԽՍԵՐ | G30: =+G31 -> -7789 | H30: =+H31 -> -7789 | I30: =+I31 -> -7789
F31: ՈՉ ՖԻՆԱՆՍԱԿԱՆ ԱԿՏԻՎՆԵՐԻ ԳԾՈՎ ԾԱԽՍԵՐ | G31: =+G32 -> -7789 | H31: =+H32 -> -7789 | I31: =+I32 -> -7789
F32: ՀԻՄՆԱԿԱՆ ՄԻՋՈՑՆԵՐ | G32: =+G33 -> -7789 | H32: =+H33 -> -7789 | I32: =+I33 -> -7789
F33: ՇԵՆՔԵՐ ԵՎ ՇԻՆՈՒԹՅՅՈՒՆՆԵՐ | G33: =+G34 -> -7789 | H33: =+H34 -> -7789 | I33: =+I34 -> -7789
F34: - Շենքերի և շինությունների շինարարություն | G34: =+'Հավելված N 4'!E15 -> -7789 | H34: =+'Հավելված N 4'!F15 -> -7789 | I34: =+'Հավելված N 4'!G15 -> -7789
B35: 02 | F35: Մշակութային ծառայություններ | G35: =+G37 -> 7789 | H35: =+H37 -> 7789 | I35: =+I37 -> 7789
F36: այդ թվում`
C37: 03 | F37: Մշակույթի տներ, ակումբներ, կենտրոններ | G37: =+G39 -> 7789 | H37: =+H39 -> 7789 | I37: =+I39 -> 7789
F38: այդ թվում`
F39: ՀՀ կրթության, գիտության, մշակույթի և սպորտի նախարարություն | G39: =+G41 -> 7789 | H39: =+H41 -> 7789 | I39: =+I41 -> 7789
F40: այդ թվում`
D41: 1196 | E41: Մարզերի մշակութային զարգացման ծրագիր | G41: =+G43 -> 7789 | H41: =+H43 -> 7789 | I41: =+I43 -> 7789
F42: այդ թվում`
E43: 12003 | F43: Մշակութային կենտրոնների գույքային հագեցվածության բարելավում | G43: =+G45 -> 7789 | H43: =+H45 -> 7789 | I43: =+I45 -> 7789
F44: այդ թվում` ըստ կատարողների
F45: ՀՀ կրթության, գիտության, մշակույթի և սպորտի նախարարություն | G45: =+G47 -> 7789 | H45: =+H47 -> 7789 | I45: =+I47 -> 7789
F46: այդ թվում՝ բյուջետային ծախսերի տնտեսագիտական դասակարգման հոդվածներ
F47: ԸՆԴԱՄԵՆԸ ԾԱԽՍԵՐ | G47: =+G48 -> 7789 | H47: =+H48 -> 7789 | I47: =+I48 -> 7789
F48: ՈՉ ՖԻՆԱՆՍԱԿԱՆ ԱԿՏԻՎՆԵՐԻ ԳԾՈՎ ԾԱԽՍԵՐ | G48: =+G49 -> 7789 | H48: =+H49 -> 7789 | I48: =+I49 -> 7789
F49: ՀԻՄՆԱԿԱՆ ՄԻՋՈՑՆԵՐ | G49: =+G50 -> 7789 | H49: =+H50 -> 7789 | I49: =+I50 -> 7789
F50: ՄԵՔԵՆԱՆԵՐ ԵՎ ՍԱՐՔԱՎՈՐՈՒՄՆԵՐ | G50: =+G51 -> 7789 | H50: =+H51 -> 7789 | I50: =+I51 -> 7789
F51: - Այլ մեքենաներ և սարքավորումներ | G51: =+'Հավելված N 4'!E21 -> 7789 | H51: =+'Հավելված N 4'!F21 -> 7789 | I51: =+'Հավելված N 4'!G21 -> 7789
A52: 09 | F52: ԿՐԹՈՒԹՅՈՒՆ | G52: =+G54+G71 -> 0 | H52: =+H54+H71 -> 0 | I52: =+I54+I71 -> 0
F53: այդ թվում`
B54: 01 | F54: Նախադպրոցական և տարրական ընդհանուր կրթություն | G54: =+G56 -> -309709.1 | H54: =+H56 -> -702072.6 | I54: =+I56 -> -991949
F55: այդ թվում`
C56: 01 | F56: Նախադպրոցական կրթություն | G56: =+G58 -> -309709.1 | H56: =+H58 -> -702072.6 | I56: =+I58 -> -991949
F57: այդ թվում`
F58: ՀՀ կրթության, գիտության, մշակույթի և սպորտի նախարարություն | G58: =+G60 -> -309709.1 | H58: =+H60 -> -702072.6 | I58: =+I60 -> -991949
F59: այդ թվում`
D60: 1236 | E60: Հանրակրթական և նախադպրոցական հաստատությունների հիմնում, կառուցում, բարելավում | G60: =+G62 -> -309709.1 | H60: =+H62 -> -702072.6 | I60: =+I62 -> -991949
F61: այդ թվում`
E62: 32002 | F62: Մանկապարտեզների շենքերի վերակառուցում, հիմնանորոգում | G62: =+G64 -> -309709.1 | H62: =+H64 -> -702072.6 | I62: =+I64 -> -991949
F63: այդ թվում` ըստ կատարողների
F64: ՀՀ կառավարություն | G64: =+G66 -> -309709.1 | H64: =+H66 -> -702072.6 | I64: =+I66 -> -991949
F65: այդ թվում՝ բյուջետային ծախսերի տնտեսագիտական դասակարգման հոդվածներ
F66: ԸՆԴԱՄԵՆԸ ԾԱԽՍԵՐ | G66: =G67 -> -309709.1 | H66: =H67 -> -702072.6 | I66: =I67 -> -991949
F67: ՈՉ ՖԻՆԱՆՍԱԿԱՆ ԱԿՏԻՎՆԵՐԻ ԳԾՈՎ ԾԱԽՍԵՐ | G67: =+G68 -> -309709.1 | H67: =+H68 -> -702072.6 | I67: =+I68 -> -991949
F68: ՀԻՄՆԱԿԱՆ ՄԻՋՈՑՆԵՐ | G68: =+G69 -> -309709.1 | H68: =+H69 -> -702072.6 | I68: =+I69 -> -991949
F69: ՇԵՆՔԵՐ ԵՎ ՇԻՆՈՒԹՅՈՒՆՆԵՐ | G69: =+G70 -> -309709.1 | H69: =+H70 -> -702072.6 | I69: =+I70 -> -991949
F70: - Շենքերի և շինությունների կապիտալ վերանորոգում | G70: =+'Հավելված N 4'!E27 -> -309709.1 | H70: =+'Հավելված N 4'!F27 -> -702072.6 | I70: =+'Հավելված N 4'!G27 -> -991949
B71: 02 | F71: Միջնակարգ ընդհանուր կրթություն | G71: =+G73 -> 309709.1 | H71: =+H73 -> 702072.6 | I71: =+I73 -> 991949
F72: այդ թվում`
F73: Հիմնական ընդհանուր կրթություն | G73: =+G75 -> 309709.1 | H73: =+H75 -> 702072.6 | I73: =+I75 -> 991949
C74: 01 | F74: այդ թվում`
F75: ՀՀ կրթության, գիտության, մշակույթի և սպորտի նախարարություն | G75: =+G77 -> 309709.1 | H75: =+H77 -> 702072.6 | I75: =+I77 -> 991949
F76: այդ թվում`
D77: 1236 | E77: Հանրակրթական և նախադպրոցական հաստատությունների հիմնում, կառուցում, բարելավում | G77: =+G79+G106 -> 309709.1 | H77: =+H79+H106 -> 702072.6 | I77: =+I79+I106 -> 991949
F78: այդ թվում`
E79: 11001 | F79: Հանրակրթական և նախադպրոցական հաստատությունների կառուցման, վերակառուցման, հիմնանորոգման ծրագրերի համակարգման և մոնիտորինգի ծառայություններ | G79: =+G81 -> 220888.5 | H79: =+H81 -> 613252 | I79: =+I81 -> 903128.4
F80: այդ թվում` ըստ կատարողների
F81: ՀՀ կրթության, գիտության, մշակույթի և սպորտի նախարարություն | G81: =+G83 -> 220888.5 | H81: =+H83 -> 613252 | I81: =+I83 -> 903128.4
F82: այդ թվում՝ բյուջետային ծախսերի տնտեսագիտական դասակարգման հոդվածներ
F83: ԸՆԴԱՄԵՆԸ ԾԱԽՍԵՐ | G83: =G84 -> 220888.5 | H83: =H84 -> 613252 | I83: =I84 -> 903128.4
F84: ԸՆԹԱՑԻԿ ԾԱԽՍԵՐ | G84: =+G85+G89+G101 -> 220888.5 | H84: =+H85+H89+H101 -> 613252 | I84: =+I85+I89+I101 -> 903128.4
F85: ԱՇԽԱՏԱՆՔԻ ՎԱՐՁԱՏՐՈՒԹՅՈՒՆ | G85: =+G86 -> 141056 | H85: =+H86 -> 303270.4 | I85: =+I86 -> 500748.8
F86: ԴՐԱՄՈՎ ՎՃԱՐՎՈՂ ԱՇԽԱՏԱՎԱՐՁԵՐ ԵՎ ՀԱՎԵԼԱՎՃԱՐՆԵՐ | G86: =+G87+G88 -> 141056 | H86: =+H87+H88 -> 303270.4 | I86: =+I87+I88 -> 500748.8
F87: - Աշխատողների աշխատավարձեր և հավելավճարներ | G87: 105792 | H87: 232742.4 | I87: 394956.8
F88: - Պարգևատրումներ, դրամական խրախուսումներ և հատուկ վճարներ | G88: 35264 | H88: 70528 | I88: 105792
F89: ԾԱՌԱՅՈՒԹՅՈՒՆՆԵՐԻ ԵՎ ԱՊՐԱՆՔՆԵՐԻ ՁԵՌՔԲԵՐՈՒՄ | G89: =+G90+G92+G94+G96+G98 -> 78832.5 | H89: =+H90+H92+H94+H96+H98 -> 307981.6 | I89: =+I90+I92+I94+I96+I98 -> 399379.6
F90: ՇԱՐՈՒՆԱԿԱԿԱՆ ԾԱԽՍԵՐ | G90: =+G91 -> 3750 | H90: =+H91 -> 5500 | I90: =+I91 -> 7250
F91: - Ապահովագրական ծախսեր | G91: 3750 | H91: 5500 | I91: 7250
F92: ԾԱՌԱՅՈՂԱԿԱՆ ԳՈՐԾՈՒՂՈՒՄՆԵՐԻ ԳԾՈՎ ԾԱԽՍԵՐ | G92: =+G93 -> 7500 | H92: =+H93 -> 16500 | I92: =+I93 -> 25500
F93: - Ներքին գործուղումներ | G93: 7500 | H93: 16500 | I93: 25500
F94: ԱՅԼ ՄԱՍՆԱԳԻՏԱԿԱՆ ԾԱՌԱՅՈՒԹՅՈՒՆՆԵՐԻ ՁԵՌՔԲԵՐՈՒՄ | G94: =+G95 -> 60000 | H94: =+H95 -> 270000 | I94: =+I95 -> 342000
F95: - Մասնագիտական ծառայություններ | G95: 60000 | H95: =120000+150000 -> 270000 | I95: =192000+150000 -> 342000
F96: ԸՆԹԱՑԻԿ ՆՈՐՈԳՈՒՄ ԵՎ ՊԱՀՊԱՆՈՒՄ (ԾԱՌԱՅՈՒԹՅՈՒՆՆԵՐ ԵՎ ՆՅՈՒԹԵՐ) | G96: =+G97 -> 1000 | H96: =+H97 -> 1600 | I96: =+I97 -> 2400
F97: - Մեքենաների և սարքավորումների ընթացիկ նորոգում և պահպանում | G97: 1000 | H97: 1600 | I97: 2400
F98: ՆՅՈՒԹԵՐ (ԱՊՐԱՆՔՆԵՐ) | G98: =+G99+G100 -> 6582.5 | H98: =+H99+H100 -> 14381.6 | I98: =+I99+I100 -> 22229.6
F99: - Գրասենյակային նյութեր և հագուստ | G99: 500 | H99: 1000 | I99: 1549
F100: - Տրանսպորտային նյութեր | G100: 6082.5 | H100: 13381.6 | I100: 20680.6
F101: ԱՅԼ ԾԱԽՍԵՐ | G101: =+G102+G104 -> 1000 | H101: =+H102+H104 -> 2000 | I101: =+I102+I104 -> 3000
F102: ՀԱՐԿԵՐ, ՊԱՐՏԱԴԻՐ ՎՃԱՐՆԵՐ ԵՎ ՏՈՒՅԺԵՐ, ՈՐՈՆՔ ԿԱՌԱՎԱՐՄԱՆ ՏԱՐԲԵՐ ՄԱԿԱՐԴԱԿՆԵՐԻ ԿՈՂՄԻՑ ԿԻՐԱՌՎՈՒՄ ԵՆ ՄԻՄՅԱՆՑ ՆԿԱՏՄԱՄԲ | G102: =+G103 -> 500 | H102: =+H103 -> 1000 | I102: =+I103 -> 1000
F103: - Այլ հարկեր | G103: 500 | H103: 1000 | I103: 1000
F104: ԱՅԼ ԾԱԽՍԵՐ | G104: =+G105 -> 500 | H104: =+H105 -> 1000 | I104: =+I105 -> 2000
F105: - Այլ ծախսեր | G105: 500 | H105: 1000 | I105: 2000
...

Sheet Հավելված N 3
F1: Հավելված N 3
F2: ՀՀ կառավարության 2025 թվականի
F3: ______________ ի ___Ն որոշման
A5: «ՀԱՅԱUՏԱՆԻ ՀԱՆՐԱՊԵՏՈՒԹՅԱՆ 2025 ԹՎԱԿԱՆԻ ՊԵՏԱԿԱՆ ԲՅՈՒՋԵԻ ՄԱUԻՆ» ՀԱՅԱUՏԱՆԻ ՀԱՆՐԱՊԵՏՈՒԹՅԱՆ OՐԵՆՔԻ N 1 ՀԱՎԵԼՎԱԾԻ N 3 ԱՂՅՈՒՍԱԿՈՒՄ ԿԱՏԱՐՎՈՂ ՓՈՓՈԽՈՒԹՅՈՒՆՆԵՐԸ ԵՎ ԼՐԱՑՈՒՄԸ
G8: հազ. դրամներով
A9: Ծրագրային դասիչ | C9: Բյուջետային գլխավոր կարգադրիչների, ծրագրերի, միջոցառումների, միջոցառումները կատարող պետական մարմինների և ուղղությունների անվանումները | D9: Ընդամենը | E9: Ցուցանիշների փոփոխությունը (ավելացումները նշված են դրական նշանով, իսկ նվազեցումները՝ փակագծերում)
A10: Ծրագիր | B10: Միջոցառում | E10: Կառուցման աշխատանքներ | F10: Վերակառուցման, վերանորոգման և վերականգնման աշխատանքներ | G10: Նախագծահե- տազոտական, գեոդեզիա- քարտեզագրա- կան աշխա- տանքներ | H10: Ոչ ֆինանսական այլ ակտիվների ձեռքբերում
C11: ԸՆԴԱՄԵՆԸ | D11: =SUM(E11:H11) -> -991949 | E11: =+E13 -> -7789 | F11: =+F13 -> -991949 | G11: =+G13 -> 0 | H11: =+H13 -> 7789
C12: այդ թվում՝
C13: ՀՀ ԿՐԹՈՒԹՅԱՆ, ԳԻՏՈՒԹՅԱՆ, ՄՇԱԿՈՒՅԹԻ ԵՎ ՍՊՈՐՏԻ ՆԱԽԱՐԱՐՈՒԹՅՈՒՆ | D13: =SUM(E13:H13) -> -991949 | E13: =+E15+E19+E23 -> -7789 | F13: =+F15+F19+F23 -> -991949 | G13: =+G15+G19+G23 -> 0 | H13: =+H15+H19+H23 -> 7789
C14: այդ թվում`
A15: 1163 | B15: 32003 | C15: Թեթև կոնստրուկցիաներով մարզադահլիճների հիմնում | D15: -7789 | E15: =+E17 -> -7789 | F15: =+F17 -> 0 | G15: =+G17 -> 0 | H15: =+H17 -> 0
C16: այդ թվում`
C17: ՀՀ Կոտայքի մարզ | D17: -7789 | E17: =+E18 -> -7789 | F17: =+F18 -> 0 | G17: =+G18 -> 0 | H17: =+H18 -> 0
C18: ՀՀ Կոտայքի մարզի Նաիրի համայնքում Զովունի գյուղում թեթև կոնստրուկցիաներով մարզադահլիճ | D18: -7789 | E18: =+'Հավելված N 7'!I17 -> -7789
A19: 1196 | B19: 12003 | C19: Մշակութային կենտրոնների գույքային հագեցվածության բարելավում | D19: 7789 | E19: =+E21 -> 0 | F19: =+F21 -> 0 | G19: =+G21 -> 0 | H19: =+H21 -> 7789
C20: այդ թվում`
C21: ՀՀ Վայոց Ձորի մարզ | D21: 7789 | E21: =+E22 -> 0 | F21: =+F22 -> 0 | G21: =+G22 -> 0 | H21: =+H22 -> 7789
C22: Քարագլուխ բնակավայրի մարզամշակութային կենտրոն | D22: 7789 | H22: =+'Հավելված N 7'!I20 -> 7789
A23: 1236 | B23: 32002 | C23: Մանկապարտեզների շենքերի վերակառուցում, հիմնանորոգում | D23: =SUM(E23:H23) -> -991949 | E23: =+E25 -> 0 | F23: =+F25 -> -991949 | G23: =+G25 -> 0 | H23: =+H25 -> 0
C24: այդ թվում`
C25: Մանկապարտեզների շենքերի վերակառուցում, հիմնանորոգում | D25: =SUM(E25:H25) -> -991949 | E25: 0 | F25: =-'Հավելված N 2'!I77 -> -991949 | G25: 0 | H25: 0

Sheet Հավելված N 4
F1: Հավելված N 4
E2: ՀՀ կառավարության 2025 թվականի
F3: ______________ ի ___Ն որոշման
B6: ՀԱՅԱՍՏԱՆԻ ՀԱՆՐԱՊԵՏՈՒԹՅԱՆ ԿԱՌԱՎԱՐՈՒԹՅԱՆ 2024 ԹՎԱԿԱՆԻ ԴԵԿՏԵՄԲԵՐԻ 27-Ի N 2060-Ն ՈՐՈՇՄԱՆ N 5 ՀԱՎԵԼՎԱԾԻ N 2 ԱՂՅՈՒՍԱԿՈՒՄ ԿԱՏԱՐՎՈՂ ՓՈՓՈԽՈՒԹՅՈՒՆՆԵՐԸ ԵՎ ԼՐԱՑՈՒՄԸ
G8: հազ. դրամներով
B9: Ծրագրային դասիչ | D9: Բյուջետային գլխավոր կարգադրիչների, ծրագրերի, միջոցառումների, միջոցառումները կատարող պետական մարմինների և ուղղությունների անվանումները | E9: Ցուցանիշների փոփոխությունը (ավելացումները նշված են դրական նշանով, իսկ նվազեցումները՝ փակագծերում)
B10: Ծրագիր | C10: Միջոցառում | E10: Առաջին կիսամյակ | F10: Ինն ամիս | G10: Տարի
D11: ՀՀ ԿՐԹՈՒԹՅԱՆ, ԳԻՏՈՒԹՅԱՆ, ՄՇԱԿՈՒՅԹԻ ԵՎ ՍՊՈՐՏԻ ՆԱԽԱՐԱՐՈՒԹՅՈՒՆ | E11: =+E25 -> -309709.1 | F11: =+F25 -> -702072.6 | G11: =+G25 -> -991949
D12: այդ թվում՝
B13: 1163 | C13: 32003 | D13: Թեթև կոնստրուկցիաներով մարզադահլիճների հիմնում | E13: =+E15 -> -7789 | F13: =+F15 -> -7789 | G13: =+G15 -> -7789
D14: այդ թվում` ըստ կատարողների
D15: ՀՀ կրթության, գիտության, մշակույթի և սպորտի նախարարություն | E15: =+E17 -> -7789 | F15: =+F17 -> -7789 | G15: =+G17 -> -7789
D16: այդ թվում`ըստ ուղղությունների
D17: ՀՀ Կոտայքի մարզ | E17: =+E18 -> -7789 | F17: =+F18 -> -7789 | G17: =+G18 -> -7789
D18: =+'Հավելված N 3'!C18 -> ՀՀ Կոտայքի մարզի Նաիրի համայնքում Զովունի գյուղում թեթև կոնստրուկցիաներով մարզադահլիճ | E18: =+G18 -> -7789 | F18: =+G18 -> -7789 | G18: =+'Հավելված N 3'!D18 -> -7789
B19: 1196 | C19: 12003 | D19: Մշակութային կենտրոնների գույքային հագեցվածության բարելավում | E19: =+E21 -> 7789 | F19: =+F21 -> 7789 | G19: =+G21 -> 7789
D20: այդ թվում` ըստ կատարողների
D21: ՀՀ կրթության, գիտության, մշակույթի և սպորտի նախարարություն | E21: =+E23 -> 7789 | F21: =+F23 -> 7789 | G21: =+G23 -> 7789
D22: այդ թվում`ըստ ուղղությունների
D23: ՀՀ Վայոց Ձորի մարզ | E23: =+E24 -> 7789 | F23: =+F24 -> 7789 | G23: =+G24 -> 7789
D24: =+'Հավելված N 3'!C22 -> Քարագլուխ բնակավայրի մարզամշակութային կենտրոն | E24: =+G24 -> 7789 | F24: =+G24 -> 7789 | G24: =+'Հավելված N 3'!D22 -> 7789
B25: 1236 | C25: 32002 | D25: Մանկապարտեզների շենքերի վերակառուցում, հիմնանորոգում | E25: =+E27 -> -309709.1 | F25: =+F27 -> -702072.6 | G25: =+G27 -> -991949
D26: այդ թվում` ըստ կատարողների
D27: ՀՀ կառավարություն | E27: =-'Հավելված N 2'!G77 -> -309709.1 | F27: =-'Հավելված N 2'!H77 -> -702072.6 | G27: =+'Հավելված N 3'!D25 -> -991949

Sheet Հավելված N 5
J1: Հավելված N 5
J2: ՀՀ կառավարության 2025 թվականի
J3: ______________ ի ___Ն որոշման
A6: ՀԱՅԱՍՏԱՆԻ ՀԱՆՐԱՊԵՏՈՒԹՅԱՆ ԿԱՌԱՎԱՐՈՒԹՅԱՆ 2024 ԹՎԱԿԱՆԻ ԴԵԿՏԵՄԲԵՐԻ 27-Ի N 2060-Ն ՈՐՈՇՄԱՆ N 9 ՀԱՎԵԼՎԱԾՈՒՄ ԿԱՏԱՐՎՈՂ ՓՈՓՈԽՈՒԹՅՈՒՆՆԵՐԸ ԵՎ ԼՐԱՑՈՒՄՆԵՐԸ
A9: ԲԳԿ | B9: Ծրագիր | D9: Միջոցառում | H9: Իրականացնողը/ ակտիվն օգտագործողը/ շահառուի ընտրության չափորոշիչը | I9: Արդյունքային չափորոշիչը | J9: Ցուցանիշների փոփոխությունը (ավելացումները նշված են դրական նշանով, իսկ նվազեցումները՝ փակագծերում)
B10: Դասիչը | C10: Անվանումը | D10: Դասիչը | E10: Անվանումը | F10: Նկարագրությունը | G10: Տեսակը | J10: Առաջին կիսամյակ | K10: Ինն ամիս | L10: Տարի
A11: ԸՆԴԱՄԵՆԸ | J11: =+J13+J45 -> 0 | K11: =+K13 -> 0 | L11: =+L13 -> 0
A12: այդ թվում՝
A13: ՀՀ ԿՐԹՈՒԹՅԱՆ, ԳԻՏՈՒԹՅԱՆ, ՄՇԱԿՈԻՅԹԻ ԵՎ ՍՊՈՐՏԻ ՆԱԽԱՐԱՐՈՒԹՅՈՒՆ | J13: =+J14+J20+J27 -> 0 | K13: =+K14+K20+K27 -> 0 | L13: =+L14+L20+L27 -> 0
B14: 1163 | C14: Մասսայական սպորտ | J14: =+J15 -> -7789 | K14: =+K15 -> -7789 | L14: =+L15 -> -7789
D15: 1163 - 32003 | E15: Թեթև կոնստրուկցիաներով մարզադահլիճների հիմնում | J15: =+'Հավելված N 1'!G17 -> -7789 | K15: =+'Հավելված N 1'!H17 -> -7789 | L15: =+'Հավելված N 1'!I17 -> -7789
F16: ՀՀ մարզերում արագ հավաքվող, թեթև կոնստրուկցիաներով, օդահենային պնևմատիկ, եվրոպական ստանդարտներին համապատասխան մարզադահլիճների հիմնում
G17: Այլ պետական կազմակերպությունների կողմից օգտագործվող ոչ ֆինանսական ակտիվների հետ գործառնություններ
H18: Ակտիվն օգտագործող կազմակերպությունների անվանումները` Մարզական հաստատություններ
B20: 1196 | C20: Մարզերի մշակութային զարգացման ծրագիր | J20: =+J21 -> 7789 | K20: =+K21 -> 7789 | L20: =+L21 -> 7789
D21: 1196 - 12003 | E21: Մշակութային կենտրոնների գույքային հագեցվածության բարելավում | J21: =+'Հավելված N 1'!G19 -> 7789 | K21: =+'Հավելված N 1'!H19 -> 7789 | L21: =+'Հավելված N 1'!I19 -> 7789
F22: Մշակութային կենտրոնների համար անհրաժեշտ գույքի, տեխնիկայի և սարքավորումների ձեռքբերում
G23: Տրանսֆերտների տրամադրում
H24: Շահառուների ընտրության չափորոշիչները` ՀՀ համայնքների ենթակայության մշակութային կենտրոնների գույքային հագեցվածության բարելավման անհրաժեշտությունը
I25: Գույքով ապահովվող մշակութային կենտրոնների թիվը, հատ | J25: 1 | L25: 1
B27: 1236 | C27: Հանրակրթական և նախադպրոցական հաստատությունների հիմնում, կառուցում, բարելավում | J27: =+J28+J32+J40 -> 0 | K27: =+K28+K32+K40 -> 0 | L27: =+L28+L32+L40 -> 0
D28: 1236 - 11001 | E28: Հանրակրթական և նախադպրոցական հաստատությունների կառուցման, վերակառուցման, հիմնանորոգման ծրագրերի համակարգման և մոնիտորինգի ծառայություններ | J28: =+'Հավելված N 1'!G21 -> 220888.5 | K28: =+'Հավելված N 1'!H21 -> 613252 | L28: =+'Հավելված N 1'!I21 -> 903128.4
F29: Հանրակրթական և նախադպրոցական հաստատություններիկառուցման, վերակառուցման, հիմնանորոգման ծրագրերիհամակարգման և մոնիտորինգի ծառայությունների ապահովում
G30: Ծառայությունների մատուցում
H31: Միջոցառումն իրականացնողի անվանումը՝ Մասնագիտացված միավոր
D32: 1236 - 31001 | E32: Հանրակրթական և նախադպրոցական հաստատությունների կառուցման, վերակառուցման, հիմնանորոգման ծրագրերի համակարգման շրջանակներում Հայաստանի տարածքային զարգացման հիմնադրամի կարողությունների զարգացում և տեխնիկական հագեցվածության ապահովում | J32: =+'Հավելված N 1'!G22 -> 88820.6 | K32: =+'Հավելված N 1'!H22 -> 88820.6 | L32: =+'Հավելված N 1'!I22 -> 88820.6
F33: Հայաստանի տարածքային զարգացման հիմնադրամի աշխատանքային պայմանների բարելավման համար վարչական սարքավորումների ձեռքբերում
G34: Պետական մարմինների կողմից օգտագործվող ոչ ֆինանսական ակտիվների հետ գործառնություններ
H35: Միջոցառումն իրականացնողի անվանումը՝ Մասնագիտացված միավոր
I36: Համակարգչային սարքավորումների քանակ, հատ | J36: 55 | L36: 55
I37: Գրասենյակային գույքի միավորի քանակ, հատ | J37: 80 | L37: 80
I38: Շինարարական աշխատանքների տեխնիկական հսկողության իրականացման համար սարքեր և սարքավորումներ, հատ | J38: 285 | L38: 285
I39: Տեխնիկա և սարքեր, հատ | J39: 12 | L39: 12
D40: 1236 - 32002 | E40: Մանկապարտեզների շենքերի վերակառուցում, հիմնանորոգում | J40: =+'Հավելված N 1'!G23 -> -309709.1 | K40: =+'Հավելված N 1'!H23 -> -702072.6 | L40: =+'Հավելված N 1'!I23 -> -991949
F41: Նախադպրոցական կրթության հասանելիության ապահովման նպատակով՛ մանկապարտեզների շենքերի (մասնաշենքերի), վերակառուցում, հիմնանորոգում և նախագծում
G42: Այլ պետական կազմակերպությունների կողմից օգտագործվող ոչ ֆինանսական ակտիվների հետ գործառնություններ
H43: Ակտիվն օգտագործող կազմակերպության անվանումը` Նախադպրոցական կրթություն իրականացնող ուսումնական հաստատություններ
A45: ՀՀ ԿԱՌԱՎԱՐՈՒԹՅՈՒՆ | J45: =+J47+J51 -> 0 | K45: =+K47+K51 -> 0 | L45: =+L47+L51 -> 0
B46: 1139 | C46: ՀՀ կառավարության պահուստային ֆոնդ | J46: =+J47+J51 -> 0 | K46: =+K47+K51 -> 0 | L46: =+L47+L51 -> 0
D47: 1139 - 11001 | E47: ՀՀ կառավարության պահուստային ֆոնդ | J47: =+'Հավելված N 1'!G27 -> 96609.6 | K47: =+'Հավելված N 1'!H27 -> 96609.6 | L47: =+'Հավելված N 1'!I27 -> 96609.6
F48: ՀՀ պետական բյուջեում նախատեսված ելքերի լրացուցիչ ֆինանսավորման, պետական բյուջեում չկանխատեսված ելքերի, ինչպես նաև բյուջետային երաշխիքների ապահովման ելքերի ֆինանսավորման ապահովում
G49: Ծառայությունների մատուցում
H50: Ծառայությունը մատուցողի անվանումը` ՀՀ կառավարություն
D51: 1139 - 11001 | E51: ՀՀ կառավարության պահուստային ֆոնդ | J51: =+'Հավելված N 1'!G28 -> -96609.6 | K51: =+'Հավելված N 1'!H28 -> -96609.6 | L51: =+'Հավելված N 1'!I28 -> -96609.6
F52: ՀՀ պետական բյուջեում նախատեսված ելքերի լրացուցիչ ֆինանսավորման, պետական բյուջեում չկանխատեսված ելքերի, ինչպես նաև բյուջետային երաշխիքների ապահովման ելքերի ֆինանսավորման ապահովում
G53: Ծառայությունների մատուցում
H54: Ծառայությունը մատուցողի անվանումը` ՀՀ կառավարություն

Sheet Հավելված N 6
J1: Հավելված N 6
J2: ՀՀ կառավարության 2025 թվականի
J3: ______________ ի ___Ն որոշման
A6: ՀԱՅԱՍՏԱՆԻ ՀԱՆՐԱՊԵՏՈՒԹՅԱՆ ԿԱՌԱՎԱՐՈՒԹՅԱՆ 2024 ԹՎԱԿԱՆԻ ԴԵԿՏԵՄԲԵՐԻ 27-Ի N 2060-Ն ՈՐՈՇՄԱՆ N 9.1 ՀԱՎԵԼՎԱԾՈՒՄ ԿԱՏԱՐՎՈՂ ՓՈՓՈԽՈՒԹՅՈՒՆՆԵՐԸ ԵՎ ԼՐԱՑՈՒՄՆԵՐԸ
A9: ԲՍԿ | B9: Ծրագիր | D9: Միջոցառում | H9: Իրականացնողը/ ակտիվն օգտագործողը/ շահառուի ընտրության չափորոշիչը | I9: Արդյունքային չափորոշիչը | J9: Ցուցանիշների փոփոխությունը (ավելացումները նշված են դրական նշանով, իսկ նվազեցումները՝ փակագծերում)
B10: Դասիչը | C10: Անվանումը | D10: Դասիչը | E10: Անվանումը | F10: Նկարագրությունը | G10: Տեսակը | J10: Առաջին կիսամյակ | K10: Ինն ամիս | L10: Տարի
A11: ԸՆԴԱՄԵՆԸ | J11: =+J13+J41 -> 0 | K11: =+K13+K41 -> 0 | L11: =+L13+L41 -> 0
A12: այդ թվում՝
A13: ՀՀ ԿՐԹՈՒԹՅԱՆ, ԳԻՏՈՒԹՅԱՆ, ՄՇԱԿՈԻՅԹԻ ԵՎ ՍՊՈՐՏԻ ՆԱԽԱՐԱՐՈՒԹՅՈՒՆ | J13: =+J14+J20+J27 -> 309709.1 | K13: =+K14+K20+K27 -> 702072.6 | L13: =+L14+L20+L27 -> 991949
B14: 1163 | C14: Մասսայական սպորտ | J14: =+J15 -> -7789 | K14: =+K15 -> -7789 | L14: =+L15 -> -7789
D15: 1163 - 32003 | E15: Թեթև կոնստրուկցիաներով մարզադահլիճների հիմնում | J15: =+'Հավելված N 2'!G28 -> -7789 | K15: =+'Հավելված N 2'!H28 -> -7789 | L15: =+'Հավելված N 2'!I28 -> -7789
F16: ՀՀ մարզերում արագ հավաքվող, թեթև կոնստրուկցիաներով, օդահենային պնևմատիկ, եվրոպական ստանդարտներին համապատասխան մարզադահլիճների հիմնում
G17: Այլ պետական կազմակերպությունների կողմից օգտագործվող ոչ ֆինանսական ակտիվների հետ գործառնություններ
H18: Ակտիվն օգտագործող կազմակերպությունների անվանումները` Մարզական հաստատություններ
B20: 1196 | C20: Մարզերի մշակութային զարգացման ծրագիր | J20: =+J21 -> 7789 | K20: =+K21 -> 7789 | L20: =+L21 -> 7789
D21: 1196 - 12003 | E21: Մշակութային կենտրոնների գույքային հագեցվածության բարելավում | J21: =+'Հավելված N 2'!G45 -> 7789 | K21: =+'Հավելված N 2'!H45 -> 7789 | L21: =+'Հավելված N 2'!I45 -> 7789
F22: Մշակութային կենտրոնների համար անհրաժեշտ գույքի, տեխնիկայի և սարքավորումների ձեռքբերում
G23: Տրանսֆերտների տրամադրում
H24: Շահառուների ընտրության չափորոշիչները` ՀՀ համայնքների ենթակայության մշակութային կենտրոնների գույքային հագեցվածության բարելավման անհրաժեշտությունը
I25: Գույքով ապահովվող մշակութային կենտրոնների թիվը, հատ | J25: 1 | L25: 1
B27: 1236 | C27: Հանրակրթական և նախադպրոցական հաստատությունների հիմնում, կառուցում, բարելավում | J27: =+J28+J32 -> 309709.1 | K27: =+K28+K32 -> 702072.6 | L27: =+L28+L32 -> 991949
D28: 1236 - 11001 | E28: Հանրակրթական և նախադպրոցական հաստատությունների կառուցման, վերակառուցման, հիմնանորոգման ծրագրերի համակարգման և մոնիտորինգի ծառայություններ | J28: =+'Հավելված N 2'!G81 -> 220888.5 | K28: =+'Հավելված N 2'!H81 -> 613252 | L28: =+'Հավելված N 2'!I81 -> 903128.4
F29: Հանրակրթական և նախադպրոցական հաստատություններիկառուցման, վերակառուցման, հիմնանորոգման ծրագրերիհամակարգման և մոնիտորինգի ծառայությունների ապահովում
G30: Ծառայությունների մատուցում
H31: Միջոցառումն իրականացնողի անվանումը՝ Մասնագիտացված միավոր
D32: 1236 - 31001 | E32: Հանրակրթական և նախադպրոցական հաստատությունների կառուցման, վերակառուցման, հիմնանորոգման ծրագրերի համակարգման շրջանակներում Հայաստանի տարածքային զարգացման հիմնադրամի կարողությունների զարգացում և տեխնիկական հագեցվածության ապահովում | J32: =+'Հավելված N 2'!G108 -> 88820.6 | K32: =+'Հավելված N 2'!H108 -> 88820.6 | L32: =+'Հավելված N 2'!I108 -> 88820.6
F33: Հայաստանի տարածքային զարգացման հիմնադրամի աշխատանքային պայմանների բարելավման համար վարչական սարքավորումների ձեռքբերում
G34: Պետական մարմինների կողմից օգտագործվող ոչ ֆինանսական ակտիվների հետ գործառնություններ
H35: Միջոցառումն իրականացնողի անվանումը՝ Մասնագիտացված միավոր
I36: Համակարգչային սարքավորումների քանակ, հատ | J36: 55 | L36: 55
I37: Գրասենյակային գույքի միավորի քանակ, հատ | J37: 80 | L37: 80
I38: Շինարարական աշխատանքների տեխնիկական հսկողության իրականացման համար սարքեր և սարքավորումներ, հատ | J38: 285 | L38: 285
I39: Տեխնիկա և սարքեր, հատ | J39: 12 | L39: 12
A41: ՀՀ ԿԱՌԱՎԱՐՈՒԹՅՈՒՆ | J41: =+J42+J51 -> -309709.1 | K41: =+K42+K51 -> -702072.6 | L41: =+L42+L51 -> -991949
B42: 1139 | C42: ՀՀ կառավարության պահուստային ֆոնդ | J42: =+J43+J47 -> 0 | K42: =+K43+K47 -> 0 | L42: =+L43+L47 -> 0
D43: 1139 - 11001 | E43: ՀՀ կառավարության պահուստային ֆոնդ | J43: =+'Հավելված N 2'!G129 -> 96609.6 | K43: =+'Հավելված N 2'!H129 -> 96609.6 | L43: =+'Հավելված N 2'!I129 -> 96609.6
F44: ՀՀ պետական բյուջեում նախատեսված ելքերի լրացուցիչ ֆինանսավորման, պետական բյուջեում չկանխատեսված ելքերի, ինչպես նաև բյուջետային երաշխիքների ապահովման ելքերի ֆինանսավորման ապահովում
G45: Ծառայությունների մատուցում
H46: Ծառայությունը մատուցողի անվանումը` ՀՀ կառավարություն
D47: 1139 - 11001 | E47: ՀՀ կառավարության պահուստային ֆոնդ | J47: =+'Հավելված N 2'!G135 -> -96609.6 | K47: =+'Հավելված N 2'!H135 -> -96609.6 | L47: =+'Հավելված N 2'!I135 -> -96609.6
F48: ՀՀ պետական բյուջեում նախատեսված ելքերի լրացուցիչ ֆինանսավորման, պետական բյուջեում չկանխատեսված ելքերի, ինչպես նաև բյուջետային երաշխիքների ապահովման ելքերի ֆինանսավորման ապահովում
G49: Ծառայությունների մատուցում
H50: Ծառայությունը մատուցողի անվանումը` ՀՀ կառավարություն
B51: 1236 | C51: Հանրակրթական և նախադպրոցական հաստատությունների հիմնում, կառուցում, բարելավում | J51: =+J52 -> -309709.1 | K51: =+K52 -> -702072.6 | L51: =+L52 -> -991949
D52: 1236 - 32002 | E52: Մանկապարտեզների շենքերի վերակառուցում, հիմնանորոգում | J52: =+'Հավելված N 2'!G64 -> -309709.1 | K52: =+'Հավելված N 2'!H64 -> -702072.6 | L52: =+'Հավելված N 2'!I64 -> -991949
F53: Նախադպրոցական կրթության հասանելիության ապահովման նպատակով՛ մանկապարտեզների շենքերի (մասնաշենքերի), վերակառուցում, հիմնանորոգում և նախագծում
G54: Այլ պետական կազմակերպությունների կողմից օգտագործվող ոչ ֆինանսական ակտիվների հետ գործառնություններ
H55: Ակտիվն օգտագործող կազմակերպության անվանումը` Նախադպրոցական կրթություն իրականացնող ուսումնական հաստատություններ

Sheet Հավելված N 7
H1: Հավելված N 7
H2: ՀՀ կառավարության 2025 թվականի
H3: ______________ ի ___Ն որոշման
A6: ՀԱՅԱՍՏԱՆԻ ՀԱՆՐԱՊԵՏՈՒԹՅԱՆ ԿԱՌԱՎԱՐՈՒԹՅԱՆ 2024 ԹՎԱԿԱՆԻ ԴԵԿՏԵՄԲԵՐԻ 27-Ի N 2060-Ն N 10 ՀԱՎԵԼՎԱԾՈՒՄ ԿԱՏԱՐՎՈՂ ՓՈՓՈԽՈՒԹՅՈՒՆԸ ԵՎ ԼՐԱՑՈՒՄՆԵՐԸ
A10: Կոդը | B10: Անվանումը | E10: Գնման ձևը | F10: Չափման միավորը | G10: Միավորի գինը | H10: Ցուցանիշների փոփոխությունը (ավելացումները նշված են դրական նշանով, իսկ նվազեցումները՝ փակագծերում)
H11: Քանակը | I11: Գումարը (հազար դրամ)
A12: 1 | B12: 2 | E12: 3 | F12: 4 | G12: 5 | H12: 6 | I12: 7
A13: ՀՀ կրթության, գիտության, մշակույթի և սպորտի նախարարություն | I13: =+I14+I18+I57 -> 462700.2
A14: Բաժին N 08 | B14: Խումբ N 01 | C14: Դաս N 01 | D14: Հանգստի և սպորտի ծառայություններ | I14: =+I15 -> -7789
A15: 1163-32003 | B15: Թեթև կոնստրուկցիաներով մարզադահլիճների հիմնում | I15: =+I16 -> -7789
B16: ՄԱՍ II. ԱՇԽԱՏԱՆՔՆԵՐ | I16: =+I17 -> -7789
A17: 45211131-1 | B17: մարզական օբյեկտների շինարարական աշխատանքներ | E17: ԲՄ | F17: դրամ | I17: -7789
A18: Բաժին N 08 | B18: Խումբ N 02 | C18: Դաս N 03 | D18: Մշակույթի տներ, ակումբներ, կենտրոններ | I18: =+I19 -> 7789
A19: 1196-12003 | B19: Մշակութային կենտրոնների գույքային հագեցվածության բարելավում | I19: =+I20 -> 7789
B20: ՄԱՍ I. ԱՊՐԱՆՔՆԵՐ | I20: =SUM(I21:I56) -> 7789
A21: 44531191 | B21: երկաթե խողովակներ | E21: ԷԱՃ | F21: մետր | G21: 6900 | H21: 14.7 | I21: 101.5
A22: 19721100 | B22: սինթետիկ մանրաթելից լարաններ | E22: ԷԱՃ | F22: մետր | G22: 60 | H22: 100 | I22: 6
A23: 32341111 | B23: խոսափողի և բարձրախոսի տակդիրներ | E23: ԷԱՃ | F23: հատ | G23: 27000 | H23: 2 | I23: 54
A24: 32341200 | B24: ձայնային օպերատորի վահանակ | E24: ԷԱՃ | F24: հատ | G24: 147000 | H24: 1 | I24: 147
A25: 32341100 | B25: խոսափողներ | E25: ԷԱՃ | F25: հատ | G25: 215000 | H25: 1 | I25: 215
A26: 32341111 | B26: խոսափողի և բարձրախոսի տակդիրներ | E26: ԷԱՃ | F26: հատ | G26: 16000 | H26: 1 | I26: 16
A27: 31221230 | B27: միացման մալուխներ | E27: ԷԱՃ | F27: հատ | G27: 3500 | H27: 2 | I27: 7
A28: 38651220 | B28: տեսապրոյեկտորներ | E28: ԷԱՃ | F28: հատ | G28: 353100 | H28: 1 | I28: 353.1
A29: 38651300 | B29: պրոյեկցիոն էկրաններ | E29: ԷԱՃ | F29: հատ | G29: 28000 | H29: 1 | I29: 28
A30: 39515440-501 | B30: ուղղահայաց շերտավարագույր | E30: ԷԱՃ | F30: քմ | G30: 6000 | H30: 10.8 | I30: 64.8
A31: 39121100-501 | B31: գրասեղաններ | E31: ԷԱՃ | F31: հատ | G31: 33300 | H31: 4 | I31: 133.2
A32: 39121200-501 | B32: սեղաններ | E32: ԷԱՃ | F32: հատ | G32: 78000 | H32: 1 | I32: 78
A33: 39111140-501 | B33: աթոռներ | E33: ԷԱՃ | F33: հատ | G33: 11027.03 | H33: 37 | I33: 408.1
A34: 39121520-501 | B34: գրապահարաններ | E34: ԷԱՃ | F34: հատ | G34: 50640 | H34: 1 | I34: 50.7
A35: 39141260-501 | B35: զգեստապահարաններ | E35: ԷԱՃ | F35: հատ | G35: 74400 | H35: 2 | I35: 148.8
A36: 39132220-501 | B36: կախիչներ | E36: ԷԱՃ | F36: հատ | G36: 26400 | H36: 1 | I36: 26.4
A37: 39292110-501 | B37: գրատախտակներ | E37: ԷԱՃ | F37: հատ | G37: 74400 | H37: 2 | I37: 148.8
A38: 39299310-501 | B38: հայելի, շրջանակով | E38: ԷԱՃ | F38: քմ | G38: 17460 | H38: 1 | I38: 17.5
A39: 30192610-501 | B39: եռոտանի մոլբերտ | E39: ԷԱՃ | F39: հատ | G39: 12560 | H39: 5 | I39: 62.8
A40: 39299320-501 | B40: հայելի, առանց շրջանակի | E40: ԷԱՃ | F40: քմ | G40: 24107.97 | H40: 15.3 | I40: 368.9
A41: 03411120-501 | B41: փայտանյութից պատրաստված արտադրանք | E41: ԷԱՃ | F41: հատ | G41: 283514 | H41: 1 | I41: 283.6
... A56: 37421153-501 | B56: մարմնամարզական նստարան | E56: ԷԱՃ | F56: հատ | G56: 60750 | H56: 4 | I56: 243
A57: Բաժին N 09 | B57: Խումբ N 02 | C57: Դաս N 01 | D57: Հիմնական ընդհանուր կրթություն | I57: =+I58+I80 -> 462700.2
A58: 1236-11001 | B58: Հանրակրթական և նախադպրոցական հաստատությունների կառուցման, վերակառուցման, հիմնանորոգման ծրագրերի համակարգման և մոնիտորինգի ծառայություններ | I58: =+I59+I69 -> 373879.6
B59: ՄԱՍ I. ԱՊՐԱՆՔՆԵՐ | I59: =SUM(I60:I68) -> 21804.6
A60: 9132200 | B60: բենզին, ռեգուլյար | E60: ԷԱՃ | F60: լիտր | G60: 530 | H60: 39020 | I60: =+ROUNDUP(G60*H60/1000,1) -> 20680.6
A61: 30121500 | B61: քարտրիջներ | C61: քարտրիջներ | D61: քարտրիջներ | E61: ԷԱՃ | F61: հատ | G61: 30000 | H61: 12 | I61: =+ROUNDUP(G61*H61/1000,1) -> 360
A62: 32421300 | B62: ցանցային բաժանարար | C62: Ցանցային բաժանարար | D62: Ցանցային բաժանարար | E62: ՄԱ | F62: հատ | G62: 19500 | H62: 2 | I62: =+ROUNDUP(G62*H62/1000,1) -> 39
A63: 30197231 | B63: թղթապանակ, պոլիմերային թաղանթ, ֆայլ | C63: թղթապանակ, պոլիմերային թաղանթ, ֆայլ | D63: թղթապանակ, պոլիմերային թաղանթ, ֆայլ | E63: ԷԱՃ | F63: հատ | G63: 10 | H63: 5000 | I63: =+ROUNDUP(G63*H63/1000,1) -> 50
A64: 30197234 | B64: թղթապանակ, կոշտ կազմով | C64: թղթապանակ, կոշտ կազմով | D64: թղթապանակ, կոշտ կազմով | E64: ԷԱՃ | F64: հատ | G64: 1000 | H64: 200 | I64: =+ROUNDUP(G64*H64/1000,1) -> 200
A65: 30197322 | B65: կարիչ, 20-50 թերթի համար | C65: կարիչ, 20-50 թերթի համար | D65: կարիչ, 20-50 թերթի համար | E65: ԷԱՃ | F65: հատ | G65: 2000 | H65: 6 | I65: =+ROUNDUP(G65*H65/1000,1) -> 12
A66: 30197323 | B66: կարիչ, 50-ից ավելի թերթի համար | C66: կարիչ, 50-ից ավելի թերթի համար | D66: կարիչ, 50-ից ավելի թերթի համար | E66: ԷԱՃ | F66: հատ | G66: 3000 | H66: 6 | I66: =+ROUNDUP(G66*H66/1000,1) -> 18
A67: 30197622 | B67: թուղթ, A4 ֆորմատի | C67: թուղթ, A4 ֆորմատի | D67: թուղթ, A4 ֆորմատի | E67: ԷԱՃ | F67: կգ | G67: 1000 | H67: 425 | I67: =+ROUNDUP(G67*H67/1000,1) -> 425
A68: 30234500 | B68: ֆլեշ հիշողություն | C68: ֆլեշ հիշողություն | D68: ֆլեշ հիշողություն | E68: ՄԱ | F68: հատ | G68: 5000 | H68: 4 | I68: =+ROUNDUP(G68*H68/1000,1) -> 20
B69: ՄԱՍ III. ԾԱՌԱՅՈՒԹՅՈՒՆՆԵՐ | I69: =SUM(I70:I79) -> 352075
A70: 50311250 | B70: պատճենահանող սարքերի պահպանման ծառայություններ | C70: Պատճենահանող սարքերի պահպանման ծառայություններ | D70: Պատճենահանող սարքերի պահպանման ծառայություններ | E70: ԳՀ | F70: դրամ | G70: 425000 | H70: 1 | I70: =+ROUNDUP(G70*H70/1000,1) -> 425
A71: 66511180 | B71: շարժիչներով փոխադրամիջոցների ապահովագրման ծառայություններ | C71: Շարժիչներով փոխադրամիջոցների ապահովագրման ծառայություններ | D71: Շարժիչներով փոխադրամիջոցների ապահովագրման ծառայություններ | E71: ԳՀ | F71: դրամ | G71: 240000 | H71: 1 | I71: =+ROUNDUP(G71*H71/1000,1) -> 240
A72: 66511300 | B72: շարժիչներով փոխադրամիջոցների շահագործումից պատճառած վնասի հետեւանքով առաջացած պատասխանատվության ապահովագրման ծառայություններ | C72: Շարժիչներով փոխադրամիջոցների շահագործումից պատճառած վնասի հետեւանքով առաջացած պատասխանատվության ապահովագրման ծառայություններ | D72: Շարժիչներով փոխադրամիջոցների շահագործումից պատճառած վնասի հետեւանքով առաջացած պատասխանատվության ապահովագրման ծառայություններ | E72: ԳՀ | F72: դրամ | G72: 1760000 | H72: 1 | I72: =+ROUNDUP(G72*H72/1000,1) -> 1760
A73: 50111130 | B73: ավտոմեքենաների վերանորոգման ծառայություններ | C73: Ավտոմեքենաների վերանորոգման ծառայություններ | D73: Ավտոմեքենաների վերանորոգման ծառայություններ | E73: ԳՀ | F73: դրամ | G73: 2400000 | H73: 1 | I73: =+ROUNDUP(G73*H73/1000,1) -> 2400
A74: 66511120 | B74: առողջության ապահովագրման ծառայություններ | C74: Առողջության ապահովագրման ծառայություններ | D74: Առողջության ապահովագրման ծառայություններ | E74: ՀԲՄ | F74: դրամ | G74: 5250000 | H74: 1 | I74: =+ROUNDUP(G74*H74/1000,1) -> 5250
A75: 71911100 | B75: լաբորատորիական ծառայություններ | C75: լաբորատորիական ծառայություններ | D75: լաբորատորիական ծառայություններ | E75: ԳՀ | F75: դրամ | G75: 48000000 | H75: 1 | I75: =+ROUNDUP(G75*H75/1000,1) -> 48000
A76: 71911100 | B76: լաբորատորիական ծառայություններ | C76: լաբորատորիական ծառայություններ | D76: լաբորատորիական ծառայություններ | E76: ԳՀ | F76: դրամ | G76: 48000000 | H76: 1 | I76: =+ROUNDUP(G76*H76/1000,1) -> 48000
A77: 71911100 | B77: լաբորատորիական ծառայություններ | C77: լաբորատորիական ծառայություններ | D77: լաբորատորիական ծառայություններ | E77: ԳՀ | F77: դրամ | G77: 48000000 | H77: 1 | I77: =+ROUNDUP(G77*H77/1000,1) -> 48000
A78: 71911100 | B78: լաբորատորիական ծառայություններ | C78: լաբորատորիական ծառայություններ | D78: լաբորատորիական ծառայություններ | E78: ԳՀ | F78: դրամ | G78: 48000000 | H78: 1 | I78: =+ROUNDUP(G78*H78/1000,1) -> 48000
A79: 71621100 | B79: տեխնիկական վերլուծության և խորհրդատվության ծառայություններ | E79: ՀԲՄ | F79: դրամ | G79: 150000000 | H79: 1 | I79: =+ROUNDUP(G79*H79/1000,1) -> 150000
A80: 1236-31001 | B80: Հանրակրթական և նախադպրոցական հաստատությունների կառուցման, վերակառուցման, հիմնանորոգման ծրագրերի համակարգման շրջանակներում Հայաստանի տարածքային զարգացման հիմնադրամի կարողությունների զարգացում և տեխնիկական հագեցվածության ապահովում | I80: =+I81 -> 88820.6
B81: ՄԱՍ I. ԱՊՐԱՆՔՆԵՐ | I81: =SUM(I82:I124) -> 88820.6
A82: 30211300 | B82: համակարգչային սարքավորումներ | C82: համակարգչային սարքավորումներ | D82: համակարգչային սարքավորումներ | E82: ԷԱՃ | F82: լրակազմ | G82: 400000 | H82: 16 | I82: =+ROUNDUP(G82*H82/1000,1) -> 6400
A83: 30239150 | B83: տպիչ սարք, բազմաֆունկցիոնալ, A4, 35 էջ/րոպե արագության | C83: տպիչ սարք, բազմաֆունկցիոնալ, A4, 35 էջ/րոպե արագության | D83: տպիչ սարք, բազմաֆունկցիոնալ, A4, 35 էջ/րոպե արագության | E83: ԷԱՃ | F83: հատ | G83: 200000 | H83: 16 | I83: =+ROUNDUP(G83*H83/1000,1) -> 3200
A84: 30237112 | B84: սնուցման բլոկ | C84: սնուցման բլոկ | D84: սնուցման բլոկ | E84: ԷԱՃ | F84: հատ | G84: 35000 | H84: 16 | I84: =+ROUNDUP(G84*H84/1000,1) -> 560
A85: 48611400 | B85: տվյալների հավաքման համակարգեր | C85: տվյալների հավաքման համակարգեր | D85: տվյալների հավաքման համակարգեր | E85: ԷԱՃ | F85: հատ | G85: 3000000 | H85: 1 | I85: =+ROUNDUP(G85*H85/1000,1) -> 3000
A86: 30211200 | B86: դյուրակիր համակարգիչ | C86: դյուրակիր համակարգիչ | D86: դյուրակիր համակարգիչ | E86: ԷԱՃ | F86: հատ | G86: 350000 | H86: 4 | I86: =+ROUNDUP(G86*H86/1000,1) -> 1400
A87: 30216110 | B87: սկաներներ համակարգիչների համար | C87: Սկաներներ համակարգիչների համար | D87: Սկաներներ համակարգիչների համար | E87: ԷԱՃ | F87: հատ | G87: 400000 | H87: 2 | I87: =+ROUNDUP(G87*H87/1000,1) -> 800
A88: 39121100 | B88: գրասեղաններ | C88: գրասեղաններ | D88: գրասեղաններ | E88: ԷԱՃ | F88: հատ | G88: 50000 | H88: 16 | I88: =+ROUNDUP(G88*H88/1000,1) -> 800
A89: 39138310 | B89: բազկաթոռ, շարժական | C89: բազկաթոռ, շարժական | D89: բազկաթոռ, շարժական | E89: ԷԱՃ | F89: հատ | G89: 35000 | H89: 16 | I89: =+ROUNDUP(G89*H89/1000,1) -> 560
A90: 39111180 | B90: աթոռ` գրասենյակային | C90: աթոռ` գրասենյակային | D90: աթոռ` գրասենյակային | E90: ԷԱՃ | F90: հատ | G90: 20000 | H90: 32 | I90: =+ROUNDUP(G90*H90/1000,1) -> 640
A91: 39141120 | B91: դարակներով պահարաններ | C91: դարակներով պահարաններ | D91: դարակներով պահարաններ | E91: ԷԱՃ | F91: հատ | G91: 60000 | H91: 10 | I91: =+ROUNDUP(G91*H91/1000,1) -> 600
A92: 39121420 | B92: կցասեղան` պահարանիկով (դարակով) | C92: կցասեղան` պահարանիկով (դարակով) | D92: կցասեղան` պահարանիկով (դարակով) | E92: ԷԱՃ | F92: հատ | G92: 30000 | H92: 4 | I92: =+ROUNDUP(G92*H92/1000,1) -> 120
A93: 39714200 | B93: օդորակիչ | C93: Օդորակիչ | D93: Օդորակիչ | E93: ԷԱՃ | F93: հատ | G93: 160000 | H93: 4 | I93: =+ROUNDUP(G93*H93/1000,1) -> 640
... A96: 30234500 | B96: արտաքին հիշողության կրիչ | C96: Արտաքին հիշողության կրիչ | D96: Արտաքին հիշողության կրիչ | E96: ԷԱՃ | F96: հատ | G96: 30000 | H96: 8 | I96: =+ROUNDUP(G96*H96/1000,1) -> 240
A97: 38421160/504 | B97: չափման հսկողության սարքեր | C97: Չափման հսկողության սարքեր | D97: Չափման հսկողության սարքեր | E97: ԳՀ | F97: հատ | G97: 249160 | H97: 30 | I97: =+ROUNDUP(G97*H97/1000,1) -> 7474.8
A98: 38421160/505 | B98: չափման հսկողության սարքեր | C98: Չափման հսկողության սարքեր | D98: Չափման հսկողության սարքեր | E98: ԳՀ | F98: հատ | G98: 101700 | H98: 4 | I98: =+ROUNDUP(G98*H98/1000,1) -> 406.8
A99: 38421160/515 | B99: չափման հսկողության սարքեր | C99: Չափման հսկողության սարքեր | D99: Չափման հսկողության սարքեր | E99: ԳՀ | F99: հատ | G99: 258000 | H99: 3 | I99: =+ROUNDUP(G99*H99/1000,1) -> 774
A100: 38421160/521 | B100: չափման հսկողության սարքեր | C100: Չափման հսկողության սարքեր | D100: Չափման հսկողության սարքեր | E100: ԳՀ | F100: հատ | G100: 4860000 | H100: 4 | I100: =+ROUNDUP(G100*H100/1000,1) -> 19440
A101: 38421160/526 | B101: չափման հսկողության սարքեր | C101: Չափման հսկողության սարքեր | D101: Չափման հսկողության սարքեր | E101: ԳՀ | F101: հատ | G101: 760000 | H101: 6 | I101: =+ROUNDUP(G101*H101/1000,1) -> 4560
A102: 38421160 | B102: չափման հսկողության սարքեր | C102: Չափման հսկողության սարքեր | D102: Չափման հսկողության սարքեր | E102: ԳՀ | F102: հատ | G102: 5000 | H102: 30 | I102: =+ROUNDUP(G102*H102/1000,1) -> 150
A103: 38421160 | B103: չափման հսկողության սարքեր | C103: Չափման հսկողության սարքեր | D103: Չափման հսկողության սարքեր | E103: ԳՀ | F103: հատ | G103: 13000 | H103: 30 | I103: =+ROUNDUP(G103*H103/1000,1) -> 390
A104: 38421160 | B104: չափման հսկողության սարքեր | C104: Չափման հսկողության սարքեր | D104: Չափման հսկողության սարքեր | E104: ԳՀ | F104: հատ | G104: 45000 | H104: 5 | I104: =+ROUNDUP(G104*H104/1000,1) -> 225
A105: 38421160 | B105: չափման հսկողության սարքեր | C105: Չափման հսկողության սարքեր | D105: Չափման հսկողության սարքեր | E105: ԳՀ | F105: հատ | G105: 60000 | H105: 30 | I105: =+ROUNDUP(G105*H105/1000,1) -> 1800
A106: 38421160 | B106: չափման հսկողության սարքեր | C106: Չափման հսկողության սարքեր | D106: Չափման հսկողության սարքեր | E106: ԳՀ | F106: հատ | G106: 25000 | H106: 5 | I106: =+ROUNDUP(G106*H106/1000,1) -> 125
A107: 38421160 | B107: չափման հսկողության սարքեր | C107: Չափման հսկողության սարքեր | D107: Չափման հսկողության սարքեր | E107: ԳՀ | F107: հատ | G107: 18000 | H107: 5 | I107: =+ROUNDUP(G107*H107/1000,1) -> 90
A108: 38421160 | B108: չափման հսկողության սարքեր | C108: Չափման հսկողության սարքեր | D108: Չափման հսկողության սարքեր | E108: ԳՀ | F108: հատ | G108: 10000 | H108: 10 | I108: =+ROUNDUP(G108*H108/1000,1) -> 100
A109: 38421160 | B109: չափման հսկողության սարքեր | C109: Չափման հսկողության սարքեր | D109: Չափման հսկողության սարքեր | E109: ԳՀ | F109: հատ | G109: 270000 | H109: 3 | I109: =+ROUNDUP(G109*H109/1000,1) -> 810
A110: 38421160 | B110: չափման հսկողության սարքեր | C110: Չափման հսկողության սարքեր | D110: Չափման հսկողության սարքեր | E110: ԳՀ | F110: հատ | G110: 90000 | H110: 3 | I110: =+ROUNDUP(G110*H110/1000,1) -> 270
A111: 38421160 | B111: չափման հսկողության սարքեր | C111: Չափման հսկողության սարքեր | D111: Չափման հսկողության սարքեր | E111: ԳՀ | F111: հատ | G111: 650000 | H111: 5 | I111: =+ROUNDUP(G111*H111/1000,1) -> 3250
A112: 38421160 | B112: չափման հսկողության սարքեր | C112: Չափման հսկողության սարքեր | D112: Չափման հսկողության սարքեր | E112: ԳՀ | F112: հատ | G112: 400000 | H112: 3 | I112: =+ROUNDUP(G112*H112/1000,1) -> 1200
A113: 38421160 | B113: չափման հսկողության սարքեր | C113: Չափման հսկողության սարքեր | D113: Չափման հսկողության սարքեր | E113: ԳՀ | F113: հատ | G113: 25000 | H113: 3 | I113: =+ROUNDUP(G113*H113/1000,1) -> 75
... A124: 38111130 | B124: նավիգացիայի և տեղանքի որոշման գլոբալ համակարգեր (gps կամ համարժեք) | C124: Չափման հսկողության սարքեր | D124: Չափման հսկողության սարքեր | E124: ԷԱՃ | F124: հատ | G124: 65000 | H124: 40 | I124: =+ROUNDUP(G124*H124/1000,1) -> 2600

Sheet Հավելված N 8
F1: Հավելված N 8
I2: ՀՀ կառավարության 2025 թվականի
I3: ______________ ի ___Ն որոշման
A6: ՀԱՅԱՍՏԱՆԻ ՀԱՆՐԱՊԵՏՈՒԹՅԱՆ 2025 ԹՎԱԿԱՆԻ ՊԵՏԱԿԱՆ ԲՅՈՒՋԵՈՎ ՆԱԽԱՏԵՍՎԱԾ՝ ՀԱՅԱՍՏԱՆԻ ՀԱՆՐԱՊԵՏՈՒԹՅԱՆ ԿԱՌԱՎԱՐՈՒԹՅԱՆ ՊԱՀՈՒՍՏԱՅԻՆ ՖՈՆԴԻՑ ՀԱՏԿԱՑՈՒՄՆԵՐ ԿԱՏԱՐԵԼՈՒ ՎԵՐԱԲԵՐՅԱԼ
A9: Գործառական դասիչը | D9: Ծրագրային դասիչը | F9: Բյուջետային հատկացումների գլխավոր կարգադրիչների, ծրագրերի, միջոցառումների և միջոցառումները կատարող պետական մարմինների անվանումները | G9: Ցուցանիշների փոփոխությունը (ավելացումները նշված են դրական նշանով, իսկ նվազեցումները` փակագծերում)
A10: Բաժին | B10: Խումբ | C10: Դաս | D10: Ծրագիր | E10: Միջոցառում | G10: Առաջին կիսամյակ | H10: Ինն ամիս | I10: Տարի
F11: ԸՆԴԱՄԵՆԸ | G11: =+G13+G33 -> 0 | H11: =+H13+H33 -> 0 | I11: =+I13+I33 -> 0
F12: այդ թվում
F13: ՀՀ ԿԱՌԱՎԱՐՈՒԹՅՈՒՆ | G13: =+G14 -> -96609.6 | H13: =+H14 -> -96609.6 | I13: =+I14 -> -96609.6
A14: 11 | F14: ՀԻՄՆԱԿԱՆ ԲԱԺԻՆՆԵՐԻՆ ՉԴԱՍՎՈՂ ՊԱՀՈՒՍՏԱՅԻՆ ՖՈՆԴԵՐ | G14: =+G16 -> -96609.6 | H14: =+H16 -> -96609.6 | I14: =+I16 -> -96609.6
F15: այդ թվում`
B16: 01 | F16: ՀՀ կառավարության և համայնքների պահուստային ֆոնդ | G16: =+G18 -> -96609.6 | H16: =+H18 -> -96609.6 | I16: =+I18 -> -96609.6
F17: այդ թվում`
C18: 01 | F18: ՀՀ կառավարության պահուստային ֆոնդ | G18: =+G20 -> -96609.6 | H18: =+H20 -> -96609.6 | I18: =+I20 -> -96609.6
F19: այդ թվում`
F20: ՀՀ կառավարություն | G20: =+G22 -> -96609.6 | H20: =+H22 -> -96609.6 | I20: =+I22 -> -96609.6
F21: այդ թվում`
D22: 1139 | E22: ՀՀ կառավարության պահուստային ֆոնդ | F22: ՀՀ կառավարության պահուստային ֆոնդ | G22: =+G24 -> -96609.6 | H22: =+H24 -> -96609.6 | I22: =+I24 -> -96609.6
F23: այդ թվում`
E24: 11001 | F24: ՀՀ կառավարության պահուստային ֆոնդ | G24: =+G26 -> -96609.6 | H24: =+H26 -> -96609.6 | I24: =+I26 -> -96609.6
F25: այդ թվում` ըստ կատարողների
F26: ՀՀ կառավարություն | G26: =+G28 -> -96609.6 | H26: =+H28 -> -96609.6 | I26: =+I28 -> -96609.6
F27: այդ թվում՝ բյուջետային ծախսերի տնտեսագիտական դասակարգման հոդվածներ
F28: ԸՆԴԱՄԵՆԸ ԾԱԽՍԵՐ | G28: =+G29 -> -96609.6 | H28: =+H29 -> -96609.6 | I28: =+I29 -> -96609.6
F29: ԸՆԹԱՑԻԿ ԾԱԽՍԵՐ | G29: =+G30 -> -96609.6 | H29: =+H30 -> -96609.6 | I29: =+I30 -> -96609.6
F30: ԱՅԼ ԾԱԽՍԵՐ | G30: =+G31 -> -96609.6 | H30: =+H31 -> -96609.6 | I30: =+I31 -> -96609.6
F31: - Պահուստային միջոցներ | G31: =+'Հավելված N 2'!G142 -> -96609.6 | H31: =+'Հավելված N 2'!H142 -> -96609.6 | I31: =+'Հավելված N 2'!I142 -> -96609.6
F33: ՀՀ ԿՐԹՈՒԹՅԱՆ, ԳԻՏՈՒԹՅԱՆ, ՄՇԱԿՈՒՅԹԻ ԵՎ ՍՊՈՐՏԻ ՆԱԽԱՐԱՐՈՒԹՅՈՒՆ | G33: =+G34+G53 -> 96609.6 | H33: =+H34+H53 -> 96609.6 | I33: =+I34+I53 -> 96609.6
A34: 08 | F34: ՀԱՆԳԻՍՏ, ՄՇԱԿՈՒՅԹ ԵՎ ԿՐՈՆ | G34: 7789 | H34: 7789 | I34: 7789
F35: այդ թվում`
B36: 02 | F36: Մշակութային ծառայություններ | G36: 7789 | H36: 7789 | I36: 7789
F37: այդ թվում`
C38: 03 | F38: Մշակույթի տներ, ակումբներ, կենտրոններ | G38: 7789 | H38: 7789 | I38: 7789
F39: այդ թվում`
F40: ՀՀ կրթության, գիտության, մշակույթի և սպորտի նախարարություն | G40: 7789 | H40: 7789 | I40: 7789
F41: այդ թվում`
D42: 1196 | E42: Մարզերի մշակութային զարգացման ծրագիր | G42: 7789 | H42: 7789 | I42: 7789
F43: այդ թվում`
E44: 12003 | F44: Մշակութային կենտրոնների գույքային հագեցվածության բարելավում | G44: 7789 | H44: 7789 | I44: 7789
F45: այդ թվում` ըստ կատարողների
F46: ՀՀ կրթության, գիտության, մշակույթի և սպորտի նախարարություն | G46: 7789 | H46: 7789 | I46: 7789
F47: այդ թվում՝ բյուջետային ծախսերի տնտեսագիտական դասակարգման հոդվածներ
F48: ԸՆԴԱՄԵՆԸ ԾԱԽՍԵՐ | G48: 7789 | H48: 7789 | I48: 7789
F49: ՈՉ ՖԻՆԱՆՍԱԿԱՆ ԱԿՏԻՎՆԵՐԻ ԳԾՈՎ ԾԱԽՍԵՐ | G49: 7789 | H49: 7789 | I49: 7789
F50: ՀԻՄՆԱԿԱՆ ՄԻՋՈՑՆԵՐ | G50: 7789 | H50: 7789 | I50: 7789
F51: ՄԵՔԵՆԱՆԵՐ ԵՎ ՍԱՐՔԱՎՈՐՈՒՄՆԵՐ | G51: 7789 | H51: 7789 | I51: 7789
F52: - Այլ մեքենաներ և սարքավորումներ | G52: =+'Հավելված N 2'!G51 -> 7789 | H52: =+'Հավելված N 2'!H51 -> 7789 | I52: =+'Հավելված N 2'!I51 -> 7789
A53: 09 | F53: ԿՐԹՈՒԹՅՈՒՆ | G53: =+G55 -> 88820.6 | H53: =+H55 -> 88820.6 | I53: =+I55 -> 88820.6
F54: այդ թվում`
B55: 02 | F55: Միջնակարգ ընդհանուր կրթություն | G55: =+G57 -> 88820.6 | H55: =+H57 -> 88820.6 | I55: =+I57 -> 88820.6
F56: այդ թվում`
C57: 01 | F57: Հիմնական ընդհանուր կրթություն | G57: =+G59 -> 88820.6 | H57: =+H59 -> 88820.6 | I57: =+I59 -> 88820.6
F58: այդ թվում`
F59: ՀՀ կրթության, գիտության, մշակույթի և սպորտի նախարարություն | G59: =+G61 -> 88820.6 | H59: =+H61 -> 88820.6 | I59: =+I61 -> 88820.6
F60: այդ թվում`
D61: 1236 | E61: Հանրակրթական և նախադպրոցական հաստատությունների հիմնում, կառուցում, բարելավում | G61: =+G63 -> 88820.6 | H61: =+H63 -> 88820.6 | I61: =+I63 -> 88820.6
F62: այդ թվում`
E63: 31001 | F63: Հանրակրթական և նախադպրոցական հաստատությունների կառուցման, վերակառուցման, հիմնանորոգման ծրագրերի համակարգման շրջանակներում Հայաստանի տարածքային զարգացման հիմնադրամի կարողությունների զարգացում և տեխնիկական հագեցվածության ապահովում | G63: =+G65 -> 88820.6 | H63: =+H65 -> 88820.6 | I63: =+I65 -> 88820.6
F64: այդ թվում` ըստ կատարողների
F65: ՀՀ կրթության, գիտության, մշակույթի և սպորտի նախարարություն | G65: =+G67 -> 88820.6 | H65: =+H67 -> 88820.6 | I65: =+I67 -> 88820.6
F66: այդ թվում՝ բյուջետային ծախսերի տնտեսագիտական դասակարգման հոդվածներ
F67: ԸՆԴԱՄԵՆԸ ԾԱԽՍԵՐ | G67: =+G68 -> 88820.6 | H67: =+H68 -> 88820.6 | I67: =+I68 -> 88820.6
F68: ՈՉ ՖԻՆԱՆՍԱԿԱՆ ԱԿՏԻՎՆԵՐԻ ԳԾՈՎ ԾԱԽՍԵՐ | G68: =+G69 -> 88820.6 | H68: =+H69 -> 88820.6 | I68: =+I69 -> 88820.6
F69: ՀԻՄՆԱԿԱՆ ՄԻՋՈՑՆԵՐ | G69: =+G70 -> 88820.6 | H69: =+H70 -> 88820.6 | I69: =+I70 -> 88820.6
F70: ՄԵՔԵՆԱՆԵՐ ԵՎ ՍԱՐՔԱՎՈՐՈՒՄՆԵՐ | G70: =+G71 -> 88820.6 | H70: =+H71 -> 88820.6 | I70: =+I71 -> 88820.6
F71: - Վարչական սարքավորումներ | G71: =+'Հավելված N 2'!G114 -> 88820.6 | H71: =+'Հավելված N 2'!H114 -> 88820.6 | I71: =+'Հավելված N 2'!I114 -> 88820.6
