Workbook
Name _tab10: #REF!
Name _tab11: #REF!
Name _tab12: #REF!
Name _tab13: #REF!
Name _tab14: #REF!
Name _tab15: #REF!
Name _tab16: #REF!
Name _tab17: #REF!
Name _tab18: #REF!
Name _tab19: #REF!
Name _tab20: #REF!
Name _tab21: #REF!
Name _tab22: #REF!
Name _tab23: #REF!
Name _tab24: #REF!
Name _tab5: #REF!
Name _tab6: #REF!
Name _tab7: #REF!
Name _tab8: #REF!
Name _tab9: #REF!
Name AgencyCode: #REF!
Name AgencyName: #REF!
Name åû: #REF!
Name davit: #REF!
Name Functional1: #REF!
Name ggg: #REF!
Name mas: #REF!
Name mass: #REF!
Name PANature: #REF!
Name par_count: #REF!,#REF!,#REF!,#REF!,#REF!,#REF!,#REF!,#REF!,#REF!,#REF!,#REF!,#REF!,#REF!,#REF!,#REF!
Name par_qual: #REF!,#REF!,#REF!,#REF!,#REF!
Name par_time: #REF!,#REF!,#REF!,#REF!
Name par2.12s: #REF!
Name par2.4s: #REF!,#REF!,#REF!,#REF!,#REF!,#REF!,#REF!,#REF!,#REF!,#REF!,#REF!,#REF!,#REF!,#REF!,#REF!,#REF!
Name par2.5s: #REF!,#REF!
Name par2.6s: #REF!,#REF!,#REF!,#REF!
Name par2.7s: #REF!,#REF!
Name par2.9s: #REF!,#REF!,#REF!,#REF!,#REF!,#REF!,#REF!,#REF!,#REF!,#REF!,#REF!,#REF!,#REF!,#REF!,#REF!,#REF!
Name par4.10s: #REF!,#REF!
Name par4.11d: #REF!,#REF!,#REF!,#REF!,#REF!
Name par4.12d: #REF!
Name par4.13s: #REF!
Name par4.14: #REF!,#REF!,#REF!,#REF!,#REF!,#REF!
Name par4.15: #REF!,#REF!,#REF!
Name par4.16: #REF!,#REF!,#REF!
Name par4.17: #REF!,#REF!,#REF!,#REF!
Name par4.18d: #REF!,#REF!
Name par4.19s: #REF!
Name par4.20f: #REF!
Name par4.21f: #REF!
Name par4.22: #REF!
Name par4.4: #REF!
Name par4.5: #REF!
Name par4.6s: #REF!
Name par4.7s: #REF!
Name par4.8: #REF!,#REF!,#REF!,#REF!,#REF!
Name par4.9: #REF!,#REF!,#REF!,#REF!,#REF!,#REF!
Name par5.1: #REF!,#REF!
Name par5.3: #REF!,#REF!,#REF!,#REF!,#REF!,#REF!
Name par5.4: #REF!,#REF!,#REF!,#REF!,#REF!

Sheet 1
B1: Հավելված N 1
B2: ՀՀ կառավարության 2025 թվականի
B3: N որոշման
A5: «ՀԱՅԱՍՏԱՆԻ ՀԱՆՐԱՊԵՏՈՒԹՅԱՆ 2025 ԹՎԱԿԱՆԻ ՊԵՏԱԿԱՆ ԲՅՈՒՋԵԻ ՄԱՍԻՆ» ՕՐԵՆՔԻ 2-ՐԴ ՀՈԴՎԱԾԻ ԱՂՅՈՒՍԱԿՈՒՄ ԿԱՏԱՐՎՈՂ ՓՈՓՈԽՈՒԹՅՈՒՆՆԵՐԸ
B7: հազար դրամներով
B8: Ցուցանիշների փոփոխությունը (նվազեցումները նշված են փակագծերում)
A9: Եկամուտների գծով | B9: 0
A10: Ծախսերի գծով | B10: -866493.7
A11: Դեֆիցիտը (պակասուրդը) | B11: =+'2'!D8 -> -866493.7

Sheet 2
A1: Հավելված N 2 ՀՀ կառավարության 2025 թվականի -ի N -Ն որոշման
A3: «ՀԱՅԱՍՏԱՆԻ ՀԱՆՐԱՊԵՏՈՒԹՅԱՆ 2025 ԹՎԱԿԱՆԻ ՊԵՏԱԿԱՆ ԲՅՈՒՋԵԻ ՄԱՍԻՆ» ՀԱՅԱՍՏԱՆԻ ՀԱՆՐԱՊԵՏՈՒԹՅԱՆ ՕՐԵՆՔԻ N 3 ՀԱՎԵԼՎԱԾԻ N 1 ԱՂՅՈՒՍԱԿՈՒՄ ԵՎ ՀԱՅԱՍՏԱՆԻ ՀԱՆՐԱՊԵՏՈՒԹՅԱՆ ԿԱՌԱՎԱՐՈՒԹՅԱՆ 2024 ԹՎԱԿԱՆԻ ԴԵԿՏԵՄԲԵՐԻ 27-Ի N 2060-Ն ՈՐՈՇՄԱՆ N 1 ՀԱՎԵԼՎԱԾԻ N 1 ԱՂՅՈՒՍԱԿՈՒՄ ԿԱՏԱՐՎՈՂ ՓՈՓՈԽՈՒԹՅՈՒՆԸ
D5: հազար դրամներով
A6: Պետական բյուջեի դեֆիցիտի ֆինանսավորման աղբյուրներն ու դրանց տարրերի անվանումները | B6: Ցուցանիշների փոփոխությունը (ավելացումները նշված են դրական նշանով, իսկ նվազեցումները՝ փակագծերում)
B7: Առաջին կիսամյակ | C7: Ինն ամիս | D7: Տարի
A8: ԸՆԴԱՄԵՆԸ | B8: =+B10 -> -866493.7 | C8: =+C10 -> -866493.7 | D8: =+D10 -> -866493.7
A9: այդ թվում՝
A10: Ա.Ներքին աղբյուրներ-ընդամենը | B10: =B12 -> -866493.7 | C10: =C12 -> -866493.7 | D10: =+D12 -> -866493.7
A11: այդ թվում՝
A12: 2. Ֆինանսական զուտ ակտիվներ | B12: =B15 -> -866493.7 | C12: =C15 -> -866493.7 | D12: =+D14+D15+D18 -> -866493.7
A13: այդ թվում՝
A14: 2.3. Ելքերի ֆինանսավորմանն ուղղվող պետական բյուջեի տարեսկզբի ազատ մնացորդի միջոցներ | B14: 0 | C14: 0 | D14: -866493.7
A15: 2.4. Վարկերի և փոխատվությունների տրամադրում | B15: =+B17 -> -866493.7 | C15: =+C17 -> -866493.7 | D15: =+D17 -> -866493.7
A16: որից
A17: Բյուջետային վարկերի տրամադրում տնտեսվարող սուբյեկտներին | B17: -866493.7 | C17: -866493.7 | D17: -866493.7
A18: 2.5. Տրամադրված վարկերի և փոխատվությունների վերադարձից մուտքեր | D18: 866493.7
A19: «Հայփոստ» ՓԲԸ | D19: 866493.7

Sheet 3
A1: Հավելված N 3 ՀՀ կառավարության 2025 թվականի -ի N -Ն որոշման
A2: «ՀԱՅԱՍՏԱՆԻ ՀԱՆՐԱՊԵՏՈՒԹՅԱՆ 2025 ԹՎԱԿԱՆԻ ՊԵՏԱԿԱՆ ԲՅՈՒՋԵԻ ՄԱՍԻՆ» ՀԱՅԱՍՏԱՆԻ ՀԱՆՐԱՊԵՏՈՒԹՅԱՆ ՕՐԵՆՔԻ N 3 ՀԱՎԵԼՎԱԾԻ N 1.1 ԱՂՅՈՒՍԱԿՈՒՄ ԵՎ ՀԱՅԱՍՏԱՆԻ ՀԱՆՐԱՊԵՏՈՒԹՅԱՆ ԿԱՌԱՎԱՐՈՒԹՅԱՆ 2024 ԹՎԱԿԱՆԻ ԴԵԿՏԵՄԲԵՐԻ 27-Ի N 2060-Ն N 1 ՀԱՎԵԼՎԱԾԻ N 2 ԱՂՅՈՒՍԱԿՈՒՄ ԿԱՏԱՐՎՈՂ ԼՐԱՑՈՒՄՆԵՐԸ
I3: հազար դրամներով
A5: ԲԳԿ | B5: Ծրագրային դասիչը | D5: ԲԳԿ/Ծրագրի /միջոցառման անվանումը | E5: Ծրագրի նպատակը/Միջոցառման նկարագրությունը | F5: Վերջնական արդյունքի նկարագրությունը/Միջոցառման տեսակը | G5: Ցուցանիշների փոփոխությունը (ավելացումները նշված են դրական նշանով)
B6: Ծրագիր | C6: Միջոցառում
G7: Առաջին կիսամյակ | H7: Ինն ամիս | I7: Տարի
A8: ԸՆԴԱՄԵՆԸ | G8: =SUM(G10) -> 866493.7 | H8: =SUM(H10) -> 866493.7 | I8: =SUM(I10) -> 866493.7
A9: ՀՀ բարձր տեխնոլոգիական արդյունաբերության նախարություն
B10: 1100 | D10: Բարձր տեխնոլոգիական արդյունաբերության բնագավառում պետական քաղաքականության մշակում, ծրագրերի համակարգում և մոնիտորինգ | E10: Բարձր տեխնոլոգիական ոլորտում պետական քաղաքականության մշակում, ծրագրերի համակարգում | F10: Բարձր տեխնոլոգիական արդյունաբերության բնագավառում իրականացվող ծրագրերի ազդեցության և արդյունավետության բարելավում | G10: =SUM(G11) -> 866493.7 | H10: =SUM(H11) -> 866493.7 | I10: =SUM(I11) -> 866493.7
C11: 1100-42001 | D11: «Հայփոստ» ՓԲԸ-ին շահութահարկի գծով հարկային պարտավորությունը մարելու նպատակով տրամադրվող բյուջետային վարկ | E11: «Հայփոստ» ՓԲԸ-ին բյուջետային վարկի տրամադրում | F11: Վարկերի տրամադրում | G11: 866493.7 | H11: 866493.7 | I11: 866493.7

Sheet 4
A1: Հավելված N 4 ՀՀ կառավարության 2025 թվականի -ի N -Ն որոշման
A2: «ՀԱՅԱՍՏԱՆԻ ՀԱՆՐԱՊԵՏՈՒԹՅԱՆ 2025 ԹՎԱԿԱՆԻ ՊԵՏԱԿԱՆ ԲՅՈՒՋԵԻ ՄԱՍԻՆ» ՀԱՅԱՍՏԱՆԻ ՀԱՆՐԱՊԵՏՈՒԹՅԱՆ ՕՐԵՆՔԻ N 3 ՀԱՎԵԼՎԱԾՈՒՄ N 1.1.1 ԱՂՅՈՒՍԱԿԻ ԵՎ ՀԱՅԱՍՏԱՆԻ ՀԱՆՐԱՊԵՏՈՒԹՅԱՆ ԿԱՌԱՎԱՐՈՒԹՅԱՆ 2024 ԹՎԱԿԱՆԻ ԴԵԿՏԵՄԲԵՐԻ 27-Ի N 2060-Ն ՈՐՈՇՄԱՆ N 1 ՀԱՎԵԼՎԱԾՈՒՄ N 4 ԱՂՅՈՒՍԱԿԻ ԼՐԱՑՈՒՄՆԵՐԸ
F3: հազար դրամներով
A4: Ծրագրային դասիչ | C4: Պետական բյուջեի դեֆիցիտի ֆինանսավորման աղբյուրներն ու դրանց տարրերի անվանումները | D4: Ցուցանիշների փոփոխությունը (ավելացումները նշված են դրական նշանով)
D5: Առաջին կիսամյակ | E5: Ինն ամիս | F5: Տարի
A6: Ծրագիր | B6: Միջոցառում | C6: ԸՆԴԱՄԵՆԸ | D6: =SUM(D7) -> 866493.7 | E6: =SUM(E7) -> 866493.7 | F6: =SUM(F7) -> 866493.7
A7: 1100 | C7: Բարձր տեխնոլոգիական արդյունաբերության բնագավառում պետական քաղաքականության մշակում, ծրագրերի համակարգում և մոնիտորինգ | D7: =+D8 -> 866493.7 | E7: =+E8 -> 866493.7 | F7: =+F8 -> 866493.7
B8: 42001 | C8: «Հայփոստ» ՓԲԸ-ին շահութահարկի գծով հարկային պարտավորությունը մարելու նպատակով տրամադրվող բյուջետային վարկ | D8: =+D12 -> 866493.7 | E8: =+E12 -> 866493.7 | F8: =+F12 -> 866493.7
C9: այդ թվում՝ ըստ կատարողների
C10: ՀՀ բարձր տեխնոլոգիական արդյունաբերության նախարարություն | D10: =+D8 -> 866493.7 | E10: =+E8 -> 866493.7 | F10: =+F8 -> 866493.7
C11: այդ թվում՝ ըստ տնտեսագիտական դասակարգման հոդվածների՝
C12: ՀԻՄՆԱԿԱՆ ԳՈՒՄԱՐԻ ՄԱՐՄԱՆ ԵՎ ՖԻՆԱՆՍԱԿԱՆ ԱԿՏԻՎՆԵՐԻ ՁԵՌՔԲԵՐՄԱՆ ԳԾՈՎ ԾԱԽՍԵՐ, այդ թվում` | D12: =+D13 -> 866493.7 | E12: =+E13 -> 866493.7 | F12: =+F13 -> 866493.7
C13: ՖԻՆԱՆՍԱԿԱՆ ԱԿՏԻՎՆԵՐԻ ՁԵՌՔԲԵՐՈՒՄ, այդ թվում | D13: =+D14 -> 866493.7 | E13: =+E14 -> 866493.7 | F13: =+F14 -> 866493.7
C14: ՆԵՐՔԻՆ ՖԻՆԱՆՍԱԿԱՆ ԱԿՏԻՎՆԵՐԻ ՁԵՌՔԲԵՐՈՒՄ, այդ թվում` | D14: =+D15 -> 866493.7 | E14: =+E15 -> 866493.7 | F14: =+F15 -> 866493.7
C15: Վարկերի և փոխատվությունների տրամադրում | D15: 866493.7 | E15: 866493.7 | F15: 866493.7

Sheet 5
A1: Հավելված N 5 ՀՀ կառավարության 2025 թվականի -ի N -Ն որոշման
A2: «ՀԱՅԱՍՏԱՆԻ ՀԱՆՐԱՊԵՏՈՒԹՅԱՆ 2025 ԹՎԱԿԱՆԻ ՊԵՏԱԿԱՆ ԲՅՈՒՋԵԻ ՄԱՍԻՆ» ՀԱՅԱՍՏԱՆԻ ՀԱՆՐԱՊԵՏՈՒԹՅԱՆ ՕՐԵՆՔԻ N 3 ՀԱՎԵԼՎԱԾՈՒՄ N 1.1.1.1 ԱՂՅՈՒՍԱԿԻ ԵՎ ՀԱՅԱՍՏԱՆԻ ՀԱՆՐԱՊԵՏՈՒԹՅԱՆ ԿԱՌԱՎԱՐՈՒԹՅԱՆ 2024 ԹՎԱԿԱՆԻ ԴԵԿՏԵՄԲԵՐԻ 27-Ի N 2060-Ն ՈՐՈՇՄԱՆ N 1 ՀԱՎԵԼՎԱԾՈՒՄ N 5 ԱՂՅՈՒՍԱԿԻ ԼՐԱՑՈՒՄՆԵՐԸ
L4: Հազար դրամներով
A5: ԲԳԿ | B5: Ծրագիր | D5: Միջոցառում | H5: Իրականացնողը/ակտիվն օգտագործողը/ շահառուի ընտրության չափորոշիչը | I5: Արդյունքային չափորոշիչը | J5: Ցուցանիշների փոփոխությունը (ավելացումները նշված են դրական նշանով)
B6: Դասիչը | C6: Անվանումը | D6: Դասիչը | E6: Անվանումը | F6: Նկարագրու-թյունը | G6: Տեսակը | J6: Առաջին կիսամյակ | K6: Ինն ամիս | L6: Տարի
A7: ԸՆԴԱՄԵՆԸ | J7: =+J9+J22+J63+J80 -> 866493.7 | K7: =+K9+K22+K63+K80 -> 866493.7 | L7: =+L9+L22+L63+L80 -> 866493.7
A8: ՀՀ բարձր տեխնոլոգիական արդյունաբերության նախարարություն | J8: =+J9+J22 -> 866493.7 | K8: =+K9+K22 -> 866493.7 | L8: =+L9+L22 -> 866493.7
B9: 1100 | C9: Բարձր տեխնոլոգիական արդյունաբերության բնագավառում պետական քաղաքականության մշակում, ծրագրերի համակարգում և մոնիտորինգ | J9: =+J10+J15 -> 866493.7 | K9: =+K10+K15 -> 866493.7 | L9: =+L10+L15 -> 866493.7
D10: 1100-42001 | E10: «Հայփոստ» ՓԲԸ-ին շահութահարկի գծով հարկային պարտավորությունը մարելու նպատակով տրամադրվող բյուջետային վարկ | J10: 866493.7 | K10: 866493.7 | L10: 866493.7
F11: «Հայփոստ» ՓԲԸ-ին բյուջետային վարկի տրամադրում
G12: վարկերի տրամադրում
H13: միջոցառումը իրականացնողի անվանումը` մասնագիտացված միավոր
H14: Կնքվող պայմանագրերի քանակը | J14: 1 | L14: 1

Sheet 6
A1: Հավելված N 6 ՀՀ կառավարության 2025 թվականի -ի N -Ն որոշման
A3: «ՀԱՅԱՍՏԱՆԻ ՀԱՆՐԱՊԵՏՈՒԹՅԱՆ 2025 ԹՎԱԿԱՆԻ ՊԵՏԱԿԱՆ ԲՅՈՒՋԵԻ ՄԱՍԻՆ» ՀԱՅԱՍՏԱՆԻ ՀԱՆՐԱՊԵՏՈՒԹՅԱՆ ՕՐԵՆՔԻ N 1 ՀԱՎԵԼՎԱԾԻ N 2 ԱՂՅՈՒՍԱԿՈՒՄ ԵՎ ՀԱՅԱՍՏԱՆԻ ՀԱՆՐԱՊԵՏՈՒԹՅԱՆ ԿԱՌԱՎԱՐՈՒԹՅԱՆ 2024 ԹՎԱԿԱՆԻ ԴԵԿՏԵՄԲԵՐԻ 27-Ի N 2060-Ն ՈՐՈՇՄԱՆ N 5 ՀԱՎԵԼՎԱԾԻ N 1 ԱՂՅՈՒՍԱԿՈՒՄ ԿԱՏԱՐՎՈՂ ՓՈՓՈԽՈՒԹՅՈՒՆՆԸ
I4: հազար դրամներով
A5: ԲԳԿ | B5: Ծրագրային դասիչը | D5: ԲԳԿ/Ծրագրի /միջոցառման անվանումը | E5: Ծրագրի նպատակը/Միջոցառման նկարագրությունը | F5: Վերջնական արդյունքի նկարագրությունը/Միջոցառման տեսակը | G5: Ցուցանիշների փոփոխությունը (նվազեցումները նշված են փակագծերում)
B6: Ծրագիր | C6: Միջոցառում
G7: Առաջին կիսամյակ | H7: Ինն ամիս | I7: Տարի
A8: ՀՀ բարձր տեխնոլոգիական արդյունաբերության նախարարություն | G8: =SUM(G9) -> -866493.7 | H8: =SUM(H9) -> -866493.7 | I8: =SUM(I9) -> -866493.7
B9: 1043 | D9: Բարձր տեխնոլոգիական արդյունաբերության էկոհամակարգի և շուկայի զարգացման ծրագիր | E9: Բարձր տեխնոլոգիաների ենթակառուցվածքների բարելավում | F9: Բարձր տեխնոլոգիաների ոլորտի աճ | G9: =SUM(G10) -> -866493.7 | H9: =SUM(H10) -> -866493.7 | I9: =SUM(I10) -> -866493.7
C10: 1043 - 11018 | D10: Պետական աջակցություն տեղեկատվական տեխնոլոգիաների ոլորտում գործունեություն իրականացնող առևտրային կազմակերպություններին և անհատ ձեռնարկատերերին | E10: Տեղեկատվական տեխնոլոգիաների ոլորտում գործունեություն իրականացնող առևտրային կազմակերպություններին և անհատ ձեռնարկատերերին պետական աջակցության տրամադրում | F10: Ծառայությունների մատուցում | G10: =+'7'!G25 -> -866493.7 | H10: =+'7'!H25 -> -866493.7 | I10: =+'7'!I25 -> -866493.7

Sheet 7
A1: Հավելված N 7 ՀՀ կառավարության 2025 թվականի -ի N -Ն որոշման
A3: ՀԱՅԱՍՏԱՆԻ ՀԱՆՐԱՊԵՏՈՒԹՅԱՆ ԿԱՌԱՎԱՐՈՒԹՅԱՆ 2025 ԹՎԱԿԱՆԻ ԴԵԿՏԵՄԲԵՐԻ 27-Ի N2 060-Ն ՈՐՈՇՄԱՆ N 3 ԵՎ 4 ՀԱՎԵԼՎԱԾՆԵՐՈՒՄ ԿԱՏԱՐՎՈՂ ՓՈՓՈԽՈՒԹՅՈՒՆԸ
I4: հազար դրամներով
A5: Գործառական դասիչը | D5: Ծրագրային դասիչը | F5: Բյուջետային ծախսերի գործառական դասակարգման բաժինների, խմբերի և դասերի, բյուջետային ծրագրերի միջոցառումների, բյուջետային հատկացումների գլխավոր կարգադրիչների անվանումները | G5: Ցուցանիշների փոփոխությունը (նվազեցումները նշված են փակագծերում)
A6: Բաժին | B6: Խումբ | C6: Դաս | D6: Ծրագիր | E6: Միջոցառում | G6: Առաջին կիսամյակ | H6: Ինն ամիս | I6: Տարի
F7: ԸՆԴԱՄԵՆԸ ԾԱԽՍԵՐ | G7: =+G8 -> -866493.7 | H7: =+H8 -> -866493.7 | I7: =+I8 -> -866493.7
F8: ՀՀ ԲԱՐՁՐ ՏԵԽՆՈԼՈԳԻԱԿԱՆ ԱՐԴՅՈՒՆԱԲԵՐՈՒԹՅԱՆ ՆԱԽԱՐԱՐՈՒԹՅՈՒՆ | G8: =SUM(G9) -> -866493.7 | H8: =SUM(H9) -> -866493.7 | I8: =SUM(I9) -> -866493.7
A9: 01 | F9: ԸՆԴՀԱՆՈՒՐ ԲՆՈՒՅԹԻ ՀԱՆՐԱՅԻՆ ԾԱՌԱՅՈՒԹՅՈՒՆՆԵՐ | G9: =SUM(G11) -> -866493.7 | H9: =SUM(H11) -> -866493.7 | I9: =SUM(I11) -> -866493.7
F10: այդ թվում`
B11: 03 | F11: Ընդհանուր բնույթի ծառայություններ | G11: =SUM(G13) -> -866493.7 | H11: =SUM(H13) -> -866493.7 | I11: =SUM(I13) -> -866493.7
F12: այդ թվում`
C13: 02 | F13: Ծրագրման և վիճակագրական ընդհանուր ծառայություններ | G13: =SUM(G15) -> -866493.7 | H13: =SUM(H15) -> -866493.7 | I13: =SUM(I15) -> -866493.7
F14: այդ թվում`
D15: 1043 | F15: Բարձր տեխնոլոգիական արդյունաբերության էկոհամակարգի և շուկայի զարգացման ծրագիր | G15: =+G17 -> -866493.7 | H15: =+H17 -> -866493.7 | I15: =+I17 -> -866493.7
F16: այդ թվում`
E17: 11018 | F17: Պետական աջակցություն տեղեկատվական տեխնոլոգիաների ոլորտում գործունեություն իրականացնող առևտրային կազմակերպություններին և անհատ ձեռնարկատերերին | G17: =G19 -> -866493.7 | H17: =H19 -> -866493.7 | I17: =I19 -> -866493.7
F18: այդ թվում` ըստ կատարողների
F19: ՀՀ բարձր տեխնոլոգիական արդյունաբերության նախարարություն | G19: =G21 -> -866493.7 | H19: =H21 -> -866493.7 | I19: =I21 -> -866493.7
F20: այդ թվում` բյուջետային ծախսերի տնտեսագիտական դասակարգման հոդվածներ
F21: ԸՆԴԱՄԵՆԸ ԾԱԽՍԵՐ | G21: =G22 -> -866493.7 | H21: =H22 -> -866493.7 | I21: =I22 -> -866493.7
F22: ԸՆԹԱՑԻԿ ԾԱԽՍԵՐ | G22: =G23 -> -866493.7 | H22: =H23 -> -866493.7 | I22: =I23 -> -866493.7
F23: ԴՐԱՄԱՇՆՈՐՀՆԵՐ | G23: =G24 -> -866493.7 | H23: =H24 -> -866493.7 | I23: =I24 -> -866493.7
F24: Ընթացիկ դրամաշնորհներ պետական հատվածի այլ մակարդակներին | G24: =G25 -> -866493.7 | H24: =H25 -> -866493.7 | I24: =I25 -> -866493.7
F25: - Այլ ընթացիկ դրամաշնորհներ | G25: -866493.7 | H25: -866493.7 | I25: -866493.7

Sheet 8
F1: Հավելված N 8
F2: ՀՀ կառավարության 2025 թվականի N -Ն որոշման
A3: ՀԱՅԱՍՏԱՆԻ ՀԱՆՐԱՊԵՏՈՒԹՅԱՆ ԿԱՌԱՎԱՐՈՒԹՅԱՆ 2024 ԹՎԱԿԱՆԻ ԴԵԿՏԵՄԲԵՐԻ 27-Ի N 2060-Ն ՈՐՈՇՄԱՆ N 5 ՀԱՎԵԼՎԱԾԻ 7-ՐԴ ԱՂՅՈՒՍԱԿՈՒՄ ԿԱՏԱՐՎՈՂ ՓՈՓՈԽՈՒԹՅՈՒՆՆԵՐԸ
G4: հազար դրամներով
A5: Ծրագրային դասիչ | C5: Բյուջետային հատկացումների գլխավոր կարգադրիչների, ծրագրերի, միջոցառումների, ծախսային ուղղությունների անվանումները | F5: Միջոցառումները կատարող պետական մարմինների և դրամաշնորհ ստացող տնտեսվարող սուբյեկտների անվանումները | G5: Տարի
G6: Ցուցանիշների փոփոխությունը (նվազեցումները նշված են փակագծերում)
A7: Ծրագիր | B7: Միջոցառում
A8: 1 | B8: 2 | C8: 3 | F8: 4 | G8: 5
A9: ՀՀ բարձր տեխնոլոգիական արդյունաբերության նախարարություն
A10: 1043 | B10: Բարձր տեխնոլոգիական արդյունաբերության էկոհամակարգի և շուկայի զարգացման ծրագիր | G10: =+G11 -> -866493.7
B11: 11018 | C11: Պետական աջակցություն տեղեկատվական տեխնոլոգիաների ոլորտում գործունեություն իրականացնող առևտրային կազմակերպություններին և անհատ ձեռնարկատերերին | F11: ՀՀ բարձր տեխնոլոգիական արդյունաբերության նախարարություն | G11: =+G12 -> -866493.7
F12: Շահառու կազմակերպություններ | G12: =+'7'!I25 -> -866493.7

Sheet 9
A1: Հավելված N 9 ՀՀ կառավարության 2025 թվականի -ի N -Ն որոշման
A3: ՀԱՅԱՍՏԱՆԻ ՀԱՆՐԱՊԵՏՈՒԹՅԱՆ ԿԱՌԱՎԱՐՈՒԹՅԱՆ 2024 ԹՎԱԿԱՆԻ ԴԵԿՏԵՄԲԵՐԻ 27-Ի N2060-Ն ՈՐՈՇՄԱՆ N 9 ԵՎ N 9.1 ՀԱՎԵԼՎԱԾՆԵՐՈՒՄ ԿԱՏԱՐՎՈՂ ՓՈՓՈԽՈՒԹՅՈՒՆՆԵՐԸ
L5: Հազար դրամներով
A6: ԲԳԿ | B6: Ծրագիր | D6: Միջոցառում | H6: Իրականացնողը/ ակտիվն օգտագործողը/ շահառուի ընտրության չափորոշիչը | I6: Արդյունքային չափորոշիչը | J6: Ցուցանիշների փոփոխությունը (նվազեցումները նշված են փակագծերում)
B7: Դասիչը | C7: Անվանումը | D7: Դասիչը | E7: Անվանումը | F7: Նկարագրությունը | G7: Տեսակը | J7: Առաջին կիսամյակ | K7: Ինն ամիս | L7: Տարի
A8: ԸՆԴԱՄԵՆԸ | J8: =SUM(J9) -> -866493.7 | K8: =SUM(K9) -> -866493.7 | L8: =SUM(L9) -> -866493.7
A9: ՀՀ բարձր տեխնոլոգիական արդյունաբերության նախարարություն | J9: =SUM(J10) -> -866493.7 | K9: =SUM(K10) -> -866493.7 | L9: =SUM(L10) -> -866493.7
B10: 1043 | C10: Բարձր տեխնոլոգիական արդյունաբերության էկոհամակարգի և շուկայի զարգացման ծրագիր | J10: =SUM(J11) -> -866493.7 | K10: =SUM(K11) -> -866493.7 | L10: =SUM(L11) -> -866493.7
D11: 1043 - 11018 | E11: Պետական աջակցություն տեղեկատվական տեխնոլոգիաների ոլորտում գործունեություն իրականացնող առևտրային կազմակերպություններին և անհատ ձեռնարկատերերին | J11: -866493.7 | K11: -866493.7 | L11: -866493.7
F12: Տեղեկատվական տեխնոլոգիաների ոլորտում գործունեություն իրականացնող առևտրային կազմակերպություններին և անհատ ձեռնարկատերերին պետական աջակցության տրամադրում
G13: Ծառայությունների մատուցում
H14: Ծառայությունը մատուցողի անվանումը` ՀՀ բարձր տեխնոլոգիական արդյունաբերության նախարարություն
