Workbook

Sheet 2 (2)
H2: Հավելված № 2
H3: ՀՀ կառավարության 2025 թվականի ----------
H4: № ---------- որոշման
A7: ՀԱՅԱՍՏԱՆԻ ՀԱՆՐԱՊԵՏՈՒԹՅԱՆ 2025 ԹՎԱԿԱՆԻ ՊԵՏԱԿԱՆ ԲՅՈՒՋԵԻ ՄԱՍԻՆ ՕՐԵՆՔԻ N 1 ՀԱՎԵԼՎԱԾԻ N 3 ԱՂՅՈՒՍԱԿՈՒՄ ԿԱՏԱՐՎՈՂ ՓՈՓՈԽՈՒԹՅՈՒՆԸ ԵՎ ԼՐԱՑՈՒՄԸ
G8: հազար դրամ
A9: Ծրագրային դասիչը | C9: Բյուջետային գլխավոր կարգադրիչների, ծրագրերի և միջոցառումների և ուղղությունների անվանումները | D9: Ընդամենը | E9: Ցուցանիշների փոփոխությունը (ավելացումները նշված են դրական նշանով, իսկ նվազեցումները՝ փակագծերում)
E10: այդ թվում
A11: Ծրագիր | B11: Միջոցառում | E11: Կառուցման աշխատանքներ | F11: Վերակառուցման, վերանորոգման և վերականգնման աշխատանքներ | G11: Նախագծահե- տազոտական, գեոդեզիա- քարտեզագրա- կան աշխա- տանքներ | H11: Ոչ ֆինանսական այլ ակտիվների ձեռքբերում
C12: Ընդամենը | D12: =D14+D20 -> -23500 | E12: =+E14+E20 -> 0 | F12: =+F14+F20 -> -23500 | G12: =G14+G20 -> 0 | H12: =+H14+H20 -> 0
C13: այդ թվում`
C14: ՀՀ քաղաքաշինության կոմիտե | D14: =SUM(E14:H14) -> 0 | E14: =+E16 -> 0 | F14: =+F16 -> 0 | G14: =+G16 -> 0 | H14: =H16 -> 0
C15: այդ թվում`
A16: 1103 | B16: 11002 | C16: Նորմատիվատեխնիկական փաստաթղթերի մշակում և տեղայնացում | D16: =SUM(E16:H16) -> 0 | E16: =+E19 -> 0 | F16: =+F19 -> 0 | G16: =+G19 -> 0 | H16: =+H19 -> 0
C17: այդ թվում՝
C18: Ավտոմոբիլային ճանապարհներ.Շինարարություն (ՀՀ շինարարական նորմերի մշակում, տեղայնացում) | D18: =SUM(E18:H18) -> 0 | E18: 0
C19: Ավտոմոբիլային ճանապարհներ.Շինարարություն (ՀՀ շինարարական նորմերի մշակում, տեղայնացում) | D19: =SUM(E19:H19) -> 0 | E19: 0 | G19: =+'1'!G10 -> 0
C20: ՀՀ կառավարություն | D20: =SUM(E20:H20) -> -23500 | E20: =+E22 -> 0 | F20: =+F22 -> -23500 | G20: =+G22 -> 0 | H20: =+H22 -> 0
C21: այդ թվում՛ | D21: =SUM(E21:H21) -> 0
A22: 1139 | B22: 11001 | C22: ՀՀ կառավարության պահուստային ֆոնդ | D22: =SUM(E22:H22) -> -23500 | F22: -23500 | G22: 0 | H22: 0

Sheet 1
A1: Հավելված № 1 ՀՀ կառավարության 2025 թվականի № ------------ -Ն որոշման
A2: «ՀԱՅԱՍՏԱՆԻ ՀԱՆՐԱՊԵՏՈՒԹՅԱՆ 2025 ԹՎԱԿԱՆԻ ՊԵՏԱԿԱՆ ԲՅՈՒՋԵԻ ՄԱՍԻՆ» ՀՀ ՕՐԵՆՔԻ N 1 ՀԱՎԵԼՎԱԾԻ N 2 ԱՂՅՈՒՍԱԿՈՒՄ ԿԱՏԱՐՎՈՂ ՎԵՐԱԲԱՇԽՈՒՄԸ ԵՎ ՀԱՅԱՍՏԱՆԻ ՀԱՆՐԱՊԵՏՈՒԹՅԱՆ ԿԱՌԱՎԱՐՈՒԹՅԱՆ 2024 ԹՎԱԿԱՆԻ ԴԵԿՏԵՄԲԵՐԻ 27-Ի N 2060-Ն ՈՐՈՇՄԱՆ N 5 ՀԱՎԵԼՎԱԾԻ N1 ԱՂՅՈՒՍԱԿՈՒՄ ԿԱՏԱՐՎՈՂ ՓՈՓՈԽՈՒԹՅՈՒՆՆԵՐԸ
H3: հազար դրամներով
A4: ԲԳԿ | B4: Ծրագրային դասիչը | D4: ԲԳԿ/Ծրագրի /միջոցառման անվանումը | E4: Ծրագրի նպատակը/Միջոցառման նկարագրությունը | F4: Վերջնական արդյունքի նկարագրությունը/Միջոցառման տեսակը | G4: Ցուցանիշների փոփոխությունը (ավելացումները նշված են դրական նշանով, իսկ նվազեցումները՝ փակագծերում)
B5: Ծրագիր | C5: Միջոցառում | G5: Առաջին կիսամյակ | H5: Ինն ամիս | I5: Տարի
A6: ԸՆԴԱՄԵՆԸ | G6: =+G8+G12 -> 0 | H6: =+H8+H12 -> 0 | I6: =+I8+I12 -> 0
A7: ՀՀ քաղաքաշինության կոմիտե | G7: =+G8 -> 0 | H7: =+H8 -> 0 | I7: =+I8 -> 0
B8: 1103 | D8: Քաղաքաշինության և ճարտարապետության բնագավառում պետական քաղաքականության իրականացում և կանոնակարգում | E8: Քաղաքաշինության և ճարտարապետության բնագավառում պետական քաղաքականության մշակմանն աջակցություն և իրականացման ապահովում | F8: Քաղաքաշինության գործունեության կանոնակարգում, քաղաքաշինական տեղեկատվական համակարգի ձևավորում և քաղաքաշինության բնագավառում պետական ծրագրերի իրականացման ապահովում | G8: =+G9+G10+G11 -> 0 | H8: =+H9+H10+H11 -> 0 | I8: =+I9+I10+I11 -> 0
C9: 1103 - 11001 | D9: Քաղաքաշինության և ճարտարապետության բնագավառում պետական քաղաքականության մշակման, իրականացման, համակարգման, պլանավորման, մոնիտորինգի, կապիտալ ծրագրերի կատարման, պետական գնումների իրականացման ծառայություն | E9: Քաղաքաշինության և ճարտարապետության բնագավառում քաղաքականության մշակում, կատարման համակարգում, պլանավորում, իրականացում, մոնիտորինգ, լիցենզավորում, հաշվետվողականություն, աուդիտ, պետական գնումների իրականացում, հասարակությանը ոլորտի ծրագրերի իրազեկում | F9: Ծառայությունների մատուցում | G9: =5757+600 -> 6357 | H9: =5757+600 -> 6357 | I9: =5757+1000 -> 6757
C10: 1103 - 11002 | D10: Նորմատիվատեխնիկական փաստաթղթերի մշակում և տեղայնացում | E10: Միջպետական (տարածաշրջանային), միջազգային և եվրոպական նորմերին ու ստանդարտներին համահունչ ազգային քաղաքաշինական նորմատիվ փաստաթղթերի մշակում, տեղայնացում, արդիականացում և բազայի համալրում | F10: Ծառայությունների մատուցում | G10: 0 | H10: 0 | I10: -6757
C11: 1103 - 31001 | D11: Քաղաքաշինության կոմիտեի կարողությունների զարգացում և տեխնիկական հագեցվածության ապահովում | E11: Քաղաքաշինության կոմիտեի աշխատանքային պայմանների բարելավման համար վարչական սարքավորումների ձեռք բերում | F11: Պետական մարմինների կողմից օգտագործվող ոչ ֆինանսական ակտիվների հետ գործառնություններ | G11: -6357 | H11: -6357 | I11: 0
A12: ՀՀ կառավարություն | G12: =G13 -> 0 | H12: =H13 -> 0 | I12: =I13 -> 0
B13: 1139 | D13: ՀՀ կառավարության պահուստային ֆոնդ | E13: Պետական բյուջեում չկանխատեսված, ինչպես նաեւ բյուջետային երաշխիքների ապահովման ծախսերի ֆինանսավորման ապահովում | F13: Պահուստային ֆոնդի կառավարման արդյունավետության և թափանցիկության ապահովում | G13: =+G14+G15 -> 0 | H13: =+H14+H15 -> 0 | I13: =+I14+I15 -> 0
C14: 1139 - 11001 | D14: ՀՀ կառավարության պահուստային ֆոնդ | E14: ՀՀ պետական բյուջեում նախատեսված ելքերի լրացուցիչ ֆինանսավորման, պետական բյուջեում չկանխատեսված ելքերի, ինչպես նաև բյուջետային երաշխիքների ապահովման ելքերի ֆինանսավորման ապահովում | F14: Ծառայությունների մատուցում | G14: 0 | H14: 0 | I14: -6757
C15: 1139 - 11001 | D15: ՀՀ կառավարության պահուստային ֆոնդ | E15: ՀՀ պետական բյուջեում նախատեսված ելքերի լրացուցիչ ֆինանսավորման, պետական բյուջեում չկանխատեսված ելքերի, ինչպես նաև բյուջետային երաշխիքների ապահովման ելքերի ֆինանսավորման ապահովում | F15: Ծառայությունների մատուցում | G15: 0 | H15: 0 | I15: 6757

Sheet 2 
H1: Հավելված № 2
H2: ՀՀ կառավարության 2025 թվականի
H3: ----------№ ---------- որոշման
A4: «ՀԱՅԱՍՏԱՆԻ ՀԱՆՐԱՊԵՏՈՒԹՅԱՆ 2025 ԹՎԱԿԱՆԻ ՊԵՏԱԿԱՆ ԲՅՈՒՋԵԻ ՄԱՍԻՆ» ՕՐԵՆՔԻ N 1 ՀԱՎԵԼՎԱԾԻ N 3 ԱՂՅՈՒՍԱԿՈՒՄ ԿԱՏԱՐՎՈՂ ՓՈՓՈԽՈՒԹՅՈՒՆԸ
G5: հազար դրամներով
A6: Ծրագրային դասիչը | C6: Բյուջետային գլխավոր կարգադրիչների, ծրագրերի և միջոցառումների և ուղղությունների անվանումները | D6: Ընդամենը | E6: Ցուցանիշների փոփոխությունը ( նվազեցումները նշված են փակագծերում)
E7: այդ թվում
A8: Ծրագիր | B8: Միջոցառում | E8: Կառուցման աշխատանքներ | F8: Վերակառուցման, վերանորոգման և վերականգնման աշխատանքներ | G8: Նախագծահե- տազոտական, գեոդեզիա- քարտեզագրա- կան աշխա- տանքներ | H8: Ոչ ֆինանսական այլ ակտիվների ձեռքբերում
C9: Ընդամենը | D9: =D11 -> -6757 | E9: =E11 -> 0 | F9: =F11 -> 0 | G9: =G11 -> -6757 | H9: =H11 -> 0
C10: այդ թվում`
C11: ՀՀ քաղաքաշինության կոմիտե | D11: =SUM(E11:H11) -> -6757 | E11: =+E13 -> 0 | F11: =+F13 -> 0 | G11: =+G13 -> -6757 | H11: =H13 -> 0
C12: այդ թվում`
A13: 1103 | B13: 11002 | C13: Նորմատիվատեխնիկական փաստաթղթերի մշակում և տեղայնացում | D13: =SUM(E13:H13) -> -6757 | E13: =+E15 -> 0 | F13: =+F15 -> 0 | G13: =+G15 -> -6757 | H13: =+H15 -> 0
C14: այդ թվում՝
C15: Տրանսպորտային միջոցների սպասարկման կազմակերպություններ (ՀՀ շինարարական նորմերի մշակում, տեղայնացում) | D15: =SUM(E15:H15) -> -6757 | E15: 0 | G15: ='1'!I10 -> -6757

Sheet 3
F1: Հավելված № 3 ՀՀ կառավարության 2025 թվականի № ------------ -Ն որոշման
A2: ՀԱՅԱՍՏԱՆԻ ՀԱՆՐԱՊԵՏՈՒԹՅԱՆ ԿԱՌԱՎԱՐՈՒԹՅԱՆ 2024 ԹՎԱԿԱՆԻ ԴԵԿՏԵՄԲԵՐԻ 27-Ի № 2060-Ն ՈՐՈՇՄԱՆ NN 3 և 4 ՀԱՎԵԼՎԱԾՆԵՐՈՒՄ ԿԱՏԱՐՎՈՂ ՓՈՓՈԽՈՒԹՅՈՒՆՆԵՐԸ ԵՎ ԼՐԱՑՈՒՄԸ
I3: հազար դրամներով
A4: Գործառական դասիչը | D4: Ծրագրային դասիչը | F4: Բյուջետային ծախսերի գործառական դասակարգման բաժինների, խմբերի և դասերի, բյուջետային ծրագրերի միջոցառումների, բյուջետային հատկացումների գլխավոր կարգադրիչների անվանումները | G4: Ցուցանիշների փոփոխությունը (ավելացումները նշված են դրական նշանով, իսկ նվազեցումները՝ փակագծերում)
A5: Բաժին | B5: Խումբ | C5: Դաս | D5: Ծրագիր | E5: Միջոցառում | G5: Առաջին կիսամյակ | H5: Ինն ամիս | I5: Տարի
F6: ԸՆԴԱՄԵՆԸ ԾԱԽՍԵՐ | G6: =G7+G37 -> 0 | H6: =H7+H37 -> 0 | I6: =I7+I37 -> 0
A7: 06 | F7: ԲՆԱԿԱՐԱՆԱՅԻՆ ՇԻՆԱՐԱՐՈՒԹՅՈՒՆ ԵՎ ԿՈՄՈՒՆԱԼ ԾԱՌԱՅՈՒԹՅՈՒՆՆԵՐ | G7: =G9 -> 0 | H7: =H9 -> 0 | I7: =I9 -> 6757
F8: այդ թվում`
B9: 06 | F9: Բնակարանային շինարարության և կոմունալ ծառայություններ (այլ դասերին չպատկանող) | G9: =G11 -> 0 | H9: =H11 -> 0 | I9: =I11 -> 6757
F10: այդ թվում`
C11: 01 | F11: Բնակարանային շինարարության և կոմունալ ծառայություններ (այլ դասերին չպատկանող) | G11: =+G13 -> 0 | H11: =+H13 -> 0 | I11: =+I13 -> 6757
F12: այդ թվում`
F13: ՀՀ քաղաքաշինության կոմիտե | G13: =+G15 -> 0 | H13: =+H15 -> 0 | I13: =+I15 -> 6757
F14: այդ թվում՝
D15: 1103 | F15: Քաղաքաշինության և ճարտարապետության բնագավառում պետական քաղաքականության իրականացում և կանոնակարգում | G15: =G17+G28 -> 0 | H15: =H17+H28 -> 0 | I15: =I17+I28 -> 6757
F16: այդ թվում`
E17: 11001 | F17: Քաղաքաշինության և ճարտարապետության բնագավառում պետական քաղաքականության մշակման, իրականացման, համակարգման, պլանավորման, մոնիտորինգի, կապիտալ ծրագրերի կատարման, պետական գնումների իրականացման ծառայություն | G17: =+G19 -> 6357 | H17: =+H19 -> 6357 | I17: =+I19 -> 6757
F18: այդ թվում` ըստ կատարողների
F19: ՀՀ քաղաքաշինության կոմիտե | G19: =+G21 -> 6357 | H19: =+H21 -> 6357 | I19: =+I21 -> 6757
F20: այդ թվում` բյուջետային ծախսերի տնտեսագիտական դասակարգման հոդվածներ
F21: ԸՆԴԱՄԵՆԸ ԾԱԽՍԵՐ | G21: =G22 -> 6357 | H21: =H22 -> 6357 | I21: =I22 -> 6757
F22: ԸՆԹԱՑԻԿ ԾԱԽՍԵՐ | G22: =G23 -> 6357 | H22: =H23 -> 6357 | I22: =I23 -> 6757
F23: ԾԱՌԱՅՈՒԹՅՈՒՆՆԵՐԻ ԵՎ ԱՊՐԱՆՔՆԵՐԻ ՁԵՌՔԲԵՐՈՒՄ | G23: =G24+G26 -> 6357 | H23: =H24+H26 -> 6357 | I23: =I24+I26 -> 6757
F24: Պայմանագրային այլ ծառայությունների ձեռքբերում | G24: =+G25 -> 600 | H24: =+H25 -> 600 | I24: =+I25 -> 1000
F25: - Համակարգչային ծառայություններ | G25: 600 | H25: 600 | I25: 1000
F26: Այլ մասնագիտական ծառայությունների ձեռքբերում | G26: =+G27 -> 5757 | H26: =+H27 -> 5757 | I26: =+I27 -> 5757
F27: - Մասնագիտական ծառայություններ | G27: 5757 | H27: 5757 | I27: 5757
E28: 31001 | F28: Քաղաքաշինության կոմիտեի կարողությունների զարգացում և տեխնիկական հագեցվածության ապահովում | G28: =+G30 -> -6357 | H28: =+H30 -> -6357 | I28: =+I30 -> 0
F29: այդ թվում` ըստ կատարողների
F30: ՀՀ քաղաքաշինության կոմիտե | G30: =+G32 -> -6357 | H30: =+H32 -> -6357 | I30: =+I32 -> 0
F31: այդ թվում` բյուջետային ծախսերի տնտեսագիտական դասակարգման հոդվածներ
F32: ԸՆԴԱՄԵՆԸ ԾԱԽՍԵՐ | G32: =G33 -> -6357 | H32: =H33 -> -6357 | I32: =I33 -> 0
F33: ՈՉ ՖԻՆԱՆՍԱԿԱՆ ԱԿՏԻՎՆԵՐԻ ԳԾՈՎ ԾԱԽՍԵՐ | G33: =G34 -> -6357 | H33: =H34 -> -6357 | I33: =I34 -> 0
F34: ՀԻՄՆԱԿԱՆ ՄԻՋՈՑՆԵՐ | G34: =G35 -> -6357 | H34: =H35 -> -6357 | I34: =I35 -> 0
F35: ՄԵՔԵՆԱՆԵՐ ԵՎ ՍԱՐՔԱՎՈՐՈՒՄՆԵՐ | G35: =+G36 -> -6357 | H35: =+H36 -> -6357 | I35: =+I36 -> 0
F36: - Վարչական սարքավորումներ | G36: -6357 | H36: -6357 | I36: =+'1'!H21 -> 0
A37: 04 | F37: ՏՆՏԵՍԱԿԱՆ ՀԱՐԱԲԵՐՈՒԹՅՈՒՆՆԵՐ | G37: =G39 -> 0 | H37: =H39 -> 0 | I37: =I39 -> -6757
F38: այդ թվում`
B39: 04 | F39: Լեռնաարդյունահանում, արդյունաբերություն և շինարարություն | G39: =G41 -> 0 | H39: =H41 -> 0 | I39: =I41 -> -6757
F40: այդ թվում`
...

Sheet 4
F1: Հավելված № 4
C2: ՀՀ կառավարության 2025 թվականի
C3: ______________ ի ___Ն որոշման
A5: ՀԱՅԱՍՏԱՆԻ ՀԱՆՐԱՊԵՏՈՒԹՅԱՆ ԿԱՌԱՎԱՐՈՒԹՅԱՆ 2024 ԹՎԱԿԱՆԻ ԴԵԿՏԵՄԲԵՐԻ 27-Ի N 2060-Ն ՈՐՈՇՄԱՆ N5 ՀԱՎԵԼՎԱԾԻ N2 ԱՂՅՈՒՍԱԿՈՒՄ ԿԱՏԱՐՎՈՂ ՓՈՓՈԽՈՒԹՅՈՒՆԸ
F6: հազար դրամներով
A7: Ծրագրային դասիչ | C7: Բյուջետային գլխավոր կարգադրիչների, ծրագրերի, միջոցառումների, միջոցառումները կատարող պետական մարմինների և ուղղությունների անվանումները | D7: Ցուցանիշների փոփոխությունը (նվազեցումները նշված են փակագծերում)
A8: Ծրագիր | B8: Միջոցառում | D8: Առաջին կիսամյակ | E8: Ինն ամիս | F8: Տարի
C9: ԸՆԴԱՄԵՆԸ | D9: =D17+D10 -> -6357 | E9: =E17+E10 -> -6357 | F9: =+F17+F10 -> -6757
C10: ՀՀ ՔԱՂԱՔԱՇԻՆՈՒԹՅԱՆ ԿՈՄԻՏԵ | D10: =+D12 -> 0 | E10: =+E12 -> 0 | F10: =+F12 -> -6757
C11: այդ թվում`
A12: 1103 | B12: 11002 | C12: Նորմատիվատեխնիկական փաստաթղթերի մշակում և տեղայնացում | D12: =+D14 -> 0 | E12: =+E14 -> 0 | F12: =+F14 -> -6757
C13: այդ թվում` ըստ կատարողների
C14: ՀՀ քաղաքաշինության կոմիտե | D14: =+D16 -> 0 | E14: =+E16 -> 0 | F14: =+F16 -> -6757
C15: այդ թվում` ըստ ուղղությունների
C16: Տրանսպորտային միջոցների սպասարկման կազմակերպություններ (ՀՀ շինարարական նորմերի մշակում, տեղայնացում) | D16: =+'3'!G47 -> 0 | E16: =+'3'!H47 -> 0 | F16: =+'3'!I47 -> -6757
A17: 1103 | B17: 31001 | C17: Քաղաքաշինության կոմիտեի կարողությունների զարգացում և տեխնիկական հագեցվածության ապահովում | D17: =D19 -> -6357 | E17: =E19 -> -6357 | F17: =F19 -> 0
C18: այդ թվում` ըստ կատարողների
C19: ՀՀ քաղաքաշինության կոմիտե | D19: ='3'!G36 -> -6357 | E19: ='3'!H36 -> -6357 | F19: ='3'!I36 -> 0

Sheet 5
L1: Հավելված N 5
L2: ՀՀ կառավարության 2025թվականի
L3: ___________ ___-ի N _______ որոշման
A5: ՀԱՅԱՍՏԱՆԻ ՀԱՆՐԱՊԵՏՈՒԹՅԱՆ ԿԱՌԱՎԱՐՈՒԹՅԱՆ 2024 ԹՎԱԿԱՆԻ ԴԵԿՏԵՄԲԵՐԻ 27-Ի ԹԻՎ 2060-Ն ՈՐՈՇՄԱՆ N 9 ՀԱՎԵԼՎԱԾՈՒՄ ԿԱՏԱՐՎՈՂ ՓՈՓՈԽՈՒԹՅՈՒՆԸ
L7: հազար դրամներով
A8: ԲԳԿ | B8: Ծրագիր | D8: Միջոցառում | H8: Իրականացնողը/ակտիվն օգտագործողը/շահառուի ընտրության չափորոշիչը | I8: Արդյունքային չափորոշիչը | J8: Ցուցանիշների փոփոխությունը(ավելացումները նշված են դրական նշանով, իսկ նվազեցումները՝ փակագծերում)
B9: Դասիչը | C9: Անվանումը | D9: Դասիչը | E9: Անվանումը | F9: Նկարագրու-թյունը | G9: Տեսակը | J9: Առաջին կիսամյակ | K9: Ինն ամիս | L9: Տարի
A10: ԸՆԴԱՄԵՆԸ | J10: =+J11+J25 -> 0 | K10: =+K11+K25 -> 0 | L10: =+L11+L25 -> 0
A11: ՀՀ քաղաքաշինության կոմիտե | J11: =J12 -> 0 | K11: =K12 -> 0 | L11: =L12 -> 0
B12: 1103 | C12: Քաղաքաշինության և ճարտարապետության բնագավառում պետական քաղաքականության իրականացում և կանոնակարգում | J12: =+J13+J21+J17 -> 0 | K12: =+K13+K21+K17 -> 0 | L12: =+L13+L21+L17 -> 0
D13: 1103 - 11001 | E13: Քաղաքաշինության և ճարտարապետության բնագավառում պետական քաղաքականության մշակման, իրականացման, համակարգման, պլանավորման, մոնիտորինգի, կապիտալ ծրագրերի կատարման, պետական գնումների իրականացման ծառայություն | J13: =+'3'!G17 -> 6357 | K13: =+'3'!H17 -> 6357 | L13: =+'3'!I17 -> 6757
F14: Քաղաքաշինության և ճարտարապետության բնագավառում քաղաքականության մշակում, կատարման համակարգում, պլանավորում, իրականացում, մոնիտորինգ, լիցենզավորում, հաշվետվողականություն, աուդիտ, պետական գնումների իրականացում, հասարակությանը ոլորտի ծրագրերի իրազեկում
G15: Ծառայությունների մատուցում
H16: Ծառայությունը մատուցողի անվանումը` ՀՀ քաղաքաշինության կոմիտե
D17: 1103 - 11002 | E17: Նորմատիվատեխնիկական փաստաթղթերի մշակում և տեղայնացում | J17: =+'3'!G47 -> 0 | K17: =+'3'!H47 -> 0 | L17: =+'3'!I47 -> -6757
F18: Միջպետական (տարածաշրջանային), միջազգային և եվրոպական նորմերին ու ստանդարտներին համահունչ ազգային քաղաքաշինական նորմատիվ փաստաթղթերի մշակում, տեղայնացում, արդիականացում և բազայի համալրում
G19: Ծառայությունների մատուցում
H20: Ծառայությունը մատուցողի անվանումը` Մասնագիտացված կազմակերպություն
D21: 1103 - 31001 | E21: Քաղաքաշինության կոմիտեի կարողությունների զարգացում և տեխնիկական հագեցվածության ապահովում | J21: ='3'!G28 -> -6357 | K21: ='3'!H28 -> -6357 | L21: ='3'!I28 -> 0
F22: Քաղաքաշինության կոմիտեի աշխատանքային պայմանների բարելավման համար վարչական սարքավորումների ձեռք բերում
G23: Պետական մարմինների կողմից օգտագործվող ոչ ֆինանսական ակտիվների հետ գործառնություններ
H24: Ակտիվն օգտագործող կազմակերպության անվանումը` ՀՀ քաղաքաշինության կոմիտե
A25: ՀՀ կառավարություն | J25: =+J26 -> 0 | K25: =+K26 -> 0 | L25: =+L26 -> 0
B26: 1139 | C26: ՀՀ կառավարության պահուստային ֆոնդ | J26: =+J27+J31 -> 0 | K26: =+K27+K31 -> 0 | L26: =+L27+L31 -> 0
D27: 1139 - 11001 | E27: ՀՀ կառավարության պահուստային ֆոնդ | J27: ='3'!G64 -> 0 | K27: ='3'!H64 -> 0 | L27: ='3'!I64 -> -6757
F28: ՀՀ պետական բյուջեում նախատեսված ելքերի լրացուցիչ ֆինանսավորման, պետական բյուջեում չկանխատեսված ելքերի, ինչպես նաև բյուջետային երաշխիքների ապահովման ելքերի ֆինանսավորման ապահովում
G29: Ծառայությունների մատուցում
H30: Ծառայությունը մատուցողի անվանումը` ՀՀ կառավարություն
D31: 1139 - 11001 | E31: ՀՀ կառավարության պահուստային ֆոնդ | J31: ='3'!G73 -> 0 | K31: ='3'!H73 -> 0 | L31: ='3'!I73 -> 6757
F32: ՀՀ պետական բյուջեում նախատեսված ելքերի լրացուցիչ ֆինանսավորման, պետական բյուջեում չկանխատեսված ելքերի, ինչպես նաև բյուջետային երաշխիքների ապահովման ելքերի ֆինանսավորման ապահովում
G33: Ծառայությունների մատուցում
H34: Ծառայությունը մատուցողի անվանումը` ՀՀ կառավարություն

Sheet 6
L1: Հավելված N 6
L2: ՀՀ կառավարության 2025թվականի
L3: ___________ ___-ի N _______ որոշման
A5: ՀԱՅԱՍՏԱՆԻ ՀԱՆՐԱՊԵՏՈՒԹՅԱՆ ԿԱՌԱՎԱՐՈՒԹՅԱՆ 2024 ԹՎԱԿԱՆԻ ԴԵԿՏԵՄԲԵՐԻ 27-Ի ԹԻՎ 2060-Ն ՈՐՈՇՄԱՆ N 9.1 ՀԱՎԵԼՎԱԾՈՒՄ ԿԱՏԱՐՎՈՂ ՓՈՓՈԽՈՒԹՅՈՒՆԸ
L6: հազար դրամներով
A7: ԲՍԿ | B7: Ծրագիր | D7: Միջոցառում | H7: Իրականացնողը/ ակտիվն օգտագործողը/ շահառուի ընտրության չափորոշիչը | I7: Արդյունքային չափորոշիչը | J7: Ցուցանիշների փոփոխությունը(ավելացումները նշված են դրական նշանով,իսկ նվազեցումները՝ փակագծերում)
B8: Դասիչը | C8: Անվանումը | D8: Դասիչը | E8: Անվանումը | F8: Նկարագրու-թյունը | G8: Տեսակը | J8: Առաջին կիսամյակ | K8: Ինն ամիս | L8: Տարի
A9: ԸՆԴԱՄԵՆԸ | J9: =+J10+J24 -> 0 | K9: =+K10+K24 -> 0 | L9: =+L10+L24 -> 0
A10: ՀՀ քաղաքաշինության կոմիտե | J10: =J11 -> 0 | K10: =K11 -> 0 | L10: =L11 -> 0
B11: 1103 | C11: Քաղաքաշինության և ճարտարապետության բնագավառում պետական քաղաքականության իրականացում և կանոնակարգում | J11: =+J12+J16+J20 -> 0 | K11: =+K12+K16+K20 -> 0 | L11: =+L12+L16+L20 -> 0
D12: 1103 - 11001 | E12: Քաղաքաշինության և ճարտարապետության բնագավառում պետական քաղաքականության մշակման, իրականացման, համակարգման, պլանավորման, մոնիտորինգի, կապիտալ ծրագրերի կատարման, պետական գնումների իրականացման ծառայություն | J12: =+'5'!J13 -> 6357 | K12: =+'5'!K13 -> 6357 | L12: =+'5'!L13 -> 6757
F13: Քաղաքաշինության և ճարտարապետության բնագավառում քաղաքականության մշակում, կատարման համակարգում, պլանավորում, իրականացում, մոնիտորինգ, լիցենզավորում, հաշվետվողականություն, աուդիտ, պետական գնումների իրականացում, հասարակությանը ոլորտի ծրագրերի իրազեկում
G14: Ծառայությունների մատուցում
H15: Ծառայությունը մատուցողի անվանումը` ՀՀ քաղաքաշինության կոմիտե
D16: 1103 - 11002 | E16: Նորմատիվատեխնիկական փաստաթղթերի մշակում և տեղայնացում | J16: =+'3'!G47 -> 0 | K16: =+'3'!H47 -> 0 | L16: =+'3'!I47 -> -6757
F17: Միջպետական (տարածաշրջանային), միջազգային և եվրոպական նորմերին ու ստանդարտներին համահունչ ազգային քաղաքաշինական նորմատիվ փաստաթղթերի մշակում, տեղայնացում, արդիականացում և բազայի համալրում
G18: Ծառայությունների մատուցում
H19: Ծառայությունը մատուցողի անվանումը` Մասնագիտացված կազմակերպություն
D20: 1103 - 31001 | E20: Քաղաքաշինության կոմիտեի կարողությունների զարգացում և տեխնիկական հագեցվածության ապահովում | J20: =+'5'!J21 -> -6357 | K20: =+'5'!K21 -> -6357 | L20: =+'5'!L21 -> 0
F21: Քաղաքաշինության կոմիտեի աշխատանքային պայմանների բարելավման համար վարչական սարքավորումների ձեռք բերում
G22: Պետական մարմինների կողմից օգտագործվող ոչ ֆինանսական ակտիվների հետ գործառնություններ
H23: Ակտիվն օգտագործող կազմակերպության անվանումը` ՀՀ քաղաքաշինության կոմիտե
A24: ՀՀ կառավարություն | J24: =+J25 -> 0 | K24: =+K25 -> 0 | L24: =+L25 -> 0
B25: 1139 | C25: ՀՀ կառավարության պահուստային ֆոնդ | J25: =+J26+J30 -> 0 | K25: =+K26+K30 -> 0 | L25: =+L26+L30 -> 0
D26: 1139 - 11001 | E26: ՀՀ կառավարության պահուստային ֆոնդ | J26: ='5'!J27 -> 0 | K26: ='5'!K27 -> 0 | L26: ='5'!L27 -> -6757
F27: ՀՀ պետական բյուջեում նախատեսված ելքերի լրացուցիչ ֆինանսավորման, պետական բյուջեում չկանխատեսված ելքերի, ինչպես նաև բյուջետային երաշխիքների ապահովման ելքերի ֆինանսավորման ապահովում
G28: Ծառայությունների մատուցում
H29: Ծառայությունը մատուցողի անվանումը` ՀՀ կառավարություն
D30: 1139 - 11001 | E30: ՀՀ կառավարության պահուստային ֆոնդ | J30: ='5'!J31 -> 0 | K30: ='5'!K31 -> 0 | L30: ='5'!L31 -> 6757
F31: ՀՀ պետական բյուջեում նախատեսված ելքերի լրացուցիչ ֆինանսավորման, պետական բյուջեում չկանխատեսված ելքերի, ինչպես նաև բյուջետային երաշխիքների ապահովման ելքերի ֆինանսավորման ապահովում
G32: Ծառայությունների մատուցում
H33: Ծառայությունը մատուցողի անվանումը` ՀՀ կառավարություն

Sheet 7
E1: Հավելված № 7
E2: ՀՀ կառավարության
E3: 2025 թվականի __________ N -Ն որոշման
A5: ՀԱՅԱՍՏԱՆԻ ՀԱՆՐԱՊԵՏՈՒԹՅԱՆ ԿԱՌԱՎԱՐՈՒԹՅԱՆ 2024 ԹՎԱԿԱՆԻ ԴԵԿՏԵՄԲԵՐԻ 27-Ի N 2060-Ն ՈՐՈՇՄԱՆ N 10 ՀԱՎԵԼՎԱԾՈՒՄ ԿԱՏԱՐՎՈՂ ՓՈՓՈԽՈՒԹՅՈՒՆՆԵՐԸ ԵՎ ԼՐԱՑՈՒՄՆԵՐԸ
A7: Կոդը | B7: Անվանումը | C7: Գնման ձևը | D7: Չափի միավորը | E7: միավորի գինը | F7: Ցուցանիշների փոփոխությունը (ավելացումները նշված են դրական նշանով,իսկ նվազեցումները՝ փակագծերում)
F8: քանակը | G8: գումարը (հազար դրամով)
A9: 1 | B9: 2 | C9: 3 | D9: 4 | E9: 5 | F9: 6 | G9: 7
A10: ՀՀ քաղաքաշինության կոմիտե | G10: =G11+G16 -> 0
A11: Բաժին N 06 | B11: Խումբ N 06 | C11: Դաս N 01 | D11: Բնակարանային շինարարության և կոմունալ ծառայություններ (այլ դասերին չպատկանող) | G11: =+G12 -> 6757
A12: 1103 11001 | B12: Քաղաքաշինության և ճարտարապետության բնագավառում պետական քաղաքականության մշակման, իրականացման, համակարգման, պլանավորման, մոնիտորինգի, կապիտալ ծրագրերի կատարման, պետական գնումների իրականացման ծառայություն | G12: =+G13 -> 6757
B13: ՄԱՍ III. ԾԱՌԱՅՈՒԹՅՈՒՆՆԵՐ | G13: =+G14+G15 -> 6757
A14: 72411300 | B14: համացանցային (www) էջի ձևավորման ծառայություններ | C14: ԷԱՃ | D14: դրամ | E14: 1000000 | F14: 1 | G14: =E14*F14/1000 -> 1000
A15: 79111100 | B15: իրավական խորհրդատվական ծառայություններ | C15: ԳՀ | D15: դրամ | E15: 5757000 | F15: 1 | G15: =E15*F15/1000 -> 5757
A16: Բաժին N 04 | B16: Խումբ N 04 | C16: Դաս N 03 | D16: Շինարարություն | G16: =+G17 -> -6757
A17: 1103 11002 | B17: Նորմատիվատեխնիկական փաստաթղթերի մշակում և տեղայնացում | G17: =+G18 -> -6757
B18: ՄԱՍ III. ԾԱՌԱՅՈՒԹՅՈՒՆՆԵՐ | G18: =+G19 -> -6757
A19: 71241200-11 | B19: նախագծերի պատրաստում, ծախսերի գնահատում | C19: ԳՀ | D19: դրամ | E19: 0 | F19: 0 | G19: -6757
