Workbook
Name _Hlk341707516: '1'!$C$11
Name _tab10: #REF!
Name _tab10: #REF!
Name _tab10: #REF!
Name _tab10: #REF!
Name _tab10: #REF!
Name _tab10: #REF!
Name _tab10: #REF!
Name _tab11: #REF!
Name _tab11: #REF!
Name _tab11: #REF!
Name _tab11: #REF!
Name _tab11: #REF!
Name _tab11: #REF!
Name _tab11: #REF!
Name _tab12: #REF!
Name _tab12: #REF!
Name _tab12: #REF!
Name _tab12: #REF!
Name _tab12: #REF!
Name _tab12: #REF!
Name _tab12: #REF!
Name _tab13: #REF!
Name _tab13: #REF!
Name _tab13: #REF!
Name _tab13: #REF!
Name _tab13: #REF!
Name _tab13: #REF!
Name _tab13: #REF!
Name _tab14: #REF!
Name _tab14: #REF!
Name _tab14: #REF!
Name _tab14: #REF!
Name _tab14: #REF!
Name _tab14: #REF!
Name _tab14: #REF!
Name _tab15: #REF!
Name _tab15: #REF!
Name _tab15: #REF!
Name _tab15: #REF!
Name _tab15: #REF!
Name _tab15: #REF!
Name _tab15: #REF!
Name _tab16: #REF!
Name _tab16: #REF!
Name _tab16: #REF!
Name _tab16: #REF!
Name _tab16: #REF!
Name _tab16: #REF!
Name _tab16: #REF!
Name _tab17: #REF!
Name _tab17: #REF!
Name _tab17: #REF!
Name _tab17: #REF!
Name _tab17: #REF!
Name _tab17: #REF!
Name _tab17: #REF!
Name _tab18: #REF!
Name _tab18: #REF!
Name _tab18: #REF!

Sheet 1
C1: Հավելված N 1
C2: ՀՀ կառավարության 2025 թվականի
C3: ___________ -ի N _______ -Ն որոշման
B5: «ՀԱՅԱՍՏԱՆԻ ՀԱՆՐԱՊԵՏՈՒԹՅԱՆ 2025 ԹՎԱԿԱՆԻ ՊԵՏԱԿԱՆ ԲՅՈՒՋԵԻ ՄԱՍԻՆ» ՀԱՅԱՍՏԱՆԻ ՀԱՆՐԱՊԵՏՈՒԹՅԱՆ ՕՐԵՆՔԻ 2-ՐԴ ՀՈԴՎԱԾԻ ԱՂՅՈՒՍԱԿՈՒՄ ԿԱՏԱՐՎՈՂ ՓՈՓՈԽՈՒԹՅՈՒՆԸ
C7: հազար դրամներով
C8: Ցուցանիշների փոփոխությունը (ավելացումները նշված են դրական նշանով)
B9: Եկամուտների գծով | C9: =+'4'!J26 -> 234638
B10: Ծախսերի գծով | C10: =+'4'!J27 -> 234638
B11: Դեֆիցիտը (պակասուրդը) | C11: =+C10-C9 -> 0

Sheet 2
D1: Հավելված N 2
D2: ՀՀ կառավարության 2025 թվականի
D3: ___________ -ի N _______ -Ն որոշման
B5: «ՀԱՅԱՍՏԱՆԻ ՀԱՆՐԱՊԵՏՈՒԹՅԱՆ 2025 ԹՎԱԿԱՆԻ ՊԵՏԱԿԱՆ ԲՅՈՒՋԵԻ ՄԱՍԻՆ» ՀԱՅԱՍՏԱՆԻ ՀԱՆՐԱՊԵՏՈՒԹՅԱՆ ՕՐԵՆՔԻ 6-ՐԴ ՀՈԴՎԱԾԻ ԱՂՅՈՒՍԱԿՈՒՄ ԵՎ ՀԱՅԱՍՏԱՆԻ ՀԱՆՐԱՊԵՏՈՒԹՅԱՆ ԿԱՌԱՎԱՐՈՒԹՅԱՆ 2024 ԹՎԱԿԱՆԻ ԴԵԿՏԵՄԲԵՐԻ 27-Ի N 2060-Ն ՈՐՈՇՄԱՆ N 2 ՀԱՎԵԼՎԱԾՈՒՄ ԿԱՏԱՐՎՈՂ ՓՈՓՈԽՈՒԹՅՈՒՆԸ
E8: հազար դրամներով
B9: Պետական բյուջեի եկամուտները | C9: Ցուցանիշների փոփոխությունը (ավելացումները նշված են դրական նշանով)
C10: առաջին կիսամյակ | D10: ինն ամիս | E10: տարի
B11: Ընդամենը | C11: =C13 -> 117319 | D11: =D13 -> 175978.5 | E11: =E13 -> 234638
B12: այդ թվում՝
B13: Այլ եկամուտներ | C13: 117319 | D13: 175978.5 | E13: 234638

Sheet 3
H1: Հավելված N 3
H2: ՀՀ կառավարության 2025 թվականի
H3: ___________ -ի N _______ -Ն որոշման
B7: «ՀԱՅԱՍՏԱՆԻ ՀԱՆՐԱՊԵՏՈՒԹՅԱՆ 2025 ԹՎԱԿԱՆԻ ՊԵՏԱԿԱՆ ԲՅՈՒՋԵԻ ՄԱՍԻՆ» ՀԱՅԱՍՏԱՆԻ ՀԱՆՐԱՊԵՏՈՒԹՅԱՆ ՕՐԵՆՔԻ N 1 ՀԱՎԵԼՎԱԾԻ N 2 ԱՂՅՈՒՍԱԿՈՒՄ ԵՎ ՀԱՅԱՍՏԱՆԻ ՀԱՆՐԱՊԵՏՈՒԹՅԱՆ ԿԱՌԱՎԱՐՈՒԹՅԱՆ 2024 ԹՎԱԿԱՆԻ ԴԵԿՏԵՄԲԵՐԻ 27-Ի N 2060-Ն ՈՐՈՇՄԱՆ N 5 ՀԱՎԵԼՎԱԾԻ N 1 ԱՂՅՈՒՍԱԿՈՒՄ ԿԱՏԱՐՎՈՂ ՓՈՓՈԽՈՒԹՅՈՒՆՆԵՐԸ ԵՎ ԼՐԱՑՈՒՄՆԵՐԸ
J8: հազար դրամներով
B9: ԲԳԿ | C9: Ծրագրային դասիչը | E9: ԲԳԿ/Ծրագրի /միջոցառման անվանումը | F9: Ծրագրի նպատակը/Միջոցառման նկարագրությունը | G9: Վերջնական արդյունքի նկարագրությունը/Միջոցառման տեսակը | H9: Առաջին կիսամյակ | I9: Ինն ամիս | J9: Տարի
C10: Ծրագիր | D10: Միջոցառում
B11: ԸՆԴԱՄԵՆԸ | H11: =H12 -> 117319 | I11: =I12 -> 175978.5 | J11: =J12 -> 234638
B12: ՀՀ պաշտպանության նախարարություն | H12: =H13 -> 117319 | I12: =I13 -> 175978.5 | J12: =J13 -> 234638
C13: 1169 | E13: ՀՀ պաշտպանության ապահովում | F13: ՀՀ ԶՈւ ռազմավարական ծավալումն ապահովող մարտական պատրաստականության պահպանում՝ արտաքին թշնամուց ՀՀ պետական սահմանների պաշտպանության ապահովում | G13: ՀՀ ԶՈւ ռազմավարական ծավալումն ապահովող մարտական պատրաստականության պահպանում | H13: =H14 -> 117319 | I13: =I14 -> 175978.5 | J13: =J14 -> 234638
D14: 1169 - 11007 | E14: Երկրապահ կամավորականների գործունեության ապահովում | F14: Երկրապահ կամավորականների 2025թ. գործունեության ապահովում | G14: Ծառայությունների մատուցում | H14: ='4'!H19 -> 117319 | I14: ='4'!I19 -> 175978.5 | J14: ='4'!J19 -> 234638

Sheet 4
H1: Հավելված N 4
H2: ՀՀ կառավարության 2025 թվականի
H3: ___________ -ի N _______ -Ն որոշման
B5: ՀԱՅԱՍՏԱՆԻ ՀԱՆՐԱՊԵՏՈՒԹՅԱՆ ԿԱՌԱՎԱՐՈՒԹՅԱՆ 2024 ԹՎԱԿԱՆԻ ԴԵԿՏԵՄԲԵՐԻ 27-Ի N 2060-Ն ՈՐՈՇՄԱՆ NN 3 և 4 ՀԱՎԵԼՎԱԾՆԵՐՈՒՄ ԿԱՏԱՐՎՈՂ ՓՈՓՈԽՈՒԹՅՈՒՆՆԵՐԸ ԵՎ ԼՐԱՑՈՒՄՆԵՐԸ
J6: հազար դրամներով
B7: Գործառական դասիչը | E7: Ծրագրային դասիչը | G7: Բյուջետային ծախսերի գործառական դասակարգման բաժինների, խմբերի և դասերի, բյուջետային ծրագրերի միջոցառումների, բյուջետային հատկացումների գլխավոր կարգադրիչների անվանումները | H7: Ցուցանիշների փոփոխությունը (ավելացումները նշված են դրական նշանով)
B8: բաժին | C8: խումբ | D8: դաս | E8: ծրագիր | F8: միջոցառում | H8: առաջին կիսամյակ | I8: ինն ամիս | J8: տարի
G9: ԸՆԴԱՄԵՆԸ ԾԱԽՍԵՐ | H9: =H11 -> 117319 | I9: =I11 -> 175978.5 | J9: =J11 -> 234638
G10: այդ թվում՝
B11: 02 | G11: ՊԱՇՏՊԱՆՈՒԹՅՈՒՆ | H11: =+H13 -> 117319 | I11: =+I13 -> 175978.5 | J11: =+J13 -> 234638
G12: այդ թվում`
C13: 01 | G13: Ռազմական պաշտպանություն | H13: =+H15 -> 117319 | I13: =+I15 -> 175978.5 | J13: =+J15 -> 234638
G14: այդ թվում`
D15: 01 | G15: Ռազմական պաշտպանություն | H15: =+H17 -> 117319 | I15: =+I17 -> 175978.5 | J15: =+J17 -> 234638
G16: այդ թվում`
G17: ՀՀ պաշտպանության նախարարություն | H17: =+H18 -> 117319 | I17: =+I18 -> 175978.5 | J17: =+J18 -> 234638
E18: 1169 | G18: ՀՀ պաշտպանության ապահովում | H18: =H19 -> 117319 | I18: =I19 -> 175978.5 | J18: =J19 -> 234638
F19: 11007 | G19: Երկրապահ կամավորականների գործունեության ապահովում | H19: =+H21 -> 117319 | I19: =+I21 -> 175978.5 | J19: =+J21 -> 234638
G20: այդ թվում` ըստ կատարողների
G21: ՀՀ պաշտպանության նախարարություն | H21: =+H23 -> 117319 | I21: =+I23 -> 175978.5 | J21: =+J23 -> 234638
G22: այդ թվում` բյուջետային ծախսերի տնտեսագիտական դասակարգման հոդվածներ
G23: ԸՆԴԱՄԵՆԸ ԾԱԽՍԵՐ | H23: =+H24 -> 117319 | I23: =+I24 -> 175978.5 | J23: =+J24 -> 234638
G24: ԸՆԹԱՑԻԿ ԾԱԽՍԵՐ | H24: =+H25 -> 117319 | I24: =+I25 -> 175978.5 | J24: =+J25 -> 234638
G25: ԴՐԱՄԱՇՆՈՐՀՆԵՐ | H25: =H26 -> 117319 | I25: =I26 -> 175978.5 | J25: =J26 -> 234638
G26: Ընթացիկ դրամաշնորհներ պետական հատվածի այլ մակարդակներին | H26: =+H27 -> 117319 | I26: =+I27 -> 175978.5 | J26: =+J27 -> 234638
G27: - Այլ ընթացիկ դրամաշնորհներ | H27: 117319 | I27: 175978.5 | J27: 234638

Sheet 5
H1: Հավելված N 5
H2: ՀՀ կառավարության 2025 թվականի
G3: ___________ -ի N _______ -Ն որոշման
B5: ՀԱՅԱՍՏԱՆԻ ՀԱՆՐԱՊԵՏՈՒԹՅԱՆ ԿԱՌԱՎԱՐՈՒԹՅԱՆ 2024 ԹՎԱԿԱՆԻ ԴԵԿՏԵՄԲԵՐԻ 27-Ի N 2060-Ն ՈՐՈՇՄԱՆ N 5 ՀԱՎԵԼՎԱԾԻ N 7 ԱՂՅՈՒՍԱԿՈՒՄ ԿԱՏԱՐՎՈՂ ՓՈՓՈԽՈՒԹՅՈՒՆՆԵՐԸ ԵՎ ԼՐԱՑՈՒՄՆԵՐԸ
H6: հազար դրամներով
B7: Ծրագրային դասիչ | D7: Բյուջետային հատկացումների գլխավոր կարգադրիչների, ծրագրերի, միջոցառումների, ծախսային ուղղությունների անվանումները | G7: Միջոցառումները կատարող պետական մարմինների և դրամաշնորհ ստացող տնտեսվարող սուբյեկտների անվանումները | H7: Ցուցանիշների փոփոխությունը (ավելացումները նշված են դրական նշանով)
B8: ծրագիր | C8: միջոցառում
B9: ԸՆԴԱՄԵՆԸ | H9: =H10 -> 234638
B10: ՀՀ պաշտպանության նախարարություն | H10: =H11 -> 234638
B11: 1169 | C11: ՀՀ պաշտպանության ապահովում | H11: =H12 -> 234638
C12: 11007 | D12: Երկրապահ կամավորականների գործունեության ապահովում | G12: ՀՀ պաշտպանության նախարարություն | H12: =H13 -> 234638
G13: «Երկրապահ կամավորականների միություն» ՀԿ | H13: 234638

Sheet 6
E1: Հավելված N 6
E2: ՀՀ կառավարության 2025 թվականի
E3: ___________ -ի N _______ -Ն որոշման
B5: ՀԱՅԱՍՏԱՆԻ ՀԱՆՐԱՊԵՏՈՒԹՅԱՆ ԿԱՌԱՎԱՐՈՒԹՅԱՆ 2024 ԹՎԱԿԱՆԻ ԴԵԿՏԵՄԲԵՐԻ 27-Ի N 2060-Ն ՈՐՈՇՄԱՆ N 6 ՀԱՎԵԼՎԱԾՈՒՄ ԿԱՏԱՐՎՈՂ ՓՈՓՈԽՈՒԹՅՈՒՆԸ
G6: հազար դրամներով
C7: Եկամտատեսակը | D7: Գանձման համար պատասխանատու պետական կառավարման մարմինը (մարմինները) | E7: Ցուցանիշների փոփոխությունը (ավելացումները նշված են դրական նշանով)
E8: առաջին կիսամյակ | F8: ինն ամիս | G8: տարի
B9: Այլ եկամուտներ, ընդամենը | E9: =E11 -> 117319 | F9: =F11 -> 175978.5 | G9: =G11 -> 234638
C10: այդ թվում`
B11: 6 | C11: Օրենքով և այլ իրավական ակտերով սահմանված պետական բյուջե մուտքագրվող այլ եկամուտներ | E11: =E13 -> 117319 | F11: =F13 -> 175978.5 | G11: =G13 -> 234638
C12: այդ թվում`
B13: 6.7 | C13: Այլ եկամուտներ | D13: ՀՀ պետական կառավարման մարմիններ | E13: ='4'!H27 -> 117319 | F13: ='4'!I27 -> 175978.5 | G13: ='4'!J27 -> 234638

Sheet 7
M1: Հավելված N 7
M2: {=+'6'!E2:G2} -> ՀՀ կառավարության 2025 թվականի | N2: 0 | O2: 0
M3: {=+'6'!E3:G3} -> ___________ -ի N _______ -Ն որոշման | N3: 0 | O3: 0
B5: ՀԱՅԱՍՏԱՆԻ ՀԱՆՐԱՊԵՏՈՒԹՅԱՆ ԿԱՌԱՎԱՐՈՒԹՅԱՆ 2024 ԹՎԱԿԱՆԻ ԴԵԿՏԵՄԲԵՐԻ 27-Ի N 2060-Ն ՈՐՈՇՄԱՆ
B6: NN 9 ԵՎ 9.1 ՀԱՎԵԼՎԱԾՆԵՐՈՒՄ ԿԱՏԱՐՎՈՂ ՓՈՓՈԽՈՒԹՅՈՒՆՆԵՐԸ
M7: հազար դրամներով
B8: ԲԳԿ | C8: Ծրագիր | E8: Միջոցառում | I8: Իրականացնողը/ ակտիվն օգտագործողը/ շահառուի ընտրության չափորոշիչը | J8: Արդյունքային չափորոշիչը | K8: Ցուցանիշների փոփոխությունը (ավելացումները նշված են դրական նշանով)
C9: Դասիչը | D9: Անվա-նումը | E9: Դասիչը | F9: Անվա-նումը | G9: Նկարագրու-թյունը | H9: Տեսակը | K9: առաջին կիսամյակ | L9: ինն ամիս | M9: տարի
B10: ԸՆԴԱՄԵՆԸ | K10: =K11 -> 117319 | L10: =L11 -> 175978.5 | M10: =M11 -> 234638
B11: ՀՀ պաշտպանության նախարարություն | K11: =K12 -> 117319 | L11: =L12 -> 175978.5 | M11: =M12 -> 234638
C12: 1169 | D12: ՀՀ պաշտպանության ապահովում | K12: =+'6'!E13 -> 117319 | L12: =+'6'!F13 -> 175978.5 | M12: =+'6'!G13 -> 234638
E13: 1169 - 11007 | F13: Երկրապահ կամավորականների գործունեության ապահովում | K13: =+K12 -> 117319 | L13: =+L12 -> 175978.5 | M13: =+M12 -> 234638
G14: Երկրապահ կամավորականների 2025թ. գործունեության ապահովում
H15: Ծառայությունների մատուցում
I16: Ծառայությունը մատուցողի անվանումը` ՀՀ պաշտպանության նախարարություն
J17: Չի սահմանվում

Sheet Sheet1
A1: 4239 | B1: 20939.6
A2: 4252 | B2: 4001.2
A3: 4261 | B3: 24221.5
A4: 4264 | B4: 658398.2
A5: 4267 | B5: 51113.2
A6: 4269 | B6: 58135.2
A7: 5121 | B7: 34800
A8: 5122 | B8: 30780.6
A9: 5129 | B9: 165718.2
A10: 5132 | B10: 33.2
