Workbook
Name \A: #REF!
Name _tab10: #REF!
Name _tab10: #REF!
Name _tab11: #REF!
Name _tab11: #REF!
Name _tab12: #REF!
Name _tab12: #REF!
Name _tab13: #REF!
Name _tab13: #REF!
Name _tab14: #REF!
Name _tab14: #REF!
Name _tab15: #REF!
Name _tab15: #REF!
Name _tab16: #REF!
Name _tab16: #REF!
Name _tab17: #REF!
Name _tab17: #REF!
Name _tab18: #REF!
Name _tab18: #REF!
Name _tab19: #REF!
Name _tab19: #REF!
Name _tab20: #REF!
Name _tab20: #REF!
Name _tab21: #REF!
Name _tab21: #REF!
Name _tab22: #REF!
Name _tab22: #REF!
Name _tab23: #REF!
Name _tab23: #REF!
Name _tab24: #REF!
Name _tab24: #REF!
Name _tab5: #REF!
Name _tab5: #REF!
Name _tab6: #REF!
Name _tab6: #REF!
Name _tab7: #REF!
Name _tab7: #REF!
Name _tab8: #REF!
Name _tab8: #REF!
Name _tab9: #REF!
Name _tab9: #REF!
Name AgencyCode: #REF!
Name AgencyCode: #REF!
Name AgencyCode: #REF!
Name AgencyName: #REF!
Name AgencyName: #REF!
Name AgencyName: #REF!
Name ampop_krchat: #REF!
Name Armata: #REF!
Name asd: #REF!
Name åû: #REF!
Name åû: #REF!
Name åû: #REF!
Name BOP: #REF!
Name BOPfoot: #REF!
Name davit: #REF!
Name davit: #REF!
Name davit: #REF!
Name DebtCG: '[1]Fis-Debt'!#REF!
Name DebtGG: #REF!

Sheet Havelvats 1
A1: Հավելված 1 ՀՀ կառավարության 2025 թվականի____________ի N _____-Ն որոշման
A3: «ՀԱՅԱՍՏԱՆԻ ՀԱՆՐԱՊԵՏՈՒԹՅԱՆ 2025 ԹՎԱԿԱՆԻ ՊԵՏԱԿԱՆ ԲՅՈՒՋԵԻ ՄԱՍԻՆ» ՕՐԵՆՔԻ N 1 ՀԱՎԵԼՎԱԾԻ N 2 ԱՂՅՈՒՍԱԿՈՒՄ ԿԱՏԱՐՎՈՂ ՎԵՐԱԲԱՇԽՈՒՄԸ ԵՎ ՓՈՓՈԽՈՒԹՅՈՒՆՆԵՐԸ , ՀԱՅԱՍՏԱՆԻ ՀԱՆՐԱՊԵՏՈՒԹՅԱՆ ԿԱՌԱՎԱՐՈՒԹՅԱՆ 2024 ԹՎԱԿԱՆԻ ԴԵԿՏԵՄԲԵՐԻ 27-Ի N 2060-Ն ՈՐՈՇՄԱՆ N 5 ՀԱՎԵԼՎԱԾԻ N 1 ԱՂՅՈՒՍԱԿՈՒՄ ԿԱՏԱՐՎՈՂ ՓՈՓՈԽՈՒԹՅՈՒՆՆԵՐԸ
A5: ԲԳԿ | B5: Ծրագրային դասիչը | D5: ԲԳԿ/Ծրագրի /միջոցառման անվանումը | E5: Ծրագրի նպատակը/Միջոցառման նկարագրույունը | F5: Վերջնական արդյունքի նկարագրությունը/Միջոցառման տեսակը | G5: Ցուցանիշների փոփոխությունը (ավելացումները նշված են դրական նշանով, իսկ նվազեցումները՝ փակագծերում)
B6: Ծրագիր | C6: Միջոցառում | G6: Առաջին կիսամյակ | H6: Ինն ամիս | I6: Տարի
A7: ԸՆԴԱՄԵՆԸ | G7: =G8 -> 0 | H7: =H8 -> 0 | I7: =I8 -> 0
A8: ՀՀ էկոնոմիկայի նախարարություն | G8: =+G9 -> 0 | H8: =+H9 -> 0 | I8: =+I9 -> 0
B9: 1190 | D9: Զբոսաշրջության զարգացման ծրագիր | E9: Հայաստանի և հայկական զբոսաշրջային արդյունքի մրցունակության և ճանաչելիության բարձրացում | F9: Զբոսաշրջիկների թվաքանակի ավելացում | G9: =G11+G10 -> 0 | H9: =H11+H10 -> 0 | I9: =I11+I10 -> 0
C10: 1190 - 12001 | D10: Համաշխարհային բանկի աջակցությամբ իրականացվող Տեղական տնտեսության և ենթակառուցվածքների զարգացման ծրագրի շրջանակներում ՀՀ տարբեր մարզերում զբոսաշրջության հետ կապված ենթակառուցվածքների բարելավմանն ուղղված միջոցառումներ | E10: Ընտրված մարզերում զբոսաշրջության հետ կապված ենթակառուցվածքների, այդ թվում` ճանապարհների, ավտոկայանատեղերի, ջրամատակարարման համակարգերի, լուսավորության վերանորոգում և նորովի կառուցում | F10: Տրանսֆերտների տրամադրում | G10: 79987 | H10: 79987 | I10: 79987
C11: 1190 - 12002 | D11: Համաշխարհային բանկի աջակցությամբ իրականացվող Զբոսաշրջության և մարզային ենթակառուցվածքների բարելավում | E11: Միջոցառումն ընդգրկում է զբոսաշրջային կլաստերների համապարփակ և կայուն զարգացման ծրագրերի բարելավման առաջնայնություն, քաղաքային և համայնքային ենթակառուցվածքների համապարփակ արդիականացում և վերակառուցում | F11: Տրանսֆերտների տրամադրում | G11: -79987 | H11: -79987 | I11: -79987

Sheet Havelvats 2
I1: Հավելված N 2
E2: ՀՀ կառավարության 2025 թվականի
E3: -----------------ի N -----------Ն որոշման
A5: ՀԱՅԱՍՏԱՆԻ ՀԱՆՐԱՊԵՏՈՒԹՅԱՆ ԿԱՌԱՎԱՐՈՒԹՅԱՆ 2024 ԹՎԱԿԱՆԻ ԴԵԿՏԵՄԲԵՐԻ 27-Ի N 2060-Ն ՈՐՈՇՄԱՆ NN 3 ԵՎ 4 ՀԱՎԵԼՎԱԾՆԵՐՈՒՄ ԿԱՏԱՐՎՈՂ ՓՈՓՈԽՈՒԹՅՈՒՆՆԵՐԸ ԵՎ ԼՐԱՑՈՒՄԸ
H6: հազար դրամներով
A7: Գործառական դասիչը | D7: Ծրագրային դասիչը | F7: Բյուջետային ծախսերի գործառական դասակարգման բաժինների, խմբերի և դասերի, բյուջետային ծրագրերի միջոցառումների, բյուջետային հատկացումների գլխավոր կարգադրիչների անվանումները | G7: Ցուցանիշների փոփոխությունը (ավելացումները նշված են դրական նշանով, նվազեցումները` փակագծերում)
A8: Բաժինը | B8: Խումբը | C8: Դասը | D8: Ծրագիր | E8: Միջոցառում | G8: Առաջին կիսամյակ | H8: Ինն ամիս | I8: Տարի
F9: ՀՀ էԿՈՆՈՄԻԿԱՅԻ ՆԱԽԱՐԱՐՈՒԹՅՈՒՆ | G9: =+G11 -> 0 | H9: =+H11 -> 0 | I9: =+I11 -> 0
F10: այդ թվում`
A11: 04 | F11: ՏՆՏԵՍԱԿԱՆ ՀԱՐԱԲԵՐՈՒԹՅՈՒՆՆԵՐ | G11: =+G13 -> 0 | H11: =+H13 -> 0 | I11: =+I13 -> 0
F12: այդ թվում`
B13: 09 | F13: Տնտեսական հարաբերություններ (այլ դասերին չպատկանող) | G13: =+G15 -> 0 | H13: =+H15 -> 0 | I13: =I15 -> 0
F14: այդ թվում`
C15: 01 | F15: Տնտեսական հարաբերություններ (այլ դասերին չպատկանող) | G15: =+G17 -> 0 | H15: =+H17 -> 0 | I15: =I17 -> 0
F16: այդ թվում`
F17: ՀՀ էկոնոմիկայի նախարարություն | G17: =+G19 -> 0 | H17: =+H19 -> 0 | I17: =I19 -> 0
F18: այդ թվում`
D19: =+'Havelvats 3'!B16 -> 1190 | F19: =+'Havelvats 3'!D16 -> Զբոսաշրջության զարգացման ծրագիր | G19: =+G21+G32 -> 0 | H19: =+H21+H32 -> 0 | I19: =+I21+I32 -> 0
F20: այդ թվում`
E21: =+'Havelvats 3'!C18 -> 12001 | F21: =+'Havelvats 3'!D18 -> Համաշխարհային բանկի աջակցությամբ իրականացվող Տեղական տնտեսության և ենթակառուցվածքների զարգացման ծրագրի շրջանակներում ՀՀ տարբեր մարզերում զբոսաշրջության հետ կապված ենթակառուցվածքների բարելավմանն ուղղված միջոցառումներ | G21: =G23 -> 79987 | H21: =H23 -> 79987 | I21: =I23 -> 79987
F22: այդ թվում` ըստ կատարողների
F23: ՀՀ էկոնոմիկայի նախարարություն | G23: =G25 -> 79987 | H23: =H25 -> 79987 | I23: =I25 -> 79987
F24: այդ թվում` բյուջետային ծախսերի տնտեսագիտական դասակարգման հոդվածներ
F25: ԸՆԴԱՄԵՆԸ ԾԱԽՍԵՐ | G25: =G26 -> 79987 | H25: =H26 -> 79987 | I25: =I26 -> 79987
F26: ՈՉ ՖԻՆԱՆՍԱԿԱՆ ԱԿՏԻՎՆԵՐԻ ԳԾՈՎ ԾԱԽՍԵՐ | G26: =G27 -> 79987 | H26: =H27 -> 79987 | I26: =I27 -> 79987
F27: ՀԻՄՆԱԿԱՆ ՄԻՋՈՑՆԵՐ | G27: =+G28+G30 -> 79987 | H27: =+H28+H30 -> 79987 | I27: =+I28+I30 -> 79987
F28: =+'Havelvats 3'!D25 -> ՄԵՔԵՆԱՆԵՐ ԵՎ ՍԱՐՔԱՎՈՐՈՒՄՆԵՐ | G28: =+G29 -> 17097 | H28: =+H29 -> 17097 | I28: =I29 -> 17097
F29: =+'Havelvats 3'!D26 -> - Վարչական սարքավորումներ | G29: =+'Havelvats 3'!E26 -> 17097 | H29: =+'Havelvats 3'!H26 -> 17097 | I29: =+'Havelvats 3'!K26 -> 17097
F30: ԱՅԼ ՀԻՄՆԱԿԱՆ ՄԻՋՈՑՆԵՐ | G30: =+G31 -> 62890 | H30: =+H31 -> 62890 | I30: =+I31 -> 62890
F31: - Նախագծահետազոտական ծախսեր | G31: =+'Havelvats 3'!E28 -> 62890 | H31: =+'Havelvats 3'!H28 -> 62890 | I31: =+'Havelvats 3'!K28 -> 62890
E32: 12002 | F32: Համաշխարհային բանկի աջակցությամբ իրականացվող Զբոսաշրջության և մարզային ենթակառուցվածքների բարելավում | G32: =+G34 -> -79987 | H32: =+H34 -> -79987 | I32: =+I34 -> -79987
F33: այդ թվում` ըստ կատարողների
F34: ՀՀ էկոնոմիկայի նախարարություն | G34: =+G36 -> -79987 | H34: =+H36 -> -79987 | I34: =+I36 -> -79987
F35: այդ թվում` բյուջետային ծախսերի տնտեսագիտական դասակարգման հոդվածներ
F36: ԸՆԴԱՄԵՆԸ ԾԱԽՍԵՐ | G36: =+G37 -> -79987 | H36: =+H37 -> -79987 | I36: =+I37 -> -79987
F37: ՈՉ ՖԻՆԱՆՍԱԿԱՆ ԱԿՏԻՎՆԵՐԻ ԳԾՈՎ ԾԱԽՍԵՐ | G37: =+G38 -> -79987 | H37: =+H38 -> -79987 | I37: =+I38 -> -79987
F38: ՀԻՄՆԱԿԱՆ ՄԻՋՈՑՆԵՐ | G38: =+G39 -> -79987 | H38: =+H39 -> -79987 | I38: =+I39 -> -79987
F39: ՇԵՆՔԵՐ ԵՎ ՇԻՆՈՒԹՅՈՒՆՆԵՐ | G39: =+G40 -> -79987 | H39: =+H40 -> -79987 | I39: =+I40 -> -79987
F40: - Շենքերի և շինությունների շինարարություն | G40: -79987 | H40: -79987 | I40: -79987

Sheet Havelvats 3
M1: Հավելված N 3
M2: ՀՀ կառավարության 2025 թվականի
M3: ______________ ի ___Ն որոշման
B5: «ՀԱՅԱՍՏԱՆԻ ՀԱՆՐԱՊԵՏՈՒԹՅԱՆ 2025 ԹՎԱԿԱՆԻ ՊԵՏԱԿԱՆ ԲՅՈՒՋԵԻ ՄԱՍԻՆ» ՀԱՅԱՍՏԱՆԻ ՀԱՆՐԱՊԵՏՈՒԹՅԱՆ ՕՐԵՆՔԻ N 1 ՀԱՎԵԼՎԱԾԻ N 4 ԱՂՅՈՒՍԱԿՈՒՄ ԵՎ ՀԱՅԱՍՏԱՆԻ ՀԱՆՐԱՊԵՏՈՒԹՅԱՆ ԿԱՌԱՎԱՐՈՒԹՅԱՆ 2024 ԹՎԱԿԱՆԻ ԴԵԿՏԵՄԲԵՐԻ 27-Ի N 2060-Ն ՈՐՈՇՄԱՆ N 5 ՀԱՎԵԼՎԱԾԻ N 3 ԱՂՅՈՒՍԱԿՈՒՄ ԿԱՏԱՐՎՈՂ ՓՈՓՈԽՈՒԹՅՈՒՆՆԵՐԸ ԵՎ ԼՐԱՑՈՒՄԸ
M7: հազար դրամներով
B8: Ծրագրային դասիչը | D8: Բյուջետային հատկացումների գլխավոր կարգադրիչների, ծրագրերի, միջոցառումների և միջոցառումները կատարող պետական մարմինների անվանումները | E8: Ցուցանիշների փոփոխությունը (ավելացումները նշված են դրական նշանով, իսկ նվազեցումները` փակագծերում)
E10: Առաջին կիսամյակ | H10: Ինն ամիս | K10: Տարի
B11: ծրագիրը | C11: միջոցառումը | E11: ընդամենը | F11: այդ թվում՝ | H11: ընդամենը | I11: այդ թվում՝ | K11: ընդամենը | L11: այդ թվում՝
F12: վարկային միջոցներ | G12: համաֆինան_x000D_ սավորում | I12: վարկային միջոցներ | J12: համաֆինան_x000D_ սավորում | L12: վարկային միջոցներ | M12: համաֆինան_x000D_ սավորում
D13: ԸՆԴԱՄԵՆԸ | E13: =F13+G13 -> 0 | F13: =+F15 -> 0 | G13: =+G15 -> 0 | H13: =I13+J13 -> 0 | I13: =+I15 -> 0 | J13: =+J15 -> 0 | K13: =L13+M13 -> 0 | L13: =+L15 -> 0 | M13: =+M15 -> 0
D14: այդ թվում`
D15: - ՈՉ ՖԻՆԱՆՍԱԿԱՆ ԱԿՏԻՎՆԵՐԻ ԳԾՈՎ ԾԱԽՍԵՐ | E15: =F15+G15 -> 0 | F15: =+F16 -> 0 | G15: =+G16 -> 0 | H15: =I15+J15 -> 0 | I15: =+I16 -> 0 | J15: =+J16 -> 0 | K15: =L15+M15 -> 0 | L15: =+L16 -> 0 | M15: =+M16 -> 0
B16: 1190 | D16: Զբոսաշրջության զարգացման ծրագիր | E16: =+F16+G16 -> 0 | F16: =+F18+F29 -> 0 | G16: =+G18+G29 -> 0 | H16: =+I16+J16 -> 0 | I16: =+I18+I29 -> 0 | J16: =+J18+J29 -> 0 | K16: =+L16+M16 -> 0 | L16: =+L18+L29 -> 0 | M16: =+M18+M29 -> 0
D17: այդ թվում`
C18: 12001 | D18: Համաշխարհային բանկի աջակցությամբ իրականացվող Տեղական տնտեսության և ենթակառուցվածքների զարգացման ծրագրի շրջանակներում ՀՀ տարբեր մարզերում զբոսաշրջության հետ կապված ենթակառուցվածքների բարելավմանն ուղղված միջոցառումներ | E18: =F18+G18 -> 79987 | F18: =F20 -> 64077 | G18: =G20 -> 15910 | H18: =I18+J18 -> 79987 | I18: =I20 -> 64077 | J18: =J20 -> 15910 | K18: =L18+M18 -> 79987 | L18: =L20 -> 64077 | M18: =M20 -> 15910
D19: այդ թվում` ըստ կատարողների
D20: ՀՀ էկոնոմիկայի նախարարություն | E20: =F20+G20 -> 79987 | F20: =F22 -> 64077 | G20: =G22 -> 15910 | H20: =I20+J20 -> 79987 | I20: =I22 -> 64077 | J20: =J22 -> 15910 | K20: =L20+M20 -> 79987 | L20: =L22 -> 64077 | M20: =M22 -> 15910
D21: այդ թվում` բյուջետային ծախսերի տնտեսագիտական դասակարգման հոդվածներ
D22: ԸՆԴԱՄԵՆԸ ԾԱԽՍԵՐ | E22: =F22+G22 -> 79987 | F22: =F23 -> 64077 | G22: =G23 -> 15910 | H22: =I22+J22 -> 79987 | I22: =I23 -> 64077 | J22: =J23 -> 15910 | K22: =L22+M22 -> 79987 | L22: =L23 -> 64077 | M22: =M23 -> 15910
D23: ՈՉ ՖԻՆԱՆՍԱԿԱՆ ԱԿՏԻՎՆԵՐԻ ԳԾՈՎ ԾԱԽՍԵՐ | E23: =F23+G23 -> 79987 | F23: =F24 -> 64077 | G23: =G24 -> 15910 | H23: =I23+J23 -> 79987 | I23: =I24 -> 64077 | J23: =J24 -> 15910 | K23: =L23+M23 -> 79987 | L23: =L24 -> 64077 | M23: =M24 -> 15910
D24: ՀԻՄՆԱԿԱՆ ՄԻՋՈՑՆԵՐ | E24: =F24+G24 -> 79987 | F24: =+F25+F27 -> 64077 | G24: =+G25+G27 -> 15910 | H24: =I24+J24 -> 79987 | I24: =+I25+I27 -> 64077 | J24: =+J25+J27 -> 15910 | K24: =L24+M24 -> 79987 | L24: =+L25+L27 -> 64077 | M24: =M25+M27 -> 15910
D25: ՄԵՔԵՆԱՆԵՐ ԵՎ ՍԱՐՔԱՎՈՐՈՒՄՆԵՐ | E25: =F25+G25 -> 17097 | F25: =F26 -> 13677 | G25: =G26 -> 3420 | H25: =I25+J25 -> 17097 | I25: =I26 -> 13677 | J25: =J26 -> 3420 | K25: =L25+M25 -> 17097 | L25: =L26 -> 13677 | M25: =M26 -> 3420
D26: - Վարչական սարքավորումներ | E26: =F26+G26 -> 17097 | F26: 13677 | G26: 3420 | H26: =I26+J26 -> 17097 | I26: 13677 | J26: 3420 | K26: =L26+M26 -> 17097 | L26: 13677 | M26: 3420
D27: ԱՅԼ ՀԻՄՆԱԿԱՆ ՄԻՋՈՑՆԵՐ | E27: =+E28 -> 62890 | F27: =+F28 -> 50400 | G27: =+G28 -> 12490 | H27: =+H28 -> 62890 | I27: =+I28 -> 50400 | J27: =+J28 -> 12490 | K27: =+K28 -> 62890 | L27: =+L28 -> 50400 | M27: =+M28 -> 12490
D28: - Նախագծահետազոտական ծախսեր | E28: =+F28+G28 -> 62890 | F28: 50400 | G28: 12490 | H28: =+I28+J28 -> 62890 | I28: 50400 | J28: 12490 | K28: =+L28+M28 -> 62890 | L28: 50400 | M28: 12490
C29: 12002 | D29: Համաշխարհային բանկի աջակցությամբ իրականացվող Զբոսաշրջության և մարզային ենթակառուցվածքների բարելավում | E29: =+F29+G29 -> -79987 | F29: =+F31 -> -64077 | G29: =+G31 -> -15910 | H29: =+I29+J29 -> -79987 | I29: =+I31 -> -64077 | J29: =+J31 -> -15910 | K29: =+L29+M29 -> -79987 | L29: =+L31 -> -64077 | M29: =+M31 -> -15910
D30: այդ թվում` ըստ կատարողների
D31: ՀՀ էկոնոմիկայի նախարարություն | E31: =+F31+G31 -> -79987 | F31: =+F33 -> -64077 | G31: =+G33 -> -15910 | H31: =+I31+J31 -> -79987 | I31: =+I33 -> -64077 | J31: =+J33 -> -15910 | K31: =+L31+M31 -> -79987 | L31: =+L33 -> -64077 | M31: =+M33 -> -15910
D32: այդ թվում` բյուջետային ծախսերի տնտեսագիտական դասակարգման հոդվածներ
D33: ԸՆԴԱՄԵՆԸ ԾԱԽՍԵՐ | E33: =+F33+G33 -> -79987 | F33: =+F34 -> -64077 | G33: =+G34 -> -15910 | H33: =+I33+J33 -> -79987 | I33: =+I34 -> -64077 | J33: =+J34 -> -15910 | K33: =+L33+M33 -> -79987 | L33: =+L34 -> -64077 | M33: =+M34 -> -15910
D34: ՈՉ ՖԻՆԱՆՍԱԿԱՆ ԱԿՏԻՎՆԵՐԻ ԳԾՈՎ ԾԱԽՍԵՐ | E34: =+F34+G34 -> -79987 | F34: =+F35 -> -64077 | G34: =+G35 -> -15910 | H34: =+I34+J34 -> -79987 | I34: =+I35 -> -64077 | J34: =+J35 -> -15910 | K34: =+L34+M34 -> -79987 | L34: =+L35 -> -64077 | M34: =+M35 -> -15910
D35: ՀԻՄՆԱԿԱՆ ՄԻՋՈՑՆԵՐ | E35: =+F35+G35 -> -79987 | F35: =+F36 -> -64077 | G35: =+G36 -> -15910 | H35: =+I35+J35 -> -79987 | I35: =+I36 -> -64077 | J35: =+J36 -> -15910 | K35: =+L35+M35 -> -79987 | L35: =+L36 -> -64077 | M35: =+M36 -> -15910
D36: ՇԵՆՔԵՐ ԵՎ ՇԻՆՈՒԹՅՈՒՆՆԵՐ | E36: =+F36+G36 -> -79987 | F36: =+F37 -> -64077 | G36: =+G37 -> -15910 | H36: =+I36+J36 -> -79987 | I36: =+I37 -> -64077 | J36: =+J37 -> -15910 | K36: =+L36+M36 -> -79987 | L36: =+L37 -> -64077 | M36: =+M37 -> -15910
D37: - Շենքերի և շինությունների շինարարություն | E37: =+F37+G37 -> -79987 | F37: -64077 | G37: -15910 | H37: =+I37+J37 -> -79987 | I37: -64077 | J37: -15910 | K37: =+L37+M37 -> -79987 | L37: -64077 | M37: -15910

Sheet Havelvats 4
J1: Հավելված N 4
J2: ՀՀ կառավարության 2025 թվականի
J3: ______________ ի ___Ն որոշման
A5: ՀԱՅԱՍՏԱՆԻ ՀԱՆՐԱՊԵՏՈՒԹՅԱՆ ԿԱՌԱՎԱՐՈՒԹՅԱՆ 2024 ԹՎԱԿԱՆԻ ԴԵԿՏԵՄԲԵՐԻ 27-Ի N 2060-Ն ՈՐՈՇՄԱՆ N 9 ՀԱՎԵԼՎԱԾՈՒՄ ԿԱՏԱՐՎՈՂ ՓՈՓՈԽՈՒԹՅՈՒՆՆԵՐԸ ԵՎ ԼՐԱՑՈՒՄՆԵՐԸ
A8: ԲԳԿ | B8: Ծրագիր | D8: Միջոցառում | H8: Իրականացնողը/ ակտիվն օգտագործողը/ շահառուի ընտրության չափորոշիչը | I8: Արդյունքային չափորոշիչը | J8: Ցուցանիշների փոփոխությունը (ավելացումները նշված են դրական նշանով, իսկ նվազեցումները՝ փակագծերում)
B9: Դասիչը | C9: Անվա-նումը | D9: Դասիչը | E9: Անվա-նումը | F9: Նկարագրու-թյունը | G9: Տեսակը | J9: Առաջին կիսամյակ | K9: Ինն ամիս | L9: Տարի
A10: ԸՆԴԱՄԵՆԸ | J10: =+J11 -> 0 | K10: =+K11 -> 0 | L10: =+L11 -> 0
A11: ՀՀ էկոնոմիկայի նախարարություն | J11: =+J12 -> 0 | K11: =+K12 -> 0 | L11: =+L12 -> 0
B12: 1190 | C12: Զբոսաշրջության զարգացման ծրագիր | J12: =+J13+J20 -> 0 | K12: =+K13+K20 -> 0 | L12: =+L13+L20 -> 0
D13: 1190 - 12001 | E13: Համաշխարհային բանկի աջակցությամբ իրականացվող Տեղական տնտեսության և ենթակառուցվածքների զարգացման ծրագրի շրջանակներում ՀՀ տարբեր մարզերում զբոսաշրջության հետ կապված ենթակառուցվածքների բարելավմանն ուղղված միջոցառումներ | J13: =+'Havelvats 2'!G21 -> 79987 | K13: =+'Havelvats 2'!H21 -> 79987 | L13: =+'Havelvats 2'!I21 -> 79987
F14: Ընտրված մարզերում զբոսաշրջության հետ կապված ենթակառուցվածքների, այդ թվում` ճանապարհների, ավտոկայանատեղերի, ջրամատակարարման համակարգերի, լուսավորության վերանորոգում և նորովի կառուցում
G15: Տրանսֆերտների տրամադրում
H16: Շահառուների ընտրության չափորոշիչները` Մասնագիտացված միավոր
I17: Կարողությունների զարգացման նպատակով գույքով հագեցված զբոսաշրջային կենտրոն կառավարող կազմակերպությունների թիվ | J17: 1 | L17: 1
I18: ՏՏԵԶ ծրագրի մոնիտորինգի և գնահատման հաշվետվություն | J18: 1 | L18: 1
I19: Աուդիտի հաշվետվություն | J19: 1 | L19: 1
D20: 1190 - 12002 | E20: Համաշխարհային բանկի աջակցությամբ իրականացվող Զբոսաշրջության և մարզային ենթակառուցվածքների բարելավում | J20: =+'Havelvats 2'!G32 -> -79987 | K20: =+'Havelvats 2'!H32 -> -79987 | L20: =+'Havelvats 2'!I32 -> -79987
F21: Միջոցառումն ընդգրկում է զբոսաշրջային կլաստերների համապարփակ և կայուն զարգացման ծրագրերի բարելավման առաջնայնություն, քաղաքային և համայնքային ենթակառուցվածքների համապարփակ արդիականացում և վերակառուցում
G22: Տրանսֆերտների տրամադրում
H23: Շահառուների ընտրության չափորոշիչները` Մասնագիտացված միավոր

Sheet Havelvac 5
J1: Հավելված N 5
J2: ՀՀ կառավարության 2025 թվականի
J3: ______________ ի ___Ն որոշման
A5: ՀԱՅԱՍՏԱՆԻ ՀԱՆՐԱՊԵՏՈՒԹՅԱՆ ԿԱՌԱՎԱՐՈՒԹՅԱՆ 2024 ԹՎԱԿԱՆԻ ԴԵԿՏԵՄԲԵՐԻ 27-Ի N 2060-Ն ՈՐՈՇՄԱՆ N 9.1 ՀԱՎԵԼՎԱԾՈՒՄ ԿԱՏԱՐՎՈՂ ՓՈՓՈԽՈՒԹՅՈՒՆՆԵՐԸ ԵՎ ԼՐԱՑՈՒՄՆԵՐԸ
A8: ԲՍԿ | B8: Ծրագիր | D8: Միջոցառում | H8: Իրականացնողը/ ակտիվն օգտագործողը/ շահառուի ընտրության չափորոշիչը | I8: Արդյունքային չափորոշիչը | J8: Ցուցանիշների փոփոխությունը (ավելացումները նշված են դրական նշանով, իսկ նվազեցումները՝ փակագծերում)
B9: Դասիչը | C9: Անվանումը | D9: Դասիչը | E9: Անվա-նումը | F9: Նկարագրությունը | G9: Տեսակը | J9: Առաջին կիսամյակ | K9: Ինն ամիս | L9: Տարի
A10: ԸՆԴԱՄԵՆԸ | J10: =+J11 -> 0 | K10: =+K11 -> 0 | L10: =+L11 -> 0
A11: ՀՀ էկոնոմիկայի նախարարություն | J11: =+J12 -> 0 | K11: =+K12 -> 0 | L11: =+L12 -> 0
B12: 1190 | C12: Զբոսաշրջության զարգացման ծրագիր | J12: =+J13+J20 -> 0 | K12: =+K13+K20 -> 0 | L12: =+L13+L20 -> 0
D13: 1190 - 12001 | E13: Համաշխարհային բանկի աջակցությամբ իրականացվող Տեղական տնտեսության և ենթակառուցվածքների զարգացման ծրագրի շրջանակներում ՀՀ տարբեր մարզերում զբոսաշրջության հետ կապված ենթակառուցվածքների բարելավմանն ուղղված միջոցառումներ | J13: =+'Havelvats 2'!G21 -> 79987 | K13: =+'Havelvats 2'!H21 -> 79987 | L13: =+'Havelvats 2'!I21 -> 79987
F14: Ընտրված մարզերում զբոսաշրջության հետ կապված ենթակառուցվածքների, այդ թվում` ճանապարհների, ավտոկայանատեղերի, ջրամատակարարման համակարգերի, լուսավորության վերանորոգում և նորովի կառուցում
G15: Տրանսֆերտների տրամադրում
H16: Շահառուների ընտրության չափորոշիչները` Մասնագիտացված միավոր
I17: Կարողությունների զարգացման նպատակով գույքով հագեցված զբոսաշրջային կենտրոն կառավարող կազմակերպությունների թիվ | J17: 1 | L17: 1
I18: ՏՏԵԶ ծրագրի մոնիտորինգի և գնահատման հաշվետվություն | J18: 1 | L18: 1
I19: Աուդիտի հաշվետվություն | J19: 1 | L19: 1
D20: 1190 - 12002 | E20: Համաշխարհային բանկի աջակցությամբ իրականացվող Զբոսաշրջության և մարզային ենթակառուցվածքների բարելավում | J20: =+'Havelvats 2'!G32 -> -79987 | K20: =+'Havelvats 2'!H32 -> -79987 | L20: =+'Havelvats 2'!I32 -> -79987
F21: Միջոցառումն ընդգրկում է զբոսաշրջային կլաստերների համապարփակ և կայուն զարգացման ծրագրերի բարելավման առաջնայնություն, քաղաքային և համայնքային ենթակառուցվածքների համապարփակ արդիականացում և վերակառուցում
G22: Տրանսֆերտների տրամադրում
H23: Շահառուների ընտրության չափորոշիչները` Մասնագիտացված միավոր
