Workbook
Name AgencyCode: #REF!
Name AgencyCode: #REF!
Name AgencyCode: #REF!
Name AgencyCode: #REF!
Name AgencyName: #REF!
Name AgencyName: #REF!
Name AgencyName: #REF!
Name AgencyName: #REF!
Name åû: #REF!
Name davit: #REF!
Name Functional1: #REF!
Name Functional1: #REF!
Name Functional1: #REF!
Name Functional1: #REF!
Name ggg: #REF!
Name mas: #REF!
Name mass: #REF!
Name PANature: #REF!
Name PANature: #REF!
Name PANature: #REF!
Name PANature: #REF!
Name PAType: #REF!
Name PAType: #REF!
Name PAType: #REF!
Name PAType: #REF!
Name Performance2: #REF!
Name Performance2: #REF!
Name Performance2: #REF!
Name Performance2: #REF!
Name PerformanceType: #REF!
Name PerformanceType: #REF!
Name PerformanceType: #REF!
Name PerformanceType: #REF!
Name x: #REF!
Name Հավելված: #REF!
Name Մաս: #REF!
Name շախմատիստ: #REF!

Sheet Հ1
A1: Հավելված N 1
A2: ՀՀ կառավարության 2025 թվականի
A3: ______________ ի ___Ն որոշման
B5: «ՀԱՅԱՍՏԱՆԻ ՀԱՆՐԱՊԵՏՈՒԹՅԱՆ 2025 ԹՎԱԿԱՆԻ ՊԵՏԱԿԱՆ ԲՅՈՒՋԵԻ ՄԱՍԻՆ» ՕՐԵՆՔԻ N 1 ՀԱՎԵԼՎԱԾԻ N 2 ԱՂՅՈՒՍԱԿՈՒՄ ԿԱՏԱՐՎՈՂ ՎԵՐԱԲԱՇԽՈՒՄԸ ԵՎ ՀԱՅԱՍՏԱՆԻ ՀԱՆՐԱՊԵՏՈՒԹՅԱՆ ԿԱՌԱՎԱՐՈՒԹՅԱՆ 2024 ԹՎԱԿԱՆԻ ԴԵԿՏԵՄԲԵՐԻ 27-Ի N 2060-Ն ՈՐՈՇՄԱՆ N 5 ՀԱՎԵԼՎԱԾԻ N 1 ԱՂՅՈՒՍԱԿՈՒՄ ԿԱՏԱՐՎՈՂ ՓՈՓՈԽՈՒԹՅՈՒՆՆԵՐԸ ԵՎ ԼՐԱՑՈՒՄՆԵՐԸ
I7: հազար դրամ
B8: ԲԳԿ | C8: Ծրագրային դասիչը | E8: ԲԳԿ/Ծրագրի /միջոցառման անվանումը | F8: Ծրագրի նպատակը/Միջոցառման նկարագրությունը | G8: Վերջնական արդյունքի նկարագրությունը/Միջոցառման տեսակը | H8: Ցուցանիշների փոփոխությունը (ավելացումները նշված են դրական նշանով, իսկ նվազեցումները` փակագծերում)
C9: Ծրագիր | D9: Միջոցառում | H9: Առաջին կիսամյակ | I9: Ինն ամիս | J9: Տարի
B10: ԸՆԴԱՄԵՆԸ | H10: =H11 -> 0 | I10: =I11 -> 0 | J10: =J11 -> 0
B11: ՀՀ տարածքային կառավարման և ենթակառուցվածքների նախարարություն | H11: =H12 -> 0 | I11: =I12 -> 0 | J11: =J12 -> 0
C12: 1212 | E12: Տարածքային զարգացում | F12: Տարածքային համաչափ զարգացման խթանում | G12: ՀՀ համայնքների կառավարման արդյունավետության բարձրացում և տնտեսական գործունեության խթանում | H12: =H13+H14 -> 0 | I12: =I13+I14 -> 0 | J12: =J13+J14 -> 0
D13: 1212-12025 | E13: Մարզերում առաջնահերթ լուծում պահանջող հիմնախնդիրների լուծում | F13: Մարզերում առաջնահերթ լուծում պահանջող ծրագրերի իրականացում, որի արդյունքում լուծում կտրվի բնակչության և համայնքների սոցիալական նշանակություն ունեցող հիմնախնդիրներին | G13: Տրանսֆերտների տրամադրում | H13: 40000 | I13: 76549 | J13: 111549
D14: 1212 - 32001 | E14: ՀՀ մարզերում առաջնահերթ լուծում պահանջող անհետաձգելի ծրագրերի իրականացում | F14: ՀՀ մարզերում առաջնահերթ լուծում պահանջող անհետաձգելի ծրագրերի իրականացում, որի արդյունքում լուծում կտրվի մարզային ենթակայության կազմակերպությունների և համայնքային նշանակություն ունեցող հիմնախնդիրներին | G14: Այլ պետական կազմակերպությունների կողմից օգտագործվող ոչ ֆինանսական ակտիվների հետ գործառնություններ | H14: =-H13 -> -40000 | I14: =-I13 -> -76549 | J14: =-J13 -> -111549

Sheet Հ2 
A1: Հավելված N 2
A2: ՀՀ կառավարության 2025 թվականի
A3: ______________ ի ___Ն որոշման
A5: ՀԱՅԱՍՏԱՆԻ ՀԱՆՐԱՊԵՏՈՒԹՅԱՆ ԿԱՌԱՎԱՐՈՒԹՅԱՆ 2024 ԹՎԱԿԱՆԻ ԴԵԿՏԵՄԲԵՐԻ 27-Ի N 2060-Ն ՈՐՈՇՄԱՆ N 3 ԵՎ N 4 ՀԱՎԵԼՎԱԾՆԵՐՈՒՄ ԿԱՏԱՐՎՈՂ ՓՈՓՈԽՈՒԹՅՈՒՆՆԵՐԸ ԵՎ ԼՐԱՑՈՒՄՆԵՐԸ
I7: հազար դրամով
A8: Գործառական դասիչը | D8: Ծրագրային դասիչը | F8: Բյուջետային հատկացումների գլխավոր կարգադրիչների, ծրագրերի, միջոցառումների և միջոցառումները կատարող պետական մարմինների անվանումները | G8: Ցուցանիշների փոփոխությունը (ավելացումները նշված են դրական նշանով, իսկ նվազեցումները` փակագծերում)
A9: Բաժին | B9: Խումբ | C9: Դաս | D9: Ծրագիր | E9: Միջոցառում | G9: Առաջին կիսամյակ | H9: Ինն ամիս | I9: Տարի
F10: ԸՆԴԱՄԵՆԸ | G10: =G12 -> 0 | H10: =H12 -> 0 | I10: =I12 -> 0
F11: այդ թվում
A12: 01 | F12: ԸՆԴՀԱՆՈՒՐ ԲՆՈՒՅԹԻ ՀԱՆՐԱՅԻՆ ԾԱՌԱՅՈՒԹՅՈՒՆՆԵՐ | G12: =G14 -> 0 | H12: =H14 -> 0 | I12: =I14 -> 0
F13: այդ թվում`
B14: 08 | F14: Կառավարության տարբեր մակարդակների միջև իրականացվող ընդհանուր բնույթի տրանսֆերտներ | G14: =G16 -> 0 | H14: =H16 -> 0 | I14: =I16 -> 0
F15: այդ թվում`
C16: 01 | F16: Կառավարության տարբեր մակարդակների միջև իրականացվող ընդհանուր բնույթի տրանսֆերտներ | G16: =+G18 -> 0 | H16: =+H18 -> 0 | I16: =+I18 -> 0
F17: այդ թվում`
F18: ՀՀ տարածքային կառավարման և ենթակառուցվածքների նախարարություն | G18: =+G20 -> 0 | H18: =+H20 -> 0 | I18: =+I20 -> 0
F19: այդ թվում`
D20: 1212 | F20: Տարածքային զարգացում | G20: =G22+G31 -> 0 | H20: =H22+H31 -> 0 | I20: =I22+I31 -> 0
F21: այդ թվում`
E22: 12025 | F22: Մարզերում առաջնահերթ լուծում պահանջող հիմնախնդիրների լուծում | G22: =G24 -> 40000 | H22: =H24 -> 76549 | I22: =I24 -> 111549
F23: այդ թվում` ըստ կատարողների
F24: ՀՀ Տավուշի մարզպետի աշխատակազմ | G24: =G26 -> 40000 | H24: =H26 -> 76549 | I24: =I26 -> 111549
F25: այդ թվում`բյուջետային ծախսերի տնտեսագիտական դասակարգման հոդվածներ
F26: ԸՆԴԱՄԵՆԸ ԾԱԽՍԵՐ | G26: =+G27 -> 40000 | H26: =+H27 -> 76549 | I26: =+I27 -> 111549
F27: ԸՆԹԱՑԻԿ ԾԱԽՍԵՐ | G27: =G28 -> 40000 | H27: =H28 -> 76549 | I27: =I28 -> 111549
F28: ՍՈՑԻԱԼԱԿԱՆ ՆՊԱՍՏՆԵՐ ԵՎ ԿԵՆՍԱԹՈՇԱԿՆԵՐ | G28: =G29 -> 40000 | H28: =H29 -> 76549 | I28: =I29 -> 111549
F29: Սոցիալական օգնության դրամական արտահայտությամբ նպաստներ (բյուջեից) | G29: =G30 -> 40000 | H29: =H30 -> 76549 | I29: =I30 -> 111549
F30: - Այլ նպաստներ բյուջեից | G30: =Հ1!H13 -> 40000 | H30: =Հ1!I13 -> 76549 | I30: =Հ1!J13 -> 111549
E31: 32001 | F31: ՀՀ մարզերում առաջնահերթ լուծում պահանջող անհետաձգելի ծրագրերի իրականացում | G31: =G40+G33 -> -40000 | H31: =H40+H33 -> -76549 | I31: =I40+I33 -> -111549
F32: այդ թվում` ըստ կատարողների
F33: ՀՀ կառավարություն | G33: =G35 -> -40000 | H33: =H35 -> -76549 | I33: =I35 -> -111549
F34: այդ թվում` բյուջետային ծախսերի տնտեսագիտական դասակարգման հոդվածներ
F35: ԸՆԴԱՄԵՆԸ ԾԱԽՍԵՐ | G35: =G36 -> -40000 | H35: =H36 -> -76549 | I35: =I36 -> -111549
F36: ՈՉ ՖԻՆԱՆՍԱԿԱՆ ԱԿՏԻՎՆԵՐԻ ԳԾՈՎ ԾԱԽՍԵՐ | G36: =G37 -> -40000 | H36: =H37 -> -76549 | I36: =I37 -> -111549
F37: ՀԻՄՆԱԿԱՆ ՄԻՋՈՑՆԵՐ | G37: =G38 -> -40000 | H37: =H38 -> -76549 | I37: =I38 -> -111549
F38: ՇԵՆՔԵՐ ԵՎ ՇԻՆՈՒԹՅՈՒՆՆԵՐ | G38: =G39 -> -40000 | H38: =H39 -> -76549 | I38: =I39 -> -111549
F39: - Շենքերի և շինությունների կապիտալ վերանորոգում | G39: =Հ1!H14 -> -40000 | H39: =Հ1!I14 -> -76549 | I39: =Հ1!J14 -> -111549

Sheet Հ3 
H1: Հավելված N 3
H2: ՀՀ կառավարության 2025 թվականի
H3: ______________ ի ___Ն որոշման
A5: «ՀԱՅԱՍՏԱՆԻ ՀԱՆՐԱՊԵՏՈՒԹՅԱՆ 2025 ԹՎԱԿԱՆԻ ՊԵՏԱԿԱՆ ԲՅՈՒՋԵԻ ՄԱՍԻՆ» ՕՐԵՆՔԻ N 1 ՀԱՎԵԼՎԱԾԻ N 3 ԱՂՅՈՒՍԱԿՈՒՄ ԿԱՏԱՐՎՈՂ ՓՈՓՈԽՈՒԹՅՈՒՆԸ
G6: հազար դրամներով
A7: Ծրագրային դասիչ | C7: Բյուջետային գլխավոր կարգադրիչների, ծրագրերի, միջոցառումների և ուղղությունների անվանումները | D7: Ցուցանիշների փոփոխությունը ( նվազեցումները նշված են փակագծերում)
D8: Ընդամենը, | E8: այդ թվում՝
A9: Ծրագիր | B9: Միջոցառում | E9: Կառուցման աշխատանքներ | F9: Վերակառուցման, վերանորոգման և վերականգնման աշխատանքներ | G9: Նախագծահե- տազոտական, գեոդեզիա- քարտեզագրա- կան աշխա- տանքներ | H9: Ոչ ֆինանսական այլ ակտիվների ձեռքբերում
C10: ԸՆԴԱՄԵՆԸ | D10: =+E10+F10+G10+H10 -> -111549 | E10: =+E12 -> 0 | F10: =+F12 -> -111549 | G10: =+G12 -> 0 | H10: =+H12 -> 0
C11: այդ թվում՝
C12: ՀՀ ՏԱՐԱԾՔԱՅԻՆ ԿԱՌԱՎԱՐՄԱՆ ԵՎ ԵՆԹԱԿԱՌՈՒՑՎԱԾՔՆԵՐԻ ՆԱԽԱՐԱՐՈՒԹՅՈՒՆ | D12: =D14 -> -111549 | E12: =E14 -> 0 | F12: =F14 -> -111549 | G12: =G14 -> 0 | H12: =H14 -> 0
C13: այդ թվում`
A14: 1212 | B14: 32001 | C14: ՀՀ մարզերում առաջնահերթ լուծում պահանջող անհետաձգելի ծրագրերի իրականացում | D14: =+E14+F14+G14+H14 -> -111549 | E14: 0 | F14: ='Հ2 '!I33 -> -111549 | G14: 0 | H14: 0

Sheet Հ4 
G1: Հավելված 4
G2: ՀՀ կառավարության 2025 թվականի
G3: ______________ ի ___Ն որոշման
B5: ՀԱՅԱՍՏԱՆԻ ՀԱՆՐԱՊԵՏՈՒԹՅԱՆ ԿԱՌԱՎԱՐՈՒԹՅԱՆ 2024 ԹՎԱԿԱՆԻ ԴԵԿՏԵՄԲԵՐԻ 27-Ի N 2060-Ն ՈՐՈՇՄԱՆ N 5 ՀԱՎԵԼՎԱԾԻ N 2 ԱՂՅՈՒՍԱԿՈՒՄ ԿԱՏԱՐՎՈՂ ՓՈՓՈԽՈՒԹՅՈՒՆԸ
F7: հազար դրամներով
B8: Ծրագրային դասիչը | D8: Բյուջետային գլխավոր կարգադրիչների, ծրագրերի, միջոցառումների և ուղղությունների անվանումները | E8: Ցուցանիշների փոփոխությունը ( նվազեցումները նշված են փակագծերում)
B9: Ծրագիր | C9: Միջոցառում | E9: Առաջին կիսամյակ | F9: Ինն ամիս | G9: Տարի
D10: ԸՆԴԱՄԵՆԸ | E10: =E12 -> -40000 | F10: =F12 -> -76549 | G10: =G12 -> -111549
D11: այդ թվում՝
D12: ՀՀ ՏԱՐԱԾՔԱՅԻՆ ԿԱՌԱՎԱՐՄԱՆ ԵՎ ԵՆԹԱԿԱՌՈՒՑՎԱԾՔՆԵՐԻ ՆԱԽԱՐԱՐՈՒԹՅՈՒՆ | E12: =E14 -> -40000 | F12: =F14 -> -76549 | G12: =G14 -> -111549
D13: այդ թվում`
B14: 1212 | C14: 32001 | D14: ՀՀ մարզերում առաջնահերթ լուծում պահանջող անհետաձգելի ծրագրերի իրականացում | E14: =E16 -> -40000 | F14: =F16 -> -76549 | G14: =G16 -> -111549
D15: այդ թվում` ըստ կատարողների
D16: ՀՀ կառավարություն | E16: ='Հ2 '!G33 -> -40000 | F16: ='Հ2 '!H33 -> -76549 | G16: ='Հ2 '!I33 -> -111549
C21: ՀԱՅԱՍՏԱՆԻ ՀԱՆՐԱՊԵՏՈՒԹՅԱՆ
C22: ՎԱՐՉԱՊԵՏԻ ԱՇԽԱՏԱԿԱԶՄԻ
D23: ՂԵԿԱՎԱՐ՝ Ա. ՀԱՐՈՒԹՅՈՒՆՅԱՆ

Sheet Հ5
M1: Հավելված N 5
M2: ՀՀ կառավարության 2025 թվականի
M3: ______________ ի ___Ն որոշման
B5: ՀԱՅԱՍՏԱՆԻ ՀԱՆՐԱՊԵՏՈՒԹՅԱՆ ԿԱՌԱՎԱՐՈՒԹՅԱՆ 2024 ԹՎԱԿԱՆԻ ԴԵԿՏԵՄԲԵՐԻ 27-Ի N 2060-Ն ՈՐՈՇՄԱՆ N 9 ՀԱՎԵԼՎԱԾՈՒՄ ԿԱՏԱՐՎՈՂ ՓՈՓՈԽՈՒԹՅՈՒՆՆԵՐԸ ԵՎ ԼՐԱՑՈՒՄՆԵՐԸ
M7: հազար դրամներով
B8: ԲԳԿ | C8: Ծրագիր | E8: Միջոցառում | I8: Իրականացնողը/ ակտիվն օգտագործողը/ շահառուի ընտրության չափորոշիչը | J8: Արդյունքային չափորոշիչը | K8: Ցուցանիշների փոփոխությունը (ավելացումները նշված են դրական նշանով, իսկ նվազեցումները` փակագծերում)
C9: Դասիչը | D9: Անվանումը | E9: Դասիչը | F9: Անվանումը | G9: Նկարագրու-թյունը | H9: Տեսակը | K9: Առաջին կիսամյակ | L9: Ինն ամիս | M9: Տարի
B10: ԸՆԴԱՄԵՆԸ | K10: =K11 -> 0 | L10: =L11 -> 0 | M10: =M11 -> 0
B11: ՀՀ տարածքային կառավարման և ենթակառուցվածքների նախարարություն | K11: =K12 -> 0 | L11: =L12 -> 0 | M11: =M12 -> 0
C12: 1212 | D12: Տարածքային զարգացում | K12: =K13+K17 -> 0 | L12: =L13+L17 -> 0 | M12: =M13+M17 -> 0
E13: 1212 - 12025 | F13: =Հ1!E13 -> Մարզերում առաջնահերթ լուծում պահանջող հիմնախնդիրների լուծում | K13: =Հ1!H13 -> 40000 | L13: =Հ1!I13 -> 76549 | M13: =Հ1!J13 -> 111549
G14: =Հ1!F13 -> Մարզերում առաջնահերթ լուծում պահանջող ծրագրերի իրականացում, որի արդյունքում լուծում կտրվի բնակչության և համայնքների սոցիալական նշանակություն ունեցող հիմնախնդիրներին
H15: =Հ1!G13 -> Տրանսֆերտների տրամադրում
I16: Համայնքներ
E17: 1212 - 32001 | F17: ՀՀ մարզերում առաջնահերթ լուծում պահանջող անհետաձգելի ծրագրերի իրականացում | K17: =Հ1!H14 -> -40000 | L17: =Հ1!I14 -> -76549 | M17: =Հ1!J14 -> -111549
G18: ՀՀ մարզերում առաջնահերթ լուծում պահանջող անհետաձգելի ծրագրերի իրականացում, որի արդյունքում լուծում կտրվի մարզային ենթակայության կազմակերպությունների և համայնքային նշանակություն ունեցող հիմնախնդիրներին
H19: Այլ պետական կազմակերպությունների կողմից օգտագործվող ոչ ֆինանսական ակտիվների հետ գործառնություններ
I20: Ակտիվն օգտագործող կազմակերպության անվանումը` ՀՀ համայնքներ

Sheet Հ6
M1: Հավելված N 6
M2: ՀՀ կառավարության 2025 թվականի
M3: ______________ ի ___Ն որոշման
A5: ՀԱՅԱՍՏԱՆԻ ՀԱՆՐԱՊԵՏՈՒԹՅԱՆ ԿԱՌԱՎԱՐՈՒԹՅԱՆ 2024 ԹՎԱԿԱՆԻ ԴԵԿՏԵՄԲԵՐԻ 27-Ի N 2060-Ն ՈՐՈՇՄԱՆ N 9.1 ՀԱՎԵԼՎԱԾՈՒՄ ԿԱՏԱՐՎՈՂ ՓՈՓՈԽՈՒԹՅՈՒՆՆԵՐԸ ԵՎ ԼՐԱՑՈՒՄՆԵՐԸ
M6: հազար դրամներով
B7: ԲՍԿ | C7: Ծրագիր | E7: Միջոցառում | I7: Իրականացնողը/ ակտիվն օգտագործողը/ շահառուի ընտրության չափորոշիչը | J7: Արդյունքային չափորոշիչը | K7: Ցուցանիշների փոփոխությունը (ավելացումները նշված են դրական նշանով, իսկ նվազեցումները` փակագծերում)
C8: Դասիչը | D8: Անվանումը | E8: Դասիչը | F8: Անվանումը | G8: Նկարագրու-թյունը | H8: Տեսակը | K8: Առաջին կիսամյակ | L8: Ինն ամիս | M8: Տարի
B9: ԸՆԴԱՄԵՆԸ | K9: =K10+K16 -> 0 | L9: =L10+L16 -> 0 | M9: =M10+M16 -> 0
B10: ՀՀ Տավուշի մարզպետի աշխատակազմ | K10: =K11 -> 40000 | L10: =L11 -> 76549 | M10: =M11 -> 111549
C11: 1212 | D11: =Հ5!D12 -> Տարածքային զարգացում | K11: =K12 -> 40000 | L11: =L12 -> 76549 | M11: =M12 -> 111549
E12: 1212 - 12025 | F12: =Հ5!F13 -> Մարզերում առաջնահերթ լուծում պահանջող հիմնախնդիրների լուծում | K12: =Հ5!K13 -> 40000 | L12: =Հ5!L13 -> 76549 | M12: =Հ5!M13 -> 111549
G13: =Հ5!G14 -> Մարզերում առաջնահերթ լուծում պահանջող ծրագրերի իրականացում, որի արդյունքում լուծում կտրվի բնակչության և համայնքների սոցիալական նշանակություն ունեցող հիմնախնդիրներին
H14: =Հ5!H15 -> Տրանսֆերտների տրամադրում
I15: =Հ5!I16 -> Համայնքներ
C16: 1212 | D16: Տարածքային զարգացում | K16: =K17 -> -40000 | L16: =L17 -> -76549 | M16: =M17 -> -111549
B17: ՀՀ կառավարություն | K17: =K18 -> -40000 | L17: =L18 -> -76549 | M17: =M18 -> -111549
E18: 1212 - 32001 | F18: ՀՀ մարզերում առաջնահերթ լուծում պահանջող անհետաձգելի ծրագրերի իրականացում | K18: =Հ5!K17 -> -40000 | L18: =Հ5!L17 -> -76549 | M18: =Հ5!M17 -> -111549
G19: ՀՀ մարզերում առաջնահերթ լուծում պահանջող անհետաձգելի ծրագրերի իրականացում, որի արդյունքում լուծում կտրվի մարզային ենթակայության կազմակերպությունների և համայնքային նշանակություն ունեցող հիմնախնդիրներին
H20: Այլ պետական կազմակերպությունների կողմից օգտագործվող ոչ ֆինանսական ակտիվների հետ գործառնություններ
I21: Ակտիվն օգտագործող կազմակերպության անվանումը` ՀՀ համայնքներ
