Workbook

Sheet 1
G1: Հավելված N1
I2: ՀՀ կառավարության 2025 թվականի
I3: ______________ ի ___Ն որոշման
B5: «ՀԱՅԱUՏԱՆԻ ՀԱՆՐԱՊԵՏՈՒԹՅԱՆ 2025 ԹՎԱԿԱՆԻ ՊԵՏԱԿԱՆ ԲՅՈՒՋԵԻ ՄԱUԻՆ» OՐԵՆՔԻ N 1 ՀԱՎԵԼՎԱԾԻ N 2 ԱՂՅՈՒՍԱԿՈՒՄ ԿԱՏԱՐՎՈՂ ՎԵՐԱԲԱՇԽՈՒՄԸ, ՓՈՓՈԽՈՒԹՅՈՒՆՆԵՐԸ ԵՎ ԼՐԱՑՈՒՄՆԵՐԸ, ՀԱՅԱՍՏԱՆԻ ՀԱՆՐԱՊԵՏՈՒԹՅԱՆ ԿԱՌԱՎԱՐՈՒԹՅԱՆ 2024 ԹՎԱԿԱՆԻ ԴԵԿՏԵՄԲԵՐԻ 27-Ի N 2060-Ն ՈՐՈՇՄԱՆ N 5 ՀԱՎԵԼՎԱԾԻ N 1 ԱՂՅՈՒՍԱԿՈՒՄ ԿԱՏԱՐՎՈՂ ՓՈՓՈԽՈՒԹՅՈՒՆՆԵՐԸ ԵՎ ԼՐԱՑՈՒՄՆԵՐԸ
H6: հազար դրամներով
A7: ԲԳԿ | B7: Ծրագրային դասիչը | D7: ԲԳԿ/Ծրագրի /միջոցառման անվանումը | E7: Ծրագրի նպատակը/Միջոցառման նկարագրությունը | F7: Վերջնական արդյունքի նկարագրությունը/Միջոցառման տեսակը | G7: Ցուցանիշների փոփոխությունը (ավելացումները նշված են դրական նշանով, իսկ նվազեցումները՝ փակագծերում)
G8: Առաջին կիսամյակ | H8: Ինն ամիս | I8: Տարի
B9: Ծրագիր | C9: Միջոցառում
A10: ԸՆԴԱՄԵՆԸ | G10: =G11+G15 -> 0 | H10: =H11+H15 -> 0 | I10: =I11+I15 -> 0
A11: ՀՀ տարածքային կառավարման և ենթակառուցվածքների նախարարություն | G11: =SUM(G12) -> 0 | H11: =SUM(H12) -> 0 | I11: =SUM(I12) -> 0
B12: 1004 | D12: Ոռոգման համակարգի առողջացում | E12: Ոռոգման ծառայությունների հասանելիության և մատչելիության ապահովում | F12: Ոռոգման ջրի մատակարարման արդյունավետության և հասանելիության բարելավում, կորուստների կրճատում | G12: =SUM(G13:G14) -> 0 | H12: =SUM(H13:H14) -> 0 | I12: =SUM(I13:I14) -> 0
C13: 1004 - 31013 | D13: Փոքր և միջին ջրամբարների կառուցում | E13: Փոքր և միջին ջրամբարների կառուցման աշխատանքներ | F13: Պետական մարմինների կողմից օգտագործվող ոչ ֆինանսական ակտիվների հետ գործառնություններ | G13: ='3'!G21 -> -55867 | H13: ='3'!H21 -> -55867 | I13: ='3'!I21 -> -55867
C14: 1004 - 31020 | D14: Ոռոգման համակարգերի կառուցում | E14: Ոռոգման համակարգերի կառուցման համար նախագծերի և աշխատանքների ձեռքբերում | F14: Պետական մարմինների կողմից օգտագործվող ոչ ֆինանսական ակտիվների հետ գործառնություններ | G14: ='3'!G32 -> 55867 | H14: ='3'!H32 -> 55867 | I14: ='3'!I32 -> 55867
A15: ՀՀ կառավարություն | G15: =G16 -> 0 | H15: =H16 -> 0 | I15: =I16 -> 0
B16: 1139 | D16: ՀՀ կառավարության պահուստային ֆոնդ | E16: Պետական բյուջեում չկանխատեսված, ինչպես նաեւ բյուջետային երաշխիքների ապահովման ծախսերի ֆինանսավորման ապահովում | F16: Պահուստային ֆոնդի կառավարման արդյունավետության և թափանցիկության ապահովում | G16: =G17+G18 -> 0 | H16: =H17+H18 -> 0 | I16: =I17+I18 -> 0
C17: 1139 - 11001 | D17: ՀՀ կառավարության պահուստային ֆոնդ | E17: ՀՀ պետական բյուջեում նախատեսված ելքերի լրացուցիչ ֆինանսավորման, պետական բյուջեում չկանխատեսված ելքերի, ինչպես նաև բյուջետային երաշխիքների ապահովման ելքերի ֆինանսավորման ապահովում | F17: Ծառայությունների մատուցում | G17: ='3'!G52 -> -55867 | H17: ='3'!H52 -> -55867 | I17: ='3'!I52 -> -55867
C18: 1139 - 11001 | D18: ՀՀ կառավարության պահուստային ֆոնդ | E18: ՀՀ պետական բյուջեում նախատեսված ելքերի լրացուցիչ ֆինանսավորման, պետական բյուջեում չկանխատեսված ելքերի, ինչպես նաև բյուջետային երաշխիքների ապահովման ելքերի ֆինանսավորման ապահովում | F18: Ծառայությունների մատուցում | G18: ='3'!G60 -> 55867 | H18: ='3'!H60 -> 55867 | I18: ='3'!I60 -> 55867

Sheet 2 
A1: Հավելված N 2
A2: ՀՀ կառավարության 2025 թվականի
A3: -ի N -Ն որոշման
A4: «ՀԱՅԱՍՏԱՆԻ ՀԱՆՐԱՊԵՏՈՒԹՅԱՆ 2025 ԹՎԱԿԱՆԻ ՊԵՏԱԿԱՆ ԲՅՈՒՋԵԻ ՄԱՍԻՆ» ՀԱՅԱՍՏԱՆԻ ՀԱՆՐԱՊԵՏՈՒԹՅԱՆ ՕՐԵՆՔԻ N 1 ՀԱՎԵԼՎԱԾԻ N 3 ԱՂՅՈՒՍԱԿՈՒՄ ԿԱՏԱՐՎՈՂ ՓՈՓՈԽՈՒԹՅՈՒՆՆԵՐԸ ԵՎ ԼՐԱՑՈՒՄՆԵՐԸ
G5: հազար դրամներով
A6: Ծրագրային դասիչ | C6: Բյուջետային գլխավոր կարգադրիչների, ծրագրերի, միջոցառումների և ուղղությունների անվանումները | D6: Ցուցանիշների փոփոխությունը (ավելացումները նշված են դրական նշանով, իսկ նվազեցումները՝ փակագծերում)
D7: Ընդամենը, | E7: այդ թվում՝
A8: Ծրագիր | B8: Միջոցառում | E8: Կառուցման աշխատանքներ | F8: Վերակառուցման, վերանորոգման և վերականգնման աշխատանքներ | G8: Նախագծահե- տազոտական, գեոդեզիա- քարտեզագրա- կան աշխա- տանքներ | H8: Ոչ ֆինանսական այլ ակտիվների ձեռքբերում
C9: ԸՆԴԱՄԵՆԸ | D9: =SUM(E9:H9) -> 0 | E9: =E11 -> 0 | F9: =F11 -> 0 | G9: =G11 -> 0 | H9: =H11 -> 0
C10: այդ թվում՝
C11: ՀՀ ՏԱՐԱԾՔԱՅԻՆ ԿԱՌԱՎԱՐՄԱՆ ԵՎ ԵՆԹԱԿԱՌՈՒՑՎԱԾՔՆԵՐԻ ՆԱԽԱՐԱՐՈՒԹՅՈՒՆ | D11: =SUM(E11:H11) -> 0 | E11: =E13+E14 -> 0 | F11: =F13 -> 0 | G11: =G13 -> 0 | H11: =H13 -> 0
C12: այդ թվում`
A13: 1004 | B13: 31013 | C13: Փոքր և միջին ջրամբարների կառուցում | D13: =SUM(E13:H13) -> -55867 | E13: ='7'!G11 -> -55867 | F13: =SUM(F14:F15) -> 0 | G13: =SUM(G14:G15) -> 0 | H13: =SUM(H14:H15) -> 0
A14: 1004 | B14: 31020 | C14: Ոռոգման համակարգերի կառուցում | D14: =SUM(E14:H14) -> 55867 | E14: =E16 -> 55867 | F14: =SUM(F16:F18) -> 0 | G14: =SUM(G16:G18) -> 0 | H14: =SUM(H17:H18) -> 0
C15: այդ թվում`
C16: Երևանի Բուսաբանական այգու ոռոգման ցանցի կառուցում՝ Սարկավագի փողոցի ջրանցքից մինչև Բուսաբանական այգու պարսպի հատված | D16: =SUM(E16:H16) -> 55867 | E16: ='7'!G14 -> 55867

Sheet 3
A1: Հավելված N 3
A2: ՀՀ կառավարության 2025 թվականի
A3: -ի N -Ն որոշման
A4: ՀԱՅԱՍՏԱՆԻ ՀԱՆՐԱՊԵՏՈՒԹՅԱՆ ԿԱՌԱՎԱՐՈՒԹՅԱՆ 2024 ԹՎԱԿԱՆԻ ԴԵԿՏԵՄԲԵՐԻ 27-Ի N 2060-Ն ՈՐՈՇՄԱՆ N 3 ԵՎ N 4 ՀԱՎԵԼՎԱԾՆԵՐՈՒՄ ԿԱՏԱՐՎՈՂ ՓՈՓՈԽՈՒԹՅՈՒՆՆԵՐԸ ԵՎ ԼՐԱՑՈՒՄՆԵՐԸ
H5: հազար դրամներով
A6: Գործառական դասիչը | D6: Ծրագրային դասիչը | F6: Բյուջետային ծախսերի գործառական դասակարգման բաժինների, խմբերի և դասերի, բյուջետային ծրագրերի միջոցառումների, բյուջետային հատկացումների գլխավոր կարգադրիչների անվանումները | G6: Ցուցանիշների փոփոխությունը (ավելացումները նշված են դրական նշանով, իսկ նվազեցումները՝ փակագծերում)
A7: Բաժին | B7: Խումբ | C7: Դաս | D7: Ծրագիր | E7: Միջոցառում | G7: Առաջին կիսամյակ | H7: Ինն ամիս | I7: Տարի
F8: ԸՆԴԱՄԵՆԸ ԾԱԽՍԵՐ | G8: =G10+G41 -> 0 | H8: =H10+H41 -> 0 | I8: =I10+I41 -> 0
F9: այդ թվում`
F10: ՀՀ տարածքային կառավարման և ենթակառուցվածքների նախարարություն | G10: =G11 -> 0 | H10: =H11 -> 0 | I10: =I11 -> 0
A11: 04 | F11: ՏՆՏԵՍԱԿԱՆ ՀԱՐԱԲԵՐՈՒԹՅՈՒՆՆԵՐ | G11: =G13 -> 0 | H11: =H13 -> 0 | I11: =I13 -> 0
F12: այդ թվում`
B13: 02 | F13: Գյուղատնտեսություն, անտառային տնտեսություն, ձկնորսություն և որսորդություն | G13: =G15 -> 0 | H13: =H15 -> 0 | I13: =I15 -> 0
F14: այդ թվում`
C15: 04 | F15: Ոռոգում | G15: =G17 -> 0 | H15: =H17 -> 0 | I15: =I17 -> 0
F16: այդ թվում`
F17: ՀՀ տարածքային կառավարման և ենթակառուցվածքների նախարարություն | G17: =G19 -> 0 | H17: =H19 -> 0 | I17: =I19 -> 0
F18: այդ թվում`
D19: 1004 | F19: Ոռոգման համակարգի առողջացում | G19: =G21+G32 -> 0 | H19: =H21+H32 -> 0 | I19: =I21+I32 -> 0
F20: այդ թվում`
E21: 31013 | F21: Փոքր և միջին ջրամբարների կառուցում | G21: =G23 -> -55867 | H21: =H23 -> -55867 | I21: =I23 -> -55867
F22: այդ թվում` ըստ կատարողների
F23: ՀՀ տարածքային կառավարման և ենթակառուցվածքների նախարարության ջրային կոմիտե | G23: =G25 -> -55867 | H23: =H25 -> -55867 | I23: =I25 -> -55867
F24: այդ թվում` բյուջետային ծախսերի տնտեսագիտական դասակարգման հոդվածներ
F25: ԸՆԴԱՄԵՆԸ ԾԱԽՍԵՐ | G25: =G26 -> -55867 | H25: =H26 -> -55867 | I25: =I26 -> -55867
F26: ՈՉ ՖԻՆԱՆՍԱԿԱՆ ԱԿՏԻՎՆԵՐԻ ԳԾՈՎ ԾԱԽՍԵՐ | G26: =G27 -> -55867 | H26: =H27 -> -55867 | I26: =I27 -> -55867
F27: ՀԻՄՆԱԿԱՆ ՄԻՋՈՑՆԵՐ | G27: =G28+G30 -> -55867 | H27: =H28+H30 -> -55867 | I27: =I28+I30 -> -55867
F28: ՇԵՆՔԵՐ ԵՎ ՇԻՆՈՒԹՅՈՒՆՆԵՐ | G28: =G29 -> 0 | H28: =H29 -> 0 | I28: =I29 -> -55867
F29: - Շենքերի և շինությունների շինարարություն | G29: 0 | H29: 0 | I29: ='2 '!D13 -> -55867
F30: ԱՅԼ ՀԻՄՆԱԿԱՆ ՄԻՋՈՑՆԵՐ | G30: =G31 -> -55867 | H30: =H31 -> -55867 | I30: =I31 -> 0
F31: - Նախագծահետազոտական ծախսեր | G31: ='2 '!E13 -> -55867 | H31: ='2 '!D13 -> -55867 | I31: 0
E32: 31020 | F32: Ոռոգման համակարգերի կառուցում | G32: =G34 -> 55867 | H32: =H34 -> 55867 | I32: =I34 -> 55867
F33: այդ թվում` ըստ կատարողների
F34: ՀՀ տարածքային կառավարման և ենթակառուցվածքների նախարարության ջրային կոմիտե | G34: =G36 -> 55867 | H34: =H36 -> 55867 | I34: =I36 -> 55867
F35: այդ թվում` բյուջետային ծախսերի տնտեսագիտական դասակարգման հոդվածներ
F36: ԸՆԴԱՄԵՆԸ ԾԱԽՍԵՐ | G36: =G37 -> 55867 | H36: =H37 -> 55867 | I36: =I37 -> 55867
F37: ՈՉ ՖԻՆԱՆՍԱԿԱՆ ԱԿՏԻՎՆԵՐԻ ԳԾՈՎ ԾԱԽՍԵՐ | G37: =G38 -> 55867 | H37: =H38 -> 55867 | I37: =I38 -> 55867
F38: ՀԻՄՆԱԿԱՆ ՄԻՋՈՑՆԵՐ | G38: =G39 -> 55867 | H38: =H39 -> 55867 | I38: =I39 -> 55867
F39: ՇԵՆՔԵՐ ԵՎ ՇԻՆՈՒԹՅՈՒՆՆԵՐ | G39: =G40 -> 55867 | H39: =H40 -> 55867 | I39: =I40 -> 55867
F40: - Շենքերի և շինությունների շինարարություն | G40: ='2 '!D16 -> 55867 | H40: ='2 '!D16 -> 55867 | I40: ='2 '!D16 -> 55867
F41: ՀՀ Կառավարություն | G41: =G42 -> 0 | H41: =H42 -> 0 | I41: =I42 -> 0
A42: 11 | F42: ՀԻՄՆԱԿԱՆ ԲԱԺԻՆՆԵՐԻՆ ՉԴԱՍՎՈՂ ՊԱՀՈՒՍՏԱՅԻՆ ՖՈՆԴԵՐ | G42: =G44 -> 0 | H42: =H44 -> 0 | I42: =I44 -> 0
F43: այդ թվում`
B44: 01 | F44: ՀՀ կառավարության և համայնքների պահուստային ֆոնդ | G44: =G46 -> 0 | H44: =H46 -> 0 | I44: =I46 -> 0
F45: այդ թվում`
C46: 01 | F46: ՀՀ կառավարության պահուստային ֆոնդ | G46: =G48 -> 0 | H46: =H48 -> 0 | I46: =I48 -> 0
F47: այդ թվում`
F48: ՀՀ կառավարություն | G48: =G50 -> 0 | H48: =H50 -> 0 | I48: =I50 -> 0
F49: այդ թվում`
D50: 1139 | F50: ՀՀ կառավարության պահուստային ֆոնդ | G50: =G52+G60 -> 0 | H50: =H52+H60 -> 0 | I50: =I52+I60 -> 0
F51: այդ թվում`
E52: 11001 | F52: ՀՀ կառավարության պահուստային ֆոնդ | G52: =G54 -> -55867 | H52: =H54 -> -55867 | I52: =I54 -> -55867
F53: այդ թվում` ըստ կատարողների
F54: ՀՀ կառավարություն | G54: =G56 -> -55867 | H54: =H56 -> -55867 | I54: =I56 -> -55867
F55: այդ թվում` բյուջետային ծախսերի տնտեսագիտական դասակարգման հոդվածներ
F56: ԸՆԴԱՄԵՆԸ ԾԱԽՍԵՐ | G56: =G57 -> -55867 | H56: =H57 -> -55867 | I56: =I57 -> -55867
F57: ԸՆԹԱՑԻԿ ԾԱԽՍԵՐ | G57: =G58 -> -55867 | H57: =H58 -> -55867 | I57: =I58 -> -55867
F58: ԱՅԼ ԾԱԽՍԵՐ | G58: =G59 -> -55867 | H58: =H59 -> -55867 | I58: =I59 -> -55867
F59: Պահուստային միջոցներ | G59: =G21 -> -55867 | H59: =H21 -> -55867 | I59: =I21 -> -55867
E60: 11001 | F60: ՀՀ կառավարության պահուստային ֆոնդ | G60: =G62 -> 55867 | H60: =H62 -> 55867 | I60: =I62 -> 55867
F61: այդ թվում` ըստ կատարողների
F62: ՀՀ կառավարություն | G62: =G64 -> 55867 | H62: =H64 -> 55867 | I62: =I64 -> 55867
F63: այդ թվում` բյուջետային ծախսերի տնտեսագիտական դասակարգման հոդվածներ
F64: ԸՆԴԱՄԵՆԸ ԾԱԽՍԵՐ | G64: =G65 -> 55867 | H64: =H65 -> 55867 | I64: =I65 -> 55867
F65: ԸՆԹԱՑԻԿ ԾԱԽՍԵՐ | G65: =G66 -> 55867 | H65: =H66 -> 55867 | I65: =I66 -> 55867
F66: ԱՅԼ ԾԱԽՍԵՐ | G66: =G67 -> 55867 | H66: =H67 -> 55867 | I66: =I67 -> 55867
F67: Պահուստային միջոցներ | G67: =G32 -> 55867 | H67: =H32 -> 55867 | I67: =I32 -> 55867

Sheet 4
A1: Հավելված N 4
A2: ՀՀ կառավարության 2025 թվականի
A3: -ի N -Ն որոշման
A4: ՀԱՅԱՍՏԱՆԻ ՀԱՆՐԱՊԵՏՈՒԹՅԱՆ ԿԱՌԱՎԱՐՈՒԹՅԱՆ 2024 ԹՎԱԿԱՆԻ ԴԵԿՏԵՄԲԵՐԻ 27-Ի N 2060-Ն ՈՐՈՇՄԱՆ N 5 ՀԱՎԵԼՎԱԾԻ N 2 ԱՂՅՈՒՍԱԿՈՒՄ ԿԱՏԱՐՎՈՂ ՓՈՓՈԽՈՒԹՅՈՒՆՆԵՐԸ ԵՎ ԼՐԱՑՈՒՄՆԵՐԸ
A6: հազար դրամներով
A7: Ծրագրային դասիչ | C7: Բյուջետային գլխավոր կարգադրիչների, ծրագրերի, միջոցառումների և ուղղությունների անվանումները | D7: Ցուցանիշների փոփոխությունը (ավելացումները նշված են դրական նշանով, իսկ նվազեցումները` փակագծերում)
D8: Առաջին կիսամյակ | E8: Ինն ամիս | F8: Տարի
A9: Ծրագիր | B9: Միջոց առում
C10: ԸՆԴԱՄԵՆԸ | D10: =D12 -> 0 | E10: =E12 -> 0 | F10: =F12 -> 0
C11: այդ թվում`
C12: ՀՀ տարածքային կառավարման և ենթակառուցվածքների նախարարություն | D12: =D14+D17 -> 0 | E12: =E14+E17 -> 0 | F12: =F14+F17 -> 0
C13: այդ թվում՛
A14: 1004 | B14: 31013 | C14: Փոքր և միջին ջրամբարների կառուցում | D14: =+D16 -> -55867 | E14: =+E16 -> -55867 | F14: =+F16 -> -55867
C15: այդ թվում` ըստ կատարողների
C16: ՀՀ տարածքային կառավարման և ենթակառուցվածքների նախարարության ջրային կոմիտե | D16: ='3'!G21 -> -55867 | E16: ='3'!H21 -> -55867 | F16: ='3'!I21 -> -55867
A17: 1004 | B17: 31020 | C17: Ոռոգման համակարգերի կառուցում | D17: =+D19 -> 55867 | E17: =+E19 -> 55867 | F17: =+F19 -> 55867
C18: այդ թվում` ըստ կատարողների
C19: ՀՀ տարածքային կառավարման և ենթակառուցվածքների նախարարության ջրային կոմիտե | D19: =+D21 -> 55867 | E19: =+E21 -> 55867 | F19: =+F21 -> 55867
C20: այդ թվում` ըստ ուղղությունների
C21: Երևանի Բուսաբանական այգու ոռոգման ցանցի կառուցում՝ Սարկավագի փողոցի ջրանցքից մինչև Բուսաբանական այգու պարսպի հատված | D21: ='3'!G32 -> 55867 | E21: ='3'!H32 -> 55867 | F21: ='3'!I32 -> 55867

Sheet 5
A1: Հավելված N 5
A2: ՀՀ կառավարության 2025 թվականի
A3: -ի N -Ն որոշման
A5: ՀԱՅԱՍՏԱՆԻ ՀԱՆՐԱՊԵՏՈՒԹՅԱՆ ԿԱՌԱՎԱՐՈՒԹՅԱՆ 2024 ԹՎԱԿԱՆԻ ԴԵԿՏԵՄԲԵՐԻ 27-Ի N 2060-Ն ՈՐՈՇՄԱՆ N 9 ՀԱՎԵԼՎԱԾՈՒՄ ԿԱՏԱՐՎՈՂ ՓՈՓՈԽՈՒԹՅՈՒՆՆԵՐԸ ԵՎ ԼՐԱՑՈՒՄՆԵՐԸ
A7: ԲԳԿ | B7: Ծրագիր | D7: Միջոցառում | H7: Իրականացնողը/ ակտիվն օգտագործողը/ շահառուի ընտրության չափորոշիչը | I7: Արդյունքային չափորոշիչը | J7: Ցուցանիշների փոփոխությունը (ավելացումները նշված են դրական նշանով, իսկ նվազեցումները՝ փակագծերում)
B8: Դասիչը | C8: Անվա-նումը | D8: Դասիչը | E8: Անվա-նումը | F8: Նկարագրու-թյունը | G8: Տեսակը | J8: Առաջին կիսամյակ | K8: Ինն ամիս | L8: Տարի
A9: ԸՆԴԱՄԵՆԸ | J9: =J10+J21 -> 0 | K9: =K10+K21 -> 0 | L9: =L10+L21 -> 0
A10: ՀՀ տարածքային կառավարման և ենթակառուցվածքների նախարարություն | J10: =J11 -> 0 | K10: =K11 -> 0 | L10: =L11 -> 0
B11: 1004 | C11: Ոռոգման համակարգի առողջացում | J11: =J12+J16 -> 0 | K11: =K12+K16 -> 0 | L11: =L12+L16 -> 0
D12: 1004 - 31013 | E12: Փոքր և միջին ջրամբարների կառուցում | J12: ='1'!G13 -> -55867 | K12: ='1'!H13 -> -55867 | L12: ='1'!I13 -> -55867
F13: Փոքր և միջին ջրամբարների կառուցման աշխատանքներ
G14: Պետական մարմինների կողմից օգտագործվող ոչ ֆինանսական ակտիվների հետ գործառնություններ
H15: Ակտիվն օգտագործող կազմակերպության անվանումը` ՀՀ ՏԿԵՆ ջրային կոմիտե
D16: 1004 - 31020 | E16: Ոռոգման համակարգերի կառուցում | J16: ='1'!G14 -> 55867 | K16: ='1'!H14 -> 55867 | L16: ='1'!I14 -> 55867
F17: Ոռոգման համակարգերի կառուցման համար նախագծերի և աշխատանքների ձեռքբերում
G18: Պետական մարմինների կողմից օգտագործվող ոչ ֆինանսական ակտիվների հետ գործառնություններ
H19: Ակտիվն օգտագործող կազմակերպության անվանումը` ՀՀ ՏԿԵՆ ջրային կոմիտե
I20: Կառուցվող ջրագիծ, մ | J20: 60 | L20: 60
A21: ՀՀ կառավարություն | J21: =J22 -> 0 | K21: =K22 -> 0 | L21: =L22 -> 0
B22: 1139 | C22: ՀՀ կառավարության պահուստային ֆոնդ | J22: =J23+J27 -> 0 | K22: =K23+K27 -> 0 | L22: =L23+L27 -> 0
D23: 1139 - 11001 | E23: ՀՀ կառավարության պահուստային ֆոնդ | J23: ='1'!G17 -> -55867 | K23: ='1'!H17 -> -55867 | L23: ='1'!I17 -> -55867
F24: ՀՀ պետական բյուջեում նախատեսված ելքերի լրացուցիչ ֆինանսավորման, պետական բյուջեում չկանխատեսված ելքերի, ինչպես նաև բյուջետային երաշխիքների ապահովման ելքերի ֆինանսավորման ապահովում
G25: Ծառայությունների մատուցում
H26: Ծառայությունը մատուցողի անվանումը` ՀՀ կառավարություն
D27: 1139 - 11001 | E27: ՀՀ կառավարության պահուստային ֆոնդ | J27: ='1'!G18 -> 55867 | K27: ='1'!H18 -> 55867 | L27: ='1'!I18 -> 55867
F28: ՀՀ պետական բյուջեում նախատեսված ելքերի լրացուցիչ ֆինանսավորման, պետական բյուջեում չկանխատեսված ելքերի, ինչպես նաև բյուջետային երաշխիքների ապահովման ելքերի ֆինանսավորման ապահովում
G29: Ծառայությունների մատուցում
H30: Ծառայությունը մատուցողի անվանումը` ՀՀ կառավարություն

Sheet 6
A1: Հավելված N 6
A2: ՀՀ կառավարության 2025 թվականի
A3: -ի N -Ն որոշման
A5: ՀԱՅԱՍՏԱՆԻ ՀԱՆՐԱՊԵՏՈՒԹՅԱՆ ԿԱՌԱՎԱՐՈՒԹՅԱՆ 2024 ԹՎԱԿԱՆԻ ԴԵԿՏԵՄԲԵՐԻ 27-Ի N 2060-Ն ՈՐՈՇՄԱՆ N 9.1 ՀԱՎԵԼՎԱԾՈՒՄ ԿԱՏԱՐՎՈՂ ՓՈՓՈԽՈՒԹՅՈՒՆՆԵՐԸ ԵՎ ԼՐԱՑՈՒՄՆԵՐԸ
L7: հազար դրամներով
A8: ԲՍԿ | B8: Ծրագիր | D8: Միջոցառում | H8: Իրականացնողը/ ակտիվն օգտագործողը/ շահառուի ընտրության չափորոշիչը | I8: Արդյունքային չափորոշիչը | J8: ՑուցանիշներՑուցանիշների փոփոխությունը (ավելացումները նշված են դրական նշանով, իսկ նվազեցումները՝ փակագծերում)
B9: Դասիչը | C9: Անվանումը | D9: Դասիչը | E9: Անվանումը | F9: Նկարագրությունը | G9: Տեսակը | J9: Առաջին կիսամյակ | K9: Ինն ամիս | L9: Տարի
A10: ԸՆԴԱՄԵՆԸ | J10: =J11+J22 -> 0 | K10: =K11+K22 -> 0 | L10: =L11+L22 -> 0
A11: ՀՀ տարածքային կառավարման և ենթակառուցվածքների նախարարության ջրային կոմիտե | J11: =J12 -> 0 | K11: =K12 -> 0 | L11: =L12 -> 0
B12: 1004 | C12: Ոռոգման համակարգի առողջացում | J12: =J13+J17 -> 0 | K12: =K13+K17 -> 0 | L12: =L13+L17 -> 0
D13: 1004 - 31013 | E13: Փոքր և միջին ջրամբարների կառուցում | J13: ='5'!J12 -> -55867 | K13: ='5'!K12 -> -55867 | L13: ='5'!L12 -> -55867
F14: Փոքր և միջին ջրամբարների կառուցման աշխատանքներ
G15: Պետական մարմինների կողմից օգտագործվող ոչ ֆինանսական ակտիվների հետ գործառնություններ
H16: Ակտիվն օգտագործող կազմակերպության անվանումը` ՀՀ ՏԿԵՆ ջրային կոմիտե
D17: 1004 - 31020 | E17: Ոռոգման համակարգերի կառուցում | J17: ='5'!J16 -> 55867 | K17: ='5'!K16 -> 55867 | L17: ='5'!L16 -> 55867
F18: Ոռոգման համակարգերի կառուցման համար նախագծերի և աշխատանքների ձեռքբերում
G19: Պետական մարմինների կողմից օգտագործվող ոչ ֆինանսական ակտիվների հետ գործառնություններ
H20: Ակտիվն օգտագործող կազմակերպության անվանումը` ՀՀ ՏԿԵՆ ջրային կոմիտե
I21: Կառուցվող ջրագիծ, մ | J21: 60 | L21: 60
A22: ՀՀ կառավարություն | J22: =J23 -> 0 | K22: =K23 -> 0 | L22: =L23 -> 0
B23: 1139 | C23: ՀՀ կառավարության պահուստային ֆոնդ | J23: =J24+J28 -> 0 | K23: =K24+K28 -> 0 | L23: =L24+L28 -> 0
D24: 1139 - 11001 | E24: ՀՀ կառավարության պահուստային ֆոնդ | J24: ='5'!J23 -> -55867 | K24: ='5'!K23 -> -55867 | L24: ='5'!L23 -> -55867
F25: ՀՀ պետական բյուջեում նախատեսված ելքերի լրացուցիչ ֆինանսավորման, պետական բյուջեում չկանխատեսված ելքերի, ինչպես նաև բյուջետային երաշխիքների ապահովման ելքերի ֆինանսավորման ապահովում
G26: Ծառայությունների մատուցում
H27: Ծառայությունը մատուցողի անվանումը` ՀՀ կառավարություն
D28: 1139 - 11001 | E28: ՀՀ կառավարության պահուստային ֆոնդ | J28: ='5'!J27 -> 55867 | K28: ='5'!K27 -> 55867 | L28: ='5'!L27 -> 55867
F29: ՀՀ պետական բյուջեում նախատեսված ելքերի լրացուցիչ ֆինանսավորման, պետական բյուջեում չկանխատեսված ելքերի, ինչպես նաև բյուջետային երաշխիքների ապահովման ելքերի ֆինանսավորման ապահովում
G30: Ծառայությունների մատուցում
H31: Ծառայությունը մատուցողի անվանումը` ՀՀ կառավարություն

Sheet 7
A1: Հավելված N 7
A2: ՀՀ կառավարության 2025 թվականի
A3: -ի N -Ն որոշման
A5: ՀՀ ԿԱՌԱՎԱՐՈՒԹՅԱՆ 2024 ԹՎԱԿԱՆԻ ԴԵԿՏԵՄԲԵՐԻ 27-Ի N 2060-Ն ՈՐՈՇՄԱՆ N 10 ՀԱՎԵԼՎԱԾՈՒՄ ԿԱՏԱՐՎՈՂ ՓՈՓՈԽՈՒԹՅՈՒՆՆԵՐԸ ԵՎ ԼՐԱՑՈՒՄՆԵՐԸ
A7: Կոդը | B7: Անվանումը | C7: Գնման ձևը | D7: Չափի միավորը | E7: Ցուցանիշների փոփոխությունը (ավելացումները նշված են դրական նշանով, իսկ նվազեցումները՝ փակագծերում)
E8: Միավորի գինը | F8: քանակը | G8: գումարը (հազ. դրամ)
A9: ՀՀ տարածքային կառավարման և ենթակառուցվածքների նախարարության ջրային կոմիտե | G9: =G10 -> 0
A10: Բաժին N 04 | B10: Խումբ N 02 | C10: Դաս N 04 | D10: Ոռոգում | G10: =G11+G14 -> 0
A11: 1004 31013 | B11: Փոքր և միջին ջրամբարների կառուցում | G11: =G12 -> -55867
B12: ՄԱՍ II ԱՇԽԱՏԱՆՔՆԵՐ | G12: =G13 -> -55867
A13: 45611300/1 | B13: այլ շենքերի, շինությունների հիմնանորոգում | C13: ԲՄ | D13: դրամ | G13: -55867
A14: 1004 31020 | B14: Ոռոգման համակարգերի կառուցում | G14: =G15+G17 -> 55867
B15: ՄԱՍ II ԱՇԽԱՏԱՆՔՆԵՐ | G15: =G16 -> 55098.6
A16: 45231126/ | B16: ոռոգման խողովակաշարերի կառուցման աշխատանքներ | C16: ՀԲՄ | D16: դրամ | E16: 55098600 | F16: 1 | G16: 55098.6
B17: ՄԱՍ III ԾԱՌԱՅՈՒԹՅՈՒՆՆԵՐ | G17: =G18+G19 -> 768.4
A18: 71351540/ | B18: տեխնիկական հսկողության ծառայություններ | C18: ԳՀ | D18: դրամ | E18: 421000 | F18: 1 | G18: 421
A19: 98111140/ | B19: հեղինակային հսկողության ծառայություններ | C19: ՄԱ | D19: դրամ | E19: 347400 | F19: 1 | G19: 347.4
